{"text_format":"1","workbook":"xlsx","n_sheets":3,"sheets":["Sheet1","Rosters","Workbook"],"not_rendered":{"charts":0,"images":0,"macros":1,"external_links":1,"defined_names":7,"comments":0,"pivot_tables":1},"unopened":[],"bounds":{"document_bytes":16777216,"sheet_cells":100000,"rows_first":2000,"rows_last":500,"rows_between":2000,"halvings":0,"cell_chars":16384,"cell_head_chars":4096},"cells_cut":0,"cells_raw":0,"read":"whole","date_system":"1900"}

{"sheet":"Sheet1","index":0,"n_rows":2282,"n_cols":25,"rows_kept":2282,"cut":false,"hidden":false,"merged":[]}
[null,null,null,null,null,null,null,null,null,null,null,null,null,null,null,null,null,"Game ID"]
[null,null,null,null,null,null,null,null,null,null,null,null,null,null,"ADK",null,null,"GameID","Date","Team","Opp","Game No","H or R","Game Time","Venue"]
["Count of Type","Column Labels",null,null,null,null,null,null,null,null,null,null,null,null,1013463,{"$f":"IF(O3=R3,\"\",\"N\")","v":""},null,1013463,"2014-10-10","Adirondack","Rochester",4,"R","7:05 pm EDT ","Blue Cross Arena Rochester, NY"]
["Row Labels","EN","EN.PP","EN.SH","PP","PP.PS","PS","SH","SH.PS","(blank)","Grand Total",null,null,null,1013465,{"$f":"IF(O4=R4,\"\",\"N\")","v":""},null,1013465,"2014-10-11","Adirondack","Albany",6,"H","7:00 pm EDT ","Glens Falls Civic Center Glens Falls, NY"]
["ADK",6,2,null,50,null,1,8,1,null,68,null,null,null,1013485,"",null,1013485,"2014-10-16","Adirondack","Rockford",26,"H","7:00 pm EDT ","Glens Falls Civic Center Glens Falls, NY"]
["ALB",6,null,null,57,null,null,6,null,null,69,null,null,null,1013492,"",null,1013492,"2014-10-17","Adirondack","Lehigh Valley",33,"R","7:05 pm EDT ","PPL Center Allentown, PA"]
["BNG",7,null,2,48,null,1,8,null,null,66,null,null,null,1013499,"",null,1013499,"2014-10-18","Adirondack","Lehigh Valley",40,"H","7:00 pm EDT ","Glens Falls Civic Center Glens Falls, NY"]
["BRI",4,2,null,56,null,null,7,null,null,69,null,null,null,null,"N",null,1013460,"2014-10-10","Grand Rapids","Lake Erie",1,"H","7:00 pm EDT ","Van Andel Arena Grand Rapids, MI"]
["CHA",6,null,1,35,null,null,5,1,null,48,null,null,null,1013532,"",null,1013532,"2014-10-24","Adirondack","Rochester",73,"R","7:05 pm EDT ","Blue Cross Arena Rochester, NY"]
["CHI",9,null,2,49,null,null,3,null,null,63,null,null,null,1013537,"",null,1013537,"2014-10-25","Adirondack","Rochester",78,"H","7:00 pm EDT ","Glens Falls Civic Center Glens Falls, NY"]
["GR",10,null,2,45,null,null,5,null,null,62,null,null,null,1013559,"",null,1013559,"2014-10-29","Adirondack","San Antonio",100,"H","7:00 pm EDT ","Glens Falls Civic Center Glens Falls, NY"]
["HAM",13,null,1,30,null,1,3,null,null,48,null,null,null,1013576,"",null,1013576,"1'1 - 1","Adirondack","Utica",117,"H","7:00 pm EDT ","Glens Falls Civic Center Glens Falls, NY"]
["HER",9,null,null,50,1,1,6,null,null,67,null,null,null,1013607,"",null,1013607,"2014-11-07","Adirondack","Hamilton",148,"R","7:30 pm EST ","FirstOntario Centre Hamilton, ON"]
["HFD",6,null,null,47,null,null,6,null,null,59,null,null,null,1013620,"",null,1013620,"2014-11-08","Adirondack","Hamilton",161,"R","7:00 pm EST ","FirstOntario Centre Hamilton, ON"]
["IA",3,1,2,33,null,1,1,null,null,41,null,null,null,1013638,"",null,1013638,"2014-11-10","Adirondack","Rochester",179,"R","3:05 pm EST ","Blue Cross Arena Rochester, NY"]
["LE",5,null,null,44,1,1,11,null,null,62,null,null,null,1013650,"",null,1013650,"2014-11-14","Adirondack","Lake Erie",191,"R","7:30 pm EST ","Quicken Loans Arena Cleveland, OH"]
["LV",3,null,2,51,null,1,5,null,null,62,null,null,null,1013665,"",null,1013665,"2014-11-15","Adirondack","Lake Erie",206,"R","1:00 pm EST ","Quicken Loans Arena Cleveland, OH"]
["MCH",7,null,1,58,null,1,9,null,null,76,null,null,null,1013681,"",null,1013681,"2014-11-18","Adirondack","Chicago",222,"H","7:00 pm EST ","Glens Falls Civic Center Glens Falls, NY"]
["MIL",13,1,null,39,null,null,5,null,null,58,null,null,null,1013691,"",null,1013691,"2014-11-21","Adirondack","Syracuse",232,"H","7:00 pm EST ","Glens Falls Civic Center Glens Falls, NY"]
["NOR",2,null,1,39,null,null,7,null,null,49,null,null,null,1013705,"",null,1013705,"2014-11-22","Adirondack","Rochester",246,"H","7:00 pm EST ","Glens Falls Civic Center Glens Falls, NY"]
["OKC",8,1,1,53,null,null,1,null,null,64,null,null,null,1013725,"",null,1013725,"2014-11-26","Adirondack","Toronto",266,"H","7:00 pm EST ","Glens Falls Civic Center Glens Falls, NY"]
["POR",8,3,null,39,null,null,9,null,null,59,null,null,null,1013746,"",null,1013746,"2014-11-28","Adirondack","Utica",287,"R","7:00 pm EST ","Utica Memorial Auditorium Utica, NY"]
["PRO",5,1,null,48,null,null,5,null,null,59,null,null,null,1013748,"",null,1013748,"2014-11-29","Adirondack","Grand Rapids",289,"H","7:00 pm EST ","Glens Falls Civic Center Glens Falls, NY"]
["RCH",7,1,null,40,null,2,6,null,null,56,null,null,null,1013767,"",null,1013767,"1'2 - 2","Adirondack","Hamilton",308,"H","7:00 pm EST ","Glens Falls Civic Center Glens Falls, NY"]
["RFD",8,1,1,39,null,null,5,null,null,54,null,null,null,1013774,"",null,1013774,"1'2 - 5","Adirondack","Texas",315,"H","7:00 pm EST ","Glens Falls Civic Center Glens Falls, NY"]
["SA",9,null,1,51,null,null,10,null,null,71,null,null,null,1013788,"",null,1013788,"2014-12-06","Adirondack","Binghamton",329,"R","7:05 pm EST ","Floyd L. Maines Veterans Memorial Arena Binghamton, NY"]
["SPR",5,1,2,41,null,1,2,null,null,52,null,null,null,null,"N",null,1013489,"2014-10-17","Lake Erie","Chicago",30,"R","7:00 pm CDT ","Allstate Arena Rosemont, IL"]
["STJ",4,1,null,40,null,1,7,null,null,53,null,null,null,1013813,"",null,1013813,"2014-12-10","Adirondack","Hamilton",354,"H","7:00 pm EST ","Glens Falls Civic Center Glens Falls, NY"]
["SYR",10,null,null,42,null,1,5,1,null,59,null,null,null,1013828,"",null,1013828,"2014-12-12","Adirondack","Milwaukee",369,"R","7:00 pm CST ","BMO Harris Bradley Center Milwaukee, WI"]
["TEX",8,2,null,55,null,null,3,null,null,68,null,null,null,1013849,"",null,1013849,"2014-12-14","Adirondack","Iowa",390,"R","3:00 pm CST ","Wells Fargo Arena Des Moines, IA"]
["TOR",12,1,null,28,null,null,5,null,null,46,null,null,null,1013857,"",null,1013857,"2014-12-17","Adirondack","Chicago",398,"R","11:00 am CST ","Allstate Arena Rosemont, IL"]
["UTI",11,null,2,43,null,1,7,null,null,64,null,null,null,1013873,"",null,1013873,"2014-12-19","Adirondack","Rochester",414,"R","7:05 pm EST ","Blue Cross Arena Rochester, NY"]
["WBS",7,null,null,51,null,null,3,null,null,61,null,null,null,1013876,"",null,1013876,"2014-12-20","Adirondack","Utica",417,"H","7:00 pm EST ","Glens Falls Civic Center Glens Falls, NY"]
["WOR",10,null,null,52,1,null,1,null,null,64,null,null,null,1013906,"",null,1013906,"2014-12-26","Adirondack","Utica",447,"R","7:00 pm EST ","Utica Memorial Auditorium Utica, NY"]
[null,null,null,null,null,null,null,null,null,null,null,null,null,null,1013910,"",null,1013910,"2014-12-27","Adirondack","Hamilton",451,"R","7:00 pm EST ","FirstOntario Centre Hamilton, ON"]
[null,null,null,null,null,null,null,null,null,null,null,null,null,null,null,"N",null,1013496,"2014-10-17","San Antonio","Utica",37,"H","7:30 pm CDT ","AT&T Center San Antonio, TX"]
[null,null,null,null,null,null,null,null,null,null,null,null,null,null,1013935,"",null,1013935,"2014-12-31","Adirondack","Toronto",476,"H","5:30 pm EST ","Glens Falls Civic Center Glens Falls, NY"]
[null,null,null,null,null,null,null,null,null,null,null,null,null,null,1013944,"",null,1013944,"2015-01-02","Adirondack","Utica",485,"H","7:00 pm EST ","Glens Falls Civic Center Glens Falls, NY"]
[null,null,null,null,null,null,null,null,null,null,null,null,null,null,1013957,"",null,1013957,"2015-01-03","Adirondack","Rochester",498,"H","7:00 pm EST ","Glens Falls Civic Center Glens Falls, NY"]
[null,null,null,null,null,null,null,null,null,null,null,null,null,null,1013975,"",null,1013975,"2015-01-06","Adirondack","San Antonio",516,"H","7:00 pm EST ","Glens Falls Civic Center Glens Falls, NY"]
[null,null,null,null,null,null,null,null,null,null,null,null,null,null,1013984,"",null,1013984,"2015-01-09","Adirondack","Oklahoma City",525,"H","7:00 pm EST ","Glens Falls Civic Center Glens Falls, NY"]
[null,null,null,null,null,null,null,null,null,null,null,null,null,null,1014008,"",null,1014008,"2015-01-10","Adirondack","Utica",549,"R","7:00 pm EST ","Utica Memorial Auditorium Utica, NY"]
[null,null,null,null,null,null,null,null,null,null,null,null,null,null,1014038,"",null,1014038,"2015-01-17","Adirondack","Milwaukee",579,"H","7:00 pm EST ","Glens Falls Civic Center Glens Falls, NY"]
[null,null,null,null,null,null,null,null,null,null,null,null,null,null,1014080,"",null,1014080,"2015-01-23","Adirondack","Rochester",621,"R","7:05 pm EST ","Blue Cross Arena Rochester, NY"]
[null,null,null,null,null,null,null,null,null,null,null,null,null,null,1014084,"",null,1014084,"2015-01-24","Adirondack","Rochester",625,"H","7:00 pm EST ","Glens Falls Civic Center Glens Falls, NY"]
[null,null,null,null,null,null,null,null,null,null,null,null,null,null,1014114,"",null,1014114,"2015-01-31","Adirondack","Rochester",655,"H","7:00 pm EST ","Glens Falls Civic Center Glens Falls, NY"]
[null,null,null,null,null,null,null,null,null,null,null,null,null,null,null,"N",null,1013505,"2014-10-18","Iowa","Milwaukee",46,"H","7:00 pm CDT ","Wells Fargo Arena Des Moines, IA"]
[null,null,null,null,null,null,null,null,null,null,null,null,null,null,1014139,"",null,1014139,"2015-02-06","Adirondack","Utica",680,"H","7:00 pm EST ","Glens Falls Civic Center Glens Falls, NY"]
[null,null,null,null,null,null,null,null,null,null,null,null,null,null,1014151,"",null,1014151,"2015-02-07","Adirondack","Utica",692,"H","7:00 pm EST ","Glens Falls Civic Center Glens Falls, NY"]
[null,null,null,null,null,null,null,null,null,null,null,null,null,null,1014171,"",null,1014171,"2015-02-10","Adirondack","Syracuse",712,"H","7:00 pm EST ","Glens Falls Civic Center Glens Falls, NY"]
[null,null,null,null,null,null,null,null,null,null,null,null,null,null,1014191,"",null,1014191,"2015-02-13","Adirondack","Rochester",732,"R","7:05 pm EST ","Blue Cross Arena Rochester, NY"]
[null,null,null,null,null,null,null,null,null,null,null,null,null,null,1014231,"",null,1014231,"2015-02-20","Adirondack","Oklahoma City",772,"R","7:00 pm CST ","Cox Convention Center Oklahoma City, OK"]
[null,null,null,null,null,null,null,null,null,null,null,null,null,null,1014244,"",null,1014244,"2015-02-21","Adirondack","Oklahoma City",785,"R","7:00 pm CST ","Cox Convention Center Oklahoma City, OK"]
[null,null,null,null,null,null,null,null,null,null,null,null,null,null,1014278,"",null,1014278,"2015-02-27","Adirondack","Utica",819,"R","7:00 pm EST ","Utica Memorial Auditorium Utica, NY"]
[null,null,null,null,null,null,null,null,null,null,null,null,null,null,1014280,"",null,1014280,"2015-02-28","Adirondack","Toronto",821,"H","7:00 pm EST ","Glens Falls Civic Center Glens Falls, NY"]
[null,null,null,null,null,null,null,null,null,null,null,null,null,null,1014303,"",null,1014303,"2015-03-04","Adirondack","Hamilton",844,"R","7:30 pm EST ","FirstOntario Centre Hamilton, ON"]
[null,null,null,null,null,null,null,null,null,null,null,null,null,null,1014319,"",null,1014319,"2015-03-06","Adirondack","Toronto",860,"R","7:00 pm EST ","Ricoh Coliseum Toronto, ON"]
[null,null,null,null,null,null,null,null,null,null,null,null,null,null,1014329,"",null,1014329,"2015-03-07","Adirondack","Toronto",870,"R","3:00 pm EST ","Ricoh Coliseum Toronto, ON"]
[null,null,null,null,null,null,null,null,null,null,null,null,null,null,1014340,"",null,1014340,"2015-03-10","Adirondack","Hamilton",881,"H","7:00 pm EDT ","Glens Falls Civic Center Glens Falls, NY"]
[null,null,null,null,null,null,null,null,null,null,null,null,null,null,1014359,"",null,1014359,"2015-03-13","Adirondack","Syracuse",900,"R","7:00 pm EDT ","Onondaga County War Memorial Arena Syracuse, NY"]
[null,null,null,null,null,null,null,null,null,null,null,null,null,null,1014360,"",null,1014360,"2015-03-14","Adirondack","Toronto",901,"H","7:00 pm EDT ","Glens Falls Civic Center Glens Falls, NY"]
[null,null,null,null,null,null,null,null,null,null,null,null,null,null,1014373,"",null,1014373,"2015-03-15","Adirondack","Binghamton",914,"H","5:00 pm EDT ","Glens Falls Civic Center Glens Falls, NY"]
[null,null,null,null,null,null,null,null,null,null,null,null,null,null,1014387,"",null,1014387,"2015-03-18","Adirondack","Rockford",928,"R","7:00 pm CDT ","BMO Harris Bank Center Rockford, IL"]
[null,null,null,null,null,null,null,null,null,null,null,null,null,null,null,"N",null,1013511,"2014-10-18","Texas","Utica",52,"H","7:00 pm CDT ","Cedar Park Center Cedar Park, TX"]
[null,null,null,null,null,null,null,null,null,null,null,null,null,null,1014418,"",null,1014418,"2015-03-22","Adirondack","Grand Rapids",959,"R","4:00 pm EDT ","Van Andel Arena Grand Rapids, MI"]
[null,null,null,null,null,null,null,null,null,null,null,null,null,null,1014429,"",null,1014429,"2015-03-25","Adirondack","Hamilton",970,"H","7:00 pm EDT ","Glens Falls Civic Center Glens Falls, NY"]
[null,null,null,null,null,null,null,null,null,null,null,null,null,null,null,"N",null,1013511,"2014-10-18","Utica","Texas",52,"R","7:00 pm CDT ","Cedar Park Center Cedar Park, TX"]
[null,null,null,null,null,null,null,null,null,null,null,null,null,null,1014450,{"$f":"IF(O68=R68,\"\",\"N\")","v":""},null,1014450,"2015-03-28","Adirondack","Oklahoma City",991,"H","7:00 pm EDT ","Glens Falls Civic Center Glens Falls, NY"]
[null,null,null,null,null,null,null,null,null,null,null,null,null,null,1014478,"",null,1014478,"2015-04-01","Adirondack","Texas",1019,"R","7:30 pm CDT ","Cedar Park Center Cedar Park, TX"]
[null,null,null,null,null,null,null,null,null,null,null,null,null,null,1014484,"",null,1014484,"2015-04-02","Adirondack","San Antonio",1025,"R","7:00 pm CDT ","AT&T Center San Antonio, TX"]
[null,null,null,null,null,null,null,null,null,null,null,null,null,null,null,"N",null,1014505,"2015-04-04","Adirondack","San Antonio",1046,"R","7:00 pm CDT ","AT&T Center San Antonio, TX"]
[null,null,null,null,null,null,null,null,null,null,null,null,null,null,null,"N",null,1014515,"2015-04-07","Adirondack","Toronto",1056,"R","7:00 pm EDT ","Ricoh Coliseum Toronto, ON"]
[null,null,null,null,null,null,null,null,null,null,null,null,null,null,null,"N",null,1014533,"2015-04-10","Adirondack","Utica",1074,"R","7:00 pm EDT ","Utica Memorial Auditorium Utica, NY"]
[null,null,null,null,null,null,null,null,null,null,null,null,null,null,null,"N",null,1014534,"2015-04-11","Adirondack","Lake Erie",1075,"H","7:00 pm EDT ","Glens Falls Civic Center Glens Falls, NY"]
[null,null,null,null,null,null,null,null,null,null,null,null,null,null,null,"N",null,1014548,"2015-04-12","Adirondack","Lake Erie",1089,"H","5:00 pm EDT ","Glens Falls Civic Center Glens Falls, NY"]
[null,null,null,null,null,null,null,null,null,null,null,null,null,null,null,"N",null,1014577,"2015-04-17","Adirondack","Syracuse",1118,"R","7:00 pm EDT ","Onondaga County War Memorial Arena Syracuse, NY"]
[null,null,null,null,null,null,null,null,null,null,null,null,null,null,null,"N",null,1014579,"2015-04-18","Adirondack","Utica",1120,"H","7:00 pm EDT ","Glens Falls Civic Center Glens Falls, NY"]
[null,null,null,null,null,null,null,null,null,null,null,null,null,null,null,"N",null,1014594,"2015-04-19","Adirondack","Rochester",1135,"H","5:00 pm EDT ","Glens Falls Civic Center Glens Falls, NY"]
[null,null,null,null,null,null,null,null,null,null,null,null,null,null,1013465,"",null,1013465,"2014-10-11","Albany","Adirondack",6,"R","7:00 pm EDT ","Glens Falls Civic Center Glens Falls, NY"]
[null,null,null,null,null,null,null,null,null,null,null,null,null,null,1013487,"",null,1013487,"2014-10-17","Albany","Bridgeport",28,"R","7:00 pm EDT ","Webster Bank Arena Bridgeport, CT"]
[null,null,null,null,null,null,null,null,null,null,null,null,null,null,1013500,"",null,1013500,"2014-10-18","Albany","Bridgeport",41,"H","5:05 pm EDT ","Times Union Center Albany, NY"]
[null,null,null,null,null,null,null,null,null,null,null,null,null,null,1013518,"",null,1013518,"2014-10-21","Albany","W-B/Scranton",59,"H","7:00 pm EDT ","Times Union Center Albany, NY"]
[null,null,null,null,null,null,null,null,null,null,null,null,null,null,1013526,"",null,1013526,"2014-10-24","Albany","Hartford",67,"R","7:00 pm EDT ","XL Center Hartford, CT"]
[null,null,null,null,null,null,null,null,null,null,null,null,null,null,1013538,"",null,1013538,"2014-10-25","Albany","Hartford",79,"H","5:00 pm EDT ","Times Union Center Albany, NY"]
[null,null,null,null,null,null,null,null,null,null,null,null,null,null,1013577,"",null,1013577,"1'1 - 1","Albany","Bridgeport",118,"H","5:00 pm EDT ","Times Union Center Albany, NY"]
[null,null,null,null,null,null,null,null,null,null,null,null,null,null,1013589,"",null,1013589,"1'1 - 2","Albany","Portland",130,"H","3:00 pm EST ","Times Union Center Albany, NY"]
[null,null,null,null,null,null,null,null,null,null,null,null,null,null,1013601,"",null,1013601,"1'1 - 5","Albany","Hartford",142,"R","11:00 am EST ","XL Center Hartford, CT"]
[null,null,null,null,null,null,null,null,null,null,null,null,null,null,1013618,"",null,1013618,"2014-11-08","Albany","Bridgeport",159,"R","7:00 pm EST ","Webster Bank Arena Bridgeport, CT"]
[null,null,null,null,null,null,null,null,null,null,null,null,null,null,1013630,"",null,1013630,"2014-11-09","Albany","Bridgeport",171,"R","3:00 pm EST ","Webster Bank Arena Bridgeport, CT"]
[null,null,null,null,null,null,null,null,null,null,null,null,null,null,1013642,"",null,1013642,"2014-11-12","Albany","Syracuse",183,"H","7:00 pm EST ","Times Union Center Albany, NY"]
[null,null,null,null,null,null,null,null,null,null,null,null,null,null,1013652,"",null,1013652,"2014-11-14","Albany","Portland",193,"R","7:00 pm EST ","Cross Insurance Arena Portland, ME"]
[null,null,null,null,null,null,null,null,null,null,null,null,null,null,null,"N",null,1013515,"2014-10-19","Hartford","Hershey",56,"H","3:00 pm EDT ","XL Center Hartford, CT"]
[null,null,null,null,null,null,null,null,null,null,null,null,null,null,1013692,"",null,1013692,"2014-11-21","Albany","W-B/Scranton",233,"H","7:00 pm EST ","Times Union Center Albany, NY"]
[null,null,null,null,null,null,null,null,null,null,null,null,null,null,null,"N",null,1013515,"2014-10-19","Hershey","Hartford",56,"R","3:00 pm EDT ","XL Center Hartford, CT"]
[null,null,null,null,null,null,null,null,null,null,null,null,null,null,1013718,"",null,1013718,"2014-11-23","Albany","Bridgeport",259,"H","3:00 pm EST ","Times Union Center Albany, NY"]
[null,null,null,null,null,null,null,null,null,null,null,null,null,null,1013726,"",null,1013726,"2014-11-26","Albany","Hartford",267,"H","7:00 pm EST ","Times Union Center Albany, NY"]
[null,null,null,null,null,null,null,null,null,null,null,null,null,null,1013737,"",null,1013737,"2014-11-28","Albany","Lehigh Valley",278,"H","7:00 pm EST *","Boardwalk Hall Atlantic City, NJ"]
[null,null,null,null,null,null,null,null,null,null,null,null,null,null,1013749,"",null,1013749,"2014-11-29","Albany","Utica",290,"H","5:00 pm EST ","Times Union Center Albany, NY"]
[null,null,null,null,null,null,null,null,null,null,null,null,null,null,1013768,"",null,1013768,"1'2 - 2","Albany","Springfield",309,"H","7:00 pm EST ","Times Union Center Albany, NY"]
[null,null,null,null,null,null,null,null,null,null,null,null,null,null,1013780,"",null,1013780,"1'2 - 5","Albany","Providence",321,"R","7:05 pm EST ","Dunkin' Donuts Center Providence, RI"]
[null,null,null,null,null,null,null,null,null,null,null,null,null,null,1013787,"",null,1013787,"2014-12-06","Albany","Portland",328,"H","5:00 pm EST ","Times Union Center Albany, NY"]
[null,null,null,null,null,null,null,null,null,null,null,null,null,null,null,"N",null,1013517,"2014-10-19","Rockford","Toronto",58,"R","3:00 pm EDT ","Ricoh Coliseum Toronto, ON"]
[null,null,null,null,null,null,null,null,null,null,null,null,null,null,1013821,"",null,1013821,"2014-12-11","Albany","Hartford",362,"R","7:00 pm EST ","XL Center Hartford, CT"]
[null,null,null,null,null,null,null,null,null,null,null,null,null,null,1013847,"",null,1013847,"2014-12-14","Albany","Lehigh Valley",388,"H","3:00 pm EST *","Boardwalk Hall Atlantic City, NJ"]
[null,null,null,null,null,null,null,null,null,null,null,null,null,null,1013875,"",null,1013875,"2014-12-19","Albany","W-B/Scranton",416,"R","7:05 pm EST ","Mohegan Sun Arena at Casey Plaza Wilkes-Barre, PA"]
[null,null,null,null,null,null,null,null,null,null,null,null,null,null,1013887,"",null,1013887,"2014-12-20","Albany","Syracuse",428,"R","7:00 pm EST ","Onondaga County War Memorial Arena Syracuse, NY"]
[null,null,null,null,null,null,null,null,null,null,null,null,null,null,1013904,"",null,1013904,"2014-12-26","Albany","Syracuse",445,"R","7:00 pm EST ","Onondaga County War Memorial Arena Syracuse, NY"]
[null,null,null,null,null,null,null,null,null,null,null,null,null,null,1013908,"",null,1013908,"2014-12-27","Albany","Springfield",449,"H","5:00 pm EST ","Times Union Center Albany, NY"]
[null,null,null,null,null,null,null,null,null,null,null,null,null,null,1013929,"",null,1013929,"2014-12-30","Albany","Providence",470,"H","7:00 pm EST ","Times Union Center Albany, NY"]
[null,null,null,null,null,null,null,null,null,null,null,null,null,null,1013945,"",null,1013945,"2015-01-02","Albany","Syracuse",486,"H","7:00 pm EST ","Times Union Center Albany, NY"]
[null,null,null,null,null,null,null,null,null,null,null,null,null,null,1013959,"",null,1013959,"2015-01-03","Albany","Bridgeport",500,"R","7:00 pm EST ","Webster Bank Arena Bridgeport, CT"]
[null,null,null,null,null,null,null,null,null,null,null,null,null,null,1013971,"",null,1013971,"2015-01-04","Albany","Bridgeport",512,"R","3:00 pm EST ","Webster Bank Arena Bridgeport, CT"]
[null,null,null,null,null,null,null,null,null,null,null,null,null,null,null,"N",null,1013517,"2014-10-19","Toronto","Rockford",58,"H","3:00 pm EDT ","Ricoh Coliseum Toronto, ON"]
[null,null,null,null,null,null,null,null,null,null,null,null,null,null,1013996,"",null,1013996,"2015-01-10","Albany","Bridgeport",537,"H","5:00 pm EST ","Times Union Center Albany, NY"]
[null,null,null,null,null,null,null,null,null,null,null,null,null,null,1014015,"",null,1014015,"2015-01-11","Albany","Springfield",556,"R","3:00 pm EST ","MassMutual Center Springfield, MA"]
[null,null,null,null,null,null,null,null,null,null,null,null,null,null,1014020,"",null,1014020,"2015-01-14","Albany","Springfield",561,"H","7:00 pm EST ","Times Union Center Albany, NY"]
[null,null,null,null,null,null,null,null,null,null,null,null,null,null,1014030,"",null,1014030,"2015-01-16","Albany","Lehigh Valley",571,"R","7:05 pm EST ","PPL Center Allentown, PA"]
[null,null,null,null,null,null,null,null,null,null,null,null,null,null,1014042,"",null,1014042,"2015-01-17","Albany","Hershey",583,"R","7:00 pm EST ","Giant Center Hershey, PA"]
[null,null,null,null,null,null,null,null,null,null,null,null,null,null,1014060,"",null,1014060,"2015-01-21","Albany","Bridgeport",601,"H","7:30 pm EST *","Prudential Center Newark, NJ"]
[null,null,null,null,null,null,null,null,null,null,null,null,null,null,1014083,"",null,1014083,"2015-01-23","Albany","Worcester",624,"R","7:30 pm EST ","DCU Center Worcester, MA"]
[null,null,null,null,null,null,null,null,null,null,null,null,null,null,1014085,"",null,1014085,"2015-01-24","Albany","Worcester",626,"H","2:00 pm EST ","Times Union Center Albany, NY"]
[null,null,null,null,null,null,null,null,null,null,null,null,null,null,1014098,"",null,1014098,"2015-01-29","Albany","Lehigh Valley",639,"R","7:05 pm EST ","PPL Center Allentown, PA"]
[null,null,null,null,null,null,null,null,null,null,null,null,null,null,1014100,"",null,1014100,"2015-01-30","Albany","St. John's",641,"H","7:00 pm EST ","Times Union Center Albany, NY"]
[null,null,null,null,null,null,null,null,null,null,null,null,null,null,1014115,"",null,1014115,"2015-01-31","Albany","St. John's",656,"H","5:00 pm EST ","Times Union Center Albany, NY"]
[null,null,null,null,null,null,null,null,null,null,null,null,null,null,1014135,"",null,1014135,"2015-02-04","Albany","Manchester",676,"R","7:00 pm EST ","Verizon Wireless Arena Manchester, NH"]
[null,null,null,null,null,null,null,null,null,null,null,null,null,null,1014148,"",null,1014148,"2015-02-06","Albany","Springfield",689,"R","7:00 pm EST ","MassMutual Center Springfield, MA"]
[null,null,null,null,null,null,null,null,null,null,null,null,null,null,null,"N",null,1013518,"2014-10-21","W-B/Scranton","Albany",59,"R","7:00 pm EDT ","Times Union Center Albany, NY"]
[null,null,null,null,null,null,null,null,null,null,null,null,null,null,1014194,"",null,1014194,"2015-02-14","Albany","Hartford",735,"R","7:30 pm EST ","XL Center Hartford, CT"]
[null,null,null,null,null,null,null,null,null,null,null,null,null,null,1014204,"",null,1014204,"2015-02-15","Albany","Hartford",745,"H","3:00 pm EST ","Times Union Center Albany, NY"]
[null,null,null,null,null,null,null,null,null,null,null,null,null,null,1014234,"",null,1014234,"2015-02-20","Albany","Syracuse",775,"R","7:00 pm EST ","Onondaga County War Memorial Arena Syracuse, NY"]
[null,null,null,null,null,null,null,null,null,null,null,null,null,null,1014248,"",null,1014248,"2015-02-21","Albany","Utica",789,"R","7:00 pm EST ","Utica Memorial Auditorium Utica, NY"]
[null,null,null,null,null,null,null,null,null,null,null,null,null,null,1014258,{"$f":"IF(O132=R132,\"\",\"N\")","v":""},null,1014258,"2015-02-22","Albany","Springfield",799,"R","3:00 pm EST ","MassMutual Center Springfield, MA"]
[null,null,null,null,null,null,null,null,null,null,null,null,null,null,1014276,"",null,1014276,"2015-02-27","Albany","Syracuse",817,"R","7:00 pm EST ","Onondaga County War Memorial Arena Syracuse, NY"]
[null,null,null,null,null,null,null,null,null,null,null,null,null,null,1014284,"",null,1014284,"2015-02-28","Albany","Hershey",825,"R","7:00 pm EST ","Giant Center Hershey, PA"]
[null,null,null,null,null,null,null,null,null,null,null,null,null,null,1014294,"",null,1014294,"2015-03-01","Albany","Binghamton",835,"H","3:00 pm EST ","Times Union Center Albany, NY"]
[null,null,null,null,null,null,null,null,null,null,null,null,null,null,1014316,"",null,1014316,"2015-03-06","Albany","St. John's",857,"R","7:30 pm NST ","Mile One Centre St. John's, NL"]
[null,null,null,null,null,null,null,null,null,null,null,null,null,null,1014328,"",null,1014328,"2015-03-07","Albany","St. John's",869,"R","7:30 pm NST ","Mile One Centre St. John's, NL"]
[null,null,null,null,null,null,null,null,null,null,null,null,null,null,1014351,"",null,1014351,"2015-03-13","Albany","Worcester",892,"H","7:00 pm EDT ","Times Union Center Albany, NY"]
[null,null,null,null,null,null,null,null,null,null,null,null,null,null,1014361,"",null,1014361,"2015-03-14","Albany","Syracuse",902,"H","5:00 pm EDT ","Times Union Center Albany, NY"]
[null,null,null,null,null,null,null,null,null,null,null,null,null,null,null,"N",null,1013523,"2014-10-22","Adirondack","Utica",64,"R","7:35 pm EDT ","Utica Memorial Auditorium Utica, NY"]
[null,null,null,null,null,null,null,null,null,null,null,null,null,null,null,"N",null,1013531,"2014-10-24","Norfolk","Providence",72,"R","7:05 pm EDT ","Dunkin' Donuts Center Providence, RI"]
[null,null,null,null,null,null,null,null,null,null,null,null,null,null,1014401,"",null,1014401,"2015-03-21","Albany","Norfolk",942,"H","5:00 pm EDT ","Times Union Center Albany, NY"]
[null,null,null,null,null,null,null,null,null,null,null,null,null,null,1014416,"",null,1014416,"2015-03-22","Albany","Hartford",957,"H","3:00 pm EDT ","Times Union Center Albany, NY"]
[null,null,null,null,null,null,null,null,null,null,null,null,null,null,1014443,"",null,1014443,"2015-03-27","Albany","Norfolk",984,"R","7:30 pm EDT ","Norfolk Scope Norfolk, VA"]
[null,null,null,null,null,null,null,null,null,null,null,null,null,null,1014456,"",null,1014456,"2015-03-28","Albany","Norfolk",997,"R","7:15 pm EDT ","Norfolk Scope Norfolk, VA"]
[null,null,null,null,null,null,null,null,null,null,null,null,null,null,1014471,"",null,1014471,"2015-04-01","Albany","Manchester",1012,"H","7:00 pm EDT ","Times Union Center Albany, NY"]
[null,null,null,null,null,null,null,null,null,null,null,null,null,null,null,"N",null,1014494,"2015-04-03","Albany","Springfield",1035,"R","7:00 pm EDT ","MassMutual Center Springfield, MA"]
[null,null,null,null,null,null,null,null,null,null,null,null,null,null,null,"N",null,1014497,"2015-04-04","Albany","Binghamton",1038,"H","5:00 pm EDT ","Times Union Center Albany, NY"]
[null,null,null,null,null,null,null,null,null,null,null,null,null,null,null,"N",null,1014521,"2015-04-10","Albany","Binghamton",1062,"R","7:05 pm EDT ","Floyd L. Maines Veterans Memorial Arena Binghamton, NY"]
[null,null,null,null,null,null,null,null,null,null,null,null,null,null,null,"N",null,1014539,"2015-04-11","Albany","Hartford",1080,"R","7:00 pm EDT ","XL Center Hartford, CT"]
[null,null,null,null,null,null,null,null,null,null,null,null,null,null,null,"N",null,1014555,"2015-04-12","Albany","Worcester",1096,"R","3:00 pm EDT ","DCU Center Worcester, MA"]
[null,null,null,null,null,null,null,null,null,null,null,null,null,null,null,"N",null,1014560,"2015-04-15","Albany","Syracuse",1101,"H","7:00 pm EDT ","Times Union Center Albany, NY"]
[null,null,null,null,null,null,null,null,null,null,null,null,null,null,null,"N",null,1014578,"2015-04-17","Albany","W-B/Scranton",1119,"R","7:05 pm EDT ","Mohegan Sun Arena at Casey Plaza Wilkes-Barre, PA"]
[null,null,null,null,null,null,null,null,null,null,null,null,null,null,"BNG","N",null,1014580,"2015-04-18","Albany","Hartford",1121,"H","5:00 pm EDT ","Times Union Center Albany, NY"]
[null,null,null,null,null,null,null,null,null,null,null,null,null,null,1013466,"",null,1013466,"2014-10-11","Binghamton","Worcester",7,"H","7:05 pm EDT ","Floyd L. Maines Veterans Memorial Arena Binghamton, NY"]
[null,null,null,null,null,null,null,null,null,null,null,null,null,null,1013486,"",null,1013486,"2014-10-17","Binghamton","Portland",27,"H","7:05 pm EDT ","Floyd L. Maines Veterans Memorial Arena Binghamton, NY"]
[null,null,null,null,null,null,null,null,null,null,null,null,null,null,1013510,"",null,1013510,"2014-10-18","Binghamton","Syracuse",51,"R","7:00 pm EDT ","Onondaga County War Memorial Arena Syracuse, NY"]
[null,null,null,null,null,null,null,null,null,null,null,null,null,null,1013519,"",null,1013519,"2014-10-21","Binghamton","St. John's",60,"R","7:30 pm NDT ","Mile One Centre St. John's, NL"]
[null,null,null,null,null,null,null,null,null,null,null,null,null,null,1013522,"",null,1013522,"2014-10-22","Binghamton","St. John's",63,"R","7:30 pm NDT ","Mile One Centre St. John's, NL"]
[null,null,null,null,null,null,null,null,null,null,null,null,null,null,1013539,"",null,1013539,"2014-10-25","Binghamton","Lehigh Valley",80,"H","7:05 pm EDT ","Floyd L. Maines Veterans Memorial Arena Binghamton, NY"]
[null,null,null,null,null,null,null,null,null,null,null,null,null,null,1013557,"",null,1013557,"2014-10-26","Binghamton","W-B/Scranton",98,"R","4:05 pm EDT ","Mohegan Sun Arena at Casey Plaza Wilkes-Barre, PA"]
[null,null,null,null,null,null,null,null,null,null,null,null,null,null,1013560,"",null,1013560,"2014-10-29","Binghamton","Utica",101,"H","7:05 pm EDT ","Floyd L. Maines Veterans Memorial Arena Binghamton, NY"]
[null,null,null,null,null,null,null,null,null,null,null,null,null,null,1013575,"",null,1013575,"2014-10-31","Binghamton","Utica",116,"R","7:00 pm EDT ","Utica Memorial Auditorium Utica, NY"]
[null,null,null,null,null,null,null,null,null,null,null,null,null,null,1013578,"",null,1013578,"1'1 - 1","Binghamton","Syracuse",119,"H","7:05 pm EDT ","Floyd L. Maines Veterans Memorial Arena Binghamton, NY"]
[null,null,null,null,null,null,null,null,null,null,null,null,null,null,null,"N",null,1013535,"2014-10-24","Springfield","W-B/Scranton",76,"R","7:05 pm EDT ","Mohegan Sun Arena at Casey Plaza Wilkes-Barre, PA"]
[null,null,null,null,null,null,null,null,null,null,null,null,null,null,1013612,"",null,1013612,"2014-11-07","Binghamton","Rochester",153,"R","7:05 pm EST ","Blue Cross Arena Rochester, NY"]
[null,null,null,null,null,null,null,null,null,null,null,null,null,null,1013617,"",null,1013617,"2014-11-08","Binghamton","W-B/Scranton",158,"H","7:05 pm EST ","Floyd L. Maines Veterans Memorial Arena Binghamton, NY"]
[null,null,null,null,null,null,null,null,null,null,null,null,null,null,1013651,"",null,1013651,"2014-11-14","Binghamton","Norfolk",192,"R","7:30 pm EST ","Norfolk Scope Norfolk, VA"]
[null,null,null,null,null,null,null,null,null,null,null,null,null,null,1013669,"",null,1013669,"2014-11-15","Binghamton","Norfolk",210,"R","7:15 pm EST ","Norfolk Scope Norfolk, VA"]
[null,null,null,null,null,null,null,null,null,null,null,null,null,null,1013693,"",null,1013693,"2014-11-21","Binghamton","Manchester",234,"H","7:05 pm EST ","Floyd L. Maines Veterans Memorial Arena Binghamton, NY"]
[null,null,null,null,null,null,null,null,null,null,null,null,null,null,1013706,"",null,1013706,"2014-11-22","Binghamton","Albany",247,"H","7:05 pm EST ","Floyd L. Maines Veterans Memorial Arena Binghamton, NY"]
[null,null,null,null,null,null,null,null,null,null,null,null,null,null,1013727,"",null,1013727,"2014-11-26","Binghamton","St. John's",268,"H","7:05 pm EST ","Floyd L. Maines Veterans Memorial Arena Binghamton, NY"]
[null,null,null,null,null,null,null,null,null,null,null,null,null,null,1013744,"",null,1013744,"2014-11-28","Binghamton","Syracuse",285,"R","7:00 pm EST ","Onondaga County War Memorial Arena Syracuse, NY"]
[null,null,null,null,null,null,null,null,null,null,null,null,null,null,1013750,"",null,1013750,"2014-11-29","Binghamton","Rochester",291,"H","7:05 pm EST ","Floyd L. Maines Veterans Memorial Arena Binghamton, NY"]
[null,null,null,null,null,null,null,null,null,null,null,null,null,null,1013781,"",null,1013781,"1'2 - 5","Binghamton","Rochester",322,"R","7:05 pm EST ","Blue Cross Arena Rochester, NY"]
[null,null,null,null,null,null,null,null,null,null,null,null,null,null,1013788,"",null,1013788,"2014-12-06","Binghamton","Adirondack",329,"H","7:05 pm EST ","Floyd L. Maines Veterans Memorial Arena Binghamton, NY"]
[null,null,null,null,null,null,null,null,null,null,null,null,null,null,1013802,"",null,1013802,"2014-12-07","Binghamton","Hartford",343,"R","3:00 pm EST ","XL Center Hartford, CT"]
[null,null,null,null,null,null,null,null,null,null,null,null,null,null,1013823,"",null,1013823,"2014-12-12","Binghamton","Lehigh Valley",364,"H","7:05 pm EST ","Floyd L. Maines Veterans Memorial Arena Binghamton, NY"]
[null,null,null,null,null,null,null,null,null,null,null,null,null,null,1013836,"",null,1013836,"2014-12-13","Binghamton","Hershey",377,"R","7:00 pm EST ","Giant Center Hershey, PA"]
[null,null,null,null,null,null,null,null,null,null,null,null,null,null,1013859,"",null,1013859,"2014-12-17","Binghamton","Lehigh Valley",400,"R","7:05 pm EST ","PPL Center Allentown, PA"]
[null,null,null,null,null,null,null,null,null,null,null,null,null,null,1013864,"",null,1013864,"2014-12-19","Binghamton","Springfield",405,"H","7:05 pm EST ","Floyd L. Maines Veterans Memorial Arena Binghamton, NY"]
[null,null,null,null,null,null,null,null,null,null,null,null,null,null,null,"N",null,1013543,"2014-10-25","Manchester","Providence",84,"H","7:00 pm EDT ","Verizon Wireless Arena Manchester, NH"]
[null,null,null,null,null,null,null,null,null,null,null,null,null,null,1013896,"",null,1013896,"2014-12-26","Binghamton","W-B/Scranton",437,"H","7:05 pm EST ","Floyd L. Maines Veterans Memorial Arena Binghamton, NY"]
[null,null,null,null,null,null,null,null,null,null,null,null,null,null,1013912,"",null,1013912,"2014-12-27","Binghamton","Hershey",453,"R","7:00 pm EST ","Giant Center Hershey, PA"]
[null,null,null,null,null,null,null,null,null,null,null,null,null,null,1013936,"",null,1013936,"2014-12-31","Binghamton","Lehigh Valley",477,"H","6:05 pm EST ","Floyd L. Maines Veterans Memorial Arena Binghamton, NY"]
[null,null,null,null,null,null,null,null,null,null,null,null,null,null,null,"N",null,1013550,"2014-10-25","Toronto","Utica",91,"R","7:00 pm EDT ","Utica Memorial Auditorium Utica, NY"]
[null,null,null,null,null,null,null,null,null,null,null,null,null,null,1013958,"",null,1013958,"2015-01-03","Binghamton","Syracuse",499,"H","7:05 pm EST ","Floyd L. Maines Veterans Memorial Arena Binghamton, NY"]
[null,null,null,null,null,null,null,null,null,null,null,null,null,null,null,"N",null,1013552,"2014-10-26","Norfolk","Hartford",93,"R","3:00 pm EDT ","XL Center Hartford, CT"]
[null,null,null,null,null,null,null,null,null,null,null,null,null,null,1013995,"",null,1013995,"2015-01-09","Binghamton","Worcester",536,"R","7:30 pm EST ","DCU Center Worcester, MA"]
[null,null,null,null,null,null,null,null,null,null,null,null,null,null,1014000,"",null,1014000,"2015-01-10","Binghamton","Manchester",541,"R","7:00 pm EST ","Verizon Wireless Arena Manchester, NH"]
[null,null,null,null,null,null,null,null,null,null,null,null,null,null,1014026,"",null,1014026,"2015-01-16","Binghamton","Syracuse",567,"H","7:05 pm EST ","Floyd L. Maines Veterans Memorial Arena Binghamton, NY"]
[null,null,null,null,null,null,null,null,null,null,null,null,null,null,1014044,"",null,1014044,"2015-01-17","Binghamton","Lehigh Valley",585,"R","7:05 pm EST ","PPL Center Allentown, PA"]
[null,null,null,null,null,null,null,null,null,null,null,null,null,null,1014057,"",null,1014057,"2015-01-18","Binghamton","Springfield",598,"R","4:00 pm EST ","MassMutual Center Springfield, MA"]
[null,null,null,null,null,null,null,null,null,null,null,null,null,null,1014071,"",null,1014071,"2015-01-23","Binghamton","St. John's",612,"H","7:05 pm EST ","Floyd L. Maines Veterans Memorial Arena Binghamton, NY"]
[null,null,null,null,null,null,null,null,null,null,null,null,null,null,1014088,"",null,1014088,"2015-01-24","Binghamton","Hershey",629,"R","7:00 pm EST ","Giant Center Hershey, PA"]
[null,null,null,null,null,null,null,null,null,null,null,null,null,null,1014101,{"$f":"IF(O196=R196,\"\",\"N\")","v":""},null,1014101,"2015-01-30","Binghamton","Norfolk",642,"H","7:05 pm EST ","Floyd L. Maines Veterans Memorial Arena Binghamton, NY"]
[null,null,null,null,null,null,null,null,null,null,null,null,null,null,1014116,"",null,1014116,"2015-01-31","Binghamton","Norfolk",657,"H","7:05 pm EST ","Floyd L. Maines Veterans Memorial Arena Binghamton, NY"]
[null,null,null,null,null,null,null,null,null,null,null,null,null,null,1014140,"",null,1014140,"2015-02-06","Binghamton","Hershey",681,"H","7:05 pm EST ","Floyd L. Maines Veterans Memorial Arena Binghamton, NY"]
[null,null,null,null,null,null,null,null,null,null,null,null,null,null,1014152,"",null,1014152,"2015-02-07","Binghamton","Lehigh Valley",693,"H","7:05 pm EST ","Floyd L. Maines Veterans Memorial Arena Binghamton, NY"]
[null,null,null,null,null,null,null,null,null,null,null,null,null,null,1014170,"",null,1014170,"2015-02-08","Binghamton","Utica",711,"R","3:00 pm EST ","Utica Memorial Auditorium Utica, NY"]
[null,null,null,null,null,null,null,null,null,null,null,null,null,null,1014179,"",null,1014179,"2015-02-11","Binghamton","W-B/Scranton",720,"R","7:05 pm EST ","Mohegan Sun Arena at Casey Plaza Wilkes-Barre, PA"]
[null,null,null,null,null,null,null,null,null,null,null,null,null,null,1014186,"",null,1014186,"2015-02-13","Binghamton","Lehigh Valley",727,"R","7:05 pm EST ","PPL Center Allentown, PA"]
[null,null,null,null,null,null,null,null,null,null,null,null,null,null,1014205,"",null,1014205,"2015-02-15","Binghamton","Toronto",746,"H","3:00 pm EST *","Canadian Tire Centre Ottawa, ON"]
[null,null,null,null,null,null,null,null,null,null,null,null,null,null,1014216,"",null,1014216,"2015-02-16","Binghamton","Toronto",757,"R","1:00 pm EST *","Air Canada Centre Toronto, ON"]
[null,null,null,null,null,null,null,null,null,null,null,null,null,null,1014222,"",null,1014222,"2015-02-18","Binghamton","Lehigh Valley",763,"R","7:05 pm EST ","PPL Center Allentown, PA"]
[null,null,null,null,null,null,null,null,null,null,null,null,null,null,1014226,"",null,1014226,"2015-02-20","Binghamton","Hershey",767,"H","7:05 pm EST ","Floyd L. Maines Veterans Memorial Arena Binghamton, NY"]
[null,null,null,null,null,null,null,null,null,null,null,null,null,null,1014246,"",null,1014246,"2015-02-21","Binghamton","Syracuse",787,"R","7:00 pm EST ","Onondaga County War Memorial Arena Syracuse, NY"]
[null,null,null,null,null,null,null,null,null,null,null,null,null,null,1014267,"",null,1014267,"2015-02-27","Binghamton","Hershey",808,"H","7:05 pm EST ","Floyd L. Maines Veterans Memorial Arena Binghamton, NY"]
[null,null,null,null,null,null,null,null,null,null,null,null,null,null,1014286,"",null,1014286,"2015-02-28","Binghamton","Lehigh Valley",827,"R","7:05 pm EST ","PPL Center Allentown, PA"]
[null,null,null,null,null,null,null,null,null,null,null,null,null,null,1014294,"",null,1014294,"2015-03-01","Binghamton","Albany",835,"R","3:00 pm EST ","Times Union Center Albany, NY"]
[null,null,null,null,null,null,null,null,null,null,null,null,null,null,1014305,"",null,1014305,"2015-03-04","Binghamton","Norfolk",846,"R","7:15 pm EST ","Norfolk Scope Norfolk, VA"]
[null,null,null,null,null,null,null,null,null,null,null,null,null,null,1014313,"",null,1014313,"2015-03-06","Binghamton","Norfolk",854,"R","7:30 pm EST ","Norfolk Scope Norfolk, VA"]
[null,null,null,null,null,null,null,null,null,null,null,null,null,null,1014331,"",null,1014331,"2015-03-08","Binghamton","Syracuse",872,"H","3:05 pm EDT ","Floyd L. Maines Veterans Memorial Arena Binghamton, NY"]
[null,null,null,null,null,null,null,null,null,null,null,null,null,null,1014352,"",null,1014352,"2015-03-13","Binghamton","Hershey",893,"H","7:05 pm EDT ","Floyd L. Maines Veterans Memorial Arena Binghamton, NY"]
[null,null,null,null,null,null,null,null,null,null,null,null,null,null,1014362,"",null,1014362,"2015-03-14","Binghamton","Hartford",903,"H","7:05 pm EDT ","Floyd L. Maines Veterans Memorial Arena Binghamton, NY"]
[null,null,null,null,null,null,null,null,null,null,null,null,null,null,1014373,"",null,1014373,"2015-03-15","Binghamton","Adirondack",914,"R","5:00 pm EDT ","Glens Falls Civic Center Glens Falls, NY"]
[null,null,null,null,null,null,null,null,null,null,null,null,null,null,1014390,"",null,1014390,"2015-03-20","Binghamton","Norfolk",931,"H","7:05 pm EDT ","Floyd L. Maines Veterans Memorial Arena Binghamton, NY"]
[null,null,null,null,null,null,null,null,null,null,null,null,null,null,1014414,"",null,1014414,"2015-03-21","Binghamton","W-B/Scranton",955,"R","7:05 pm EDT ","Mohegan Sun Arena at Casey Plaza Wilkes-Barre, PA"]
[null,null,null,null,null,null,null,null,null,null,null,null,null,null,1014417,"",null,1014417,"2015-03-22","Binghamton","Bridgeport",958,"R","3:00 pm EDT ","Webster Bank Arena Bridgeport, CT"]
[null,null,null,null,null,null,null,null,null,null,null,null,null,null,1014437,"",null,1014437,"2015-03-27","Binghamton","W-B/Scranton",978,"H","7:05 pm EDT ","Floyd L. Maines Veterans Memorial Arena Binghamton, NY"]
[null,null,null,null,null,null,null,null,null,null,null,null,null,null,1014451,"",null,1014451,"2015-03-28","Binghamton","Bridgeport",992,"H","7:05 pm EDT ","Floyd L. Maines Veterans Memorial Arena Binghamton, NY"]
[null,null,null,null,null,null,null,null,null,null,null,null,null,null,1014477,"",null,1014477,"2015-04-01","Binghamton","Syracuse",1018,"R","7:00 pm EDT ","Onondaga County War Memorial Arena Syracuse, NY"]
[null,null,null,null,null,null,null,null,null,null,null,null,null,null,null,"N",null,1014485,"2015-04-03","Binghamton","Lehigh Valley",1026,"H","7:05 pm EDT ","Floyd L. Maines Veterans Memorial Arena Binghamton, NY"]
[null,null,null,null,null,null,null,null,null,null,null,null,null,null,null,"N",null,1014497,"2015-04-04","Binghamton","Albany",1038,"R","5:00 pm EDT ","Times Union Center Albany, NY"]
[null,null,null,null,null,null,null,null,null,null,null,null,null,null,null,"N",null,1014509,"2015-04-07","Binghamton","Norfolk",1050,"H","7:05 pm EDT ","Floyd L. Maines Veterans Memorial Arena Binghamton, NY"]
[null,null,null,null,null,null,null,null,null,null,null,null,null,null,null,"N",null,1014521,"2015-04-10","Binghamton","Albany",1062,"H","7:05 pm EDT ","Floyd L. Maines Veterans Memorial Arena Binghamton, NY"]
[null,null,null,null,null,null,null,null,null,null,null,null,null,null,null,"N",null,1014535,"2015-04-11","Binghamton","Utica",1076,"H","7:05 pm EDT ","Floyd L. Maines Veterans Memorial Arena Binghamton, NY"]
[null,null,null,null,null,null,null,null,null,null,null,null,null,null,null,"N",null,1014561,"2015-04-15","Binghamton","Utica",1102,"H","7:05 pm EDT ","Floyd L. Maines Veterans Memorial Arena Binghamton, NY"]
[null,null,null,null,null,null,null,null,null,null,null,null,null,null,null,"N",null,1014566,"2015-04-17","Binghamton","Hershey",1107,"R","7:00 pm EDT ","Giant Center Hershey, PA"]
[null,null,null,null,null,null,null,null,null,null,null,null,null,null,null,"N",null,1014581,"2015-04-18","Binghamton","Rochester",1122,"H","7:05 pm EDT ","Floyd L. Maines Veterans Memorial Arena Binghamton, NY"]
[null,null,null,null,null,null,null,null,null,null,null,null,null,null,1013467,"",null,1013467,"2014-10-11","Bridgeport","St. John's",8,"H","7:00 pm EDT ","Webster Bank Arena Bridgeport, CT"]
[null,null,null,null,null,null,null,null,null,null,null,null,null,null,1013479,"",null,1013479,"2014-10-12","Bridgeport","St. John's",20,"H","3:00 pm EDT ","Webster Bank Arena Bridgeport, CT"]
[null,null,null,null,null,null,null,null,null,null,null,null,null,null,1013487,"",null,1013487,"2014-10-17","Bridgeport","Albany",28,"H","7:00 pm EDT ","Webster Bank Arena Bridgeport, CT"]
[null,null,null,null,null,null,null,null,null,null,null,null,null,null,1013500,"",null,1013500,"2014-10-18","Bridgeport","Albany",41,"R","5:05 pm EDT ","Times Union Center Albany, NY"]
[null,null,null,null,null,null,null,null,null,null,null,null,null,null,1013514,"",null,1013514,"2014-10-19","Bridgeport","Springfield",55,"H","3:00 pm EDT ","Webster Bank Arena Bridgeport, CT"]
[null,null,null,null,null,null,null,null,null,null,null,null,null,null,1013548,"",null,1013548,"2014-10-25","Bridgeport","St. John's",89,"R","7:30 pm NDT ","Mile One Centre St. John's, NL"]
[null,null,null,null,null,null,null,null,null,null,null,null,null,null,1013556,"",null,1013556,"2014-10-26","Bridgeport","St. John's",97,"R","4:00 pm NDT ","Mile One Centre St. John's, NL"]
[null,null,null,null,null,null,null,null,null,null,null,null,null,null,1013577,"",null,1013577,"1'1 - 1","Bridgeport","Albany",118,"R","5:00 pm EDT ","Times Union Center Albany, NY"]
[null,null,null,null,null,null,null,null,null,null,null,null,null,null,1013590,"",null,1013590,"1'1 - 2","Bridgeport","Springfield",131,"H","3:00 pm EST ","Webster Bank Arena Bridgeport, CT"]
[null,null,null,null,null,null,null,null,null,null,null,null,null,null,1013599,"",null,1013599,"1'1 - 5","Bridgeport","Norfolk",140,"H","11:00 am EST ","Webster Bank Arena Bridgeport, CT"]
[null,null,null,null,null,null,null,null,null,null,null,null,null,null,1013618,"",null,1013618,"2014-11-08","Bridgeport","Albany",159,"H","7:00 pm EST ","Webster Bank Arena Bridgeport, CT"]
[null,null,null,null,null,null,null,null,null,null,null,null,null,null,1013630,"",null,1013630,"2014-11-09","Bridgeport","Albany",171,"H","3:00 pm EST ","Webster Bank Arena Bridgeport, CT"]
[null,null,null,null,null,null,null,null,null,null,null,null,null,null,1013648,"",null,1013648,"2014-11-14","Bridgeport","Hartford",189,"R","7:00 pm EST ","XL Center Hartford, CT"]
[null,null,null,null,null,null,null,null,null,null,null,null,null,null,1013662,"",null,1013662,"2014-11-15","Bridgeport","Hartford",203,"H","7:00 pm EST ","Webster Bank Arena Bridgeport, CT"]
[null,null,null,null,null,null,null,null,null,null,null,null,null,null,1013675,"",null,1013675,"2014-11-16","Bridgeport","Springfield",216,"H","3:00 pm EST ","Webster Bank Arena Bridgeport, CT"]
[null,null,null,null,null,null,null,null,null,null,null,null,null,null,1013703,"",null,1013703,"2014-11-21","Bridgeport","Springfield",244,"R","7:00 pm EST ","MassMutual Center Springfield, MA"]
[null,null,null,null,null,null,null,null,null,null,null,null,null,null,1013709,"",null,1013709,"2014-11-22","Bridgeport","Hartford",250,"R","7:30 pm EST ","XL Center Hartford, CT"]
[null,null,null,null,null,null,null,null,null,null,null,null,null,null,1013718,"",null,1013718,"2014-11-23","Bridgeport","Albany",259,"R","3:00 pm EST ","Times Union Center Albany, NY"]
[null,null,null,null,null,null,null,null,null,null,null,null,null,null,1013740,"",null,1013740,"2014-11-28","Bridgeport","Manchester",281,"R","7:00 pm EST ","Verizon Wireless Arena Manchester, NH"]
[null,null,null,null,null,null,null,null,null,null,null,null,null,null,1013751,"",null,1013751,"2014-11-29","Bridgeport","Hartford",292,"H","7:00 pm EST ","Webster Bank Arena Bridgeport, CT"]
[null,null,null,null,null,null,null,null,null,null,null,null,null,null,1013762,"",null,1013762,"2014-11-30","Bridgeport","Providence",303,"H","3:00 pm EST ","Webster Bank Arena Bridgeport, CT"]
[null,null,null,null,null,null,null,null,null,null,null,null,null,null,1013777,"",null,1013777,"1'2 - 5","Bridgeport","Hershey",318,"R","7:00 pm EST ","Giant Center Hershey, PA"]
[null,null,null,null,null,null,null,null,null,null,null,null,null,null,1013791,"",null,1013791,"2014-12-06","Bridgeport","Lehigh Valley",332,"R","7:05 pm EST ","PPL Center Allentown, PA"]
[null,null,null,null,null,null,null,null,null,null,null,null,null,null,1013800,"",null,1013800,"2014-12-07","Bridgeport","Lehigh Valley",341,"H","3:00 pm EST ","Webster Bank Arena Bridgeport, CT"]
[null,null,null,null,null,null,null,null,null,null,null,null,null,null,1013835,"",null,1013835,"2014-12-12","Bridgeport","W-B/Scranton",376,"R","7:05 pm EST ","Mohegan Sun Arena at Casey Plaza Wilkes-Barre, PA"]
[null,null,null,null,null,null,null,null,null,null,null,null,null,null,1013848,"",null,1013848,"2014-12-14","Bridgeport","Hartford",389,"H","3:00 pm EST ","Webster Bank Arena Bridgeport, CT"]
[null,null,null,null,null,null,null,null,null,null,null,null,null,null,1013871,"",null,1013871,"2014-12-19","Bridgeport","Norfolk",412,"R","7:30 pm EST ","Norfolk Scope Norfolk, VA"]
[null,null,null,null,null,null,null,null,null,null,null,null,null,null,1013883,"",null,1013883,"2014-12-20","Bridgeport","Norfolk",424,"R","7:15 pm EST ","Norfolk Scope Norfolk, VA"]
[null,null,null,null,null,null,null,null,null,null,null,null,null,null,null,"N",null,1013553,"2014-10-26","Lehigh Valley","Hershey",94,"R","5:00 pm EDT ","Giant Center Hershey, PA"]
[null,null,null,null,null,null,null,null,null,null,null,null,null,null,1013897,{"$f":"IF(O260=R260,\"\",\"N\")","v":""},null,1013897,"2014-12-26","Bridgeport","Providence",438,"H","7:00 pm EST ","Webster Bank Arena Bridgeport, CT"]
[null,null,null,null,null,null,null,null,null,null,null,null,null,null,1013920,"",null,1013920,"2014-12-27","Bridgeport","W-B/Scranton",461,"R","7:05 pm EST ","Mohegan Sun Arena at Casey Plaza Wilkes-Barre, PA"]
[null,null,null,null,null,null,null,null,null,null,null,null,null,null,1013934,"",null,1013934,"2014-12-30","Bridgeport","Worcester",475,"R","7:00 pm EST ","DCU Center Worcester, MA"]
[null,null,null,null,null,null,null,null,null,null,null,null,null,null,1013952,"",null,1013952,"2015-01-02","Bridgeport","Providence",493,"R","7:05 pm EST ","Dunkin' Donuts Center Providence, RI"]
[null,null,null,null,null,null,null,null,null,null,null,null,null,null,1013959,"",null,1013959,"2015-01-03","Bridgeport","Albany",500,"H","7:00 pm EST ","Webster Bank Arena Bridgeport, CT"]
[null,null,null,null,null,null,null,null,null,null,null,null,null,null,1013971,"",null,1013971,"2015-01-04","Bridgeport","Albany",512,"H","3:00 pm EST ","Webster Bank Arena Bridgeport, CT"]
[null,null,null,null,null,null,null,null,null,null,null,null,null,null,1013989,"",null,1013989,"2015-01-09","Bridgeport","Portland",530,"R","7:00 pm EST ","Cross Insurance Arena Portland, ME"]
[null,null,null,null,null,null,null,null,null,null,null,null,null,null,1013996,"",null,1013996,"2015-01-10","Bridgeport","Albany",537,"R","5:00 pm EST ","Times Union Center Albany, NY"]
[null,null,null,null,null,null,null,null,null,null,null,null,null,null,1014011,"",null,1014011,"2015-01-11","Bridgeport","Hartford",552,"R","3:00 pm EST ","XL Center Hartford, CT"]
[null,null,null,null,null,null,null,null,null,null,null,null,null,null,1014033,"",null,1014033,"2015-01-16","Bridgeport","Providence",574,"R","7:05 pm EST ","Dunkin' Donuts Center Providence, RI"]
[null,null,null,null,null,null,null,null,null,null,null,null,null,null,1014039,"",null,1014039,"2015-01-17","Bridgeport","Syracuse",580,"H","7:00 pm EST ","Webster Bank Arena Bridgeport, CT"]
[null,null,null,null,null,null,null,null,null,null,null,null,null,null,1014051,"",null,1014051,"2015-01-18","Bridgeport","Syracuse",592,"H","3:00 pm EST ","Webster Bank Arena Bridgeport, CT"]
[null,null,null,null,null,null,null,null,null,null,null,null,null,null,1014060,"",null,1014060,"2015-01-21","Bridgeport","Albany",601,"R","7:30 pm EST *","Prudential Center Newark, NJ"]
[null,null,null,null,null,null,null,null,null,null,null,null,null,null,1014078,"",null,1014078,"2015-01-23","Bridgeport","Portland",619,"R","7:00 pm EST ","Cross Insurance Arena Portland, ME"]
[null,null,null,null,null,null,null,null,null,null,null,null,null,null,1014086,"",null,1014086,"2015-01-24","Bridgeport","Portland",627,"H","7:30 pm EST ","Webster Bank Arena Bridgeport, CT"]
[null,null,null,null,null,null,null,null,null,null,null,null,null,null,1014102,"",null,1014102,"2015-01-30","Bridgeport","Hartford",643,"R","7:00 pm EST ","XL Center Hartford, CT"]
[null,null,null,null,null,null,null,null,null,null,null,null,null,null,1014117,"",null,1014117,"2015-01-31","Bridgeport","Portland",658,"H","7:00 pm EST ","Webster Bank Arena Bridgeport, CT"]
[null,null,null,null,null,null,null,null,null,null,null,null,null,null,1014150,"",null,1014150,"2015-02-06","Bridgeport","Syracuse",691,"R","7:00 pm EST ","Onondaga County War Memorial Arena Syracuse, NY"]
[null,null,null,null,null,null,null,null,null,null,null,null,null,null,1014153,"",null,1014153,"2015-02-07","Bridgeport","Hartford",694,"H","7:00 pm EST ","Webster Bank Arena Bridgeport, CT"]
[null,null,null,null,null,null,null,null,null,null,null,null,null,null,1014165,"",null,1014165,"2015-02-08","Bridgeport","W-B/Scranton",706,"H","3:00 pm EST ","Webster Bank Arena Bridgeport, CT"]
[null,null,null,null,null,null,null,null,null,null,null,null,null,null,1014190,"",null,1014190,"2015-02-13","Bridgeport","Providence",731,"R","7:05 pm EST ","Dunkin' Donuts Center Providence, RI"]
[null,null,null,null,null,null,null,null,null,null,null,null,null,null,1014197,"",null,1014197,"2015-02-14","Bridgeport","Manchester",738,"R","3:00 pm EST ","Verizon Wireless Arena Manchester, NH"]
[null,null,null,null,null,null,null,null,null,null,null,null,null,null,1014206,"",null,1014206,"2015-02-15","Bridgeport","Hershey",747,"H","3:00 pm EST ","Webster Bank Arena Bridgeport, CT"]
[null,null,null,null,null,null,null,null,null,null,null,null,null,null,1014239,"",null,1014239,"2015-02-21","Bridgeport","Hershey",780,"R","7:00 pm EST ","Giant Center Hershey, PA"]
[null,null,null,null,null,null,null,null,null,null,null,null,null,null,1014251,"",null,1014251,"2015-02-22","Bridgeport","Norfolk",792,"H","3:00 pm EST ","Webster Bank Arena Bridgeport, CT"]
[null,null,null,null,null,null,null,null,null,null,null,null,null,null,1014275,"",null,1014275,"2015-02-27","Bridgeport","Springfield",816,"R","7:00 pm EST ","MassMutual Center Springfield, MA"]
[null,null,null,null,null,null,null,null,null,null,null,null,null,null,null,"N",null,1013570,"2014-10-31","Manchester","Hershey",111,"H","7:00 pm EDT ","Verizon Wireless Arena Manchester, NH"]
[null,null,null,null,null,null,null,null,null,null,null,null,null,null,null,"N",null,1013574,"2014-10-31","Syracuse","Rochester",115,"H","7:00 pm EDT ","Onondaga County War Memorial Arena Syracuse, NY"]
[null,null,null,null,null,null,null,null,null,null,null,null,null,null,1014310,"",null,1014310,"2015-03-06","Bridgeport","Lehigh Valley",851,"R","7:05 pm EST ","PPL Center Allentown, PA"]
[null,null,null,null,null,null,null,null,null,null,null,null,null,null,1014330,"",null,1014330,"2015-03-07","Bridgeport","Worcester",871,"R","7:00 pm EST ","DCU Center Worcester, MA"]
[null,null,null,null,null,null,null,null,null,null,null,null,null,null,1014343,"",null,1014343,"2015-03-11","Bridgeport","Worcester",884,"H","7:00 pm EDT ","Webster Bank Arena Bridgeport, CT"]
[null,null,null,null,null,null,null,null,null,null,null,null,null,null,1014363,"",null,1014363,"2015-03-14","Bridgeport","Lehigh Valley",904,"H","7:00 pm EDT ","Webster Bank Arena Bridgeport, CT"]
[null,null,null,null,null,null,null,null,null,null,null,null,null,null,null,"N",null,1013604,"1'1 - 5","Binghamton","Utica",145,"R","7:00 pm EST ","Utica Memorial Auditorium Utica, NY"]
[null,null,null,null,null,null,null,null,null,null,null,null,null,null,1014396,"",null,1014396,"2015-03-20","Bridgeport","Springfield",937,"R","7:00 pm EDT ","MassMutual Center Springfield, MA"]
[null,null,null,null,null,null,null,null,null,null,null,null,null,null,1014402,"",null,1014402,"2015-03-21","Bridgeport","Providence",943,"H","7:00 pm EDT ","Webster Bank Arena Bridgeport, CT"]
[null,null,null,null,null,null,null,null,null,null,null,null,null,null,1014417,"",null,1014417,"2015-03-22","Bridgeport","Binghamton",958,"H","3:00 pm EDT ","Webster Bank Arena Bridgeport, CT"]
[null,null,null,null,null,null,null,null,null,null,null,null,null,null,1014447,"",null,1014447,"2015-03-27","Bridgeport","Syracuse",988,"R","7:00 pm EDT ","Onondaga County War Memorial Arena Syracuse, NY"]
[null,null,null,null,null,null,null,null,null,null,null,null,null,null,1014451,"",null,1014451,"2015-03-28","Bridgeport","Binghamton",992,"R","7:05 pm EDT ","Floyd L. Maines Veterans Memorial Arena Binghamton, NY"]
[null,null,null,null,null,null,null,null,null,null,null,null,null,null,1014464,"",null,1014464,"2015-03-29","Bridgeport","Hershey",1005,"H","3:00 pm EDT ","Webster Bank Arena Bridgeport, CT"]
[null,null,null,null,null,null,null,null,null,null,null,null,null,null,1014472,"",null,1014472,"2015-04-01","Bridgeport","Springfield",1013,"H","11:00 am EDT ","Webster Bank Arena Bridgeport, CT"]
[null,null,null,null,null,null,null,null,null,null,null,null,null,null,null,"N",null,1014498,"2015-04-04","Bridgeport","Syracuse",1039,"H","7:00 pm EDT ","Webster Bank Arena Bridgeport, CT"]
[null,null,null,null,null,null,null,null,null,null,null,null,null,null,null,"N",null,1014531,"2015-04-10","Bridgeport","Syracuse",1072,"R","7:00 pm EDT ","Onondaga County War Memorial Arena Syracuse, NY"]
[null,null,null,null,null,null,null,null,null,null,null,null,null,null,null,"N",null,1014536,"2015-04-11","Bridgeport","Manchester",1077,"H","7:00 pm EDT ","Webster Bank Arena Bridgeport, CT"]
[null,null,null,null,null,null,null,null,null,null,null,null,null,null,null,"N",null,1014549,"2015-04-12","Bridgeport","Manchester",1090,"H","3:00 pm EDT ","Webster Bank Arena Bridgeport, CT"]
[null,null,null,null,null,null,null,null,null,null,null,null,null,null,null,"N",null,1014565,"2015-04-17","Bridgeport","Hartford",1106,"R","7:00 pm EDT ","XL Center Hartford, CT"]
[null,null,null,null,null,null,null,null,null,null,null,null,null,null,null,"N",null,1014591,"2015-04-18","Bridgeport","Syracuse",1132,"R","7:00 pm EDT ","Onondaga County War Memorial Arena Syracuse, NY"]
[null,null,null,null,null,null,null,null,null,null,null,null,null,null,null,"N",null,1014595,"2015-04-19","Bridgeport","Hartford",1136,"H","3:00 pm EDT ","Webster Bank Arena Bridgeport, CT"]
[null,null,null,null,null,null,null,null,null,null,null,null,null,null,1013461,"",null,1013461,"2014-10-10","Charlotte","Milwaukee",2,"R","7:00 pm CDT ","BMO Harris Bradley Center Milwaukee, WI"]
[null,null,null,null,null,null,null,null,null,null,null,null,null,null,1013468,"",null,1013468,"2014-10-11","Charlotte","Chicago",9,"R","7:00 pm CDT ","Allstate Arena Rosemont, IL"]
[null,null,null,null,null,null,null,null,null,null,null,null,null,null,1013480,"",null,1013480,"2014-10-12","Charlotte","Chicago",21,"R","4:00 pm CDT ","Allstate Arena Rosemont, IL"]
[null,null,null,null,null,null,null,null,null,null,null,null,null,null,1013488,"",null,1013488,"2014-10-17","Charlotte","Grand Rapids",29,"H","7:00 pm EDT ","Time Warner Cable Arena Charlotte, NC"]
[null,null,null,null,null,null,null,null,null,null,null,null,null,null,1013501,"",null,1013501,"2014-10-18","Charlotte","Grand Rapids",42,"H","7:00 pm EDT ","Time Warner Cable Arena Charlotte, NC"]
[null,null,null,null,null,null,null,null,null,null,null,null,null,null,1013527,"",null,1013527,"2014-10-24","Charlotte","Iowa",68,"R","7:00 pm CDT ","Wells Fargo Arena Des Moines, IA"]
[null,null,null,null,null,null,null,null,null,null,null,null,null,null,1013542,"",null,1013542,"2014-10-25","Charlotte","Iowa",83,"R","7:00 pm CDT ","Wells Fargo Arena Des Moines, IA"]
[null,null,null,null,null,null,null,null,null,null,null,null,null,null,1013567,"",null,1013567,"2014-10-31","Charlotte","Hamilton",108,"H","12:00 pm EDT ","Time Warner Cable Arena Charlotte, NC"]
[null,null,null,null,null,null,null,null,null,null,null,null,null,null,1013591,"",null,1013591,"1'1 - 2","Charlotte","Hamilton",132,"H","1:00 pm EST ","Time Warner Cable Arena Charlotte, NC"]
[null,null,null,null,null,null,null,null,null,null,null,null,null,null,1013619,"",null,1013619,"2014-11-08","Charlotte","Texas",160,"H","7:00 pm EST ","Time Warner Cable Arena Charlotte, NC"]
[null,null,null,null,null,null,null,null,null,null,null,null,null,null,1013631,"",null,1013631,"2014-11-09","Charlotte","Texas",172,"H","3:00 pm EST ","Time Warner Cable Arena Charlotte, NC"]
[null,null,null,null,null,null,null,null,null,null,null,null,null,null,1013637,"",null,1013637,"2014-11-10","Charlotte","Norfolk",178,"H","6:00 pm EST ","Time Warner Cable Arena Charlotte, NC"]
[null,null,null,null,null,null,null,null,null,null,null,null,null,null,1013656,"",null,1013656,"2014-11-14","Charlotte","San Antonio",197,"R","7:30 pm CST ","AT&T Center San Antonio, TX"]
[null,null,null,null,null,null,null,null,null,null,null,null,null,null,1013672,"",null,1013672,"2014-11-15","Charlotte","San Antonio",213,"R","7:00 pm CST ","AT&T Center San Antonio, TX"]
[null,null,null,null,null,null,null,null,null,null,null,null,null,null,1013682,"",null,1013682,"2014-11-18","Charlotte","Norfolk",223,"H","7:00 pm EST ","Time Warner Cable Arena Charlotte, NC"]
[null,null,null,null,null,null,null,null,null,null,null,null,null,null,1013699,"",null,1013699,"2014-11-21","Charlotte","Oklahoma City",240,"R","7:00 pm CST ","Cox Convention Center Oklahoma City, OK"]
[null,null,null,null,null,null,null,null,null,null,null,null,null,null,null,"N",null,1013604,"1'1 - 5","Utica","Binghamton",145,"H","7:00 pm EST ","Utica Memorial Auditorium Utica, NY"]
[null,null,null,null,null,null,null,null,null,null,null,null,null,null,1013731,{"$f":"IF(O324=R324,\"\",\"N\")","v":""},null,1013731,"2014-11-26","Charlotte","Norfolk",272,"R","7:15 pm EST ","Norfolk Scope Norfolk, VA"]
[null,null,null,null,null,null,null,null,null,null,null,null,null,null,1013752,"",null,1013752,"2014-11-29","Charlotte","Milwaukee",293,"H","7:00 pm EST ","Time Warner Cable Arena Charlotte, NC"]
[null,null,null,null,null,null,null,null,null,null,null,null,null,null,1013763,"",null,1013763,"2014-11-30","Charlotte","Milwaukee",304,"H","1:00 pm EST ","Time Warner Cable Arena Charlotte, NC"]
[null,null,null,null,null,null,null,null,null,null,null,null,null,null,1013789,"",null,1013789,"2014-12-06","Charlotte","Iowa",330,"H","7:00 pm EST ","Time Warner Cable Arena Charlotte, NC"]
[null,null,null,null,null,null,null,null,null,null,null,null,null,null,1013810,"",null,1013810,"2014-12-08","Charlotte","Iowa",351,"H","7:00 pm EST ","Time Warner Cable Arena Charlotte, NC"]
[null,null,null,null,null,null,null,null,null,null,null,null,null,null,null,"N",null,1013610,"2014-11-07","Grand Rapids","Milwaukee",151,"R","7:00 pm CST ","BMO Harris Bradley Center Milwaukee, WI"]
[null,null,null,null,null,null,null,null,null,null,null,null,null,null,1013833,"",null,1013833,"2014-12-12","Charlotte","Texas",374,"R","7:30 pm CST ","Cedar Park Center Cedar Park, TX"]
[null,null,null,null,null,null,null,null,null,null,null,null,null,null,1013843,"",null,1013843,"2014-12-13","Charlotte","Texas",384,"R","7:00 pm CST ","Cedar Park Center Cedar Park, TX"]
[null,null,null,null,null,null,null,null,null,null,null,null,null,null,1013854,"",null,1013854,"2014-12-16","Charlotte","Oklahoma City",395,"H","7:00 pm EST ","Time Warner Cable Arena Charlotte, NC"]
[null,null,null,null,null,null,null,null,null,null,null,null,null,null,1013862,"",null,1013862,"2014-12-18","Charlotte","Oklahoma City",403,"H","7:00 pm EST ","Time Warner Cable Arena Charlotte, NC"]
[null,null,null,null,null,null,null,null,null,null,null,null,null,null,1013865,"",null,1013865,"2014-12-19","Charlotte","San Antonio",406,"H","7:00 pm EST ","Time Warner Cable Arena Charlotte, NC"]
[null,null,null,null,null,null,null,null,null,null,null,null,null,null,1013890,"",null,1013890,"2014-12-21","Charlotte","San Antonio",431,"H","1:00 pm EST ","Time Warner Cable Arena Charlotte, NC"]
[null,null,null,null,null,null,null,null,null,null,null,null,null,null,1013918,"",null,1013918,"2014-12-27","Charlotte","Texas",459,"R","7:00 pm CST ","Cedar Park Center Cedar Park, TX"]
[null,null,null,null,null,null,null,null,null,null,null,null,null,null,1013922,"",null,1013922,"2014-12-28","Charlotte","Oklahoma City",463,"R","4:00 pm CST ","Cox Convention Center Oklahoma City, OK"]
[null,null,null,null,null,null,null,null,null,null,null,null,null,null,1013939,"",null,1013939,"2014-12-31","Charlotte","Oklahoma City",480,"R","6:00 pm CST ","Cox Convention Center Oklahoma City, OK"]
[null,null,null,null,null,null,null,null,null,null,null,null,null,null,1013960,"",null,1013960,"2015-01-03","Charlotte","Texas",501,"H","7:00 pm EST ","Time Warner Cable Arena Charlotte, NC"]
[null,null,null,null,null,null,null,null,null,null,null,null,null,null,1013972,"",null,1013972,"2015-01-04","Charlotte","Texas",513,"H","3:00 pm EST ","Time Warner Cable Arena Charlotte, NC"]
[null,null,null,null,null,null,null,null,null,null,null,null,null,null,1013979,"",null,1013979,"2015-01-07","Charlotte","Grand Rapids",520,"R","7:00 pm EST ","Van Andel Arena Grand Rapids, MI"]
[null,null,null,null,null,null,null,null,null,null,null,null,null,null,1013986,"",null,1013986,"2015-01-09","Charlotte","Grand Rapids",527,"R","7:00 pm EST ","Van Andel Arena Grand Rapids, MI"]
[null,null,null,null,null,null,null,null,null,null,null,null,null,null,null,"N",null,1013625,"2014-11-08","Lehigh Valley","Portland",166,"R","7:00 pm EST ","Cross Insurance Arena Portland, ME"]
[null,null,null,null,null,null,null,null,null,null,null,null,null,null,1014018,"",null,1014018,"2015-01-13","Charlotte","Rockford",559,"R","7:00 pm CST ","BMO Harris Bank Center Rockford, IL"]
[null,null,null,null,null,null,null,null,null,null,null,null,null,null,1014025,"",null,1014025,"2015-01-15","Charlotte","Toronto",566,"H","7:00 pm EST ","Time Warner Cable Arena Charlotte, NC"]
[null,null,null,null,null,null,null,null,null,null,null,null,null,null,1014027,"",null,1014027,"2015-01-16","Charlotte","Toronto",568,"H","7:00 pm EST ","Time Warner Cable Arena Charlotte, NC"]
[null,null,null,null,null,null,null,null,null,null,null,null,null,null,1014065,"",null,1014065,"2015-01-21","Charlotte","Norfolk",606,"R","7:15 pm EST ","Norfolk Scope Norfolk, VA"]
[null,null,null,null,null,null,null,null,null,null,null,null,null,null,1014068,"",null,1014068,"2015-01-22","Charlotte","Oklahoma City",609,"H","7:00 pm EST ","Time Warner Cable Arena Charlotte, NC"]
[null,null,null,null,null,null,null,null,null,null,null,null,null,null,1014072,"",null,1014072,"2015-01-23","Charlotte","Oklahoma City",613,"H","7:00 pm EST ","Time Warner Cable Arena Charlotte, NC"]
[null,null,null,null,null,null,null,null,null,null,null,null,null,null,1014110,"",null,1014110,"2015-01-30","Charlotte","San Antonio",651,"R","7:30 pm CST ","AT&T Center San Antonio, TX"]
[null,null,null,null,null,null,null,null,null,null,null,null,null,null,null,"N",null,1013640,"2014-11-11","Portland","Manchester",181,"H","7:00 pm EST ","Cross Insurance Arena Portland, ME"]
[null,null,null,null,null,null,null,null,null,null,null,null,null,null,1014141,"",null,1014141,"2015-02-06","Charlotte","Chicago",682,"H","7:00 pm EST ","Time Warner Cable Arena Charlotte, NC"]
[null,null,null,null,null,null,null,null,null,null,null,null,null,null,1014154,"",null,1014154,"2015-02-07","Charlotte","Chicago",695,"H","7:00 pm EST ","Time Warner Cable Arena Charlotte, NC"]
[null,null,null,null,null,null,null,null,null,null,null,null,null,null,1014173,"",null,1014173,"2015-02-10","Charlotte","Lake Erie",714,"R","7:00 pm EST ","Quicken Loans Arena Cleveland, OH"]
[null,null,null,null,null,null,null,null,null,null,null,null,null,null,1014180,"",null,1014180,"2015-02-12","Charlotte","Lake Erie",721,"R","7:00 pm EST ","Quicken Loans Arena Cleveland, OH"]
[null,null,null,null,null,null,null,null,null,null,null,null,null,null,1014214,"",null,1014214,"2015-02-16","Charlotte","Norfolk",755,"H","7:00 pm EST ","Time Warner Cable Arena Charlotte, NC"]
[null,null,null,null,null,null,null,null,null,null,null,null,null,null,1014219,"",null,1014219,"2015-02-18","Charlotte","Iowa",760,"H","7:00 pm EST ","Time Warner Cable Arena Charlotte, NC"]
[null,null,null,null,null,null,null,null,null,null,null,null,null,null,1014225,"",null,1014225,"2015-02-19","Charlotte","Iowa",766,"H","7:00 pm EST ","Time Warner Cable Arena Charlotte, NC"]
[null,null,null,null,null,null,null,null,null,null,null,null,null,null,1014259,"",null,1014259,"2015-02-22","Charlotte","Toronto",800,"R","3:00 pm EST ","Ricoh Coliseum Toronto, ON"]
[null,null,null,null,null,null,null,null,null,null,null,null,null,null,1014266,"",null,1014266,"2015-02-25","Charlotte","Toronto",807,"R","11:00 am EST ","Ricoh Coliseum Toronto, ON"]
[null,null,null,null,null,null,null,null,null,null,null,null,null,null,null,"N",null,1013645,"2014-11-12","Utica","Chicago",186,"H","7:00 pm EST ","Utica Memorial Auditorium Utica, NY"]
[null,null,null,null,null,null,null,null,null,null,null,null,null,null,1014282,"",null,1014282,"2015-02-28","Charlotte","Hamilton",823,"R","7:00 pm EST ","FirstOntario Centre Hamilton, ON"]
[null,null,null,null,null,null,null,null,null,null,null,null,null,null,1014301,"",null,1014301,"2015-03-04","Charlotte","San Antonio",842,"H","7:00 pm EST ","Time Warner Cable Arena Charlotte, NC"]
[null,null,null,null,null,null,null,null,null,null,null,null,null,null,1014307,"",null,1014307,"2015-03-05","Charlotte","San Antonio",848,"H","7:00 pm EST ","Time Warner Cable Arena Charlotte, NC"]
[null,null,null,null,null,null,null,null,null,null,null,null,null,null,1014332,"",null,1014332,"2015-03-08","Charlotte","Norfolk",873,"H","1:00 pm EDT ","Time Warner Cable Arena Charlotte, NC"]
[null,null,null,null,null,null,null,null,null,null,null,null,null,null,1014341,"",null,1014341,"2015-03-10","Charlotte","Grand Rapids",882,"H","7:00 pm EDT ","Time Warner Cable Arena Charlotte, NC"]
[null,null,null,null,null,null,null,null,null,null,null,null,null,null,1014350,"",null,1014350,"2015-03-12","Charlotte","Grand Rapids",891,"H","7:00 pm EDT ","Time Warner Cable Arena Charlotte, NC"]
[null,null,null,null,null,null,null,null,null,null,null,null,null,null,1014366,"",null,1014366,"2015-03-14","Charlotte","Oklahoma City",907,"R","7:00 pm CDT ","Cox Convention Center Oklahoma City, OK"]
[null,null,null,null,null,null,null,null,null,null,null,null,null,null,1014379,"",null,1014379,"2015-03-15","Charlotte","Oklahoma City",920,"R","4:00 pm CDT ","Cox Convention Center Oklahoma City, OK"]
[null,null,null,null,null,null,null,null,null,null,null,null,null,null,1014384,"",null,1014384,"2015-03-17","Charlotte","San Antonio",925,"R","7:00 pm CDT ","AT&T Center San Antonio, TX"]
[null,null,null,null,null,null,null,null,null,null,null,null,null,null,1014403,"",null,1014403,"2015-03-21","Charlotte","Iowa",944,"R","7:00 pm CDT ","Wells Fargo Arena Des Moines, IA"]
[null,null,null,null,null,null,null,null,null,null,null,null,null,null,1014419,"",null,1014419,"2015-03-22","Charlotte","Iowa",960,"R","3:00 pm CDT ","Wells Fargo Arena Des Moines, IA"]
[null,null,null,null,null,null,null,null,null,null,null,null,null,null,1014432,"",null,1014432,"2015-03-25","Charlotte","Norfolk",973,"R","7:15 pm EDT ","Norfolk Scope Norfolk, VA"]
[null,null,null,null,null,null,null,null,null,null,null,null,null,null,1014438,"",null,1014438,"2015-03-27","Charlotte","Lake Erie",979,"H","7:00 pm EDT ","Time Warner Cable Arena Charlotte, NC"]
[null,null,null,null,null,null,null,null,null,null,null,null,null,null,1014465,"",null,1014465,"2015-03-29","Charlotte","Lake Erie",1006,"H","1:00 pm EDT ","Time Warner Cable Arena Charlotte, NC"]
[null,null,null,null,null,null,null,null,null,null,null,null,null,null,1014482,"",null,1014482,"2015-04-02","Charlotte","Oklahoma City",1023,"H","7:00 pm EDT ","Time Warner Cable Arena Charlotte, NC"]
[null,null,null,null,null,null,null,null,null,null,null,null,null,null,null,"N",null,1014486,"2015-04-03","Charlotte","Oklahoma City",1027,"H","7:00 pm EDT ","Time Warner Cable Arena Charlotte, NC"]
[null,null,null,null,null,null,null,null,null,null,null,null,null,null,null,"N",null,1014537,"2015-04-11","Charlotte","Rockford",1078,"H","7:00 pm EDT ","Time Warner Cable Arena Charlotte, NC"]
[null,null,null,null,null,null,null,null,null,null,null,null,null,null,null,"N",null,1014550,"2015-04-12","Charlotte","Rockford",1091,"H","1:00 pm EDT ","Time Warner Cable Arena Charlotte, NC"]
[null,null,null,null,null,null,null,null,null,null,null,null,null,null,null,"N",null,1014562,"2015-04-15","Charlotte","Rockford",1103,"R","7:00 pm CDT ","BMO Harris Bank Center Rockford, IL"]
[null,null,null,null,null,null,null,null,null,null,null,null,null,null,null,"N",null,1014564,"2015-04-17","Charlotte","Grand Rapids",1105,"R","7:00 pm EDT ","Van Andel Arena Grand Rapids, MI"]
[null,null,null,null,null,null,null,null,null,null,null,null,null,null,null,"N",null,1014583,"2015-04-18","Charlotte","Grand Rapids",1124,"R","7:00 pm EDT ","Van Andel Arena Grand Rapids, MI"]
[null,null,null,null,null,null,null,null,null,null,null,null,null,null,1013468,"",null,1013468,"2014-10-11","Chicago","Charlotte",9,"H","7:00 pm CDT ","Allstate Arena Rosemont, IL"]
[null,null,null,null,null,null,null,null,null,null,null,null,null,null,1013480,"",null,1013480,"2014-10-12","Chicago","Charlotte",21,"H","4:00 pm CDT ","Allstate Arena Rosemont, IL"]
[null,null,null,null,null,null,null,null,null,null,null,null,null,null,1013489,"",null,1013489,"2014-10-17","Chicago","Lake Erie",30,"H","7:00 pm CDT ","Allstate Arena Rosemont, IL"]
[null,null,null,null,null,null,null,null,null,null,null,null,null,null,1013502,"",null,1013502,"2014-10-18","Chicago","Lake Erie",43,"H","7:00 pm CDT ","Allstate Arena Rosemont, IL"]
[null,null,null,null,null,null,null,null,null,null,null,null,null,null,1013524,"",null,1013524,"2014-10-24","Chicago","Milwaukee",65,"H","7:00 pm CDT ","Allstate Arena Rosemont, IL"]
[null,null,null,null,null,null,null,null,null,null,null,null,null,null,1013546,{"$f":"IF(O388=R388,\"\",\"N\")","v":""},null,1013546,"2014-10-25","Chicago","Rockford",87,"R","7:00 pm CDT ","BMO Harris Bank Center Rockford, IL"]
[null,null,null,null,null,null,null,null,null,null,null,null,null,null,1013568,"",null,1013568,"2014-10-31","Chicago","Grand Rapids",109,"R","7:00 pm EDT ","Van Andel Arena Grand Rapids, MI"]
[null,null,null,null,null,null,null,null,null,null,null,null,null,null,1013579,"",null,1013579,"1'1 - 1","Chicago","Milwaukee",120,"H","7:00 pm CDT ","Allstate Arena Rosemont, IL"]
[null,null,null,null,null,null,null,null,null,null,null,null,null,null,1013594,"",null,1013594,"1'1 - 2","Chicago","Milwaukee",135,"R","3:00 pm CST ","BMO Harris Bradley Center Milwaukee, WI"]
[null,null,null,null,null,null,null,null,null,null,null,null,null,null,1013600,"",null,1013600,"1'1 - 5","Chicago","Grand Rapids",141,"R","11:00 am EST ","Van Andel Arena Grand Rapids, MI"]
[null,null,null,null,null,null,null,null,null,null,null,null,null,null,1013622,"",null,1013622,"2014-11-08","Chicago","Iowa",163,"R","7:00 pm CST ","Wells Fargo Arena Des Moines, IA"]
[null,null,null,null,null,null,null,null,null,null,null,null,null,null,1013633,"",null,1013633,"2014-11-09","Chicago","Iowa",174,"R","3:00 pm CST ","Wells Fargo Arena Des Moines, IA"]
[null,null,null,null,null,null,null,null,null,null,null,null,null,null,1013645,"",null,1013645,"2014-11-12","Chicago","Utica",186,"R","7:00 pm EST ","Utica Memorial Auditorium Utica, NY"]
[null,null,null,null,null,null,null,null,null,null,null,null,null,null,1013659,"",null,1013659,"2014-11-14","Chicago","Utica",200,"R","7:00 pm EST ","Utica Memorial Auditorium Utica, NY"]
[null,null,null,null,null,null,null,null,null,null,null,null,null,null,1013671,"",null,1013671,"2014-11-15","Chicago","Rochester",212,"R","7:05 pm EST ","Blue Cross Arena Rochester, NY"]
[null,null,null,null,null,null,null,null,null,null,null,null,null,null,null,"N",null,1013652,"2014-11-14","Portland","Albany",193,"H","7:00 pm EST ","Cross Insurance Arena Portland, ME"]
[null,null,null,null,null,null,null,null,null,null,null,null,null,null,1013697,"",null,1013697,"2014-11-21","Chicago","Milwaukee",238,"R","7:00 pm CST ","BMO Harris Bradley Center Milwaukee, WI"]
[null,null,null,null,null,null,null,null,null,null,null,null,null,null,1013707,"",null,1013707,"2014-11-22","Chicago","Iowa",248,"H","7:00 pm CST ","Allstate Arena Rosemont, IL"]
[null,null,null,null,null,null,null,null,null,null,null,null,null,null,null,"N",null,1013670,"2014-11-15","Albany","Portland",211,"R","7:00 pm EST ","Cross Insurance Arena Portland, ME"]
[null,null,null,null,null,null,null,null,null,null,null,null,null,null,1013730,"",null,1013730,"2014-11-26","Chicago","Milwaukee",271,"R","7:00 pm CST ","BMO Harris Bradley Center Milwaukee, WI"]
[null,null,null,null,null,null,null,null,null,null,null,null,null,null,1013743,"",null,1013743,"2014-11-28","Chicago","Rockford",284,"R","7:00 pm CST ","BMO Harris Bank Center Rockford, IL"]
[null,null,null,null,null,null,null,null,null,null,null,null,null,null,1013753,"",null,1013753,"2014-11-29","Chicago","Rockford",294,"H","7:00 pm CST ","Allstate Arena Rosemont, IL"]
[null,null,null,null,null,null,null,null,null,null,null,null,null,null,1013771,"",null,1013771,"1'2 - 3","Chicago","Lake Erie",312,"R","7:00 pm EST ","Quicken Loans Arena Cleveland, OH"]
[null,null,null,null,null,null,null,null,null,null,null,null,null,null,1013778,"",null,1013778,"1'2 - 5","Chicago","Lake Erie",319,"R","7:30 pm EST ","Quicken Loans Arena Cleveland, OH"]
[null,null,null,null,null,null,null,null,null,null,null,null,null,null,1013808,"",null,1013808,"2014-12-07","Chicago","San Antonio",349,"R","4:00 pm CST ","AT&T Center San Antonio, TX"]
[null,null,null,null,null,null,null,null,null,null,null,null,null,null,1013811,"",null,1013811,"2014-12-09","Chicago","San Antonio",352,"R","7:00 pm CST ","AT&T Center San Antonio, TX"]
[null,null,null,null,null,null,null,null,null,null,null,null,null,null,1013857,"",null,1013857,"2014-12-17","Chicago","Adirondack",398,"H","11:00 am CST ","Allstate Arena Rosemont, IL"]
[null,null,null,null,null,null,null,null,null,null,null,null,null,null,1013878,"",null,1013878,"2014-12-20","Chicago","Iowa",419,"H","7:00 pm CST ","Allstate Arena Rosemont, IL"]
[null,null,null,null,null,null,null,null,null,null,null,null,null,null,1013892,"",null,1013892,"2014-12-21","Chicago","Iowa",433,"R","3:00 pm CST ","Wells Fargo Arena Des Moines, IA"]
[null,null,null,null,null,null,null,null,null,null,null,null,null,null,1013895,"",null,1013895,"2014-12-22","Chicago","Grand Rapids",436,"H","7:00 pm CST ","Allstate Arena Rosemont, IL"]
[null,null,null,null,null,null,null,null,null,null,null,null,null,null,1013900,"",null,1013900,"2014-12-26","Chicago","Milwaukee",441,"R","7:00 pm CST ","BMO Harris Bradley Center Milwaukee, WI"]
[null,null,null,null,null,null,null,null,null,null,null,null,null,null,1013923,"",null,1013923,"2014-12-28","Chicago","Rockford",464,"R","4:00 pm CST ","BMO Harris Bank Center Rockford, IL"]
[null,null,null,null,null,null,null,null,null,null,null,null,null,null,1013930,"",null,1013930,"2014-12-30","Chicago","Grand Rapids",471,"H","7:00 pm CST ","Allstate Arena Rosemont, IL"]
[null,null,null,null,null,null,null,null,null,null,null,null,null,null,1013946,"",null,1013946,"2015-01-02","Chicago","Hamilton",487,"H","7:00 pm CST ","Allstate Arena Rosemont, IL"]
[null,null,null,null,null,null,null,null,null,null,null,null,null,null,null,"N",null,1013674,"2014-11-15","Springfield","Worcester",215,"R","7:00 pm EST ","DCU Center Worcester, MA"]
[null,null,null,null,null,null,null,null,null,null,null,null,null,null,1013997,"",null,1013997,"2015-01-10","Chicago","Grand Rapids",538,"R","7:00 pm EST ","Van Andel Arena Grand Rapids, MI"]
[null,null,null,null,null,null,null,null,null,null,null,null,null,null,1014017,"",null,1014017,"2015-01-13","Chicago","Iowa",558,"R","7:00 pm CST ","Wells Fargo Arena Des Moines, IA"]
[null,null,null,null,null,null,null,null,null,null,null,null,null,null,1014028,"",null,1014028,"2015-01-16","Chicago","Lake Erie",569,"H","7:00 pm CST ","Allstate Arena Rosemont, IL"]
[null,null,null,null,null,null,null,null,null,null,null,null,null,null,1014040,"",null,1014040,"2015-01-17","Chicago","Rockford",581,"H","7:00 pm CST ","Allstate Arena Rosemont, IL"]
[null,null,null,null,null,null,null,null,null,null,null,null,null,null,1014058,"",null,1014058,"2015-01-19","Chicago","Rockford",599,"R","1:00 pm CST ","BMO Harris Bank Center Rockford, IL"]
[null,null,null,null,null,null,null,null,null,null,null,null,null,null,1014061,"",null,1014061,"2015-01-21","Chicago","Grand Rapids",602,"R","7:00 pm EST ","Van Andel Arena Grand Rapids, MI"]
[null,null,null,null,null,null,null,null,null,null,null,null,null,null,1014082,"",null,1014082,"2015-01-23","Chicago","Texas",623,"R","7:30 pm CST ","Cedar Park Center Cedar Park, TX"]
[null,null,null,null,null,null,null,null,null,null,null,null,null,null,1014095,"",null,1014095,"2015-01-24","Chicago","Texas",636,"R","7:00 pm CST ","Cedar Park Center Cedar Park, TX"]
[null,null,null,null,null,null,null,null,null,null,null,null,null,null,1014109,"",null,1014109,"2015-01-30","Chicago","Rockford",650,"R","7:00 pm CST ","BMO Harris Bank Center Rockford, IL"]
[null,null,null,null,null,null,null,null,null,null,null,null,null,null,1014118,"",null,1014118,"2015-01-31","Chicago","Rockford",659,"H","7:00 pm CST ","Allstate Arena Rosemont, IL"]
[null,null,null,null,null,null,null,null,null,null,null,null,null,null,1014129,"",null,1014129,"2015-02-03","Chicago","Rochester",670,"H","11:00 am CST ","Allstate Arena Rosemont, IL"]
[null,null,null,null,null,null,null,null,null,null,null,null,null,null,1014141,"",null,1014141,"2015-02-06","Chicago","Charlotte",682,"R","7:00 pm EST ","Time Warner Cable Arena Charlotte, NC"]
[null,null,null,null,null,null,null,null,null,null,null,null,null,null,1014154,"",null,1014154,"2015-02-07","Chicago","Charlotte",695,"R","7:00 pm EST ","Time Warner Cable Arena Charlotte, NC"]
[null,null,null,null,null,null,null,null,null,null,null,null,null,null,1014176,"",null,1014176,"2015-02-11","Chicago","Milwaukee",717,"H","7:00 pm CST ","Allstate Arena Rosemont, IL"]
[null,null,null,null,null,null,null,null,null,null,null,null,null,null,null,"N",null,1013674,"2014-11-15","Worcester","Springfield",215,"H","7:00 pm EST ","DCU Center Worcester, MA"]
[null,null,null,null,null,null,null,null,null,null,null,null,null,null,1014207,"",null,1014207,"2015-02-15","Chicago","Grand Rapids",748,"H","4:00 pm CST ","Allstate Arena Rosemont, IL"]
[null,null,null,null,null,null,null,null,null,null,null,null,null,null,1014237,"",null,1014237,"2015-02-21","Chicago","San Antonio",778,"H","7:00 pm CST ","Allstate Arena Rosemont, IL"]
[null,null,null,null,null,null,null,null,null,null,null,null,null,null,1014252,"",null,1014252,"2015-02-22","Chicago","San Antonio",793,"H","3:00 pm CST ","Allstate Arena Rosemont, IL"]
[null,null,null,null,null,null,null,null,null,null,null,null,null,null,null,"N",null,1013681,"2014-11-18","Chicago","Adirondack",222,"R","7:00 pm EST ","Glens Falls Civic Center Glens Falls, NY"]
[null,null,null,null,null,null,null,null,null,null,null,null,null,null,1014296,"",null,1014296,"2015-03-01","Chicago","Milwaukee",837,"H","3:00 pm CST ","Allstate Arena Rosemont, IL"]
[null,null,null,null,null,null,null,null,null,null,null,null,null,null,1014309,"",null,1014309,"2015-03-06","Chicago","Lake Erie",850,"R","7:30 pm EST ","Quicken Loans Arena Cleveland, OH"]
[null,null,null,null,null,null,null,null,null,null,null,null,null,null,null,"N",null,1013684,"2014-11-18","Toronto","St. John's",225,"R","7:30 pm NST ","Mile One Centre St. John's, NL"]
[null,null,null,null,null,null,null,null,null,null,null,null,null,null,1014344,"",null,1014344,"2015-03-11","Chicago","Utica",885,"H","7:00 pm CDT ","Allstate Arena Rosemont, IL"]
[null,null,null,null,null,null,null,null,null,null,null,null,null,null,null,"N",null,1013690,"2014-11-19","Portland","W-B/Scranton",231,"R","7:05 pm EST ","Mohegan Sun Arena at Casey Plaza Wilkes-Barre, PA"]
[null,null,null,null,null,null,null,null,null,null,null,null,null,null,1014376,"",null,1014376,"2015-03-15","Chicago","Rockford",917,"H","3:00 pm CDT ","Allstate Arena Rosemont, IL"]
[null,null,null,null,null,null,null,null,null,null,null,null,null,null,null,"N",null,1013696,"2014-11-21","Worcester","Lehigh Valley",237,"R","7:05 pm EST ","PPL Center Allentown, PA"]
[null,null,null,null,null,null,null,null,null,null,null,null,null,null,1014407,"",null,1014407,"2015-03-21","Chicago","Oklahoma City",948,"R","7:00 pm CDT ","Cox Convention Center Oklahoma City, OK"]
[null,null,null,null,null,null,null,null,null,null,null,null,null,null,1014422,"",null,1014422,"2015-03-22","Chicago","Oklahoma City",963,"R","4:00 pm CDT ","Cox Convention Center Oklahoma City, OK"]
[null,null,null,null,null,null,null,null,null,null,null,null,null,null,1014442,"",null,1014442,"2015-03-27","Chicago","Milwaukee",983,"R","7:00 pm CDT ","BMO Harris Bradley Center Milwaukee, WI"]
[null,null,null,null,null,null,null,null,null,null,null,null,null,null,1014452,"",null,1014452,"2015-03-28","Chicago","Milwaukee",993,"H","7:00 pm CDT ","Allstate Arena Rosemont, IL"]
[null,null,null,null,null,null,null,null,null,null,null,null,null,null,1014466,"",null,1014466,"2015-03-29","Chicago","Iowa",1007,"H","3:00 pm CDT ","Allstate Arena Rosemont, IL"]
[null,null,null,null,null,null,null,null,null,null,null,null,null,null,1014479,"",null,1014479,"2015-04-01","Chicago","Toronto",1020,"R","7:00 pm EDT ","Ricoh Coliseum Toronto, ON"]
[null,null,null,null,null,null,null,null,null,null,null,null,null,null,1014483,"",null,1014483,"2015-04-02","Chicago","Hamilton",1024,"R","7:30 pm EDT ","FirstOntario Centre Hamilton, ON"]
[null,null,null,null,null,null,null,null,null,null,null,null,null,null,null,"N",null,1014499,"2015-04-04","Chicago","Texas",1040,"H","7:00 pm CDT ","Allstate Arena Rosemont, IL"]
[null,null,null,null,null,null,null,null,null,null,null,null,null,null,null,{"$f":"IF(O452=R452,\"\",\"N\")","v":"N"},null,1014510,"2015-04-07","Chicago","Lake Erie",1051,"H","7:00 pm CDT ","Allstate Arena Rosemont, IL"]
[null,null,null,null,null,null,null,null,null,null,null,null,null,null,null,"N",null,1014526,"2015-04-10","Chicago","Milwaukee",1067,"R","7:00 pm CDT ","BMO Harris Bradley Center Milwaukee, WI"]
[null,null,null,null,null,null,null,null,null,null,null,null,null,null,null,"N",null,1014538,"2015-04-11","Chicago","Oklahoma City",1079,"H","7:00 pm CDT ","Allstate Arena Rosemont, IL"]
[null,null,null,null,null,null,null,null,null,null,null,null,null,null,null,"N",null,1014551,"2015-04-12","Chicago","Iowa",1092,"H","4:00 pm CDT ","Allstate Arena Rosemont, IL"]
[null,null,null,null,null,null,null,null,null,null,null,null,null,null,null,"N",null,1014574,"2015-04-17","Chicago","Rockford",1115,"R","7:00 pm CDT ","BMO Harris Bank Center Rockford, IL"]
[null,null,null,null,null,null,null,null,null,null,null,null,null,null,null,"N",null,1014582,"2015-04-18","Chicago","Milwaukee",1123,"H","7:00 pm CDT ","Allstate Arena Rosemont, IL"]
[null,null,null,null,null,null,null,null,null,null,null,null,null,null,null,"N",null,1014596,"2015-04-19","Chicago","Toronto",1137,"H","4:00 pm CDT ","Allstate Arena Rosemont, IL"]
[null,null,null,null,null,null,null,null,null,null,null,null,null,null,null,"N",null,1013706,"2014-11-22","Albany","Binghamton",247,"R","7:05 pm EST ","Floyd L. Maines Veterans Memorial Arena Binghamton, NY"]
[null,null,null,null,null,null,null,null,null,null,null,null,null,null,1013469,"",null,1013469,"2014-10-11","Grand Rapids","Lake Erie",10,"R","7:00 pm EDT ","Quicken Loans Arena Cleveland, OH"]
[null,null,null,null,null,null,null,null,null,null,null,null,null,null,1013488,"",null,1013488,"2014-10-17","Grand Rapids","Charlotte",29,"R","7:00 pm EDT ","Time Warner Cable Arena Charlotte, NC"]
[null,null,null,null,null,null,null,null,null,null,null,null,null,null,1013501,"",null,1013501,"2014-10-18","Grand Rapids","Charlotte",42,"R","7:00 pm EDT ","Time Warner Cable Arena Charlotte, NC"]
[null,null,null,null,null,null,null,null,null,null,null,null,null,null,1013525,"",null,1013525,"2014-10-24","Grand Rapids","Lake Erie",66,"H","7:00 pm EDT ","Van Andel Arena Grand Rapids, MI"]
[null,null,null,null,null,null,null,null,null,null,null,null,null,null,1013561,"",null,1013561,"2014-10-29","Grand Rapids","Rockford",102,"H","7:00 pm EDT ","Van Andel Arena Grand Rapids, MI"]
[null,null,null,null,null,null,null,null,null,null,null,null,null,null,1013568,"",null,1013568,"2014-10-31","Grand Rapids","Chicago",109,"H","7:00 pm EDT ","Van Andel Arena Grand Rapids, MI"]
[null,null,null,null,null,null,null,null,null,null,null,null,null,null,1013600,"",null,1013600,"1'1 - 5","Grand Rapids","Chicago",141,"H","11:00 am EST ","Van Andel Arena Grand Rapids, MI"]
[null,null,null,null,null,null,null,null,null,null,null,null,null,null,null,"N",null,1013710,"2014-11-22","Hershey","Worcester",251,"H","7:00 pm EST ","Giant Center Hershey, PA"]
[null,null,null,null,null,null,null,null,null,null,null,null,null,null,1013627,"",null,1013627,"2014-11-08","Grand Rapids","Rockford",168,"R","7:00 pm CST ","BMO Harris Bank Center Rockford, IL"]
[null,null,null,null,null,null,null,null,null,null,null,null,null,null,1013643,"",null,1013643,"2014-11-12","Grand Rapids","Lake Erie",184,"H","7:00 pm EST ","Van Andel Arena Grand Rapids, MI"]
[null,null,null,null,null,null,null,null,null,null,null,null,null,null,1013647,"",null,1013647,"2014-11-14","Grand Rapids","Texas",188,"H","7:00 pm EST ","Van Andel Arena Grand Rapids, MI"]
[null,null,null,null,null,null,null,null,null,null,null,null,null,null,1013663,"",null,1013663,"2014-11-15","Grand Rapids","Texas",204,"H","7:00 pm EST ","Van Andel Arena Grand Rapids, MI"]
[null,null,null,null,null,null,null,null,null,null,null,null,null,null,1013695,"",null,1013695,"2014-11-21","Grand Rapids","Lake Erie",236,"R","7:30 pm EST ","Quicken Loans Arena Cleveland, OH"]
[null,null,null,null,null,null,null,null,null,null,null,null,null,null,1013708,"",null,1013708,"2014-11-22","Grand Rapids","Lake Erie",249,"H","7:00 pm EST ","Van Andel Arena Grand Rapids, MI"]
[null,null,null,null,null,null,null,null,null,null,null,null,null,null,1013733,"",null,1013733,"2014-11-26","Grand Rapids","Rochester",274,"R","7:05 pm EST ","Blue Cross Arena Rochester, NY"]
[null,null,null,null,null,null,null,null,null,null,null,null,null,null,1013742,"",null,1013742,"2014-11-28","Grand Rapids","Rochester",283,"R","7:05 pm EST ","Blue Cross Arena Rochester, NY"]
[null,null,null,null,null,null,null,null,null,null,null,null,null,null,1013748,"",null,1013748,"2014-11-29","Grand Rapids","Adirondack",289,"R","7:00 pm EST ","Glens Falls Civic Center Glens Falls, NY"]
[null,null,null,null,null,null,null,null,null,null,null,null,null,null,1013770,"",null,1013770,"1'2 - 2","Grand Rapids","Toronto",311,"R","7:00 pm EST ","Ricoh Coliseum Toronto, ON"]
[null,null,null,null,null,null,null,null,null,null,null,null,null,null,1013775,"",null,1013775,"1'2 - 5","Grand Rapids","Oklahoma City",316,"H","7:00 pm EST ","Van Andel Arena Grand Rapids, MI"]
[null,null,null,null,null,null,null,null,null,null,null,null,null,null,1013794,"",null,1013794,"2014-12-06","Grand Rapids","Rockford",335,"R","7:00 pm CST ","BMO Harris Bank Center Rockford, IL"]
[null,null,null,null,null,null,null,null,null,null,null,null,null,null,1013805,"",null,1013805,"2014-12-07","Grand Rapids","Milwaukee",346,"R","3:00 pm CST ","BMO Harris Bradley Center Milwaukee, WI"]
[null,null,null,null,null,null,null,null,null,null,null,null,null,null,1013814,"",null,1013814,"2014-12-10","Grand Rapids","Lake Erie",355,"H","7:00 pm EST ","Van Andel Arena Grand Rapids, MI"]
[null,null,null,null,null,null,null,null,null,null,null,null,null,null,1013830,"",null,1013830,"2014-12-12","Grand Rapids","Oklahoma City",371,"R","7:00 pm CST ","Cox Convention Center Oklahoma City, OK"]
[null,null,null,null,null,null,null,null,null,null,null,null,null,null,1013840,"",null,1013840,"2014-12-13","Grand Rapids","Oklahoma City",381,"R","7:00 pm CST ","Cox Convention Center Oklahoma City, OK"]
[null,null,null,null,null,null,null,null,null,null,null,null,null,null,1013866,"",null,1013866,"2014-12-19","Grand Rapids","Toronto",407,"H","7:00 pm EST ","Van Andel Arena Grand Rapids, MI"]
[null,null,null,null,null,null,null,null,null,null,null,null,null,null,1013881,"",null,1013881,"2014-12-20","Grand Rapids","Lake Erie",422,"R","7:00 pm EST ","Quicken Loans Arena Cleveland, OH"]
[null,null,null,null,null,null,null,null,null,null,null,null,null,null,1013895,"",null,1013895,"2014-12-22","Grand Rapids","Chicago",436,"R","7:00 pm CST ","Allstate Arena Rosemont, IL"]
[null,null,null,null,null,null,null,null,null,null,null,null,null,null,1013909,"",null,1013909,"2014-12-27","Grand Rapids","Iowa",450,"H","7:00 pm EST ","Van Andel Arena Grand Rapids, MI"]
[null,null,null,null,null,null,null,null,null,null,null,null,null,null,1013930,"",null,1013930,"2014-12-30","Grand Rapids","Chicago",471,"R","7:00 pm CST ","Allstate Arena Rosemont, IL"]
[null,null,null,null,null,null,null,null,null,null,null,null,null,null,1013937,"",null,1013937,"2014-12-31","Grand Rapids","Rockford",478,"H","6:00 pm EST ","Van Andel Arena Grand Rapids, MI"]
[null,null,null,null,null,null,null,null,null,null,null,null,null,null,1013947,"",null,1013947,"2015-01-02","Grand Rapids","Milwaukee",488,"H","7:00 pm EST ","Van Andel Arena Grand Rapids, MI"]
[null,null,null,null,null,null,null,null,null,null,null,null,null,null,1013979,"",null,1013979,"2015-01-07","Grand Rapids","Charlotte",520,"H","7:00 pm EST ","Van Andel Arena Grand Rapids, MI"]
[null,null,null,null,null,null,null,null,null,null,null,null,null,null,1013986,"",null,1013986,"2015-01-09","Grand Rapids","Charlotte",527,"H","7:00 pm EST ","Van Andel Arena Grand Rapids, MI"]
[null,null,null,null,null,null,null,null,null,null,null,null,null,null,1013997,"",null,1013997,"2015-01-10","Grand Rapids","Chicago",538,"H","7:00 pm EST ","Van Andel Arena Grand Rapids, MI"]
[null,null,null,null,null,null,null,null,null,null,null,null,null,null,1014024,"",null,1014024,"2015-01-14","Grand Rapids","Utica",565,"R","7:00 pm EST ","Utica Memorial Auditorium Utica, NY"]
[null,null,null,null,null,null,null,null,null,null,null,null,null,null,1014029,"",null,1014029,"2015-01-16","Grand Rapids","Hamilton",570,"R","7:30 pm EST ","FirstOntario Centre Hamilton, ON"]
[null,null,null,null,null,null,null,null,null,null,null,null,null,null,1014041,"",null,1014041,"2015-01-17","Grand Rapids","Hamilton",582,"R","7:00 pm EST ","FirstOntario Centre Hamilton, ON"]
[null,null,null,null,null,null,null,null,null,null,null,null,null,null,1014061,"",null,1014061,"2015-01-21","Grand Rapids","Chicago",602,"H","7:00 pm EST ","Van Andel Arena Grand Rapids, MI"]
[null,null,null,null,null,null,null,null,null,null,null,null,null,null,1014073,"",null,1014073,"2015-01-23","Grand Rapids","Utica",614,"H","7:00 pm EST ","Van Andel Arena Grand Rapids, MI"]
[null,null,null,null,null,null,null,null,null,null,null,null,null,null,1014087,"",null,1014087,"2015-01-24","Grand Rapids","Iowa",628,"H","7:00 pm EST ","Van Andel Arena Grand Rapids, MI"]
[null,null,null,null,null,null,null,null,null,null,null,null,null,null,1014097,"",null,1014097,"2015-01-29","Grand Rapids","Iowa",638,"R","7:00 pm CST ","Wells Fargo Arena Des Moines, IA"]
[null,null,null,null,null,null,null,null,null,null,null,null,null,null,1014106,"",null,1014106,"2015-01-30","Grand Rapids","Milwaukee",647,"R","7:00 pm CST ","BMO Harris Bradley Center Milwaukee, WI"]
[null,null,null,null,null,null,null,null,null,null,null,null,null,null,null,"N",null,1013710,"2014-11-22","Worcester","Hershey",251,"R","7:00 pm EST ","Giant Center Hershey, PA"]
[null,null,null,null,null,null,null,null,null,null,null,null,null,null,1014137,"",null,1014137,"2015-02-04","Grand Rapids","Toronto",678,"R","11:00 am EST ","Ricoh Coliseum Toronto, ON"]
[null,null,null,null,null,null,null,null,null,null,null,null,null,null,1014142,"",null,1014142,"2015-02-06","Grand Rapids","Rochester",683,"H","7:00 pm EST ","Van Andel Arena Grand Rapids, MI"]
[null,null,null,null,null,null,null,null,null,null,null,null,null,null,1014155,"",null,1014155,"2015-02-07","Grand Rapids","Rochester",696,"H","7:00 pm EST ","Van Andel Arena Grand Rapids, MI"]
[null,null,null,null,null,null,null,null,null,null,null,null,null,null,1014183,"",null,1014183,"2015-02-13","Grand Rapids","San Antonio",724,"H","7:00 pm EST ","Van Andel Arena Grand Rapids, MI"]
[null,null,null,null,null,null,null,null,null,null,null,null,null,null,1014193,"",null,1014193,"2015-02-14","Grand Rapids","San Antonio",734,"H","7:00 pm EST ","Van Andel Arena Grand Rapids, MI"]
[null,null,null,null,null,null,null,null,null,null,null,null,null,null,1014207,"",null,1014207,"2015-02-15","Grand Rapids","Chicago",748,"R","4:00 pm CST ","Allstate Arena Rosemont, IL"]
[null,null,null,null,null,null,null,null,null,null,null,null,null,null,1014220,"",null,1014220,"2015-02-18","Grand Rapids","Milwaukee",761,"H","7:00 pm EST ","Van Andel Arena Grand Rapids, MI"]
[null,null,null,null,null,null,null,null,null,null,null,null,null,null,1014227,"",null,1014227,"2015-02-20","Grand Rapids","Hamilton",768,"H","7:00 pm EST ","Van Andel Arena Grand Rapids, MI"]
[null,null,null,null,null,null,null,null,null,null,null,null,null,null,1014238,"",null,1014238,"2015-02-21","Grand Rapids","Hamilton",779,"H","7:00 pm EST ","Van Andel Arena Grand Rapids, MI"]
[null,null,null,null,null,null,null,null,null,null,null,null,null,null,1014260,"",null,1014260,"2015-02-24","Grand Rapids","Iowa",801,"R","7:00 pm CST ","Wells Fargo Arena Des Moines, IA"]
[null,null,null,null,null,null,null,null,null,null,null,null,null,null,1014271,"",null,1014271,"2015-02-27","Grand Rapids","Milwaukee",812,"R","7:00 pm CST ","BMO Harris Bradley Center Milwaukee, WI"]
[null,null,null,null,null,null,null,null,null,null,null,null,null,null,1014281,"",null,1014281,"2015-02-28","Grand Rapids","Chicago",822,"R","7:00 pm CST ","Allstate Arena Rosemont, IL"]
[null,null,null,null,null,null,null,null,null,null,null,null,null,null,1014302,"",null,1014302,"2015-03-04","Grand Rapids","Oklahoma City",843,"H","7:00 pm EST ","Van Andel Arena Grand Rapids, MI"]
[null,null,null,null,null,null,null,null,null,null,null,null,null,null,1014312,{"$f":"IF(O516=R516,\"\",\"N\")","v":""},null,1014312,"2015-03-06","Grand Rapids","Milwaukee",853,"R","7:00 pm CST ","BMO Harris Bradley Center Milwaukee, WI"]
[null,null,null,null,null,null,null,null,null,null,null,null,null,null,1014326,"",null,1014326,"2015-03-07","Grand Rapids","Rockford",867,"R","7:00 pm CST ","BMO Harris Bank Center Rockford, IL"]
[null,null,null,null,null,null,null,null,null,null,null,null,null,null,1014341,"",null,1014341,"2015-03-10","Grand Rapids","Charlotte",882,"R","7:00 pm EDT ","Time Warner Cable Arena Charlotte, NC"]
[null,null,null,null,null,null,null,null,null,null,null,null,null,null,1014350,"",null,1014350,"2015-03-12","Grand Rapids","Charlotte",891,"R","7:00 pm EDT ","Time Warner Cable Arena Charlotte, NC"]
[null,null,null,null,null,null,null,null,null,null,null,null,null,null,1014365,"",null,1014365,"2015-03-14","Grand Rapids","Rockford",906,"H","8:00 pm EDT ","Van Andel Arena Grand Rapids, MI"]
[null,null,null,null,null,null,null,null,null,null,null,null,null,null,1014391,"",null,1014391,"2015-03-20","Grand Rapids","Milwaukee",932,"H","7:00 pm EDT ","Van Andel Arena Grand Rapids, MI"]
[null,null,null,null,null,null,null,null,null,null,null,null,null,null,1014404,"",null,1014404,"2015-03-21","Grand Rapids","Lake Erie",945,"R","7:00 pm EDT ","Quicken Loans Arena Cleveland, OH"]
[null,null,null,null,null,null,null,null,null,null,null,null,null,null,1014418,"",null,1014418,"2015-03-22","Grand Rapids","Adirondack",959,"H","4:00 pm EDT ","Van Andel Arena Grand Rapids, MI"]
[null,null,null,null,null,null,null,null,null,null,null,null,null,null,1014448,"",null,1014448,"2015-03-27","Grand Rapids","Texas",989,"R","7:30 pm CDT ","Cedar Park Center Cedar Park, TX"]
[null,null,null,null,null,null,null,null,null,null,null,null,null,null,1014460,"",null,1014460,"2015-03-28","Grand Rapids","Texas",1001,"R","7:00 pm CDT ","Cedar Park Center Cedar Park, TX"]
[null,null,null,null,null,null,null,null,null,null,null,null,null,null,1014473,"",null,1014473,"2015-04-01","Grand Rapids","Rockford",1014,"H","7:00 pm EDT ","Van Andel Arena Grand Rapids, MI"]
[null,null,null,null,null,null,null,null,null,null,null,null,null,null,null,"N",null,1014493,"2015-04-03","Grand Rapids","Rockford",1034,"R","7:00 pm CDT ","BMO Harris Bank Center Rockford, IL"]
[null,null,null,null,null,null,null,null,null,null,null,null,null,null,null,"N",null,1014500,"2015-04-04","Grand Rapids","Toronto",1041,"H","7:00 pm EDT ","Van Andel Arena Grand Rapids, MI"]
[null,null,null,null,null,null,null,null,null,null,null,null,null,null,null,"N",null,1014517,"2015-04-08","Grand Rapids","Milwaukee",1058,"H","7:00 pm EDT ","Van Andel Arena Grand Rapids, MI"]
[null,null,null,null,null,null,null,null,null,null,null,null,null,null,null,"N",null,1014529,"2015-04-10","Grand Rapids","San Antonio",1070,"R","7:30 pm CDT ","AT&T Center San Antonio, TX"]
[null,null,null,null,null,null,null,null,null,null,null,null,null,null,null,"N",null,1014542,"2015-04-11","Grand Rapids","San Antonio",1083,"R","7:00 pm CDT ","AT&T Center San Antonio, TX"]
[null,null,null,null,null,null,null,null,null,null,null,null,null,null,null,"N",null,1014563,"2015-04-16","Grand Rapids","Lake Erie",1104,"R","7:00 pm EDT ","Quicken Loans Arena Cleveland, OH"]
[null,null,null,null,null,null,null,null,null,null,null,null,null,null,null,"N",null,1014564,"2015-04-17","Grand Rapids","Charlotte",1105,"H","7:00 pm EDT ","Van Andel Arena Grand Rapids, MI"]
[null,null,null,null,null,null,null,null,null,null,null,null,null,null,null,"N",null,1014583,"2015-04-18","Grand Rapids","Charlotte",1124,"H","7:00 pm EDT ","Van Andel Arena Grand Rapids, MI"]
[null,null,null,null,null,null,null,null,null,null,null,null,null,null,1013472,"",null,1013472,"2014-10-11","Hamilton","Rochester",13,"R","7:05 pm EDT ","Blue Cross Arena Rochester, NY"]
[null,null,null,null,null,null,null,null,null,null,null,null,null,null,1013490,"",null,1013490,"2014-10-17","Hamilton","Toronto",31,"H","7:30 pm EDT ","FirstOntario Centre Hamilton, ON"]
[null,null,null,null,null,null,null,null,null,null,null,null,null,null,1013503,"",null,1013503,"2014-10-18","Hamilton","Rockford",44,"H","7:00 pm EDT ","FirstOntario Centre Hamilton, ON"]
[null,null,null,null,null,null,null,null,null,null,null,null,null,null,1013533,"",null,1013533,"2014-10-24","Hamilton","Toronto",74,"R","7:00 pm EDT ","Ricoh Coliseum Toronto, ON"]
[null,null,null,null,null,null,null,null,null,null,null,null,null,null,1013540,"",null,1013540,"2014-10-25","Hamilton","San Antonio",81,"H","7:00 pm EDT ","FirstOntario Centre Hamilton, ON"]
[null,null,null,null,null,null,null,null,null,null,null,null,null,null,1013551,"",null,1013551,"2014-10-26","Hamilton","San Antonio",92,"H","3:00 pm EDT ","FirstOntario Centre Hamilton, ON"]
[null,null,null,null,null,null,null,null,null,null,null,null,null,null,1013564,"",null,1013564,"2014-10-29","Hamilton","Rochester",105,"R","7:05 pm EDT *","First Niagara Center Buffalo, NY"]
[null,null,null,null,null,null,null,null,null,null,null,null,null,null,1013567,"",null,1013567,"2014-10-31","Hamilton","Charlotte",108,"R","12:00 pm EDT ","Time Warner Cable Arena Charlotte, NC"]
[null,null,null,null,null,null,null,null,null,null,null,null,null,null,1013591,"",null,1013591,"1'1 - 2","Hamilton","Charlotte",132,"R","1:00 pm EST ","Time Warner Cable Arena Charlotte, NC"]
[null,null,null,null,null,null,null,null,null,null,null,null,null,null,1013597,"",null,1013597,"1'1 - 4","Hamilton","Rochester",138,"H","10:15 am EST ","FirstOntario Centre Hamilton, ON"]
[null,null,null,null,null,null,null,null,null,null,null,null,null,null,1013607,"",null,1013607,"2014-11-07","Hamilton","Adirondack",148,"H","7:30 pm EST ","FirstOntario Centre Hamilton, ON"]
[null,null,null,null,null,null,null,null,null,null,null,null,null,null,1013620,"",null,1013620,"2014-11-08","Hamilton","Adirondack",161,"H","7:00 pm EST ","FirstOntario Centre Hamilton, ON"]
[null,null,null,null,null,null,null,null,null,null,null,null,null,null,1013646,"",null,1013646,"2014-11-13","Hamilton","St. John's",187,"R","7:30 pm NST ","Mile One Centre St. John's, NL"]
[null,null,null,null,null,null,null,null,null,null,null,null,null,null,1013657,"",null,1013657,"2014-11-14","Hamilton","St. John's",198,"R","7:30 pm NST ","Mile One Centre St. John's, NL"]
[null,null,null,null,null,null,null,null,null,null,null,null,null,null,1013676,"",null,1013676,"2014-11-16","Hamilton","Rochester",217,"H","3:00 pm EST ","FirstOntario Centre Hamilton, ON"]
[null,null,null,null,null,null,null,null,null,null,null,null,null,null,1013689,"",null,1013689,"2014-11-19","Hamilton","Utica",230,"R","7:00 pm EST ","Utica Memorial Auditorium Utica, NY"]
[null,null,null,null,null,null,null,null,null,null,null,null,null,null,1013694,"",null,1013694,"2014-11-21","Hamilton","Toronto",235,"H","7:30 pm EST ","FirstOntario Centre Hamilton, ON"]
[null,null,null,null,null,null,null,null,null,null,null,null,null,null,1013724,"",null,1013724,"2014-11-23","Hamilton","Toronto",265,"R","3:00 pm EST ","Ricoh Coliseum Toronto, ON"]
[null,null,null,null,null,null,null,null,null,null,null,null,null,null,1013739,"",null,1013739,"2014-11-28","Hamilton","Lake Erie",280,"R","7:30 pm EST ","Quicken Loans Arena Cleveland, OH"]
[null,null,null,null,null,null,null,null,null,null,null,null,null,null,1013754,"",null,1013754,"2014-11-29","Hamilton","Lake Erie",295,"H","7:00 pm EST ","FirstOntario Centre Hamilton, ON"]
[null,null,null,null,null,null,null,null,null,null,null,null,null,null,1013767,"",null,1013767,"1'2 - 2","Hamilton","Adirondack",308,"R","7:00 pm EST ","Glens Falls Civic Center Glens Falls, NY"]
[null,null,null,null,null,null,null,null,null,null,null,null,null,null,1013776,"",null,1013776,"1'2 - 5","Hamilton","Toronto",317,"H","7:30 pm EST ","FirstOntario Centre Hamilton, ON"]
[null,null,null,null,null,null,null,null,null,null,null,null,null,null,1013797,"",null,1013797,"2014-12-06","Hamilton","Toronto",338,"R","3:00 pm EST ","Ricoh Coliseum Toronto, ON"]
[null,null,null,null,null,null,null,null,null,null,null,null,null,null,1013801,"",null,1013801,"2014-12-07","Hamilton","Texas",342,"H","3:00 pm EST ","FirstOntario Centre Hamilton, ON"]
[null,null,null,null,null,null,null,null,null,null,null,null,null,null,1013813,"",null,1013813,"2014-12-10","Hamilton","Adirondack",354,"R","7:00 pm EST ","Glens Falls Civic Center Glens Falls, NY"]
[null,null,null,null,null,null,null,null,null,null,null,null,null,null,1013824,"",null,1013824,"2014-12-12","Hamilton","Rochester",365,"H","7:30 pm EST ","FirstOntario Centre Hamilton, ON"]
[null,null,null,null,null,null,null,null,null,null,null,null,null,null,1013842,"",null,1013842,"2014-12-13","Hamilton","Rochester",383,"R","7:35 pm EST ","Blue Cross Arena Rochester, NY"]
[null,null,null,null,null,null,null,null,null,null,null,null,null,null,1013858,"",null,1013858,"2014-12-17","Hamilton","St. John's",399,"H","7:30 pm EST ","FirstOntario Centre Hamilton, ON"]
[null,null,null,null,null,null,null,null,null,null,null,null,null,null,1013867,"",null,1013867,"2014-12-19","Hamilton","St. John's",408,"H","7:30 pm EST ","FirstOntario Centre Hamilton, ON"]
[null,null,null,null,null,null,null,null,null,null,null,null,null,null,1013891,"",null,1013891,"2014-12-21","Hamilton","Texas",432,"H","3:00 pm EST ","FirstOntario Centre Hamilton, ON"]
[null,null,null,null,null,null,null,null,null,null,null,null,null,null,null,"N",null,1013713,"2014-11-22","Charlotte","Oklahoma City",254,"R","7:00 pm CST ","Cox Convention Center Oklahoma City, OK"]
[null,null,null,null,null,null,null,null,null,null,null,null,null,null,null,"N",null,1013719,"2014-11-23","Chicago","Rockford",260,"H","4:00 pm CST ","Allstate Arena Rosemont, IL"]
[null,null,null,null,null,null,null,null,null,null,null,null,null,null,1013933,"",null,1013933,"2014-12-30","Hamilton","Rockford",474,"R","7:00 pm CST ","BMO Harris Bank Center Rockford, IL"]
[null,null,null,null,null,null,null,null,null,null,null,null,null,null,1013946,"",null,1013946,"2015-01-02","Hamilton","Chicago",487,"R","7:00 pm CST ","Allstate Arena Rosemont, IL"]
[null,null,null,null,null,null,null,null,null,null,null,null,null,null,1013965,"",null,1013965,"2015-01-03","Hamilton","Milwaukee",506,"R","7:00 pm CST ","BMO Harris Bradley Center Milwaukee, WI"]
[null,null,null,null,null,null,null,null,null,null,null,null,null,null,1013987,"",null,1013987,"2015-01-09","Hamilton","Utica",528,"H","7:30 pm EST ","FirstOntario Centre Hamilton, ON"]
[null,null,null,null,null,null,null,null,null,null,null,null,null,null,1013998,"",null,1013998,"2015-01-10","Hamilton","Lake Erie",539,"H","7:00 pm EST ","FirstOntario Centre Hamilton, ON"]
[null,null,null,null,null,null,null,null,null,null,null,null,null,null,null,"N",null,1013720,"2014-11-23","Hershey","St. John's",261,"H","5:00 pm EST ","Giant Center Hershey, PA"]
[null,null,null,null,null,null,null,null,null,null,null,null,null,null,1014021,"",null,1014021,"2015-01-14","Hamilton","Milwaukee",562,"H","7:30 pm EST ","FirstOntario Centre Hamilton, ON"]
[null,null,null,null,null,null,null,null,null,null,null,null,null,null,1014029,"",null,1014029,"2015-01-16","Hamilton","Grand Rapids",570,"H","7:30 pm EST ","FirstOntario Centre Hamilton, ON"]
[null,null,null,null,null,null,null,null,null,null,null,null,null,null,1014041,"",null,1014041,"2015-01-17","Hamilton","Grand Rapids",582,"H","7:00 pm EST ","FirstOntario Centre Hamilton, ON"]
[null,null,null,null,null,null,null,null,null,null,null,null,null,null,1014074,"",null,1014074,"2015-01-23","Hamilton","Toronto",615,"H","7:30 pm EST ","FirstOntario Centre Hamilton, ON"]
[null,null,null,null,null,null,null,null,null,null,null,null,null,null,1014096,"",null,1014096,"2015-01-24","Hamilton","Toronto",637,"R","3:00 pm EST ","Ricoh Coliseum Toronto, ON"]
[null,null,null,null,null,null,null,null,null,null,null,null,null,null,1014103,"",null,1014103,"2015-01-30","Hamilton","Iowa",644,"R","7:00 pm CST ","Wells Fargo Arena Des Moines, IA"]
[null,null,null,null,null,null,null,null,null,null,null,null,null,null,1014122,"",null,1014122,"2015-01-31","Hamilton","Iowa",663,"R","12:30 pm CST ","Wells Fargo Arena Des Moines, IA"]
[null,null,null,null,null,null,null,null,null,null,null,null,null,null,1014143,"",null,1014143,"2015-02-06","Hamilton","Iowa",684,"H","7:30 pm EST ","FirstOntario Centre Hamilton, ON"]
[null,null,null,null,null,null,null,null,null,null,null,null,null,null,1014157,{"$f":"IF(O581=R581,\"\",\"N\")","v":""},null,1014157,"2015-02-07","Hamilton","Lake Erie",698,"R","7:00 pm EST ","Quicken Loans Arena Cleveland, OH"]
[null,null,null,null,null,null,null,null,null,null,null,null,null,null,1014172,"",null,1014172,"2015-02-10","Hamilton","Iowa",713,"H","7:30 pm EST ","FirstOntario Centre Hamilton, ON"]
[null,null,null,null,null,null,null,null,null,null,null,null,null,null,1014184,"",null,1014184,"2015-02-13","Hamilton","Toronto",725,"H","7:30 pm EST ","FirstOntario Centre Hamilton, ON"]
[null,null,null,null,null,null,null,null,null,null,null,null,null,null,1014215,"",null,1014215,"2015-02-16","Hamilton","Utica",756,"H","1:00 pm EST ","FirstOntario Centre Hamilton, ON"]
[null,null,null,null,null,null,null,null,null,null,null,null,null,null,1014221,"",null,1014221,"2015-02-18","Hamilton","Rochester",762,"H","7:30 pm EST ","FirstOntario Centre Hamilton, ON"]
[null,null,null,null,null,null,null,null,null,null,null,null,null,null,1014227,"",null,1014227,"2015-02-20","Hamilton","Grand Rapids",768,"R","7:00 pm EST ","Van Andel Arena Grand Rapids, MI"]
[null,null,null,null,null,null,null,null,null,null,null,null,null,null,null,"N",null,1013723,"2014-11-23","Texas","San Antonio",264,"R","4:00 pm CST ","AT&T Center San Antonio, TX"]
[null,null,null,null,null,null,null,null,null,null,null,null,null,null,1014263,"",null,1014263,"2015-02-24","Hamilton","Utica",804,"R","7:00 pm EST ","Utica Memorial Auditorium Utica, NY"]
[null,null,null,null,null,null,null,null,null,null,null,null,null,null,1014268,"",null,1014268,"2015-02-27","Hamilton","Charlotte",809,"H","7:30 pm EST ","FirstOntario Centre Hamilton, ON"]
[null,null,null,null,null,null,null,null,null,null,null,null,null,null,1014282,"",null,1014282,"2015-02-28","Hamilton","Charlotte",823,"H","7:00 pm EST ","FirstOntario Centre Hamilton, ON"]
[null,null,null,null,null,null,null,null,null,null,null,null,null,null,1014300,"",null,1014300,"2015-03-01","Hamilton","Utica",841,"R","4:00 pm EST ","Utica Memorial Auditorium Utica, NY"]
[null,null,null,null,null,null,null,null,null,null,null,null,null,null,1014303,"",null,1014303,"2015-03-04","Hamilton","Adirondack",844,"H","7:30 pm EST ","FirstOntario Centre Hamilton, ON"]
[null,null,null,null,null,null,null,null,null,null,null,null,null,null,1014308,"",null,1014308,"2015-03-06","Hamilton","Rochester",849,"H","7:30 pm EST ","FirstOntario Centre Hamilton, ON"]
[null,null,null,null,null,null,null,null,null,null,null,null,null,null,1014321,"",null,1014321,"2015-03-07","Hamilton","Utica",862,"H","7:00 pm EST ","FirstOntario Centre Hamilton, ON"]
[null,null,null,null,null,null,null,null,null,null,null,null,null,null,1014340,"",null,1014340,"2015-03-10","Hamilton","Adirondack",881,"R","7:00 pm EDT ","Glens Falls Civic Center Glens Falls, NY"]
[null,null,null,null,null,null,null,null,null,null,null,null,null,null,1014355,"",null,1014355,"2015-03-13","Hamilton","Rochester",896,"R","7:05 pm EDT ","Blue Cross Arena Rochester, NY"]
[null,null,null,null,null,null,null,null,null,null,null,null,null,null,null,"N",null,1013732,"2014-11-26","Portland","Worcester",273,"H","7:00 pm EST ","Cross Insurance Arena Portland, ME"]
[null,null,null,null,null,null,null,null,null,null,null,null,null,null,1014410,"",null,1014410,"2015-03-21","Hamilton","San Antonio",951,"R","7:00 pm CDT ","AT&T Center San Antonio, TX"]
[null,null,null,null,null,null,null,null,null,null,null,null,null,null,1014426,"",null,1014426,"2015-03-22","Hamilton","San Antonio",967,"R","4:00 pm CDT ","AT&T Center San Antonio, TX"]
[null,null,null,null,null,null,null,null,null,null,null,null,null,null,1014429,"",null,1014429,"2015-03-25","Hamilton","Adirondack",970,"R","7:00 pm EDT ","Glens Falls Civic Center Glens Falls, NY"]
[null,null,null,null,null,null,null,null,null,null,null,null,null,null,1014445,"",null,1014445,"2015-03-27","Hamilton","Rochester",986,"R","7:05 pm EDT ","Blue Cross Arena Rochester, NY"]
[null,null,null,null,null,null,null,null,null,null,null,null,null,null,1014461,"",null,1014461,"2015-03-28","Hamilton","Toronto",1002,"R","3:00 pm EDT ","Ricoh Coliseum Toronto, ON"]
[null,null,null,null,null,null,null,null,null,null,null,null,null,null,1014483,"",null,1014483,"2015-04-02","Hamilton","Chicago",1024,"H","7:30 pm EDT ","FirstOntario Centre Hamilton, ON"]
[null,null,null,null,null,null,null,null,null,null,null,null,null,null,null,"N",null,1014501,"2015-04-04","Hamilton","Utica",1042,"H","7:00 pm EDT ","FirstOntario Centre Hamilton, ON"]
[null,null,null,null,null,null,null,null,null,null,null,null,null,null,null,"N",null,1014516,"2015-04-07","Hamilton","Utica",1057,"R","7:00 pm EDT ","Utica Memorial Auditorium Utica, NY"]
[null,null,null,null,null,null,null,null,null,null,null,null,null,null,null,"N",null,1014532,"2015-04-10","Hamilton","Texas",1073,"R","7:30 pm CDT ","Cedar Park Center Cedar Park, TX"]
[null,null,null,null,null,null,null,null,null,null,null,null,null,null,null,"N",null,1014545,"2015-04-11","Hamilton","Texas",1086,"R","7:00 pm CDT ","Cedar Park Center Cedar Park, TX"]
[null,null,null,null,null,null,null,null,null,null,null,null,null,null,null,"N",null,1014558,"2015-04-14","Hamilton","Oklahoma City",1099,"R","7:00 pm CDT ","Cox Convention Center Oklahoma City, OK"]
[null,null,null,null,null,null,null,null,null,null,null,null,null,null,null,"N",null,1014567,"2015-04-17","Hamilton","Lake Erie",1108,"R","7:30 pm EDT ","Quicken Loans Arena Cleveland, OH"]
[null,null,null,null,null,null,null,null,null,null,null,null,null,null,null,"N",null,1014584,"2015-04-18","Hamilton","Lake Erie",1125,"H","7:00 pm EDT ","FirstOntario Centre Hamilton, ON"]
[null,null,null,null,null,null,null,null,null,null,null,null,null,null,1013481,"",null,1013481,"2014-10-12","Hartford","Syracuse",22,"R","5:00 pm EDT ","Onondaga County War Memorial Arena Syracuse, NY"]
[null,null,null,null,null,null,null,null,null,null,null,null,null,null,1013504,"",null,1013504,"2014-10-18","Hartford","Portland",45,"H","7:00 pm EDT ","XL Center Hartford, CT"]
[null,null,null,null,null,null,null,null,null,null,null,null,null,null,null,"N",null,1013732,"2014-11-26","Worcester","Portland",273,"R","7:00 pm EST ","Cross Insurance Arena Portland, ME"]
[null,null,null,null,null,null,null,null,null,null,null,null,null,null,1013520,"",null,1013520,"2014-10-21","Hartford","Worcester",61,"R","7:00 pm EDT ","DCU Center Worcester, MA"]
[null,null,null,null,null,null,null,null,null,null,null,null,null,null,1013526,"",null,1013526,"2014-10-24","Hartford","Albany",67,"H","7:00 pm EDT ","XL Center Hartford, CT"]
[null,null,null,null,null,null,null,null,null,null,null,null,null,null,1013538,"",null,1013538,"2014-10-25","Hartford","Albany",79,"R","5:00 pm EDT ","Times Union Center Albany, NY"]
[null,null,null,null,null,null,null,null,null,null,null,null,null,null,1013552,"",null,1013552,"2014-10-26","Hartford","Norfolk",93,"H","3:00 pm EDT ","XL Center Hartford, CT"]
[null,null,null,null,null,null,null,null,null,null,null,null,null,null,1013581,"",null,1013581,"1'1 - 1","Hartford","Lehigh Valley",122,"R","7:05 pm EDT ","PPL Center Allentown, PA"]
[null,null,null,null,null,null,null,null,null,null,null,null,null,null,1013592,"",null,1013592,"1'1 - 2","Hartford","Worcester",133,"H","3:00 pm EST ","XL Center Hartford, CT"]
[null,null,null,null,null,null,null,null,null,null,null,null,null,null,1013601,"",null,1013601,"1'1 - 5","Hartford","Albany",142,"H","11:00 am EST ","XL Center Hartford, CT"]
[null,null,null,null,null,null,null,null,null,null,null,null,null,null,1013621,"",null,1013621,"2014-11-08","Hartford","Hershey",162,"R","7:00 pm EST ","Giant Center Hershey, PA"]
[null,null,null,null,null,null,null,null,null,null,null,null,null,null,1013632,"",null,1013632,"2014-11-09","Hartford","Hershey",173,"R","5:00 pm EST ","Giant Center Hershey, PA"]
[null,null,null,null,null,null,null,null,null,null,null,null,null,null,1013648,"",null,1013648,"2014-11-14","Hartford","Bridgeport",189,"H","7:00 pm EST ","XL Center Hartford, CT"]
[null,null,null,null,null,null,null,null,null,null,null,null,null,null,1013662,"",null,1013662,"2014-11-15","Hartford","Bridgeport",203,"R","7:00 pm EST ","Webster Bank Arena Bridgeport, CT"]
[null,null,null,null,null,null,null,null,null,null,null,null,null,null,1013677,"",null,1013677,"2014-11-16","Hartford","Manchester",218,"H","3:00 pm EST ","XL Center Hartford, CT"]
[null,null,null,null,null,null,null,null,null,null,null,null,null,null,1013685,"",null,1013685,"2014-11-19","Hartford","Syracuse",226,"H","7:00 pm EST ","XL Center Hartford, CT"]
[null,null,null,null,null,null,null,null,null,null,null,null,null,null,1013700,"",null,1013700,"2014-11-21","Hartford","Providence",241,"R","7:05 pm EST ","Dunkin' Donuts Center Providence, RI"]
[null,null,null,null,null,null,null,null,null,null,null,null,null,null,1013709,"",null,1013709,"2014-11-22","Hartford","Bridgeport",250,"H","7:30 pm EST ","XL Center Hartford, CT"]
[null,null,null,null,null,null,null,null,null,null,null,null,null,null,1013726,"",null,1013726,"2014-11-26","Hartford","Albany",267,"R","7:00 pm EST ","Times Union Center Albany, NY"]
[null,null,null,null,null,null,null,null,null,null,null,null,null,null,null,"N",null,1013738,"2014-11-28","Hartford","Norfolk",279,"H","7:00 pm EST ","XL Center Hartford, CT"]
[null,null,null,null,null,null,null,null,null,null,null,null,null,null,1013751,"",null,1013751,"2014-11-29","Hartford","Bridgeport",292,"R","7:00 pm EST ","Webster Bank Arena Bridgeport, CT"]
[null,null,null,null,null,null,null,null,null,null,null,null,null,null,1013785,"",null,1013785,"1'2 - 5","Hartford","Syracuse",326,"R","7:00 pm EST ","Onondaga County War Memorial Arena Syracuse, NY"]
[null,null,null,null,null,null,null,null,null,null,null,null,null,null,null,"N",null,1013760,"2014-11-29","St. John's","W-B/Scranton",301,"R","7:05 pm EST ","Mohegan Sun Arena at Casey Plaza Wilkes-Barre, PA"]
[null,null,null,null,null,null,null,null,null,null,null,null,null,null,1013802,"",null,1013802,"2014-12-07","Hartford","Binghamton",343,"H","3:00 pm EST ","XL Center Hartford, CT"]
[null,null,null,null,null,null,null,null,null,null,null,null,null,null,1013821,"",null,1013821,"2014-12-11","Hartford","Albany",362,"H","7:00 pm EST ","XL Center Hartford, CT"]
[null,null,null,null,null,null,null,null,null,null,null,null,null,null,1013825,"",null,1013825,"2014-12-12","Hartford","Worcester",366,"H","7:00 pm EST ","XL Center Hartford, CT"]
[null,null,null,null,null,null,null,null,null,null,null,null,null,null,1013848,"",null,1013848,"2014-12-14","Hartford","Bridgeport",389,"R","3:00 pm EST ","Webster Bank Arena Bridgeport, CT"]
[null,null,null,null,null,null,null,null,null,null,null,null,null,null,null,"N",null,1013760,"2014-11-29","W-B/Scranton","St. John's",301,"H","7:05 pm EST ","Mohegan Sun Arena at Casey Plaza Wilkes-Barre, PA"]
[null,null,null,null,null,null,null,null,null,null,null,null,null,null,1013879,"",null,1013879,"2014-12-20","Hartford","Lehigh Valley",420,"H","5:00 pm EST ","XL Center Hartford, CT"]
[null,null,null,null,null,null,null,null,null,null,null,null,null,null,1013898,"",null,1013898,"2014-12-26","Hartford","Springfield",439,"H","7:00 pm EST ","XL Center Hartford, CT"]
[null,null,null,null,null,null,null,null,null,null,null,null,null,null,1013911,"",null,1013911,"2014-12-27","Hartford","Portland",452,"H","7:00 pm EST ","XL Center Hartford, CT"]
[null,null,null,null,null,null,null,null,null,null,null,null,null,null,1013940,"",null,1013940,"2014-12-31","Hartford","Portland",481,"R","7:00 pm EST ","Cross Insurance Arena Portland, ME"]
[null,null,null,null,null,null,null,null,null,null,null,null,null,null,1013948,"",null,1013948,"2015-01-02","Hartford","St. John's",489,"H","7:00 pm EST ","XL Center Hartford, CT"]
[null,null,null,null,null,null,null,null,null,null,null,null,null,null,1013962,"",null,1013962,"2015-01-03","Hartford","St. John's",503,"H","7:00 pm EST ","XL Center Hartford, CT"]
[null,null,null,null,null,null,null,null,null,null,null,null,null,null,1013988,{"$f":"IF(O645=R645,\"\",\"N\")","v":""},null,1013988,"2015-01-09","Hartford","Syracuse",529,"H","7:00 pm EST ","XL Center Hartford, CT"]
[null,null,null,null,null,null,null,null,null,null,null,null,null,null,1014004,"",null,1014004,"2015-01-10","Hartford","Springfield",545,"R","7:00 pm EST ","MassMutual Center Springfield, MA"]
[null,null,null,null,null,null,null,null,null,null,null,null,null,null,1014011,"",null,1014011,"2015-01-11","Hartford","Bridgeport",552,"H","3:00 pm EST ","XL Center Hartford, CT"]
[null,null,null,null,null,null,null,null,null,null,null,null,null,null,1014031,"",null,1014031,"2015-01-16","Hartford","Norfolk",572,"R","7:30 pm EST ","Norfolk Scope Norfolk, VA"]
[null,null,null,null,null,null,null,null,null,null,null,null,null,null,1014046,"",null,1014046,"2015-01-17","Hartford","Norfolk",587,"R","7:15 pm EST ","Norfolk Scope Norfolk, VA"]
[null,null,null,null,null,null,null,null,null,null,null,null,null,null,null,"N",null,1013762,"2014-11-30","Providence","Bridgeport",303,"R","3:00 pm EST ","Webster Bank Arena Bridgeport, CT"]
[null,null,null,null,null,null,null,null,null,null,null,null,null,null,1014075,"",null,1014075,"2015-01-23","Hartford","Springfield",616,"H","7:00 pm EST ","XL Center Hartford, CT"]
[null,null,null,null,null,null,null,null,null,null,null,null,null,null,1014094,"",null,1014094,"2015-01-24","Hartford","Syracuse",635,"R","7:00 pm EST ","Onondaga County War Memorial Arena Syracuse, NY"]
[null,null,null,null,null,null,null,null,null,null,null,null,null,null,1014102,"",null,1014102,"2015-01-30","Hartford","Bridgeport",643,"H","7:00 pm EST ","XL Center Hartford, CT"]
[null,null,null,null,null,null,null,null,null,null,null,null,null,null,1014120,"",null,1014120,"2015-01-31","Hartford","Springfield",661,"H","7:00 pm EST ","XL Center Hartford, CT"]
[null,null,null,null,null,null,null,null,null,null,null,null,null,null,1014136,"",null,1014136,"2015-02-04","Hartford","Syracuse",677,"R","7:00 pm EST ","Onondaga County War Memorial Arena Syracuse, NY"]
[null,null,null,null,null,null,null,null,null,null,null,null,null,null,1014153,"",null,1014153,"2015-02-07","Hartford","Bridgeport",694,"R","7:00 pm EST ","Webster Bank Arena Bridgeport, CT"]
[null,null,null,null,null,null,null,null,null,null,null,null,null,null,null,"N",null,1013764,"2014-11-30","Hershey","St. John's",305,"H","5:00 pm EST ","Giant Center Hershey, PA"]
[null,null,null,null,null,null,null,null,null,null,null,null,null,null,1014177,"",null,1014177,"2015-02-11","Hartford","St. John's",718,"R","7:30 pm NST ","Mile One Centre St. John's, NL"]
[null,null,null,null,null,null,null,null,null,null,null,null,null,null,1014194,"",null,1014194,"2015-02-14","Hartford","Albany",735,"H","7:30 pm EST ","XL Center Hartford, CT"]
[null,null,null,null,null,null,null,null,null,null,null,null,null,null,1014204,"",null,1014204,"2015-02-15","Hartford","Albany",745,"R","3:00 pm EST ","Times Union Center Albany, NY"]
[null,null,null,null,null,null,null,null,null,null,null,null,null,null,1014218,"",null,1014218,"2015-02-17","Hartford","Portland",759,"R","7:00 pm EST ","Cross Insurance Arena Portland, ME"]
[null,null,null,null,null,null,null,null,null,null,null,null,null,null,1014233,"",null,1014233,"2015-02-20","Hartford","Springfield",774,"R","7:00 pm EST ","MassMutual Center Springfield, MA"]
[null,null,null,null,null,null,null,null,null,null,null,null,null,null,1014241,"",null,1014241,"2015-02-21","Hartford","Lehigh Valley",782,"R","7:05 pm EST ","PPL Center Allentown, PA"]
[null,null,null,null,null,null,null,null,null,null,null,null,null,null,1014253,"",null,1014253,"2015-02-22","Hartford","W-B/Scranton",794,"H","3:00 pm EST ","XL Center Hartford, CT"]
[null,null,null,null,null,null,null,null,null,null,null,null,null,null,1014270,"",null,1014270,"2015-02-27","Hartford","Manchester",811,"R","7:00 pm EST ","Verizon Wireless Arena Manchester, NH"]
[null,null,null,null,null,null,null,null,null,null,null,null,null,null,1014283,"",null,1014283,"2015-02-28","Hartford","W-B/Scranton",824,"H","7:00 pm EST ","XL Center Hartford, CT"]
[null,null,null,null,null,null,null,null,null,null,null,null,null,null,1014320,"",null,1014320,"2015-03-06","Hartford","Worcester",861,"R","7:30 pm EST ","DCU Center Worcester, MA"]
[null,null,null,null,null,null,null,null,null,null,null,null,null,null,1014322,"",null,1014322,"2015-03-07","Hartford","Hershey",863,"H","7:00 pm EST ","XL Center Hartford, CT"]
[null,null,null,null,null,null,null,null,null,null,null,null,null,null,1014335,"",null,1014335,"2015-03-08","Hartford","Manchester",876,"R","3:00 pm EDT ","Verizon Wireless Arena Manchester, NH"]
[null,null,null,null,null,null,null,null,null,null,null,null,null,null,1014357,"",null,1014357,"2015-03-13","Hartford","Springfield",898,"R","7:00 pm EDT ","MassMutual Center Springfield, MA"]
[null,null,null,null,null,null,null,null,null,null,null,null,null,null,1014362,"",null,1014362,"2015-03-14","Hartford","Binghamton",903,"R","7:05 pm EDT ","Floyd L. Maines Veterans Memorial Arena Binghamton, NY"]
[null,null,null,null,null,null,null,null,null,null,null,null,null,null,1014382,"",null,1014382,"2015-03-15","Hartford","W-B/Scranton",923,"R","4:05 pm EDT ","Mohegan Sun Arena at Casey Plaza Wilkes-Barre, PA"]
[null,null,null,null,null,null,null,null,null,null,null,null,null,null,1014392,"",null,1014392,"2015-03-20","Hartford","Lehigh Valley",933,"H","7:00 pm EDT ","XL Center Hartford, CT"]
[null,null,null,null,null,null,null,null,null,null,null,null,null,null,1014411,"",null,1014411,"2015-03-21","Hartford","Springfield",952,"R","7:00 pm EDT ","MassMutual Center Springfield, MA"]
[null,null,null,null,null,null,null,null,null,null,null,null,null,null,1014416,"",null,1014416,"2015-03-22","Hartford","Albany",957,"R","3:00 pm EDT ","Times Union Center Albany, NY"]
[null,null,null,null,null,null,null,null,null,null,null,null,null,null,1014439,"",null,1014439,"2015-03-27","Hartford","Providence",980,"H","7:00 pm EDT ","XL Center Hartford, CT"]
[null,null,null,null,null,null,null,null,null,null,null,null,null,null,1014458,"",null,1014458,"2015-03-28","Hartford","Springfield",999,"R","7:00 pm EDT ","MassMutual Center Springfield, MA"]
[null,null,null,null,null,null,null,null,null,null,null,null,null,null,1014481,"",null,1014481,"2015-04-01","Hartford","W-B/Scranton",1022,"R","7:05 pm EDT ","Mohegan Sun Arena at Casey Plaza Wilkes-Barre, PA"]
[null,null,null,null,null,null,null,null,null,null,null,null,null,null,null,"N",null,1014487,"2015-04-03","Hartford","Syracuse",1028,"H","7:00 pm EDT ","XL Center Hartford, CT"]
[null,null,null,null,null,null,null,null,null,null,null,null,null,null,null,"N",null,1014502,"2015-04-04","Hartford","Manchester",1043,"H","7:00 pm EDT ","XL Center Hartford, CT"]
[null,null,null,null,null,null,null,null,null,null,null,null,null,null,null,"N",null,1014522,"2015-04-10","Hartford","Springfield",1063,"H","7:00 pm EDT ","XL Center Hartford, CT"]
[null,null,null,null,null,null,null,null,null,null,null,null,null,null,null,"N",null,1014539,"2015-04-11","Hartford","Albany",1080,"H","7:00 pm EDT ","XL Center Hartford, CT"]
[null,null,null,null,null,null,null,null,null,null,null,null,null,null,null,"N",null,1014553,"2015-04-12","Hartford","Providence",1094,"R","3:05 pm EDT ","Dunkin' Donuts Center Providence, RI"]
[null,null,null,null,null,null,null,null,null,null,null,null,null,null,null,"N",null,1014565,"2015-04-17","Hartford","Bridgeport",1106,"H","7:00 pm EDT ","XL Center Hartford, CT"]
[null,null,null,null,null,null,null,null,null,null,null,null,null,null,null,"N",null,1014580,"2015-04-18","Hartford","Albany",1121,"R","5:00 pm EDT ","Times Union Center Albany, NY"]
[null,null,null,null,null,null,null,null,null,null,null,null,null,null,"HER","N",null,1014595,"2015-04-19","Hartford","Bridgeport",1136,"R","3:00 pm EDT ","Webster Bank Arena Bridgeport, CT"]
[null,null,null,null,null,null,null,null,null,null,null,null,null,null,1013470,"",null,1013470,"2014-10-11","Hershey","Norfolk",11,"R","7:15 pm EDT ","Norfolk Scope Norfolk, VA"]
[null,null,null,null,null,null,null,null,null,null,null,null,null,null,1013484,"",null,1013484,"2014-10-13","Hershey","Norfolk",25,"R","6:05 pm EDT ","Norfolk Scope Norfolk, VA"]
[null,null,null,null,null,null,null,null,null,null,null,null,null,null,1013508,"",null,1013508,"2014-10-18","Hershey","Springfield",49,"R","7:00 pm EDT ","MassMutual Center Springfield, MA"]
[null,null,null,null,null,null,null,null,null,null,null,null,null,null,null,"N",null,1013764,"2014-11-30","St. John's","Hershey",305,"R","5:00 pm EST ","Giant Center Hershey, PA"]
[null,null,null,null,null,null,null,null,null,null,null,null,null,null,1013528,"",null,1013528,"2014-10-24","Hershey","Lehigh Valley",69,"R","7:05 pm EDT ","PPL Center Allentown, PA"]
[null,null,null,null,null,null,null,null,null,null,null,null,null,null,1013541,"",null,1013541,"2014-10-25","Hershey","W-B/Scranton",82,"H","7:00 pm EDT ","Giant Center Hershey, PA"]
[null,null,null,null,null,null,null,null,null,null,null,null,null,null,1013553,"",null,1013553,"2014-10-26","Hershey","Lehigh Valley",94,"H","5:00 pm EDT ","Giant Center Hershey, PA"]
[null,null,null,null,null,null,null,null,null,null,null,null,null,null,1013570,"",null,1013570,"2014-10-31","Hershey","Manchester",111,"R","7:00 pm EDT ","Verizon Wireless Arena Manchester, NH"]
[null,null,null,null,null,null,null,null,null,null,null,null,null,null,1013588,"",null,1013588,"1'1 - 1","Hershey","Worcester",129,"R","7:00 pm EDT ","DCU Center Worcester, MA"]
[null,null,null,null,null,null,null,null,null,null,null,null,null,null,1013593,"",null,1013593,"1'1 - 2","Hershey","Manchester",134,"R","3:00 pm EST ","Verizon Wireless Arena Manchester, NH"]
[null,null,null,null,null,null,null,null,null,null,null,null,null,null,1013616,"",null,1013616,"2014-11-07","Hershey","W-B/Scranton",157,"R","7:05 pm EST ","Mohegan Sun Arena at Casey Plaza Wilkes-Barre, PA"]
[null,null,null,null,null,null,null,null,null,null,null,null,null,null,1013621,"",null,1013621,"2014-11-08","Hershey","Hartford",162,"H","7:00 pm EST ","Giant Center Hershey, PA"]
[null,null,null,null,null,null,null,null,null,null,null,null,null,null,1013632,"",null,1013632,"2014-11-09","Hershey","Hartford",173,"H","5:00 pm EST ","Giant Center Hershey, PA"]
[null,null,null,null,null,null,null,null,null,null,null,null,null,null,1013658,"",null,1013658,"2014-11-14","Hershey","Syracuse",199,"R","7:00 pm EST ","Onondaga County War Memorial Arena Syracuse, NY"]
[null,null,null,null,null,null,null,null,null,null,null,null,null,null,1013678,"",null,1013678,"2014-11-16","Hershey","W-B/Scranton",219,"H","5:00 pm EST ","Giant Center Hershey, PA"]
[null,null,null,null,null,null,null,null,null,null,null,null,null,null,1013686,"",null,1013686,"2014-11-19","Hershey","Lehigh Valley",227,"R","7:05 pm EST ","PPL Center Allentown, PA"]
[null,null,null,null,null,null,null,null,null,null,null,null,null,null,null,"N",null,1013769,"1'2 - 2","Oklahoma City","Utica",310,"H","7:00 pm CST ","Cox Convention Center Oklahoma City, OK"]
[null,null,null,null,null,null,null,null,null,null,null,null,null,null,null,"N",null,1013769,"1'2 - 2","Utica","Oklahoma City",310,"R","7:00 pm CST ","Cox Convention Center Oklahoma City, OK"]
[null,null,null,null,null,null,null,null,null,null,null,null,null,null,1013728,"",null,1013728,"2014-11-26","Hershey","W-B/Scranton",269,"H","7:00 pm EST ","Giant Center Hershey, PA"]
[null,null,null,null,null,null,null,null,null,null,null,null,null,null,1013755,"",null,1013755,"2014-11-29","Hershey","Syracuse",296,"H","7:00 pm EST ","Giant Center Hershey, PA"]
[null,null,null,null,null,null,null,null,null,null,null,null,null,null,null,"N",null,1013773,"1'2 - 4","Milwaukee","Rockford",314,"H","7:00 pm CST ","BMO Harris Bradley Center Milwaukee, WI"]
[null,null,null,null,null,null,null,null,null,null,null,null,null,null,1013777,"",null,1013777,"1'2 - 5","Hershey","Bridgeport",318,"H","7:00 pm EST ","Giant Center Hershey, PA"]
[null,null,null,null,null,null,null,null,null,null,null,null,null,null,1013798,{"$f":"IF(O709=R709,\"\",\"N\")","v":""},null,1013798,"2014-12-06","Hershey","W-B/Scranton",339,"R","7:05 pm EST ","Mohegan Sun Arena at Casey Plaza Wilkes-Barre, PA"]
[null,null,null,null,null,null,null,null,null,null,null,null,null,null,1013803,"",null,1013803,"2014-12-07","Hershey","W-B/Scranton",344,"H","5:00 pm EST ","Giant Center Hershey, PA"]
[null,null,null,null,null,null,null,null,null,null,null,null,null,null,1013832,"",null,1013832,"2014-12-12","Hershey","Syracuse",373,"R","7:00 pm EST ","Onondaga County War Memorial Arena Syracuse, NY"]
[null,null,null,null,null,null,null,null,null,null,null,null,null,null,1013836,"",null,1013836,"2014-12-13","Hershey","Binghamton",377,"H","7:00 pm EST ","Giant Center Hershey, PA"]
[null,null,null,null,null,null,null,null,null,null,null,null,null,null,1013852,"",null,1013852,"2014-12-14","Hershey","W-B/Scranton",393,"R","4:05 pm EST ","Mohegan Sun Arena at Casey Plaza Wilkes-Barre, PA"]
[null,null,null,null,null,null,null,null,null,null,null,null,null,null,null,"N",null,1013784,"1'2 - 5","St. John's","Worcester",325,"H","7:30 pm NST ","Mile One Centre St. John's, NL"]
[null,null,null,null,null,null,null,null,null,null,null,null,null,null,1013880,"",null,1013880,"2014-12-20","Hershey","Springfield",421,"H","7:00 pm EST ","Giant Center Hershey, PA"]
[null,null,null,null,null,null,null,null,null,null,null,null,null,null,1013899,"",null,1013899,"2014-12-26","Hershey","Lehigh Valley",440,"H","7:00 pm EST ","Giant Center Hershey, PA"]
[null,null,null,null,null,null,null,null,null,null,null,null,null,null,1013912,"",null,1013912,"2014-12-27","Hershey","Binghamton",453,"H","7:00 pm EST ","Giant Center Hershey, PA"]
[null,null,null,null,null,null,null,null,null,null,null,null,null,null,1013931,"",null,1013931,"2014-12-30","Hershey","Norfolk",472,"H","7:00 pm EST ","Giant Center Hershey, PA"]
[null,null,null,null,null,null,null,null,null,null,null,null,null,null,null,"N",null,1013784,"1'2 - 5","Worcester","St. John's",325,"R","7:30 pm NST ","Mile One Centre St. John's, NL"]
[null,null,null,null,null,null,null,null,null,null,null,null,null,null,1013963,"",null,1013963,"2015-01-03","Hershey","W-B/Scranton",504,"H","7:00 pm EST ","Giant Center Hershey, PA"]
[null,null,null,null,null,null,null,null,null,null,null,null,null,null,1013985,"",null,1013985,"2015-01-09","Hershey","Albany",526,"R","7:00 pm EST ","Times Union Center Albany, NY"]
[null,null,null,null,null,null,null,null,null,null,null,null,null,null,1013999,"",null,1013999,"2015-01-10","Hershey","Norfolk",540,"H","7:00 pm EST ","Giant Center Hershey, PA"]
[null,null,null,null,null,null,null,null,null,null,null,null,null,null,1014012,"",null,1014012,"2015-01-11","Hershey","Norfolk",553,"H","5:00 pm EST ","Giant Center Hershey, PA"]
[null,null,null,null,null,null,null,null,null,null,null,null,null,null,1014042,"",null,1014042,"2015-01-17","Hershey","Albany",583,"H","7:00 pm EST ","Giant Center Hershey, PA"]
[null,null,null,null,null,null,null,null,null,null,null,null,null,null,1014052,"",null,1014052,"2015-01-18","Hershey","Lehigh Valley",593,"H","5:00 pm EST ","Giant Center Hershey, PA"]
[null,null,null,null,null,null,null,null,null,null,null,null,null,null,1014063,"",null,1014063,"2015-01-21","Hershey","Lehigh Valley",604,"R","7:05 pm EST ","PPL Center Allentown, PA"]
[null,null,null,null,null,null,null,null,null,null,null,null,null,null,1014088,"",null,1014088,"2015-01-24","Hershey","Binghamton",629,"H","7:00 pm EST ","Giant Center Hershey, PA"]
[null,null,null,null,null,null,null,null,null,null,null,null,null,null,1014104,"",null,1014104,"2015-01-30","Hershey","Lehigh Valley",645,"R","7:05 pm EST ","PPL Center Allentown, PA"]
[null,null,null,null,null,null,null,null,null,null,null,null,null,null,1014121,"",null,1014121,"2015-01-31","Hershey","Syracuse",662,"H","7:00 pm EST ","Giant Center Hershey, PA"]
[null,null,null,null,null,null,null,null,null,null,null,null,null,null,1014128,"",null,1014128,"2015-02-01","Hershey","Norfolk",669,"H","2:00 pm EST ","Giant Center Hershey, PA"]
[null,null,null,null,null,null,null,null,null,null,null,null,null,null,1014140,"",null,1014140,"2015-02-06","Hershey","Binghamton",681,"R","7:05 pm EST ","Floyd L. Maines Veterans Memorial Arena Binghamton, NY"]
[null,null,null,null,null,null,null,null,null,null,null,null,null,null,1014156,"",null,1014156,"2015-02-07","Hershey","W-B/Scranton",697,"H","7:00 pm EST ","Giant Center Hershey, PA"]
[null,null,null,null,null,null,null,null,null,null,null,null,null,null,1014166,"",null,1014166,"2015-02-08","Hershey","Lehigh Valley",707,"H","5:00 pm EST ","Giant Center Hershey, PA"]
[null,null,null,null,null,null,null,null,null,null,null,null,null,null,null,"N",null,1013790,"2014-12-06","Hartford","Springfield",331,"H","7:00 pm EST ","XL Center Hartford, CT"]
[null,null,null,null,null,null,null,null,null,null,null,null,null,null,1014195,"",null,1014195,"2015-02-14","Hershey","Portland",736,"H","7:00 pm EST ","Giant Center Hershey, PA"]
[null,null,null,null,null,null,null,null,null,null,null,null,null,null,1014206,"",null,1014206,"2015-02-15","Hershey","Bridgeport",747,"R","3:00 pm EST ","Webster Bank Arena Bridgeport, CT"]
[null,null,null,null,null,null,null,null,null,null,null,null,null,null,1014226,"",null,1014226,"2015-02-20","Hershey","Binghamton",767,"R","7:05 pm EST ","Floyd L. Maines Veterans Memorial Arena Binghamton, NY"]
[null,null,null,null,null,null,null,null,null,null,null,null,null,null,1014239,"",null,1014239,"2015-02-21","Hershey","Bridgeport",780,"H","7:00 pm EST ","Giant Center Hershey, PA"]
[null,null,null,null,null,null,null,null,null,null,null,null,null,null,1014254,"",null,1014254,"2015-02-22","Hershey","Providence",795,"H","5:00 pm EST ","Giant Center Hershey, PA"]
[null,null,null,null,null,null,null,null,null,null,null,null,null,null,1014267,"",null,1014267,"2015-02-27","Hershey","Binghamton",808,"R","7:05 pm EST ","Floyd L. Maines Veterans Memorial Arena Binghamton, NY"]
[null,null,null,null,null,null,null,null,null,null,null,null,null,null,1014284,"",null,1014284,"2015-02-28","Hershey","Albany",825,"H","7:00 pm EST ","Giant Center Hershey, PA"]
[null,null,null,null,null,null,null,null,null,null,null,null,null,null,1014297,"",null,1014297,"2015-03-01","Hershey","Lehigh Valley",838,"H","5:00 pm EST ","Giant Center Hershey, PA"]
[null,null,null,null,null,null,null,null,null,null,null,null,null,null,1014314,"",null,1014314,"2015-03-06","Hershey","Providence",855,"R","7:05 pm EST ","Dunkin' Donuts Center Providence, RI"]
[null,null,null,null,null,null,null,null,null,null,null,null,null,null,1014322,"",null,1014322,"2015-03-07","Hershey","Hartford",863,"R","7:00 pm EST ","XL Center Hartford, CT"]
[null,null,null,null,null,null,null,null,null,null,null,null,null,null,1014333,"",null,1014333,"2015-03-08","Hershey","Portland",874,"H","5:00 pm EDT ","Giant Center Hershey, PA"]
[null,null,null,null,null,null,null,null,null,null,null,null,null,null,1014349,"",null,1014349,"2015-03-11","Hershey","W-B/Scranton",890,"R","7:05 pm EDT ","Mohegan Sun Arena at Casey Plaza Wilkes-Barre, PA"]
[null,null,null,null,null,null,null,null,null,null,null,null,null,null,1014352,"",null,1014352,"2015-03-13","Hershey","Binghamton",893,"R","7:05 pm EDT ","Floyd L. Maines Veterans Memorial Arena Binghamton, NY"]
[null,null,null,null,null,null,null,null,null,null,null,null,null,null,1014372,"",null,1014372,"2015-03-14","Hershey","W-B/Scranton",913,"R","7:05 pm EDT ","Mohegan Sun Arena at Casey Plaza Wilkes-Barre, PA"]
[null,null,null,null,null,null,null,null,null,null,null,null,null,null,1014388,"",null,1014388,"2015-03-18","Hershey","Worcester",929,"R","7:00 pm EDT ","DCU Center Worcester, MA"]
[null,null,null,null,null,null,null,null,null,null,null,null,null,null,1014394,"",null,1014394,"2015-03-20","Hershey","Portland",935,"R","7:00 pm EDT ","Cross Insurance Arena Portland, ME"]
[null,null,null,null,null,null,null,null,null,null,null,null,null,null,1014408,"",null,1014408,"2015-03-21","Hershey","Portland",949,"R","7:00 pm EDT ","Cross Insurance Arena Portland, ME"]
[null,null,null,null,null,null,null,null,null,null,null,null,null,null,1014440,"",null,1014440,"2015-03-27","Hershey","Manchester",981,"H","7:00 pm EDT ","Giant Center Hershey, PA"]
[null,null,null,null,null,null,null,null,null,null,null,null,null,null,1014453,"",null,1014453,"2015-03-28","Hershey","Manchester",994,"H","7:00 pm EDT ","Giant Center Hershey, PA"]
[null,null,null,null,null,null,null,null,null,null,null,null,null,null,1014464,"",null,1014464,"2015-03-29","Hershey","Bridgeport",1005,"R","3:00 pm EDT ","Webster Bank Arena Bridgeport, CT"]
[null,null,null,null,null,null,null,null,null,null,null,null,null,null,1014474,"",null,1014474,"2015-04-01","Hershey","Worcester",1015,"H","7:00 pm EDT ","Giant Center Hershey, PA"]
[null,null,null,null,null,null,null,null,null,null,null,null,null,null,null,"N",null,1014491,"2015-04-03","Hershey","Norfolk",1032,"R","7:30 pm EDT ","Norfolk Scope Norfolk, VA"]
[null,null,null,null,null,null,null,null,null,null,null,null,null,null,null,"N",null,1014503,"2015-04-04","Hershey","Norfolk",1044,"R","7:15 pm EDT ","Norfolk Scope Norfolk, VA"]
[null,null,null,null,null,null,null,null,null,null,null,null,null,null,null,"N",null,1014530,"2015-04-10","Hershey","St. John's",1071,"R","7:30 pm NDT ","Mile One Centre St. John's, NL"]
[null,null,null,null,null,null,null,null,null,null,null,null,null,null,null,"N",null,1014543,"2015-04-11","Hershey","St. John's",1084,"R","7:30 pm NDT ","Mile One Centre St. John's, NL"]
[null,null,null,null,null,null,null,null,null,null,null,null,null,null,null,"N",null,1014557,"2015-04-14","Hershey","Lehigh Valley",1098,"R","7:05 pm EDT ","PPL Center Allentown, PA"]
[null,null,null,null,null,null,null,null,null,null,null,null,null,null,null,"N",null,1014566,"2015-04-17","Hershey","Binghamton",1107,"H","7:00 pm EDT ","Giant Center Hershey, PA"]
[null,null,null,null,null,null,null,null,null,null,null,null,null,null,null,"N",null,1014585,"2015-04-18","Hershey","Lehigh Valley",1126,"H","7:00 pm EDT ","Giant Center Hershey, PA"]
[null,null,null,null,null,null,null,null,null,null,null,null,null,null,1013464,"",null,1013464,"2014-10-10","Iowa","San Antonio",5,"R","7:30 pm CDT ","AT&T Center San Antonio, TX"]
[null,null,null,null,null,null,null,null,null,null,null,null,null,null,1013476,"",null,1013476,"2014-10-11","Iowa","Texas",17,"R","7:00 pm CDT ","Cedar Park Center Cedar Park, TX"]
[null,null,null,null,null,null,null,null,null,null,null,null,null,null,1013491,"",null,1013491,"2014-10-17","Iowa","Milwaukee",32,"H","7:00 pm CDT ","Wells Fargo Arena Des Moines, IA"]
[null,null,null,null,null,null,null,null,null,null,null,null,null,null,null,"N",null,1013790,"2014-12-06","Springfield","Hartford",331,"R","7:00 pm EST ","XL Center Hartford, CT"]
[null,null,null,null,null,null,null,null,null,null,null,null,null,null,1013527,"",null,1013527,"2014-10-24","Iowa","Charlotte",68,"H","7:00 pm CDT ","Wells Fargo Arena Des Moines, IA"]
[null,null,null,null,null,null,null,null,null,null,null,null,null,null,1013542,"",null,1013542,"2014-10-25","Iowa","Charlotte",83,"H","7:00 pm CDT ","Wells Fargo Arena Des Moines, IA"]
[null,null,null,null,null,null,null,null,null,null,null,null,null,null,1013563,"",null,1013563,"2014-10-29","Iowa","Milwaukee",104,"R","7:00 pm CDT ","BMO Harris Bradley Center Milwaukee, WI"]
[null,null,null,null,null,null,null,null,null,null,null,null,null,null,1013584,"",null,1013584,"1'1 - 1","Iowa","Oklahoma City",125,"R","7:00 pm CDT ","Cox Convention Center Oklahoma City, OK"]
[null,null,null,null,null,null,null,null,null,null,null,null,null,null,1013595,"",null,1013595,"1'1 - 2","Iowa","Oklahoma City",136,"R","4:00 pm CST ","Cox Convention Center Oklahoma City, OK"]
[null,null,null,null,null,null,null,null,null,null,null,null,null,null,1013606,"",null,1013606,"1'1 - 6","Iowa","Rockford",147,"H","10:30 am CST ","Wells Fargo Arena Des Moines, IA"]
[null,null,null,null,null,null,null,null,null,null,null,null,null,null,1013622,{"$f":"IF(O773=R773,\"\",\"N\")","v":""},null,1013622,"2014-11-08","Iowa","Chicago",163,"H","7:00 pm CST ","Wells Fargo Arena Des Moines, IA"]
[null,null,null,null,null,null,null,null,null,null,null,null,null,null,1013633,"",null,1013633,"2014-11-09","Iowa","Chicago",174,"H","3:00 pm CST ","Wells Fargo Arena Des Moines, IA"]
[null,null,null,null,null,null,null,null,null,null,null,null,null,null,1013644,"",null,1013644,"2014-11-12","Iowa","Milwaukee",185,"R","7:00 pm CST ","BMO Harris Bradley Center Milwaukee, WI"]
[null,null,null,null,null,null,null,null,null,null,null,null,null,null,1013649,"",null,1013649,"2014-11-14","Iowa","Oklahoma City",190,"H","7:00 pm CST ","Wells Fargo Arena Des Moines, IA"]
[null,null,null,null,null,null,null,null,null,null,null,null,null,null,1013664,"",null,1013664,"2014-11-15","Iowa","Oklahoma City",205,"H","7:00 pm CST ","Wells Fargo Arena Des Moines, IA"]
[null,null,null,null,null,null,null,null,null,null,null,null,null,null,1013702,"",null,1013702,"2014-11-21","Iowa","Rockford",243,"R","7:00 pm CST ","BMO Harris Bank Center Rockford, IL"]
[null,null,null,null,null,null,null,null,null,null,null,null,null,null,1013707,"",null,1013707,"2014-11-22","Iowa","Chicago",248,"R","7:00 pm CST ","Allstate Arena Rosemont, IL"]
[null,null,null,null,null,null,null,null,null,null,null,null,null,null,1013721,"",null,1013721,"2014-11-23","Iowa","Milwaukee",262,"H","5:00 pm CST ","Wells Fargo Arena Des Moines, IA"]
[null,null,null,null,null,null,null,null,null,null,null,null,null,null,1013734,"",null,1013734,"2014-11-26","Iowa","Rockford",275,"R","7:00 pm CST ","BMO Harris Bank Center Rockford, IL"]
[null,null,null,null,null,null,null,null,null,null,null,null,null,null,1013759,"",null,1013759,"2014-11-29","Iowa","Texas",300,"R","7:00 pm CST ","Cedar Park Center Cedar Park, TX"]
[null,null,null,null,null,null,null,null,null,null,null,null,null,null,1013765,"",null,1013765,"2014-11-30","Iowa","San Antonio",306,"R","4:00 pm CST ","AT&T Center San Antonio, TX"]
[null,null,null,null,null,null,null,null,null,null,null,null,null,null,1013789,"",null,1013789,"2014-12-06","Iowa","Charlotte",330,"R","7:00 pm EST ","Time Warner Cable Arena Charlotte, NC"]
[null,null,null,null,null,null,null,null,null,null,null,null,null,null,1013810,"",null,1013810,"2014-12-08","Iowa","Charlotte",351,"R","7:00 pm EST ","Time Warner Cable Arena Charlotte, NC"]
[null,null,null,null,null,null,null,null,null,null,null,null,null,null,1013822,"",null,1013822,"2014-12-11","Iowa","San Antonio",363,"H","7:00 pm CST ","Wells Fargo Arena Des Moines, IA"]
[null,null,null,null,null,null,null,null,null,null,null,null,null,null,null,"N",null,1013794,"2014-12-06","Rockford","Grand Rapids",335,"H","7:00 pm CST ","BMO Harris Bank Center Rockford, IL"]
[null,null,null,null,null,null,null,null,null,null,null,null,null,null,1013849,"",null,1013849,"2014-12-14","Iowa","Adirondack",390,"H","3:00 pm CST ","Wells Fargo Arena Des Moines, IA"]
[null,null,null,null,null,null,null,null,null,null,null,null,null,null,1013855,"",null,1013855,"2014-12-16","Iowa","Rockford",396,"H","7:00 pm CST ","Wells Fargo Arena Des Moines, IA"]
[null,null,null,null,null,null,null,null,null,null,null,null,null,null,1013878,"",null,1013878,"2014-12-20","Iowa","Chicago",419,"R","7:00 pm CST ","Allstate Arena Rosemont, IL"]
[null,null,null,null,null,null,null,null,null,null,null,null,null,null,1013892,"",null,1013892,"2014-12-21","Iowa","Chicago",433,"H","3:00 pm CST ","Wells Fargo Arena Des Moines, IA"]
[null,null,null,null,null,null,null,null,null,null,null,null,null,null,1013902,"",null,1013902,"2014-12-26","Iowa","Rockford",443,"R","7:00 pm CST ","BMO Harris Bank Center Rockford, IL"]
[null,null,null,null,null,null,null,null,null,null,null,null,null,null,1013909,"",null,1013909,"2014-12-27","Iowa","Grand Rapids",450,"R","7:00 pm EST ","Van Andel Arena Grand Rapids, MI"]
[null,null,null,null,null,null,null,null,null,null,null,null,null,null,1013928,"",null,1013928,"2014-12-29","Iowa","Milwaukee",469,"H","7:00 pm CST ","Wells Fargo Arena Des Moines, IA"]
[null,null,null,null,null,null,null,null,null,null,null,null,null,null,null,"N",null,1013796,"2014-12-06","Rochester","Syracuse",337,"R","7:00 pm EST ","Onondaga County War Memorial Arena Syracuse, NY"]
[null,null,null,null,null,null,null,null,null,null,null,null,null,null,1013970,"",null,1013970,"2015-01-03","Iowa","Utica",511,"R","7:00 pm EST ","Utica Memorial Auditorium Utica, NY"]
[null,null,null,null,null,null,null,null,null,null,null,null,null,null,1013993,"",null,1013993,"2015-01-09","Iowa","Texas",534,"R","7:30 pm CST ","Cedar Park Center Cedar Park, TX"]
[null,null,null,null,null,null,null,null,null,null,null,null,null,null,1014003,"",null,1014003,"2015-01-10","Iowa","San Antonio",544,"R","7:00 pm CST ","AT&T Center San Antonio, TX"]
[null,null,null,null,null,null,null,null,null,null,null,null,null,null,null,"N",null,1013799,"2014-12-07","Adirondack","Albany",340,"R","3:00 pm EST ","Times Union Center Albany, NY"]
[null,null,null,null,null,null,null,null,null,null,null,null,null,null,null,"N",null,1013799,"2014-12-07","Albany","Adirondack",340,"H","3:00 pm EST ","Times Union Center Albany, NY"]
[null,null,null,null,null,null,null,null,null,null,null,null,null,null,1014043,"",null,1014043,"2015-01-17","Iowa","Lake Erie",584,"H","7:00 pm CST ","Wells Fargo Arena Des Moines, IA"]
[null,null,null,null,null,null,null,null,null,null,null,null,null,null,1014053,"",null,1014053,"2015-01-18","Iowa","Lake Erie",594,"H","3:00 pm CST ","Wells Fargo Arena Des Moines, IA"]
[null,null,null,null,null,null,null,null,null,null,null,null,null,null,null,"N",null,1013809,"2014-12-07","Rochester","Toronto",350,"R","3:00 pm EST ","Ricoh Coliseum Toronto, ON"]
[null,null,null,null,null,null,null,null,null,null,null,null,null,null,1014076,"",null,1014076,"2015-01-23","Iowa","Milwaukee",617,"R","7:00 pm CST ","BMO Harris Bradley Center Milwaukee, WI"]
[null,null,null,null,null,null,null,null,null,null,null,null,null,null,1014087,"",null,1014087,"2015-01-24","Iowa","Grand Rapids",628,"R","7:00 pm EST ","Van Andel Arena Grand Rapids, MI"]
[null,null,null,null,null,null,null,null,null,null,null,null,null,null,null,"N",null,1013816,"2014-12-10","Charlotte","Norfolk",357,"R","7:15 pm EST ","Norfolk Scope Norfolk, VA"]
[null,null,null,null,null,null,null,null,null,null,null,null,null,null,1014103,"",null,1014103,"2015-01-30","Iowa","Hamilton",644,"H","7:00 pm CST ","Wells Fargo Arena Des Moines, IA"]
[null,null,null,null,null,null,null,null,null,null,null,null,null,null,1014122,"",null,1014122,"2015-01-31","Iowa","Hamilton",663,"H","12:30 pm CST ","Wells Fargo Arena Des Moines, IA"]
[null,null,null,null,null,null,null,null,null,null,null,null,null,null,1014133,"",null,1014133,"2015-02-04","Iowa","Adirondack",674,"R","7:00 pm EST ","Glens Falls Civic Center Glens Falls, NY"]
[null,null,null,null,null,null,null,null,null,null,null,null,null,null,1014143,"",null,1014143,"2015-02-06","Iowa","Hamilton",684,"R","7:30 pm EST ","FirstOntario Centre Hamilton, ON"]
[null,null,null,null,null,null,null,null,null,null,null,null,null,null,1014164,"",null,1014164,"2015-02-07","Iowa","Toronto",705,"R","3:00 pm EST ","Ricoh Coliseum Toronto, ON"]
[null,null,null,null,null,null,null,null,null,null,null,null,null,null,1014172,"",null,1014172,"2015-02-10","Iowa","Hamilton",713,"R","7:30 pm EST ","FirstOntario Centre Hamilton, ON"]
[null,null,null,null,null,null,null,null,null,null,null,null,null,null,1014185,"",null,1014185,"2015-02-13","Iowa","Texas",726,"H","7:00 pm CST ","Wells Fargo Arena Des Moines, IA"]
[null,null,null,null,null,null,null,null,null,null,null,null,null,null,null,"N",null,1013817,"2014-12-10","Springfield","Syracuse",358,"H","7:00 pm EST ","MassMutual Center Springfield, MA"]
[null,null,null,null,null,null,null,null,null,null,null,null,null,null,1014208,"",null,1014208,"2015-02-15","Iowa","Oklahoma City",749,"H","4:00 pm CST ","Wells Fargo Arena Des Moines, IA"]
[null,null,null,null,null,null,null,null,null,null,null,null,null,null,1014219,"",null,1014219,"2015-02-18","Iowa","Charlotte",760,"R","7:00 pm EST ","Time Warner Cable Arena Charlotte, NC"]
[null,null,null,null,null,null,null,null,null,null,null,null,null,null,1014225,"",null,1014225,"2015-02-19","Iowa","Charlotte",766,"R","7:00 pm EST ","Time Warner Cable Arena Charlotte, NC"]
[null,null,null,null,null,null,null,null,null,null,null,null,null,null,1014243,"",null,1014243,"2015-02-21","Iowa","Milwaukee",784,"R","7:00 pm CST ","BMO Harris Bradley Center Milwaukee, WI"]
[null,null,null,null,null,null,null,null,null,null,null,null,null,null,1014260,"",null,1014260,"2015-02-24","Iowa","Grand Rapids",801,"H","7:00 pm CST ","Wells Fargo Arena Des Moines, IA"]
[null,null,null,null,null,null,null,null,null,null,null,null,null,null,1014269,"",null,1014269,"2015-02-27","Iowa","Lake Erie",810,"R","7:30 pm EST ","Quicken Loans Arena Cleveland, OH"]
[null,null,null,null,null,null,null,null,null,null,null,null,null,null,1014285,"",null,1014285,"2015-02-28","Iowa","Lake Erie",826,"R","7:00 pm EST ","Quicken Loans Arena Cleveland, OH"]
[null,null,null,null,null,null,null,null,null,null,null,null,null,null,1014318,"",null,1014318,"2015-03-06","Iowa","Texas",859,"R","7:30 pm CST ","Cedar Park Center Cedar Park, TX"]
[null,null,null,null,null,null,null,null,null,null,null,null,null,null,1014327,"",null,1014327,"2015-03-07","Iowa","San Antonio",868,"R","7:00 pm CST ","AT&T Center San Antonio, TX"]
[null,null,null,null,null,null,null,null,null,null,null,null,null,null,1014378,"",null,1014378,"2015-03-15","Iowa","Utica",919,"H","5:00 pm CDT ","Wells Fargo Arena Des Moines, IA"]
[null,null,null,null,null,null,null,null,null,null,null,null,null,null,1014403,"",null,1014403,"2015-03-21","Iowa","Charlotte",944,"H","7:00 pm CDT ","Wells Fargo Arena Des Moines, IA"]
[null,null,null,null,null,null,null,null,null,null,null,null,null,null,1014419,"",null,1014419,"2015-03-22","Iowa","Charlotte",960,"H","3:00 pm CDT ","Wells Fargo Arena Des Moines, IA"]
[null,null,null,null,null,null,null,null,null,null,null,null,null,null,1014428,"",null,1014428,"2015-03-24","Iowa","Texas",969,"H","7:00 pm CDT ","Wells Fargo Arena Des Moines, IA"]
[null,null,null,null,null,null,null,null,null,null,null,null,null,null,null,"N",null,1013826,"2014-12-12","Iowa","San Antonio",367,"H","7:00 pm CST ","Wells Fargo Arena Des Moines, IA"]
[null,null,null,null,null,null,null,null,null,null,null,null,null,null,1014454,"",null,1014454,"2015-03-28","Iowa","San Antonio",995,"H","12:30 pm CDT ","Wells Fargo Arena Des Moines, IA"]
[null,null,null,null,null,null,null,null,null,null,null,null,null,null,1014466,"",null,1014466,"2015-03-29","Iowa","Chicago",1007,"R","3:00 pm CDT ","Allstate Arena Rosemont, IL"]
[null,null,null,null,null,null,null,null,null,null,null,null,null,null,null,"N",null,1014488,"2015-04-03","Iowa","Rochester",1029,"H","7:00 pm CDT ","Wells Fargo Arena Des Moines, IA"]
[null,null,null,null,null,null,null,null,null,null,null,null,null,null,null,"N",null,1014511,"2015-04-07","Iowa","Texas",1052,"H","7:00 pm CDT ","Wells Fargo Arena Des Moines, IA"]
[null,null,null,null,null,null,null,null,null,null,null,null,null,null,null,"N",null,1014519,"2015-04-09","Iowa","Rockford",1060,"H","7:00 pm CDT ","Wells Fargo Arena Des Moines, IA"]
[null,null,null,null,null,null,null,null,null,null,null,null,null,null,null,"N",null,1014523,"2015-04-10","Iowa","Oklahoma City",1064,"H","7:00 pm CDT ","Wells Fargo Arena Des Moines, IA"]
[null,null,null,null,null,null,null,null,null,null,null,null,null,null,null,"N",null,1014551,"2015-04-12","Iowa","Chicago",1092,"R","4:00 pm CDT ","Allstate Arena Rosemont, IL"]
[null,null,null,null,null,null,null,null,null,null,null,null,null,null,null,"N",null,1014556,"2015-04-14","Iowa","Toronto",1097,"H","7:00 pm CDT ","Wells Fargo Arena Des Moines, IA"]
[null,null,null,null,null,null,null,null,null,null,null,null,null,null,null,{"$f":"IF(O837=R837,\"\",\"N\")","v":"N"},null,1014571,"2015-04-17","Iowa","Oklahoma City",1112,"R","7:00 pm CDT ","Cox Convention Center Oklahoma City, OK"]
[null,null,null,null,null,null,null,null,null,null,null,null,null,null,null,"N",null,1014587,"2015-04-18","Iowa","Oklahoma City",1128,"R","7:00 pm CDT ","Cox Convention Center Oklahoma City, OK"]
[null,null,null,null,null,null,null,null,null,null,null,null,null,null,1013460,"",null,1013460,"2014-10-10","Lake Erie","Grand Rapids",1,"R","7:00 pm EDT ","Van Andel Arena Grand Rapids, MI"]
[null,null,null,null,null,null,null,null,null,null,null,null,null,null,1013469,"",null,1013469,"2014-10-11","Lake Erie","Grand Rapids",10,"H","7:00 pm EDT ","Quicken Loans Arena Cleveland, OH"]
[null,null,null,null,null,null,null,null,null,null,null,null,null,null,null,"N",null,1013851,"2014-12-14","St. John's","Toronto",392,"R","3:00 pm EST ","Ricoh Coliseum Toronto, ON"]
[null,null,null,null,null,null,null,null,null,null,null,null,null,null,1013502,"",null,1013502,"2014-10-18","Lake Erie","Chicago",43,"R","7:00 pm CDT ","Allstate Arena Rosemont, IL"]
[null,null,null,null,null,null,null,null,null,null,null,null,null,null,1013525,"",null,1013525,"2014-10-24","Lake Erie","Grand Rapids",66,"R","7:00 pm EDT ","Van Andel Arena Grand Rapids, MI"]
[null,null,null,null,null,null,null,null,null,null,null,null,null,null,1013544,"",null,1013544,"2014-10-25","Lake Erie","Milwaukee",85,"R","7:00 pm CDT ","BMO Harris Bradley Center Milwaukee, WI"]
[null,null,null,null,null,null,null,null,null,null,null,null,null,null,1013554,"",null,1013554,"2014-10-26","Lake Erie","Rockford",95,"R","4:00 pm CDT ","BMO Harris Bank Center Rockford, IL"]
[null,null,null,null,null,null,null,null,null,null,null,null,null,null,1013569,"",null,1013569,"2014-10-31","Lake Erie","Texas",110,"H","7:30 pm EDT ","Quicken Loans Arena Cleveland, OH"]
[null,null,null,null,null,null,null,null,null,null,null,null,null,null,1013580,"",null,1013580,"1'1 - 1","Lake Erie","Texas",121,"H","6:00 pm EDT ","Quicken Loans Arena Cleveland, OH"]
[null,null,null,null,null,null,null,null,null,null,null,null,null,null,1013598,"",null,1013598,"1'1 - 4","Lake Erie","Rockford",139,"R","7:00 pm CST ","BMO Harris Bank Center Rockford, IL"]
[null,null,null,null,null,null,null,null,null,null,null,null,null,null,1013608,"",null,1013608,"2014-11-07","Lake Erie","Utica",149,"H","7:30 pm EST ","Quicken Loans Arena Cleveland, OH"]
[null,null,null,null,null,null,null,null,null,null,null,null,null,null,1013643,"",null,1013643,"2014-11-12","Lake Erie","Grand Rapids",184,"R","7:00 pm EST ","Van Andel Arena Grand Rapids, MI"]
[null,null,null,null,null,null,null,null,null,null,null,null,null,null,1013650,"",null,1013650,"2014-11-14","Lake Erie","Adirondack",191,"H","7:30 pm EST ","Quicken Loans Arena Cleveland, OH"]
[null,null,null,null,null,null,null,null,null,null,null,null,null,null,1013665,"",null,1013665,"2014-11-15","Lake Erie","Adirondack",206,"H","1:00 pm EST ","Quicken Loans Arena Cleveland, OH"]
[null,null,null,null,null,null,null,null,null,null,null,null,null,null,1013695,"",null,1013695,"2014-11-21","Lake Erie","Grand Rapids",236,"H","7:30 pm EST ","Quicken Loans Arena Cleveland, OH"]
[null,null,null,null,null,null,null,null,null,null,null,null,null,null,1013708,"",null,1013708,"2014-11-22","Lake Erie","Grand Rapids",249,"R","7:00 pm EST ","Van Andel Arena Grand Rapids, MI"]
[null,null,null,null,null,null,null,null,null,null,null,null,null,null,1013739,"",null,1013739,"2014-11-28","Lake Erie","Hamilton",280,"H","7:30 pm EST ","Quicken Loans Arena Cleveland, OH"]
[null,null,null,null,null,null,null,null,null,null,null,null,null,null,1013754,"",null,1013754,"2014-11-29","Lake Erie","Hamilton",295,"R","7:00 pm EST ","FirstOntario Centre Hamilton, ON"]
[null,null,null,null,null,null,null,null,null,null,null,null,null,null,1013766,"",null,1013766,"2014-11-30","Lake Erie","Toronto",307,"R","5:00 pm EST ","Ricoh Coliseum Toronto, ON"]
[null,null,null,null,null,null,null,null,null,null,null,null,null,null,1013771,"",null,1013771,"1'2 - 3","Lake Erie","Chicago",312,"H","7:00 pm EST ","Quicken Loans Arena Cleveland, OH"]
[null,null,null,null,null,null,null,null,null,null,null,null,null,null,1013778,"",null,1013778,"1'2 - 5","Lake Erie","Chicago",319,"H","7:30 pm EST ","Quicken Loans Arena Cleveland, OH"]
[null,null,null,null,null,null,null,null,null,null,null,null,null,null,1013807,"",null,1013807,"2014-12-07","Lake Erie","Rockford",348,"R","4:00 pm CST ","BMO Harris Bank Center Rockford, IL"]
[null,null,null,null,null,null,null,null,null,null,null,null,null,null,1013814,"",null,1013814,"2014-12-10","Lake Erie","Grand Rapids",355,"R","7:00 pm EST ","Van Andel Arena Grand Rapids, MI"]
[null,null,null,null,null,null,null,null,null,null,null,null,null,null,1013827,"",null,1013827,"2014-12-12","Lake Erie","Rockford",368,"H","7:30 pm EST ","Quicken Loans Arena Cleveland, OH"]
[null,null,null,null,null,null,null,null,null,null,null,null,null,null,1013837,"",null,1013837,"2014-12-13","Lake Erie","Rockford",378,"H","7:00 pm EST ","Quicken Loans Arena Cleveland, OH"]
[null,null,null,null,null,null,null,null,null,null,null,null,null,null,null,"N",null,1013853,"2014-12-14","Portland","Worcester",394,"R","3:00 pm EST ","DCU Center Worcester, MA"]
[null,null,null,null,null,null,null,null,null,null,null,null,null,null,1013863,"",null,1013863,"2014-12-18","Lake Erie","Milwaukee",404,"H","7:00 pm EST ","Quicken Loans Arena Cleveland, OH"]
[null,null,null,null,null,null,null,null,null,null,null,null,null,null,1013881,"",null,1013881,"2014-12-20","Lake Erie","Grand Rapids",422,"H","7:00 pm EST ","Quicken Loans Arena Cleveland, OH"]
[null,null,null,null,null,null,null,null,null,null,null,null,null,null,1013901,"",null,1013901,"2014-12-26","Lake Erie","Rochester",442,"R","7:05 pm EST ","Blue Cross Arena Rochester, NY"]
[null,null,null,null,null,null,null,null,null,null,null,null,null,null,1013919,"",null,1013919,"2014-12-27","Lake Erie","Utica",460,"R","7:00 pm EST ","Utica Memorial Auditorium Utica, NY"]
[null,null,null,null,null,null,null,null,null,null,null,null,null,null,1013932,"",null,1013932,"2014-12-30","Lake Erie","Milwaukee",473,"R","7:00 pm CST ","BMO Harris Bradley Center Milwaukee, WI"]
[null,null,null,null,null,null,null,null,null,null,null,null,null,null,1013949,"",null,1013949,"2015-01-02","Lake Erie","Oklahoma City",490,"H","7:30 pm EST ","Quicken Loans Arena Cleveland, OH"]
[null,null,null,null,null,null,null,null,null,null,null,null,null,null,1013964,"",null,1013964,"2015-01-03","Lake Erie","Oklahoma City",505,"H","7:00 pm EST ","Quicken Loans Arena Cleveland, OH"]
[null,null,null,null,null,null,null,null,null,null,null,null,null,null,1013991,"",null,1013991,"2015-01-09","Lake Erie","Rochester",532,"R","7:05 pm EST ","Blue Cross Arena Rochester, NY"]
[null,null,null,null,null,null,null,null,null,null,null,null,null,null,1013998,"",null,1013998,"2015-01-10","Lake Erie","Hamilton",539,"R","7:00 pm EST ","FirstOntario Centre Hamilton, ON"]
[null,null,null,null,null,null,null,null,null,null,null,null,null,null,1014028,"",null,1014028,"2015-01-16","Lake Erie","Chicago",569,"R","7:00 pm CST ","Allstate Arena Rosemont, IL"]
[null,null,null,null,null,null,null,null,null,null,null,null,null,null,1014043,"",null,1014043,"2015-01-17","Lake Erie","Iowa",584,"R","7:00 pm CST ","Wells Fargo Arena Des Moines, IA"]
[null,null,null,null,null,null,null,null,null,null,null,null,null,null,1014053,"",null,1014053,"2015-01-18","Lake Erie","Iowa",594,"R","3:00 pm CST ","Wells Fargo Arena Des Moines, IA"]
[null,null,null,null,null,null,null,null,null,null,null,null,null,null,1014070,"",null,1014070,"2015-01-22","Lake Erie","San Antonio",611,"H","7:00 pm EST ","Quicken Loans Arena Cleveland, OH"]
[null,null,null,null,null,null,null,null,null,null,null,null,null,null,1014089,"",null,1014089,"2015-01-24","Lake Erie","San Antonio",630,"H","7:00 pm EST ","Quicken Loans Arena Cleveland, OH"]
[null,null,null,null,null,null,null,null,null,null,null,null,null,null,1014107,"",null,1014107,"2015-01-30","Lake Erie","Oklahoma City",648,"R","7:00 pm CST ","Cox Convention Center Oklahoma City, OK"]
[null,null,null,null,null,null,null,null,null,null,null,null,null,null,1014123,"",null,1014123,"2015-01-31","Lake Erie","Oklahoma City",664,"R","7:00 pm CST ","Cox Convention Center Oklahoma City, OK"]
[null,null,null,null,null,null,null,null,null,null,null,null,null,null,1014130,"",null,1014130,"2015-02-03","Lake Erie","Milwaukee",671,"R","7:00 pm CST ","BMO Harris Bradley Center Milwaukee, WI"]
[null,null,null,null,null,null,null,null,null,null,null,null,null,null,1014144,"",null,1014144,"2015-02-06","Lake Erie","Toronto",685,"H","7:30 pm EST ","Quicken Loans Arena Cleveland, OH"]
[null,null,null,null,null,null,null,null,null,null,null,null,null,null,null,"N",null,1013853,"2014-12-14","Worcester","Portland",394,"H","3:00 pm EST ","DCU Center Worcester, MA"]
[null,null,null,null,null,null,null,null,null,null,null,null,null,null,1014173,"",null,1014173,"2015-02-10","Lake Erie","Charlotte",714,"H","7:00 pm EST ","Quicken Loans Arena Cleveland, OH"]
[null,null,null,null,null,null,null,null,null,null,null,null,null,null,1014180,"",null,1014180,"2015-02-12","Lake Erie","Charlotte",721,"H","7:00 pm EST ","Quicken Loans Arena Cleveland, OH"]
[null,null,null,null,null,null,null,null,null,null,null,null,null,null,1014209,"",null,1014209,"2015-02-15","Lake Erie","Milwaukee",750,"R","3:00 pm CST ","BMO Harris Bradley Center Milwaukee, WI"]
[null,null,null,null,null,null,null,null,null,null,null,null,null,null,1014217,"",null,1014217,"2015-02-17","Lake Erie","Milwaukee",758,"R","7:00 pm CST ","BMO Harris Bradley Center Milwaukee, WI"]
[null,null,null,null,null,null,null,null,null,null,null,null,null,null,1014228,"",null,1014228,"2015-02-20","Lake Erie","Rockford",769,"H","7:30 pm EST ","Quicken Loans Arena Cleveland, OH"]
[null,null,null,null,null,null,null,null,null,null,null,null,null,null,1014240,"",null,1014240,"2015-02-21","Lake Erie","Rockford",781,"H","7:00 pm EST ","Quicken Loans Arena Cleveland, OH"]
[null,null,null,null,null,null,null,null,null,null,null,null,null,null,1014261,"",null,1014261,"2015-02-24","Lake Erie","Rochester",802,"H","10:45 am EST ","Quicken Loans Arena Cleveland, OH"]
[null,null,null,null,null,null,null,null,null,null,null,null,null,null,1014269,"",null,1014269,"2015-02-27","Lake Erie","Iowa",810,"H","7:30 pm EST ","Quicken Loans Arena Cleveland, OH"]
[null,null,null,null,null,null,null,null,null,null,null,null,null,null,1014285,"",null,1014285,"2015-02-28","Lake Erie","Iowa",826,"H","7:00 pm EST ","Quicken Loans Arena Cleveland, OH"]
[null,null,null,null,null,null,null,null,null,null,null,null,null,null,null,"N",null,1013856,"2014-12-16","Lake Erie","Milwaukee",397,"H","7:00 pm EST ","Quicken Loans Arena Cleveland, OH"]
[null,null,null,null,null,null,null,null,null,null,null,null,null,null,1014309,"",null,1014309,"2015-03-06","Lake Erie","Chicago",850,"H","7:30 pm EST ","Quicken Loans Arena Cleveland, OH"]
[null,null,null,null,null,null,null,null,null,null,null,null,null,null,null,"N",null,1013868,"2014-12-19","Hartford","Syracuse",409,"H","7:00 pm EST ","XL Center Hartford, CT"]
[null,null,null,null,null,null,null,null,null,null,null,null,null,null,1014347,"",null,1014347,"2015-03-11","Lake Erie","Texas",888,"R","7:30 pm CDT ","Cedar Park Center Cedar Park, TX"]
[null,null,null,null,null,null,null,null,null,null,null,null,null,null,1014356,"",null,1014356,"2015-03-13","Lake Erie","San Antonio",897,"R","7:30 pm CDT ","AT&T Center San Antonio, TX"]
[null,null,null,null,null,null,null,null,null,null,null,null,null,null,1014368,"",null,1014368,"2015-03-14","Lake Erie","San Antonio",909,"R","7:00 pm CDT ","AT&T Center San Antonio, TX"]
[null,null,null,null,null,null,null,null,null,null,null,null,null,null,1014385,"",null,1014385,"2015-03-17","Lake Erie","Texas",926,"R","7:30 pm CDT ","Cedar Park Center Cedar Park, TX"]
[null,null,null,null,null,null,null,null,null,null,null,null,null,null,1014398,"",null,1014398,"2015-03-20","Lake Erie","Toronto",939,"R","7:00 pm EDT ","Ricoh Coliseum Toronto, ON"]
[null,null,null,null,null,null,null,null,null,null,null,null,null,null,1014404,{"$f":"IF(O901=R901,\"\",\"N\")","v":""},null,1014404,"2015-03-21","Lake Erie","Grand Rapids",945,"H","7:00 pm EDT ","Quicken Loans Arena Cleveland, OH"]
[null,null,null,null,null,null,null,null,null,null,null,null,null,null,1014434,"",null,1014434,"2015-03-25","Lake Erie","Rockford",975,"R","7:00 pm CDT ","BMO Harris Bank Center Rockford, IL"]
[null,null,null,null,null,null,null,null,null,null,null,null,null,null,1014438,"",null,1014438,"2015-03-27","Lake Erie","Charlotte",979,"R","7:00 pm EDT ","Time Warner Cable Arena Charlotte, NC"]
[null,null,null,null,null,null,null,null,null,null,null,null,null,null,1014465,"",null,1014465,"2015-03-29","Lake Erie","Charlotte",1006,"R","1:00 pm EDT ","Time Warner Cable Arena Charlotte, NC"]
[null,null,null,null,null,null,null,null,null,null,null,null,null,null,1014470,"",null,1014470,"2015-03-31","Lake Erie","Milwaukee",1011,"H","7:00 pm EDT ","Quicken Loans Arena Cleveland, OH"]
[null,null,null,null,null,null,null,null,null,null,null,null,null,null,1014475,"",null,1014475,"2015-04-01","Lake Erie","Milwaukee",1016,"H","7:00 pm EDT ","Quicken Loans Arena Cleveland, OH"]
[null,null,null,null,null,null,null,null,null,null,null,null,null,null,null,"N",null,1014489,"2015-04-03","Lake Erie","Toronto",1030,"H","7:30 pm EDT ","Quicken Loans Arena Cleveland, OH"]
[null,null,null,null,null,null,null,null,null,null,null,null,null,null,null,"N",null,1014510,"2015-04-07","Lake Erie","Chicago",1051,"R","7:00 pm CDT ","Allstate Arena Rosemont, IL"]
[null,null,null,null,null,null,null,null,null,null,null,null,null,null,null,"N",null,1014520,"2015-04-09","Lake Erie","Rochester",1061,"H","7:00 pm EDT ","Quicken Loans Arena Cleveland, OH"]
[null,null,null,null,null,null,null,null,null,null,null,null,null,null,null,"N",null,1014534,"2015-04-11","Lake Erie","Adirondack",1075,"R","7:00 pm EDT ","Glens Falls Civic Center Glens Falls, NY"]
[null,null,null,null,null,null,null,null,null,null,null,null,null,null,null,"N",null,1014548,"2015-04-12","Lake Erie","Adirondack",1089,"R","5:00 pm EDT ","Glens Falls Civic Center Glens Falls, NY"]
[null,null,null,null,null,null,null,null,null,null,null,null,null,null,null,"N",null,1014563,"2015-04-16","Lake Erie","Grand Rapids",1104,"H","7:00 pm EDT ","Quicken Loans Arena Cleveland, OH"]
[null,null,null,null,null,null,null,null,null,null,null,null,null,null,null,"N",null,1014567,"2015-04-17","Lake Erie","Hamilton",1108,"H","7:30 pm EDT ","Quicken Loans Arena Cleveland, OH"]
[null,null,null,null,null,null,null,null,null,null,null,null,null,null,null,"N",null,1014584,"2015-04-18","Lake Erie","Hamilton",1125,"R","7:00 pm EDT ","FirstOntario Centre Hamilton, ON"]
[null,null,null,null,null,null,null,null,null,null,null,null,null,null,1013478,"",null,1013478,"2014-10-11","Lehigh Valley","W-B/Scranton",19,"R","7:05 pm EDT ","Mohegan Sun Arena at Casey Plaza Wilkes-Barre, PA"]
[null,null,null,null,null,null,null,null,null,null,null,null,null,null,1013492,"",null,1013492,"2014-10-17","Lehigh Valley","Adirondack",33,"H","7:05 pm EDT ","PPL Center Allentown, PA"]
[null,null,null,null,null,null,null,null,null,null,null,null,null,null,1013499,"",null,1013499,"2014-10-18","Lehigh Valley","Adirondack",40,"R","7:00 pm EDT ","Glens Falls Civic Center Glens Falls, NY"]
[null,null,null,null,null,null,null,null,null,null,null,null,null,null,1013528,"",null,1013528,"2014-10-24","Lehigh Valley","Hershey",69,"H","7:05 pm EDT ","PPL Center Allentown, PA"]
[null,null,null,null,null,null,null,null,null,null,null,null,null,null,1013539,"",null,1013539,"2014-10-25","Lehigh Valley","Binghamton",80,"R","7:05 pm EDT ","Floyd L. Maines Veterans Memorial Arena Binghamton, NY"]
[null,null,null,null,null,null,null,null,null,null,null,null,null,null,null,"N",null,1013869,"2014-12-19","Hershey","Lehigh Valley",410,"R","7:05 pm EST ","PPL Center Allentown, PA"]
[null,null,null,null,null,null,null,null,null,null,null,null,null,null,1013562,"",null,1013562,"2014-10-29","Lehigh Valley","W-B/Scranton",103,"H","7:05 pm EDT ","PPL Center Allentown, PA"]
[null,null,null,null,null,null,null,null,null,null,null,null,null,null,1013581,"",null,1013581,"1'1 - 1","Lehigh Valley","Hartford",122,"H","7:05 pm EDT ","PPL Center Allentown, PA"]
[null,null,null,null,null,null,null,null,null,null,null,null,null,null,1013605,"",null,1013605,"1'1 - 5","Lehigh Valley","Worcester",146,"R","7:00 pm EST ","DCU Center Worcester, MA"]
[null,null,null,null,null,null,null,null,null,null,null,null,null,null,1013609,"",null,1013609,"2014-11-07","Lehigh Valley","Manchester",150,"R","7:00 pm EST ","Verizon Wireless Arena Manchester, NH"]
[null,null,null,null,null,null,null,null,null,null,null,null,null,null,null,"N",null,1013877,"2014-12-20","Binghamton","W-B/Scranton",418,"H","7:05 pm EST ","Floyd L. Maines Veterans Memorial Arena Binghamton, NY"]
[null,null,null,null,null,null,null,null,null,null,null,null,null,null,1013660,"",null,1013660,"2014-11-14","Lehigh Valley","W-B/Scranton",201,"R","7:05 pm EST ","Mohegan Sun Arena at Casey Plaza Wilkes-Barre, PA"]
[null,null,null,null,null,null,null,null,null,null,null,null,null,null,1013666,"",null,1013666,"2014-11-15","Lehigh Valley","Toronto",207,"H","7:05 pm EST ","PPL Center Allentown, PA"]
[null,null,null,null,null,null,null,null,null,null,null,null,null,null,1013686,"",null,1013686,"2014-11-19","Lehigh Valley","Hershey",227,"H","7:05 pm EST ","PPL Center Allentown, PA"]
[null,null,null,null,null,null,null,null,null,null,null,null,null,null,1013696,"",null,1013696,"2014-11-21","Lehigh Valley","Worcester",237,"H","7:05 pm EST ","PPL Center Allentown, PA"]
[null,null,null,null,null,null,null,null,null,null,null,null,null,null,1013711,"",null,1013711,"2014-11-22","Lehigh Valley","St. John's",252,"H","7:05 pm EST ","PPL Center Allentown, PA"]
[null,null,null,null,null,null,null,null,null,null,null,null,null,null,1013729,"",null,1013729,"2014-11-26","Lehigh Valley","Springfield",270,"H","7:05 pm EST ","PPL Center Allentown, PA"]
[null,null,null,null,null,null,null,null,null,null,null,null,null,null,1013737,"",null,1013737,"2014-11-28","Lehigh Valley","Albany",278,"R","7:00 pm EST *","Boardwalk Hall Atlantic City, NJ"]
[null,null,null,null,null,null,null,null,null,null,null,null,null,null,1013756,"",null,1013756,"2014-11-29","Lehigh Valley","Norfolk",297,"H","7:05 pm EST ","PPL Center Allentown, PA"]
[null,null,null,null,null,null,null,null,null,null,null,null,null,null,1013786,"",null,1013786,"1'2 - 5","Lehigh Valley","W-B/Scranton",327,"R","7:05 pm EST ","Mohegan Sun Arena at Casey Plaza Wilkes-Barre, PA"]
[null,null,null,null,null,null,null,null,null,null,null,null,null,null,1013791,"",null,1013791,"2014-12-06","Lehigh Valley","Bridgeport",332,"H","7:05 pm EST ","PPL Center Allentown, PA"]
[null,null,null,null,null,null,null,null,null,null,null,null,null,null,1013800,"",null,1013800,"2014-12-07","Lehigh Valley","Bridgeport",341,"R","3:00 pm EST ","Webster Bank Arena Bridgeport, CT"]
[null,null,null,null,null,null,null,null,null,null,null,null,null,null,1013823,"",null,1013823,"2014-12-12","Lehigh Valley","Binghamton",364,"R","7:05 pm EST ","Floyd L. Maines Veterans Memorial Arena Binghamton, NY"]
[null,null,null,null,null,null,null,null,null,null,null,null,null,null,1013838,"",null,1013838,"2014-12-13","Lehigh Valley","W-B/Scranton",379,"H","7:05 pm EST ","PPL Center Allentown, PA"]
[null,null,null,null,null,null,null,null,null,null,null,null,null,null,1013847,"",null,1013847,"2014-12-14","Lehigh Valley","Albany",388,"R","3:00 pm EST *","Boardwalk Hall Atlantic City, NJ"]
[null,null,null,null,null,null,null,null,null,null,null,null,null,null,1013859,"",null,1013859,"2014-12-17","Lehigh Valley","Binghamton",400,"H","7:05 pm EST ","PPL Center Allentown, PA"]
[null,null,null,null,null,null,null,null,null,null,null,null,null,null,1013869,"",null,1013869,"2014-12-19","Lehigh Valley","Hershey",410,"H","7:05 pm EST ","PPL Center Allentown, PA"]
[null,null,null,null,null,null,null,null,null,null,null,null,null,null,1013879,"",null,1013879,"2014-12-20","Lehigh Valley","Hartford",420,"R","5:00 pm EST ","XL Center Hartford, CT"]
[null,null,null,null,null,null,null,null,null,null,null,null,null,null,1013899,"",null,1013899,"2014-12-26","Lehigh Valley","Hershey",440,"R","7:00 pm EST ","Giant Center Hershey, PA"]
[null,null,null,null,null,null,null,null,null,null,null,null,null,null,1013913,"",null,1013913,"2014-12-27","Lehigh Valley","Norfolk",454,"H","7:05 pm EST ","PPL Center Allentown, PA"]
[null,null,null,null,null,null,null,null,null,null,null,null,null,null,1013936,"",null,1013936,"2014-12-31","Lehigh Valley","Binghamton",477,"R","6:05 pm EST ","Floyd L. Maines Veterans Memorial Arena Binghamton, NY"]
[null,null,null,null,null,null,null,null,null,null,null,null,null,null,1013950,"",null,1013950,"2015-01-02","Lehigh Valley","Norfolk",491,"R","7:30 pm EST ","Norfolk Scope Norfolk, VA"]
[null,null,null,null,null,null,null,null,null,null,null,null,null,null,1013966,"",null,1013966,"2015-01-03","Lehigh Valley","Norfolk",507,"R","7:15 pm EST ","Norfolk Scope Norfolk, VA"]
[null,null,null,null,null,null,null,null,null,null,null,null,null,null,1014005,"",null,1014005,"2015-01-10","Lehigh Valley","St. John's",546,"R","7:30 pm NST ","Mile One Centre St. John's, NL"]
[null,null,null,null,null,null,null,null,null,null,null,null,null,null,1014016,"",null,1014016,"2015-01-11","Lehigh Valley","St. John's",557,"R","4:00 pm NST ","Mile One Centre St. John's, NL"]
[null,null,null,null,null,null,null,null,null,null,null,null,null,null,1014030,"",null,1014030,"2015-01-16","Lehigh Valley","Albany",571,"H","7:05 pm EST ","PPL Center Allentown, PA"]
[null,null,null,null,null,null,null,null,null,null,null,null,null,null,1014044,"",null,1014044,"2015-01-17","Lehigh Valley","Binghamton",585,"H","7:05 pm EST ","PPL Center Allentown, PA"]
[null,null,null,null,null,null,null,null,null,null,null,null,null,null,1014052,"",null,1014052,"2015-01-18","Lehigh Valley","Hershey",593,"R","5:00 pm EST ","Giant Center Hershey, PA"]
[null,null,null,null,null,null,null,null,null,null,null,null,null,null,1014063,"",null,1014063,"2015-01-21","Lehigh Valley","Hershey",604,"H","7:05 pm EST ","PPL Center Allentown, PA"]
[null,null,null,null,null,null,null,null,null,null,null,null,null,null,1014081,"",null,1014081,"2015-01-23","Lehigh Valley","Syracuse",622,"R","7:00 pm EST ","Onondaga County War Memorial Arena Syracuse, NY"]
[null,null,null,null,null,null,null,null,null,null,null,null,null,null,1014090,"",null,1014090,"2015-01-24","Lehigh Valley","St. John's",631,"H","7:05 pm EST ","PPL Center Allentown, PA"]
[null,null,null,null,null,null,null,null,null,null,null,null,null,null,1014098,"",null,1014098,"2015-01-29","Lehigh Valley","Albany",639,"H","7:05 pm EST ","PPL Center Allentown, PA"]
[null,null,null,null,null,null,null,null,null,null,null,null,null,null,1014104,"",null,1014104,"2015-01-30","Lehigh Valley","Hershey",645,"H","7:05 pm EST ","PPL Center Allentown, PA"]
[null,null,null,null,null,null,null,null,null,null,null,null,null,null,1014126,"",null,1014126,"2015-01-31","Lehigh Valley","W-B/Scranton",667,"R","7:05 pm EST ","Mohegan Sun Arena at Casey Plaza Wilkes-Barre, PA"]
[null,null,null,null,null,null,null,null,null,null,null,null,null,null,1014134,"",null,1014134,"2015-02-04","Lehigh Valley","Worcester",675,"H","7:05 pm EST ","PPL Center Allentown, PA"]
[null,null,null,null,null,null,null,null,null,null,null,null,null,null,1014152,"",null,1014152,"2015-02-07","Lehigh Valley","Binghamton",693,"R","7:05 pm EST ","Floyd L. Maines Veterans Memorial Arena Binghamton, NY"]
[null,null,null,null,null,null,null,null,null,null,null,null,null,null,1014166,"",null,1014166,"2015-02-08","Lehigh Valley","Hershey",707,"R","5:00 pm EST ","Giant Center Hershey, PA"]
[null,null,null,null,null,null,null,null,null,null,null,null,null,null,1014186,"",null,1014186,"2015-02-13","Lehigh Valley","Binghamton",727,"H","7:05 pm EST ","PPL Center Allentown, PA"]
[null,null,null,null,null,null,null,null,null,null,null,null,null,null,1014203,"",null,1014203,"2015-02-14","Lehigh Valley","W-B/Scranton",744,"R","7:05 pm EST ","Mohegan Sun Arena at Casey Plaza Wilkes-Barre, PA"]
[null,null,null,null,null,null,null,null,null,null,null,null,null,null,1014212,"",null,1014212,"2015-02-15","Lehigh Valley","Springfield",753,"R","5:00 pm EST ","MassMutual Center Springfield, MA"]
[null,null,null,null,null,null,null,null,null,null,null,null,null,null,1014222,"",null,1014222,"2015-02-18","Lehigh Valley","Binghamton",763,"H","7:05 pm EST ","PPL Center Allentown, PA"]
[null,null,null,null,null,null,null,null,null,null,null,null,null,null,1014229,{"$f":"IF(O966=R966,\"\",\"N\")","v":""},null,1014229,"2015-02-20","Lehigh Valley","Providence",770,"H","7:05 pm EST ","PPL Center Allentown, PA"]
[null,null,null,null,null,null,null,null,null,null,null,null,null,null,1014241,"",null,1014241,"2015-02-21","Lehigh Valley","Hartford",782,"H","7:05 pm EST ","PPL Center Allentown, PA"]
[null,null,null,null,null,null,null,null,null,null,null,null,null,null,1014286,"",null,1014286,"2015-02-28","Lehigh Valley","Binghamton",827,"H","7:05 pm EST ","PPL Center Allentown, PA"]
[null,null,null,null,null,null,null,null,null,null,null,null,null,null,null,"N",null,1013889,"2014-12-21","Bridgeport","Worcester",430,"H","3:00 pm EST ","Webster Bank Arena Bridgeport, CT"]
[null,null,null,null,null,null,null,null,null,null,null,null,null,null,1014310,"",null,1014310,"2015-03-06","Lehigh Valley","Bridgeport",851,"H","7:05 pm EST ","PPL Center Allentown, PA"]
[null,null,null,null,null,null,null,null,null,null,null,null,null,null,1014323,"",null,1014323,"2015-03-07","Lehigh Valley","Portland",864,"H","7:05 pm EST ","PPL Center Allentown, PA"]
[null,null,null,null,null,null,null,null,null,null,null,null,null,null,1014348,"",null,1014348,"2015-03-11","Lehigh Valley","Toronto",889,"R","7:00 pm EDT ","Ricoh Coliseum Toronto, ON"]
[null,null,null,null,null,null,null,null,null,null,null,null,null,null,1014354,"",null,1014354,"2015-03-13","Lehigh Valley","Providence",895,"R","7:05 pm EDT ","Dunkin' Donuts Center Providence, RI"]
[null,null,null,null,null,null,null,null,null,null,null,null,null,null,1014363,"",null,1014363,"2015-03-14","Lehigh Valley","Bridgeport",904,"R","7:00 pm EDT ","Webster Bank Arena Bridgeport, CT"]
[null,null,null,null,null,null,null,null,null,null,null,null,null,null,1014392,"",null,1014392,"2015-03-20","Lehigh Valley","Hartford",933,"R","7:00 pm EDT ","XL Center Hartford, CT"]
[null,null,null,null,null,null,null,null,null,null,null,null,null,null,1014415,"",null,1014415,"2015-03-21","Lehigh Valley","Worcester",956,"R","7:00 pm EDT ","DCU Center Worcester, MA"]
[null,null,null,null,null,null,null,null,null,null,null,null,null,null,null,"N",null,1013889,"2014-12-21","Worcester","Bridgeport",430,"R","3:00 pm EST ","Webster Bank Arena Bridgeport, CT"]
[null,null,null,null,null,null,null,null,null,null,null,null,null,null,1014430,"",null,1014430,"2015-03-25","Lehigh Valley","Syracuse",971,"H","7:05 pm EDT ","PPL Center Allentown, PA"]
[null,null,null,null,null,null,null,null,null,null,null,null,null,null,1014455,"",null,1014455,"2015-03-28","Lehigh Valley","W-B/Scranton",996,"H","7:05 pm EDT ","PPL Center Allentown, PA"]
[null,null,null,null,null,null,null,null,null,null,null,null,null,null,1014467,"",null,1014467,"2015-03-29","Lehigh Valley","Manchester",1008,"H","3:05 pm EDT ","PPL Center Allentown, PA"]
[null,null,null,null,null,null,null,null,null,null,null,null,null,null,1014476,"",null,1014476,"2015-04-01","Lehigh Valley","Norfolk",1017,"R","7:15 pm EDT ","Norfolk Scope Norfolk, VA"]
[null,null,null,null,null,null,null,null,null,null,null,null,null,null,null,"N",null,1014485,"2015-04-03","Lehigh Valley","Binghamton",1026,"R","7:05 pm EDT ","Floyd L. Maines Veterans Memorial Arena Binghamton, NY"]
[null,null,null,null,null,null,null,null,null,null,null,null,null,null,null,"N",null,1014508,"2015-04-04","Lehigh Valley","W-B/Scranton",1049,"R","7:05 pm EDT ","Mohegan Sun Arena at Casey Plaza Wilkes-Barre, PA"]
[null,null,null,null,null,null,null,null,null,null,null,null,null,null,null,"N",null,1014518,"2015-04-08","Lehigh Valley","W-B/Scranton",1059,"H","7:05 pm EDT ","PPL Center Allentown, PA"]
[null,null,null,null,null,null,null,null,null,null,null,null,null,null,null,"N",null,1014524,"2015-04-10","Lehigh Valley","Norfolk",1065,"H","7:05 pm EDT ","PPL Center Allentown, PA"]
[null,null,null,null,null,null,null,null,null,null,null,null,null,null,null,"N",null,1014540,"2015-04-11","Lehigh Valley","Norfolk",1081,"H","7:05 pm EDT ","PPL Center Allentown, PA"]
[null,null,null,null,null,null,null,null,null,null,null,null,null,null,null,"N",null,1014557,"2015-04-14","Lehigh Valley","Hershey",1098,"H","7:05 pm EDT ","PPL Center Allentown, PA"]
[null,null,null,null,null,null,null,null,null,null,null,null,null,null,null,"N",null,1014570,"2015-04-17","Lehigh Valley","Norfolk",1111,"R","7:30 pm EDT ","Norfolk Scope Norfolk, VA"]
[null,null,null,null,null,null,null,null,null,null,null,null,null,null,null,"N",null,1014585,"2015-04-18","Lehigh Valley","Hershey",1126,"R","7:00 pm EDT ","Giant Center Hershey, PA"]
[null,null,null,null,null,null,null,null,null,null,null,null,null,null,null,"N",null,1014597,"2015-04-19","Lehigh Valley","W-B/Scranton",1138,"H","5:05 pm EDT ","PPL Center Allentown, PA"]
[null,null,null,null,null,null,null,null,null,null,null,null,null,null,1013483,"",null,1013483,"2014-10-12","Manchester","W-B/Scranton",24,"R","4:05 pm EDT ","Mohegan Sun Arena at Casey Plaza Wilkes-Barre, PA"]
[null,null,null,null,null,null,null,null,null,null,null,null,null,null,1013493,"",null,1013493,"2014-10-17","Manchester","Norfolk",34,"R","7:30 pm EDT ","Norfolk Scope Norfolk, VA"]
[null,null,null,null,null,null,null,null,null,null,null,null,null,null,1013506,"",null,1013506,"2014-10-18","Manchester","Norfolk",47,"R","7:15 pm EDT ","Norfolk Scope Norfolk, VA"]
[null,null,null,null,null,null,null,null,null,null,null,null,null,null,1013529,"",null,1013529,"2014-10-24","Manchester","Portland",70,"H","7:00 pm EDT ","Verizon Wireless Arena Manchester, NH"]
[null,null,null,null,null,null,null,null,null,null,null,null,null,null,null,"N",null,1013896,"2014-12-26","W-B/Scranton","Binghamton",437,"R","7:05 pm EST ","Floyd L. Maines Veterans Memorial Arena Binghamton, NY"]
[null,null,null,null,null,null,null,null,null,null,null,null,null,null,null,"N",null,1013897,"2014-12-26","Providence","Bridgeport",438,"R","7:00 pm EST ","Webster Bank Arena Bridgeport, CT"]
[null,null,null,null,null,null,null,null,null,null,null,null,null,null,1013582,"",null,1013582,"1'1 - 1","Manchester","St. John's",123,"H","7:00 pm EDT ","Verizon Wireless Arena Manchester, NH"]
[null,null,null,null,null,null,null,null,null,null,null,null,null,null,1013593,"",null,1013593,"1'1 - 2","Manchester","Hershey",134,"H","3:00 pm EST ","Verizon Wireless Arena Manchester, NH"]
[null,null,null,null,null,null,null,null,null,null,null,null,null,null,1013609,"",null,1013609,"2014-11-07","Manchester","Lehigh Valley",150,"H","7:00 pm EST ","Verizon Wireless Arena Manchester, NH"]
[null,null,null,null,null,null,null,null,null,null,null,null,null,null,1013623,"",null,1013623,"2014-11-08","Manchester","Springfield",164,"H","7:00 pm EST ","Verizon Wireless Arena Manchester, NH"]
[null,null,null,null,null,null,null,null,null,null,null,null,null,null,1013640,"",null,1013640,"2014-11-11","Manchester","Portland",181,"R","7:00 pm EST ","Cross Insurance Arena Portland, ME"]
[null,null,null,null,null,null,null,null,null,null,null,null,null,null,1013661,"",null,1013661,"2014-11-14","Manchester","Worcester",202,"R","7:30 pm EST ","DCU Center Worcester, MA"]
[null,null,null,null,null,null,null,null,null,null,null,null,null,null,1013667,"",null,1013667,"2014-11-15","Manchester","Providence",208,"H","7:00 pm EST ","Verizon Wireless Arena Manchester, NH"]
[null,null,null,null,null,null,null,null,null,null,null,null,null,null,1013677,"",null,1013677,"2014-11-16","Manchester","Hartford",218,"R","3:00 pm EST ","XL Center Hartford, CT"]
[null,null,null,null,null,null,null,null,null,null,null,null,null,null,1013687,"",null,1013687,"2014-11-19","Manchester","Worcester",228,"H","10:00 am EST ","Verizon Wireless Arena Manchester, NH"]
[null,null,null,null,null,null,null,null,null,null,null,null,null,null,1013693,"",null,1013693,"2014-11-21","Manchester","Binghamton",234,"R","7:05 pm EST ","Floyd L. Maines Veterans Memorial Arena Binghamton, NY"]
[null,null,null,null,null,null,null,null,null,null,null,null,null,null,1013717,"",null,1013717,"2014-11-22","Manchester","W-B/Scranton",258,"R","7:05 pm EST ","Mohegan Sun Arena at Casey Plaza Wilkes-Barre, PA"]
[null,null,null,null,null,null,null,null,null,null,null,null,null,null,1013740,"",null,1013740,"2014-11-28","Manchester","Bridgeport",281,"H","7:00 pm EST ","Verizon Wireless Arena Manchester, NH"]
[null,null,null,null,null,null,null,null,null,null,null,null,null,null,1013758,"",null,1013758,"2014-11-29","Manchester","Springfield",299,"R","7:00 pm EST ","MassMutual Center Springfield, MA"]
[null,null,null,null,null,null,null,null,null,null,null,null,null,null,1013779,"",null,1013779,"1'2 - 5","Manchester","Portland",320,"R","7:00 pm EST ","Cross Insurance Arena Portland, ME"]
[null,null,null,null,null,null,null,null,null,null,null,null,null,null,1013792,"",null,1013792,"2014-12-06","Manchester","Norfolk",333,"H","7:00 pm EST ","Verizon Wireless Arena Manchester, NH"]
[null,null,null,null,null,null,null,null,null,null,null,null,null,null,1013804,"",null,1013804,"2014-12-07","Manchester","Norfolk",345,"H","3:00 pm EST ","Verizon Wireless Arena Manchester, NH"]
[null,null,null,null,null,null,null,null,null,null,null,null,null,null,1013831,"",null,1013831,"2014-12-12","Manchester","Portland",372,"R","7:00 pm EST ","Cross Insurance Arena Portland, ME"]
[null,null,null,null,null,null,null,null,null,null,null,null,null,null,1013846,"",null,1013846,"2014-12-13","Manchester","Worcester",387,"R","7:00 pm EST ","DCU Center Worcester, MA"]
[null,null,null,null,null,null,null,null,null,null,null,null,null,null,1013850,"",null,1013850,"2014-12-14","Manchester","Providence",391,"R","3:05 pm EST ","Dunkin' Donuts Center Providence, RI"]
[null,null,null,null,null,null,null,null,null,null,null,null,null,null,1013860,"",null,1013860,"2014-12-17","Manchester","Portland",401,"R","7:00 pm EST ","Cross Insurance Arena Portland, ME"]
[null,null,null,null,null,null,null,null,null,null,null,null,null,null,1013870,"",null,1013870,"2014-12-19","Manchester","Worcester",411,"H","7:00 pm EST ","Verizon Wireless Arena Manchester, NH"]
[null,null,null,null,null,null,null,null,null,null,null,null,null,null,1013882,"",null,1013882,"2014-12-20","Manchester","Providence",423,"H","7:00 pm EST ","Verizon Wireless Arena Manchester, NH"]
[null,null,null,null,null,null,null,null,null,null,null,null,null,null,1013907,"",null,1013907,"2014-12-26","Manchester","Worcester",448,"R","5:00 pm EST ","DCU Center Worcester, MA"]
[null,null,null,null,null,null,null,null,null,null,null,null,null,null,1013914,"",null,1013914,"2014-12-27","Manchester","Providence",455,"H","3:00 pm EST ","Verizon Wireless Arena Manchester, NH"]
[null,null,null,null,null,null,null,null,null,null,null,null,null,null,null,"N",null,1013905,"2014-12-26","Hamilton","Toronto",446,"R","1:00 pm EST ","Ricoh Coliseum Toronto, ON"]
[null,null,null,null,null,null,null,null,null,null,null,null,null,null,1013938,"",null,1013938,"2014-12-31","Manchester","St. John's",479,"H","7:00 pm EST ","Verizon Wireless Arena Manchester, NH"]
[null,null,null,null,null,null,null,null,null,null,null,null,null,null,1013956,"",null,1013956,"2015-01-02","Manchester","Worcester",497,"R","7:30 pm EST ","DCU Center Worcester, MA"]
[null,null,null,null,null,null,null,null,null,null,null,null,null,null,1013974,"",null,1013974,"2015-01-04","Manchester","Springfield",515,"R","3:00 pm EST ","MassMutual Center Springfield, MA"]
[null,null,null,null,null,null,null,null,null,null,null,null,null,null,null,"N",null,1013910,"2014-12-27","Hamilton","Adirondack",451,"H","7:00 pm EST ","FirstOntario Centre Hamilton, ON"]
[null,null,null,null,null,null,null,null,null,null,null,null,null,null,1013982,"",null,1013982,"2015-01-07","Manchester","St. John's",523,"R","7:30 pm NST ","Mile One Centre St. John's, NL"]
[null,null,null,null,null,null,null,null,null,null,null,null,null,null,1014000,"",null,1014000,"2015-01-10","Manchester","Binghamton",541,"H","7:00 pm EST ","Verizon Wireless Arena Manchester, NH"]
[null,null,null,null,null,null,null,null,null,null,null,null,null,null,1014019,"",null,1014019,"2015-01-13","Manchester","Worcester",560,"R","7:00 pm EST ","DCU Center Worcester, MA"]
[null,null,null,null,null,null,null,null,null,null,null,null,null,null,1014037,"",null,1014037,"2015-01-16","Manchester","Worcester",578,"R","7:30 pm EST ","DCU Center Worcester, MA"]
[null,null,null,null,null,null,null,null,null,null,null,null,null,null,1014045,{"$f":"IF(O1030=R1030,\"\",\"N\")","v":""},null,1014045,"2015-01-17","Manchester","Providence",586,"H","7:00 pm EST ","Verizon Wireless Arena Manchester, NH"]
[null,null,null,null,null,null,null,null,null,null,null,null,null,null,1014054,"",null,1014054,"2015-01-18","Manchester","Worcester",595,"H","3:00 pm EST ","Verizon Wireless Arena Manchester, NH"]
[null,null,null,null,null,null,null,null,null,null,null,null,null,null,1014079,"",null,1014079,"2015-01-23","Manchester","Providence",620,"R","7:05 pm EST ","Dunkin' Donuts Center Providence, RI"]
[null,null,null,null,null,null,null,null,null,null,null,null,null,null,1014105,"",null,1014105,"2015-01-30","Manchester","Portland",646,"H","7:00 pm EST ","Verizon Wireless Arena Manchester, NH"]
[null,null,null,null,null,null,null,null,null,null,null,null,null,null,1014135,"",null,1014135,"2015-02-04","Manchester","Albany",676,"H","7:00 pm EST ","Verizon Wireless Arena Manchester, NH"]
[null,null,null,null,null,null,null,null,null,null,null,null,null,null,1014147,"",null,1014147,"2015-02-06","Manchester","Providence",688,"R","7:05 pm EST ","Dunkin' Donuts Center Providence, RI"]
[null,null,null,null,null,null,null,null,null,null,null,null,null,null,1014158,"",null,1014158,"2015-02-07","Manchester","Providence",699,"H","7:00 pm EST ","Verizon Wireless Arena Manchester, NH"]
[null,null,null,null,null,null,null,null,null,null,null,null,null,null,1014187,"",null,1014187,"2015-02-13","Manchester","Springfield",728,"H","7:00 pm EST ","Verizon Wireless Arena Manchester, NH"]
[null,null,null,null,null,null,null,null,null,null,null,null,null,null,1014197,"",null,1014197,"2015-02-14","Manchester","Bridgeport",738,"H","3:00 pm EST ","Verizon Wireless Arena Manchester, NH"]
[null,null,null,null,null,null,null,null,null,null,null,null,null,null,1014210,"",null,1014210,"2015-02-15","Manchester","Providence",751,"R","3:05 pm EST ","Dunkin' Donuts Center Providence, RI"]
[null,null,null,null,null,null,null,null,null,null,null,null,null,null,1014230,"",null,1014230,"2015-02-20","Manchester","St. John's",771,"H","7:00 pm EST ","Verizon Wireless Arena Manchester, NH"]
[null,null,null,null,null,null,null,null,null,null,null,null,null,null,1014242,"",null,1014242,"2015-02-21","Manchester","St. John's",783,"H","7:00 pm EST ","Verizon Wireless Arena Manchester, NH"]
[null,null,null,null,null,null,null,null,null,null,null,null,null,null,null,"N",null,1013920,"2014-12-27","W-B/Scranton","Bridgeport",461,"H","7:05 pm EST ","Mohegan Sun Arena at Casey Plaza Wilkes-Barre, PA"]
[null,null,null,null,null,null,null,null,null,null,null,null,null,null,1014270,"",null,1014270,"2015-02-27","Manchester","Hartford",811,"H","7:00 pm EST ","Verizon Wireless Arena Manchester, NH"]
[null,null,null,null,null,null,null,null,null,null,null,null,null,null,1014289,"",null,1014289,"2015-02-28","Manchester","Portland",830,"R","7:00 pm EST ","Cross Insurance Arena Portland, ME"]
[null,null,null,null,null,null,null,null,null,null,null,null,null,null,1014298,"",null,1014298,"2015-03-01","Manchester","Worcester",839,"H","3:00 pm EST ","Verizon Wireless Arena Manchester, NH"]
[null,null,null,null,null,null,null,null,null,null,null,null,null,null,1014311,"",null,1014311,"2015-03-06","Manchester","W-B/Scranton",852,"H","7:00 pm EST ","Verizon Wireless Arena Manchester, NH"]
[null,null,null,null,null,null,null,null,null,null,null,null,null,null,null,"N",null,1013921,"2014-12-28","Manchester","Portland",462,"H","3:00 pm EST ","Verizon Wireless Arena Manchester, NH"]
[null,null,null,null,null,null,null,null,null,null,null,null,null,null,1014335,"",null,1014335,"2015-03-08","Manchester","Hartford",876,"H","3:00 pm EDT ","Verizon Wireless Arena Manchester, NH"]
[null,null,null,null,null,null,null,null,null,null,null,null,null,null,1014346,"",null,1014346,"2015-03-11","Manchester","St. John's",887,"R","7:30 pm NDT ","Mile One Centre St. John's, NL"]
[null,null,null,null,null,null,null,null,null,null,null,null,null,null,1014358,"",null,1014358,"2015-03-13","Manchester","St. John's",899,"R","7:30 pm NDT ","Mile One Centre St. John's, NL"]
[null,null,null,null,null,null,null,null,null,null,null,null,null,null,1014370,"",null,1014370,"2015-03-14","Manchester","St. John's",911,"R","7:30 pm NDT ","Mile One Centre St. John's, NL"]
[null,null,null,null,null,null,null,null,null,null,null,null,null,null,1014395,"",null,1014395,"2015-03-20","Manchester","Providence",936,"R","7:05 pm EDT ","Dunkin' Donuts Center Providence, RI"]
[null,null,null,null,null,null,null,null,null,null,null,null,null,null,1014405,"",null,1014405,"2015-03-21","Manchester","St. John's",946,"H","7:00 pm EDT ","Verizon Wireless Arena Manchester, NH"]
[null,null,null,null,null,null,null,null,null,null,null,null,null,null,1014421,"",null,1014421,"2015-03-22","Manchester","Portland",962,"H","3:00 pm EDT ","Verizon Wireless Arena Manchester, NH"]
[null,null,null,null,null,null,null,null,null,null,null,null,null,null,1014440,"",null,1014440,"2015-03-27","Manchester","Hershey",981,"R","7:00 pm EDT ","Giant Center Hershey, PA"]
[null,null,null,null,null,null,null,null,null,null,null,null,null,null,1014453,"",null,1014453,"2015-03-28","Manchester","Hershey",994,"R","7:00 pm EDT ","Giant Center Hershey, PA"]
[null,null,null,null,null,null,null,null,null,null,null,null,null,null,1014467,"",null,1014467,"2015-03-29","Manchester","Lehigh Valley",1008,"R","3:05 pm EDT ","PPL Center Allentown, PA"]
[null,null,null,null,null,null,null,null,null,null,null,null,null,null,1014471,"",null,1014471,"2015-04-01","Manchester","Albany",1012,"R","7:00 pm EDT ","Times Union Center Albany, NY"]
[null,null,null,null,null,null,null,null,null,null,null,null,null,null,null,"N",null,1014492,"2015-04-03","Manchester","Portland",1033,"R","7:00 pm EDT ","Cross Insurance Arena Portland, ME"]
[null,null,null,null,null,null,null,null,null,null,null,null,null,null,null,"N",null,1014502,"2015-04-04","Manchester","Hartford",1043,"R","7:00 pm EDT ","XL Center Hartford, CT"]
[null,null,null,null,null,null,null,null,null,null,null,null,null,null,null,"N",null,1014525,"2015-04-10","Manchester","Portland",1066,"H","7:00 pm EDT ","Verizon Wireless Arena Manchester, NH"]
[null,null,null,null,null,null,null,null,null,null,null,null,null,null,null,"N",null,1014536,"2015-04-11","Manchester","Bridgeport",1077,"R","7:00 pm EDT ","Webster Bank Arena Bridgeport, CT"]
[null,null,null,null,null,null,null,null,null,null,null,null,null,null,null,"N",null,1014549,"2015-04-12","Manchester","Bridgeport",1090,"R","3:00 pm EDT ","Webster Bank Arena Bridgeport, CT"]
[null,null,null,null,null,null,null,null,null,null,null,null,null,null,null,"N",null,1014568,"2015-04-17","Manchester","Portland",1109,"H","7:00 pm EDT ","Verizon Wireless Arena Manchester, NH"]
[null,null,null,null,null,null,null,null,null,null,null,null,null,null,null,"N",null,1014586,"2015-04-18","Manchester","Worcester",1127,"H","7:00 pm EDT ","Verizon Wireless Arena Manchester, NH"]
[null,null,null,null,null,null,null,null,null,null,null,null,null,null,null,"N",null,1014598,"2015-04-19","Manchester","Providence",1139,"R","3:05 pm EDT ","Dunkin' Donuts Center Providence, RI"]
[null,null,null,null,null,null,null,null,null,null,null,null,null,null,1013461,"",null,1013461,"2014-10-10","Milwaukee","Charlotte",2,"H","7:00 pm CDT ","BMO Harris Bradley Center Milwaukee, WI"]
[null,null,null,null,null,null,null,null,null,null,null,null,null,null,1013473,"",null,1013473,"2014-10-11","Milwaukee","Rockford",14,"R","7:00 pm CDT ","BMO Harris Bank Center Rockford, IL"]
[null,null,null,null,null,null,null,null,null,null,null,null,null,null,1013491,"",null,1013491,"2014-10-17","Milwaukee","Iowa",32,"R","7:00 pm CDT ","Wells Fargo Arena Des Moines, IA"]
[null,null,null,null,null,null,null,null,null,null,null,null,null,null,1013505,"",null,1013505,"2014-10-18","Milwaukee","Iowa",46,"R","7:00 pm CDT ","Wells Fargo Arena Des Moines, IA"]
[null,null,null,null,null,null,null,null,null,null,null,null,null,null,1013524,"",null,1013524,"2014-10-24","Milwaukee","Chicago",65,"R","7:00 pm CDT ","Allstate Arena Rosemont, IL"]
[null,null,null,null,null,null,null,null,null,null,null,null,null,null,1013544,"",null,1013544,"2014-10-25","Milwaukee","Lake Erie",85,"H","7:00 pm CDT ","BMO Harris Bradley Center Milwaukee, WI"]
[null,null,null,null,null,null,null,null,null,null,null,null,null,null,1013563,"",null,1013563,"2014-10-29","Milwaukee","Iowa",104,"H","7:00 pm CDT ","BMO Harris Bradley Center Milwaukee, WI"]
[null,null,null,null,null,null,null,null,null,null,null,null,null,null,1013579,"",null,1013579,"1'1 - 1","Milwaukee","Chicago",120,"R","7:00 pm CDT ","Allstate Arena Rosemont, IL"]
[null,null,null,null,null,null,null,null,null,null,null,null,null,null,1013594,"",null,1013594,"1'1 - 2","Milwaukee","Chicago",135,"H","3:00 pm CST ","BMO Harris Bradley Center Milwaukee, WI"]
[null,null,null,null,null,null,null,null,null,null,null,null,null,null,1013610,"",null,1013610,"2014-11-07","Milwaukee","Grand Rapids",151,"H","7:00 pm CST ","BMO Harris Bradley Center Milwaukee, WI"]
[null,null,null,null,null,null,null,null,null,null,null,null,null,null,1013644,"",null,1013644,"2014-11-12","Milwaukee","Iowa",185,"H","7:00 pm CST ","BMO Harris Bradley Center Milwaukee, WI"]
[null,null,null,null,null,null,null,null,null,null,null,null,null,null,1013655,"",null,1013655,"2014-11-14","Milwaukee","Rockford",196,"R","7:00 pm CST ","BMO Harris Bank Center Rockford, IL"]
[null,null,null,null,null,null,null,null,null,null,null,null,null,null,1013668,"",null,1013668,"2014-11-15","Milwaukee","Rockford",209,"H","7:00 pm CST ","BMO Harris Bradley Center Milwaukee, WI"]
[null,null,null,null,null,null,null,null,null,null,null,null,null,null,1013697,"",null,1013697,"2014-11-21","Milwaukee","Chicago",238,"H","7:00 pm CST ","BMO Harris Bradley Center Milwaukee, WI"]
[null,null,null,null,null,null,null,null,null,null,null,null,null,null,1013714,"",null,1013714,"2014-11-22","Milwaukee","Rockford",255,"R","7:00 pm CST ","BMO Harris Bank Center Rockford, IL"]
[null,null,null,null,null,null,null,null,null,null,null,null,null,null,1013721,"",null,1013721,"2014-11-23","Milwaukee","Iowa",262,"R","5:00 pm CST ","Wells Fargo Arena Des Moines, IA"]
[null,null,null,null,null,null,null,null,null,null,null,null,null,null,1013730,"",null,1013730,"2014-11-26","Milwaukee","Chicago",271,"H","7:00 pm CST ","BMO Harris Bradley Center Milwaukee, WI"]
[null,null,null,null,null,null,null,null,null,null,null,null,null,null,1013752,"",null,1013752,"2014-11-29","Milwaukee","Charlotte",293,"R","7:00 pm EST ","Time Warner Cable Arena Charlotte, NC"]
[null,null,null,null,null,null,null,null,null,null,null,null,null,null,1013763,"",null,1013763,"2014-11-30","Milwaukee","Charlotte",304,"R","1:00 pm EST ","Time Warner Cable Arena Charlotte, NC"]
[null,null,null,null,null,null,null,null,null,null,null,null,null,null,null,"N",null,1013926,"2014-12-28","Adirondack","Toronto",467,"R","3:00 pm EST ","Ricoh Coliseum Toronto, ON"]
[null,null,null,null,null,null,null,null,null,null,null,null,null,null,1013793,"",null,1013793,"2014-12-06","Milwaukee","Oklahoma City",334,"H","7:00 pm CST ","BMO Harris Bradley Center Milwaukee, WI"]
[null,null,null,null,null,null,null,null,null,null,null,null,null,null,1013805,"",null,1013805,"2014-12-07","Milwaukee","Grand Rapids",346,"H","3:00 pm CST ","BMO Harris Bradley Center Milwaukee, WI"]
[null,null,null,null,null,null,null,null,null,null,null,null,null,null,1013815,"",null,1013815,"2014-12-10","Milwaukee","Rockford",356,"H","7:00 pm CST ","BMO Harris Bradley Center Milwaukee, WI"]
[null,null,null,null,null,null,null,null,null,null,null,null,null,null,1013828,"",null,1013828,"2014-12-12","Milwaukee","Adirondack",369,"H","7:00 pm CST ","BMO Harris Bradley Center Milwaukee, WI"]
[null,null,null,null,null,null,null,null,null,null,null,null,null,null,1013856,"",null,1013856,"2014-12-16","Milwaukee","Lake Erie",397,"R","7:00 pm EST ","Quicken Loans Arena Cleveland, OH"]
[null,null,null,null,null,null,null,null,null,null,null,null,null,null,1013863,"",null,1013863,"2014-12-18","Milwaukee","Lake Erie",404,"R","7:00 pm EST ","Quicken Loans Arena Cleveland, OH"]
[null,null,null,null,null,null,null,null,null,null,null,null,null,null,1013886,"",null,1013886,"2014-12-20","Milwaukee","Rochester",427,"R","7:05 pm EST ","Blue Cross Arena Rochester, NY"]
[null,null,null,null,null,null,null,null,null,null,null,null,null,null,1013894,{"$f":"IF(O1094=R1094,\"\",\"N\")","v":""},null,1013894,"2014-12-21","Milwaukee","Toronto",435,"R","3:00 pm EST ","Ricoh Coliseum Toronto, ON"]
[null,null,null,null,null,null,null,null,null,null,null,null,null,null,1013900,"",null,1013900,"2014-12-26","Milwaukee","Chicago",441,"H","7:00 pm CST ","BMO Harris Bradley Center Milwaukee, WI"]
[null,null,null,null,null,null,null,null,null,null,null,null,null,null,1013928,"",null,1013928,"2014-12-29","Milwaukee","Iowa",469,"R","7:00 pm CST ","Wells Fargo Arena Des Moines, IA"]
[null,null,null,null,null,null,null,null,null,null,null,null,null,null,1013932,"",null,1013932,"2014-12-30","Milwaukee","Lake Erie",473,"H","7:00 pm CST ","BMO Harris Bradley Center Milwaukee, WI"]
[null,null,null,null,null,null,null,null,null,null,null,null,null,null,1013947,"",null,1013947,"2015-01-02","Milwaukee","Grand Rapids",488,"R","7:00 pm EST ","Van Andel Arena Grand Rapids, MI"]
[null,null,null,null,null,null,null,null,null,null,null,null,null,null,1013965,"",null,1013965,"2015-01-03","Milwaukee","Hamilton",506,"H","7:00 pm CST ","BMO Harris Bradley Center Milwaukee, WI"]
[null,null,null,null,null,null,null,null,null,null,null,null,null,null,1013983,"",null,1013983,"2015-01-08","Milwaukee","Rockford",524,"H","7:00 pm CST ","BMO Harris Bradley Center Milwaukee, WI"]
[null,null,null,null,null,null,null,null,null,null,null,null,null,null,null,"N",null,1013938,"2014-12-31","St. John's","Manchester",479,"R","7:00 pm EST ","Verizon Wireless Arena Manchester, NH"]
[null,null,null,null,null,null,null,null,null,null,null,null,null,null,1014001,"",null,1014001,"2015-01-10","Milwaukee","Charlotte",542,"H","7:00 pm CST ","BMO Harris Bradley Center Milwaukee, WI"]
[null,null,null,null,null,null,null,null,null,null,null,null,null,null,1014021,"",null,1014021,"2015-01-14","Milwaukee","Hamilton",562,"R","7:30 pm EST ","FirstOntario Centre Hamilton, ON"]
[null,null,null,null,null,null,null,null,null,null,null,null,null,null,1014036,"",null,1014036,"2015-01-16","Milwaukee","Utica",577,"R","7:00 pm EST ","Utica Memorial Auditorium Utica, NY"]
[null,null,null,null,null,null,null,null,null,null,null,null,null,null,1014038,"",null,1014038,"2015-01-17","Milwaukee","Adirondack",579,"R","7:00 pm EST ","Glens Falls Civic Center Glens Falls, NY"]
[null,null,null,null,null,null,null,null,null,null,null,null,null,null,1014064,"",null,1014064,"2015-01-21","Milwaukee","Utica",605,"H","7:00 pm CST ","BMO Harris Bradley Center Milwaukee, WI"]
[null,null,null,null,null,null,null,null,null,null,null,null,null,null,1014076,"",null,1014076,"2015-01-23","Milwaukee","Iowa",617,"H","7:00 pm CST ","BMO Harris Bradley Center Milwaukee, WI"]
[null,null,null,null,null,null,null,null,null,null,null,null,null,null,null,"N",null,1013942,"2014-12-31","Hershey","W-B/Scranton",483,"R","3:05 pm EST ","Mohegan Sun Arena at Casey Plaza Wilkes-Barre, PA"]
[null,null,null,null,null,null,null,null,null,null,null,null,null,null,1014119,"",null,1014119,"2015-01-31","Milwaukee","Grand Rapids",660,"R","7:00 pm EST ","Van Andel Arena Grand Rapids, MI"]
[null,null,null,null,null,null,null,null,null,null,null,null,null,null,1014130,"",null,1014130,"2015-02-03","Milwaukee","Lake Erie",671,"H","7:00 pm CST ","BMO Harris Bradley Center Milwaukee, WI"]
[null,null,null,null,null,null,null,null,null,null,null,null,null,null,1014145,"",null,1014145,"2015-02-06","Milwaukee","Rockford",686,"H","7:00 pm CST ","BMO Harris Bradley Center Milwaukee, WI"]
[null,null,null,null,null,null,null,null,null,null,null,null,null,null,1014160,"",null,1014160,"2015-02-07","Milwaukee","Rockford",701,"R","7:00 pm CST ","BMO Harris Bank Center Rockford, IL"]
[null,null,null,null,null,null,null,null,null,null,null,null,null,null,1014167,"",null,1014167,"2015-02-08","Milwaukee","Rochester",708,"H","3:00 pm CST ","BMO Harris Bradley Center Milwaukee, WI"]
[null,null,null,null,null,null,null,null,null,null,null,null,null,null,1014176,"",null,1014176,"2015-02-11","Milwaukee","Chicago",717,"R","7:00 pm CST ","Allstate Arena Rosemont, IL"]
[null,null,null,null,null,null,null,null,null,null,null,null,null,null,1014188,"",null,1014188,"2015-02-13","Milwaukee","Rockford",729,"H","7:00 pm CST ","BMO Harris Bradley Center Milwaukee, WI"]
[null,null,null,null,null,null,null,null,null,null,null,null,null,null,1014209,"",null,1014209,"2015-02-15","Milwaukee","Lake Erie",750,"H","3:00 pm CST ","BMO Harris Bradley Center Milwaukee, WI"]
[null,null,null,null,null,null,null,null,null,null,null,null,null,null,1014217,"",null,1014217,"2015-02-17","Milwaukee","Lake Erie",758,"H","7:00 pm CST ","BMO Harris Bradley Center Milwaukee, WI"]
[null,null,null,null,null,null,null,null,null,null,null,null,null,null,1014220,"",null,1014220,"2015-02-18","Milwaukee","Grand Rapids",761,"R","7:00 pm EST ","Van Andel Arena Grand Rapids, MI"]
[null,null,null,null,null,null,null,null,null,null,null,null,null,null,1014243,"",null,1014243,"2015-02-21","Milwaukee","Iowa",784,"H","7:00 pm CST ","BMO Harris Bradley Center Milwaukee, WI"]
[null,null,null,null,null,null,null,null,null,null,null,null,null,null,null,"N",null,1013953,"2015-01-02","Iowa","Rochester",494,"R","7:05 pm EST ","Blue Cross Arena Rochester, NY"]
[null,null,null,null,null,null,null,null,null,null,null,null,null,null,1014296,"",null,1014296,"2015-03-01","Milwaukee","Chicago",837,"R","3:00 pm CST ","Allstate Arena Rosemont, IL"]
[null,null,null,null,null,null,null,null,null,null,null,null,null,null,1014304,"",null,1014304,"2015-03-04","Milwaukee","Lake Erie",845,"R","7:00 pm EST ","Quicken Loans Arena Cleveland, OH"]
[null,null,null,null,null,null,null,null,null,null,null,null,null,null,1014312,"",null,1014312,"2015-03-06","Milwaukee","Grand Rapids",853,"H","7:00 pm CST ","BMO Harris Bradley Center Milwaukee, WI"]
[null,null,null,null,null,null,null,null,null,null,null,null,null,null,1014336,"",null,1014336,"2015-03-08","Milwaukee","Oklahoma City",877,"H","4:00 pm CDT ","BMO Harris Bradley Center Milwaukee, WI"]
[null,null,null,null,null,null,null,null,null,null,null,null,null,null,1014342,"",null,1014342,"2015-03-10","Milwaukee","Oklahoma City",883,"R","7:00 pm CDT ","Cox Convention Center Oklahoma City, OK"]
[null,null,null,null,null,null,null,null,null,null,null,null,null,null,1014345,"",null,1014345,"2015-03-11","Milwaukee","San Antonio",886,"R","7:00 pm CDT ","AT&T Center San Antonio, TX"]
[null,null,null,null,null,null,null,null,null,null,null,null,null,null,1014371,"",null,1014371,"2015-03-14","Milwaukee","Texas",912,"R","7:00 pm CDT ","Cedar Park Center Cedar Park, TX"]
[null,null,null,null,null,null,null,null,null,null,null,null,null,null,1014381,"",null,1014381,"2015-03-15","Milwaukee","Texas",922,"R","5:00 pm CDT ","Cedar Park Center Cedar Park, TX"]
[null,null,null,null,null,null,null,null,null,null,null,null,null,null,1014383,"",null,1014383,"2015-03-17","Milwaukee","Oklahoma City",924,"R","7:00 pm CDT ","Cox Convention Center Oklahoma City, OK"]
[null,null,null,null,null,null,null,null,null,null,null,null,null,null,1014391,"",null,1014391,"2015-03-20","Milwaukee","Grand Rapids",932,"R","7:00 pm EDT ","Van Andel Arena Grand Rapids, MI"]
[null,null,null,null,null,null,null,null,null,null,null,null,null,null,1014406,"",null,1014406,"2015-03-21","Milwaukee","Texas",947,"H","7:00 pm CDT ","BMO Harris Bradley Center Milwaukee, WI"]
[null,null,null,null,null,null,null,null,null,null,null,null,null,null,1014431,"",null,1014431,"2015-03-25","Milwaukee","San Antonio",972,"H","7:00 pm CDT ","BMO Harris Bradley Center Milwaukee, WI"]
[null,null,null,null,null,null,null,null,null,null,null,null,null,null,1014442,"",null,1014442,"2015-03-27","Milwaukee","Chicago",983,"H","7:00 pm CDT ","BMO Harris Bradley Center Milwaukee, WI"]
[null,null,null,null,null,null,null,null,null,null,null,null,null,null,1014452,"",null,1014452,"2015-03-28","Milwaukee","Chicago",993,"R","7:00 pm CDT ","Allstate Arena Rosemont, IL"]
[null,null,null,null,null,null,null,null,null,null,null,null,null,null,1014470,"",null,1014470,"2015-03-31","Milwaukee","Lake Erie",1011,"R","7:00 pm EDT ","Quicken Loans Arena Cleveland, OH"]
[null,null,null,null,null,null,null,null,null,null,null,null,null,null,1014475,"",null,1014475,"2015-04-01","Milwaukee","Lake Erie",1016,"R","7:00 pm EDT ","Quicken Loans Arena Cleveland, OH"]
[null,null,null,null,null,null,null,null,null,null,null,null,null,null,null,"N",null,1014490,"2015-04-03","Milwaukee","Texas",1031,"H","7:00 pm CDT ","BMO Harris Bradley Center Milwaukee, WI"]
[null,null,null,null,null,null,null,null,null,null,null,null,null,null,null,"N",null,1014514,"2015-04-07","Milwaukee","Rockford",1055,"R","7:00 pm CDT ","BMO Harris Bank Center Rockford, IL"]
[null,null,null,null,null,null,null,null,null,null,null,null,null,null,null,"N",null,1014517,"2015-04-08","Milwaukee","Grand Rapids",1058,"R","7:00 pm EDT ","Van Andel Arena Grand Rapids, MI"]
[null,null,null,null,null,null,null,null,null,null,null,null,null,null,null,"N",null,1014526,"2015-04-10","Milwaukee","Chicago",1067,"H","7:00 pm CDT ","BMO Harris Bradley Center Milwaukee, WI"]
[null,null,null,null,null,null,null,null,null,null,null,null,null,null,null,"N",null,1014569,"2015-04-17","Milwaukee","Toronto",1110,"H","7:00 pm CDT ","BMO Harris Bradley Center Milwaukee, WI"]
[null,null,null,null,null,null,null,null,null,null,null,null,null,null,null,"N",null,1014582,"2015-04-18","Milwaukee","Chicago",1123,"R","7:00 pm CDT ","Allstate Arena Rosemont, IL"]
[null,null,null,null,null,null,null,null,null,null,null,null,null,null,1013470,"",null,1013470,"2014-10-11","Norfolk","Hershey",11,"H","7:15 pm EDT ","Norfolk Scope Norfolk, VA"]
[null,null,null,null,null,null,null,null,null,null,null,null,null,null,1013484,"",null,1013484,"2014-10-13","Norfolk","Hershey",25,"H","6:05 pm EDT ","Norfolk Scope Norfolk, VA"]
[null,null,null,null,null,null,null,null,null,null,null,null,null,null,1013493,"",null,1013493,"2014-10-17","Norfolk","Manchester",34,"H","7:30 pm EDT ","Norfolk Scope Norfolk, VA"]
[null,null,null,null,null,null,null,null,null,null,null,null,null,null,1013506,"",null,1013506,"2014-10-18","Norfolk","Manchester",47,"H","7:15 pm EDT ","Norfolk Scope Norfolk, VA"]
[null,null,null,null,null,null,null,null,null,null,null,null,null,null,null,"N",null,1013955,"2015-01-02","Binghamton","W-B/Scranton",496,"R","7:05 pm EST ","Mohegan Sun Arena at Casey Plaza Wilkes-Barre, PA"]
[null,null,null,null,null,null,null,null,null,null,null,null,null,null,1013547,"",null,1013547,"2014-10-25","Norfolk","Springfield",88,"R","7:00 pm EDT ","MassMutual Center Springfield, MA"]
[null,null,null,null,null,null,null,null,null,null,null,null,null,null,null,"N",null,1013957,"2015-01-03","Rochester","Adirondack",498,"R","7:00 pm EST ","Glens Falls Civic Center Glens Falls, NY"]
[null,null,null,null,null,null,null,null,null,null,null,null,null,null,1013571,"",null,1013571,"2014-10-31","Norfolk","W-B/Scranton",112,"H","7:30 pm EDT ","Norfolk Scope Norfolk, VA"]
[null,null,null,null,null,null,null,null,null,null,null,null,null,null,1013583,"",null,1013583,"1'1 - 1","Norfolk","W-B/Scranton",124,"H","7:15 pm EDT ","Norfolk Scope Norfolk, VA"]
[null,null,null,null,null,null,null,null,null,null,null,null,null,null,1013599,"",null,1013599,"1'1 - 5","Norfolk","Bridgeport",140,"R","11:00 am EST ","Webster Bank Arena Bridgeport, CT"]
[null,null,null,null,null,null,null,null,null,null,null,null,null,null,1013615,"",null,1013615,"2014-11-07","Norfolk","Syracuse",156,"R","7:00 pm EST ","Onondaga County War Memorial Arena Syracuse, NY"]
[null,null,null,null,null,null,null,null,null,null,null,null,null,null,1013628,"",null,1013628,"2014-11-08","Norfolk","Syracuse",169,"R","7:00 pm EST ","Onondaga County War Memorial Arena Syracuse, NY"]
[null,null,null,null,null,null,null,null,null,null,null,null,null,null,1013637,"",null,1013637,"2014-11-10","Norfolk","Charlotte",178,"R","6:00 pm EST ","Time Warner Cable Arena Charlotte, NC"]
[null,null,null,null,null,null,null,null,null,null,null,null,null,null,1013651,"",null,1013651,"2014-11-14","Norfolk","Binghamton",192,"H","7:30 pm EST ","Norfolk Scope Norfolk, VA"]
[null,null,null,null,null,null,null,null,null,null,null,null,null,null,1013669,"",null,1013669,"2014-11-15","Norfolk","Binghamton",210,"H","7:15 pm EST ","Norfolk Scope Norfolk, VA"]
[null,null,null,null,null,null,null,null,null,null,null,null,null,null,1013682,{"$f":"IF(O1158=R1158,\"\",\"N\")","v":""},null,1013682,"2014-11-18","Norfolk","Charlotte",223,"R","7:00 pm EST ","Time Warner Cable Arena Charlotte, NC"]
[null,null,null,null,null,null,null,null,null,null,null,null,null,null,1013698,"",null,1013698,"2014-11-21","Norfolk","Portland",239,"H","7:30 pm EST ","Norfolk Scope Norfolk, VA"]
[null,null,null,null,null,null,null,null,null,null,null,null,null,null,1013712,"",null,1013712,"2014-11-22","Norfolk","Portland",253,"H","7:15 pm EST ","Norfolk Scope Norfolk, VA"]
[null,null,null,null,null,null,null,null,null,null,null,null,null,null,1013731,"",null,1013731,"2014-11-26","Norfolk","Charlotte",272,"H","7:15 pm EST ","Norfolk Scope Norfolk, VA"]
[null,null,null,null,null,null,null,null,null,null,null,null,null,null,1013738,"",null,1013738,"2014-11-28","Norfolk","Hartford",279,"R","7:00 pm EST ","XL Center Hartford, CT"]
[null,null,null,null,null,null,null,null,null,null,null,null,null,null,1013756,"",null,1013756,"2014-11-29","Norfolk","Lehigh Valley",297,"R","7:05 pm EST ","PPL Center Allentown, PA"]
[null,null,null,null,null,null,null,null,null,null,null,null,null,null,1013783,"",null,1013783,"1'2 - 5","Norfolk","Springfield",324,"R","7:00 pm EST ","MassMutual Center Springfield, MA"]
[null,null,null,null,null,null,null,null,null,null,null,null,null,null,1013792,"",null,1013792,"2014-12-06","Norfolk","Manchester",333,"R","7:00 pm EST ","Verizon Wireless Arena Manchester, NH"]
[null,null,null,null,null,null,null,null,null,null,null,null,null,null,1013804,"",null,1013804,"2014-12-07","Norfolk","Manchester",345,"R","3:00 pm EST ","Verizon Wireless Arena Manchester, NH"]
[null,null,null,null,null,null,null,null,null,null,null,null,null,null,1013816,"",null,1013816,"2014-12-10","Norfolk","Charlotte",357,"H","7:15 pm EST ","Norfolk Scope Norfolk, VA"]
[null,null,null,null,null,null,null,null,null,null,null,null,null,null,1013829,"",null,1013829,"2014-12-12","Norfolk","Springfield",370,"H","7:30 pm EST ","Norfolk Scope Norfolk, VA"]
[null,null,null,null,null,null,null,null,null,null,null,null,null,null,1013839,"",null,1013839,"2014-12-13","Norfolk","Springfield",380,"H","7:15 pm EST ","Norfolk Scope Norfolk, VA"]
[null,null,null,null,null,null,null,null,null,null,null,null,null,null,1013871,"",null,1013871,"2014-12-19","Norfolk","Bridgeport",412,"H","7:30 pm EST ","Norfolk Scope Norfolk, VA"]
[null,null,null,null,null,null,null,null,null,null,null,null,null,null,1013883,"",null,1013883,"2014-12-20","Norfolk","Bridgeport",424,"H","7:15 pm EST ","Norfolk Scope Norfolk, VA"]
[null,null,null,null,null,null,null,null,null,null,null,null,null,null,1013913,"",null,1013913,"2014-12-27","Norfolk","Lehigh Valley",454,"R","7:05 pm EST ","PPL Center Allentown, PA"]
[null,null,null,null,null,null,null,null,null,null,null,null,null,null,1013927,"",null,1013927,"2014-12-28","Norfolk","W-B/Scranton",468,"R","4:05 pm EST ","Mohegan Sun Arena at Casey Plaza Wilkes-Barre, PA"]
[null,null,null,null,null,null,null,null,null,null,null,null,null,null,1013931,"",null,1013931,"2014-12-30","Norfolk","Hershey",472,"R","7:00 pm EST ","Giant Center Hershey, PA"]
[null,null,null,null,null,null,null,null,null,null,null,null,null,null,1013950,"",null,1013950,"2015-01-02","Norfolk","Lehigh Valley",491,"H","7:30 pm EST ","Norfolk Scope Norfolk, VA"]
[null,null,null,null,null,null,null,null,null,null,null,null,null,null,1013966,"",null,1013966,"2015-01-03","Norfolk","Lehigh Valley",507,"H","7:15 pm EST ","Norfolk Scope Norfolk, VA"]
[null,null,null,null,null,null,null,null,null,null,null,null,null,null,1013978,"",null,1013978,"2015-01-06","Norfolk","W-B/Scranton",519,"R","7:05 pm EST ","Mohegan Sun Arena at Casey Plaza Wilkes-Barre, PA"]
[null,null,null,null,null,null,null,null,null,null,null,null,null,null,1013994,"",null,1013994,"2015-01-09","Norfolk","W-B/Scranton",535,"R","7:05 pm EST ","Mohegan Sun Arena at Casey Plaza Wilkes-Barre, PA"]
[null,null,null,null,null,null,null,null,null,null,null,null,null,null,1013999,"",null,1013999,"2015-01-10","Norfolk","Hershey",540,"R","7:00 pm EST ","Giant Center Hershey, PA"]
[null,null,null,null,null,null,null,null,null,null,null,null,null,null,1014012,"",null,1014012,"2015-01-11","Norfolk","Hershey",553,"R","5:00 pm EST ","Giant Center Hershey, PA"]
[null,null,null,null,null,null,null,null,null,null,null,null,null,null,1014031,"",null,1014031,"2015-01-16","Norfolk","Hartford",572,"H","7:30 pm EST ","Norfolk Scope Norfolk, VA"]
[null,null,null,null,null,null,null,null,null,null,null,null,null,null,null,"N",null,1013961,"2015-01-03","Chicago","Rockford",502,"H","7:00 pm CST ","Allstate Arena Rosemont, IL"]
[null,null,null,null,null,null,null,null,null,null,null,null,null,null,1014065,"",null,1014065,"2015-01-21","Norfolk","Charlotte",606,"H","7:15 pm EST ","Norfolk Scope Norfolk, VA"]
[null,null,null,null,null,null,null,null,null,null,null,null,null,null,1014077,"",null,1014077,"2015-01-23","Norfolk","W-B/Scranton",618,"H","7:30 pm EST ","Norfolk Scope Norfolk, VA"]
[null,null,null,null,null,null,null,null,null,null,null,null,null,null,1014091,"",null,1014091,"2015-01-24","Norfolk","W-B/Scranton",632,"H","7:15 pm EST ","Norfolk Scope Norfolk, VA"]
[null,null,null,null,null,null,null,null,null,null,null,null,null,null,1014101,"",null,1014101,"2015-01-30","Norfolk","Binghamton",642,"R","7:05 pm EST ","Floyd L. Maines Veterans Memorial Arena Binghamton, NY"]
[null,null,null,null,null,null,null,null,null,null,null,null,null,null,1014116,"",null,1014116,"2015-01-31","Norfolk","Binghamton",657,"R","7:05 pm EST ","Floyd L. Maines Veterans Memorial Arena Binghamton, NY"]
[null,null,null,null,null,null,null,null,null,null,null,null,null,null,null,"N",null,1013967,"2015-01-03","Portland","Providence",508,"H","7:00 pm EST ","Cross Insurance Arena Portland, ME"]
[null,null,null,null,null,null,null,null,null,null,null,null,null,null,1014146,"",null,1014146,"2015-02-06","Norfolk","Worcester",687,"H","7:30 pm EST ","Norfolk Scope Norfolk, VA"]
[null,null,null,null,null,null,null,null,null,null,null,null,null,null,null,"N",null,1013967,"2015-01-03","Providence","Portland",508,"R","7:00 pm EST ","Cross Insurance Arena Portland, ME"]
[null,null,null,null,null,null,null,null,null,null,null,null,null,null,1014189,"",null,1014189,"2015-02-13","Norfolk","Syracuse",730,"H","7:30 pm EST ","Norfolk Scope Norfolk, VA"]
[null,null,null,null,null,null,null,null,null,null,null,null,null,null,1014198,"",null,1014198,"2015-02-14","Norfolk","Syracuse",739,"H","7:15 pm EST ","Norfolk Scope Norfolk, VA"]
[null,null,null,null,null,null,null,null,null,null,null,null,null,null,1014214,"",null,1014214,"2015-02-16","Norfolk","Charlotte",755,"R","7:00 pm EST ","Time Warner Cable Arena Charlotte, NC"]
[null,null,null,null,null,null,null,null,null,null,null,null,null,null,1014236,"",null,1014236,"2015-02-20","Norfolk","Worcester",777,"R","7:30 pm EST ","DCU Center Worcester, MA"]
[null,null,null,null,null,null,null,null,null,null,null,null,null,null,1014250,"",null,1014250,"2015-02-21","Norfolk","Worcester",791,"R","7:00 pm EST ","DCU Center Worcester, MA"]
[null,null,null,null,null,null,null,null,null,null,null,null,null,null,1014251,"",null,1014251,"2015-02-22","Norfolk","Bridgeport",792,"R","3:00 pm EST ","Webster Bank Arena Bridgeport, CT"]
[null,null,null,null,null,null,null,null,null,null,null,null,null,null,1014272,"",null,1014272,"2015-02-27","Norfolk","Providence",813,"H","7:30 pm EST ","Norfolk Scope Norfolk, VA"]
[null,null,null,null,null,null,null,null,null,null,null,null,null,null,1014287,"",null,1014287,"2015-02-28","Norfolk","Providence",828,"H","7:15 pm EST ","Norfolk Scope Norfolk, VA"]
[null,null,null,null,null,null,null,null,null,null,null,null,null,null,1014305,"",null,1014305,"2015-03-04","Norfolk","Binghamton",846,"H","7:15 pm EST ","Norfolk Scope Norfolk, VA"]
[null,null,null,null,null,null,null,null,null,null,null,null,null,null,1014313,"",null,1014313,"2015-03-06","Norfolk","Binghamton",854,"H","7:30 pm EST ","Norfolk Scope Norfolk, VA"]
[null,null,null,null,null,null,null,null,null,null,null,null,null,null,1014332,"",null,1014332,"2015-03-08","Norfolk","Charlotte",873,"R","1:00 pm EDT ","Time Warner Cable Arena Charlotte, NC"]
[null,null,null,null,null,null,null,null,null,null,null,null,null,null,1014353,"",null,1014353,"2015-03-13","Norfolk","Portland",894,"R","7:00 pm EDT ","Cross Insurance Arena Portland, ME"]
[null,null,null,null,null,null,null,null,null,null,null,null,null,null,null,"N",null,1013977,"2015-01-06","Manchester","St. John's",518,"R","7:30 pm NST ","Mile One Centre St. John's, NL"]
[null,null,null,null,null,null,null,null,null,null,null,null,null,null,1014380,"",null,1014380,"2015-03-15","Norfolk","Providence",921,"R","3:05 pm EDT ","Dunkin' Donuts Center Providence, RI"]
[null,null,null,null,null,null,null,null,null,null,null,null,null,null,null,"N",null,1013977,"2015-01-06","St. John's","Manchester",518,"H","7:30 pm NST ","Mile One Centre St. John's, NL"]
[null,null,null,null,null,null,null,null,null,null,null,null,null,null,1014390,"",null,1014390,"2015-03-20","Norfolk","Binghamton",931,"R","7:05 pm EDT ","Floyd L. Maines Veterans Memorial Arena Binghamton, NY"]
[null,null,null,null,null,null,null,null,null,null,null,null,null,null,1014401,"",null,1014401,"2015-03-21","Norfolk","Albany",942,"R","5:00 pm EDT ","Times Union Center Albany, NY"]
[null,null,null,null,null,null,null,null,null,null,null,null,null,null,1014432,"",null,1014432,"2015-03-25","Norfolk","Charlotte",973,"H","7:15 pm EDT ","Norfolk Scope Norfolk, VA"]
[null,null,null,null,null,null,null,null,null,null,null,null,null,null,1014443,"",null,1014443,"2015-03-27","Norfolk","Albany",984,"H","7:30 pm EDT ","Norfolk Scope Norfolk, VA"]
[null,null,null,null,null,null,null,null,null,null,null,null,null,null,1014456,"",null,1014456,"2015-03-28","Norfolk","Albany",997,"H","7:15 pm EDT ","Norfolk Scope Norfolk, VA"]
[null,null,null,null,null,null,null,null,null,null,null,null,null,null,1014476,"",null,1014476,"2015-04-01","Norfolk","Lehigh Valley",1017,"H","7:15 pm EDT ","Norfolk Scope Norfolk, VA"]
[null,null,null,null,null,null,null,null,null,null,null,null,null,null,null,"N",null,1014491,"2015-04-03","Norfolk","Hershey",1032,"H","7:30 pm EDT ","Norfolk Scope Norfolk, VA"]
[null,null,null,null,null,null,null,null,null,null,null,null,null,null,null,"N",null,1014503,"2015-04-04","Norfolk","Hershey",1044,"H","7:15 pm EDT ","Norfolk Scope Norfolk, VA"]
[null,null,null,null,null,null,null,null,null,null,null,null,null,null,null,"N",null,1014509,"2015-04-07","Norfolk","Binghamton",1050,"R","7:05 pm EDT ","Floyd L. Maines Veterans Memorial Arena Binghamton, NY"]
[null,null,null,null,null,null,null,null,null,null,null,null,null,null,null,"N",null,1014524,"2015-04-10","Norfolk","Lehigh Valley",1065,"R","7:05 pm EDT ","PPL Center Allentown, PA"]
[null,null,null,null,null,null,null,null,null,null,null,null,null,null,null,"N",null,1014540,"2015-04-11","Norfolk","Lehigh Valley",1081,"R","7:05 pm EDT ","PPL Center Allentown, PA"]
[null,null,null,null,null,null,null,null,null,null,null,null,null,null,null,"N",null,1014570,"2015-04-17","Norfolk","Lehigh Valley",1111,"H","7:30 pm EDT ","Norfolk Scope Norfolk, VA"]
[null,null,null,null,null,null,null,null,null,null,null,null,null,null,null,"N",null,1014593,"2015-04-18","Norfolk","W-B/Scranton",1134,"R","7:05 pm EDT ","Mohegan Sun Arena at Casey Plaza Wilkes-Barre, PA"]
[null,null,null,null,null,null,null,null,null,null,null,null,null,null,1013474,"",null,1013474,"2014-10-11","Oklahoma City","San Antonio",15,"R","7:00 pm CDT ","AT&T Center San Antonio, TX"]
[null,null,null,null,null,null,null,null,null,null,null,null,null,null,1013494,"",null,1013494,"2014-10-17","Oklahoma City","Texas",35,"H","7:00 pm CDT ","Cox Convention Center Oklahoma City, OK"]
[null,null,null,null,null,null,null,null,null,null,null,null,null,null,1013507,"",null,1013507,"2014-10-18","Oklahoma City","San Antonio",48,"H","7:00 pm CDT ","Cox Convention Center Oklahoma City, OK"]
[null,null,null,null,null,null,null,null,null,null,null,null,null,null,1013530,{"$f":"IF(O1222=R1222,\"\",\"N\")","v":""},null,1013530,"2014-10-24","Oklahoma City","Texas",71,"H","7:00 pm CDT ","Cox Convention Center Oklahoma City, OK"]
[null,null,null,null,null,null,null,null,null,null,null,null,null,null,1013549,"",null,1013549,"2014-10-25","Oklahoma City","Texas",90,"R","7:00 pm CDT ","Cedar Park Center Cedar Park, TX"]
[null,null,null,null,null,null,null,null,null,null,null,null,null,null,1013565,"",null,1013565,"2014-10-29","Oklahoma City","Texas",106,"R","7:30 pm CDT ","Cedar Park Center Cedar Park, TX"]
[null,null,null,null,null,null,null,null,null,null,null,null,null,null,1013584,"",null,1013584,"1'1 - 1","Oklahoma City","Iowa",125,"H","7:00 pm CDT ","Cox Convention Center Oklahoma City, OK"]
[null,null,null,null,null,null,null,null,null,null,null,null,null,null,1013595,"",null,1013595,"1'1 - 2","Oklahoma City","Iowa",136,"H","4:00 pm CST ","Cox Convention Center Oklahoma City, OK"]
[null,null,null,null,null,null,null,null,null,null,null,null,null,null,1013624,"",null,1013624,"2014-11-08","Oklahoma City","Toronto",165,"H","7:00 pm CST ","Cox Convention Center Oklahoma City, OK"]
[null,null,null,null,null,null,null,null,null,null,null,null,null,null,1013635,"",null,1013635,"2014-11-09","Oklahoma City","San Antonio",176,"R","4:00 pm CST ","AT&T Center San Antonio, TX"]
[null,null,null,null,null,null,null,null,null,null,null,null,null,null,1013639,"",null,1013639,"2014-11-11","Oklahoma City","San Antonio",180,"H","10:35 am CST ","Cox Convention Center Oklahoma City, OK"]
[null,null,null,null,null,null,null,null,null,null,null,null,null,null,1013649,"",null,1013649,"2014-11-14","Oklahoma City","Iowa",190,"R","7:00 pm CST ","Wells Fargo Arena Des Moines, IA"]
[null,null,null,null,null,null,null,null,null,null,null,null,null,null,1013664,"",null,1013664,"2014-11-15","Oklahoma City","Iowa",205,"R","7:00 pm CST ","Wells Fargo Arena Des Moines, IA"]
[null,null,null,null,null,null,null,null,null,null,null,null,null,null,1013683,"",null,1013683,"2014-11-18","Oklahoma City","San Antonio",224,"R","10:30 am CST ","AT&T Center San Antonio, TX"]
[null,null,null,null,null,null,null,null,null,null,null,null,null,null,1013699,"",null,1013699,"2014-11-21","Oklahoma City","Charlotte",240,"H","7:00 pm CST ","Cox Convention Center Oklahoma City, OK"]
[null,null,null,null,null,null,null,null,null,null,null,null,null,null,1013713,"",null,1013713,"2014-11-22","Oklahoma City","Charlotte",254,"H","7:00 pm CST ","Cox Convention Center Oklahoma City, OK"]
[null,null,null,null,null,null,null,null,null,null,null,null,null,null,1013735,"",null,1013735,"2014-11-26","Oklahoma City","Texas",276,"R","7:30 pm CST ","Cedar Park Center Cedar Park, TX"]
[null,null,null,null,null,null,null,null,null,null,null,null,null,null,1013745,"",null,1013745,"2014-11-28","Oklahoma City","Texas",286,"R","7:30 pm CST ","Cedar Park Center Cedar Park, TX"]
[null,null,null,null,null,null,null,null,null,null,null,null,null,null,1013757,"",null,1013757,"2014-11-29","Oklahoma City","San Antonio",298,"R","7:00 pm CST ","AT&T Center San Antonio, TX"]
[null,null,null,null,null,null,null,null,null,null,null,null,null,null,null,"N",null,1013980,"2015-01-07","Binghamton","Portland",521,"R","7:00 pm EST ","Cross Insurance Arena Portland, ME"]
[null,null,null,null,null,null,null,null,null,null,null,null,null,null,1013775,"",null,1013775,"1'2 - 5","Oklahoma City","Grand Rapids",316,"R","7:00 pm EST ","Van Andel Arena Grand Rapids, MI"]
[null,null,null,null,null,null,null,null,null,null,null,null,null,null,1013793,"",null,1013793,"2014-12-06","Oklahoma City","Milwaukee",334,"R","7:00 pm CST ","BMO Harris Bradley Center Milwaukee, WI"]
[null,null,null,null,null,null,null,null,null,null,null,null,null,null,1013819,"",null,1013819,"2014-12-10","Oklahoma City","Texas",360,"R","7:30 pm CST ","Cedar Park Center Cedar Park, TX"]
[null,null,null,null,null,null,null,null,null,null,null,null,null,null,1013830,"",null,1013830,"2014-12-12","Oklahoma City","Grand Rapids",371,"H","7:00 pm CST ","Cox Convention Center Oklahoma City, OK"]
[null,null,null,null,null,null,null,null,null,null,null,null,null,null,1013840,"",null,1013840,"2014-12-13","Oklahoma City","Grand Rapids",381,"H","7:00 pm CST ","Cox Convention Center Oklahoma City, OK"]
[null,null,null,null,null,null,null,null,null,null,null,null,null,null,1013854,"",null,1013854,"2014-12-16","Oklahoma City","Charlotte",395,"R","7:00 pm EST ","Time Warner Cable Arena Charlotte, NC"]
[null,null,null,null,null,null,null,null,null,null,null,null,null,null,1013862,"",null,1013862,"2014-12-18","Oklahoma City","Charlotte",403,"R","7:00 pm EST ","Time Warner Cable Arena Charlotte, NC"]
[null,null,null,null,null,null,null,null,null,null,null,null,null,null,1013884,"",null,1013884,"2014-12-20","Oklahoma City","Rockford",425,"H","7:00 pm CST ","Cox Convention Center Oklahoma City, OK"]
[null,null,null,null,null,null,null,null,null,null,null,null,null,null,1013893,"",null,1013893,"2014-12-21","Oklahoma City","Rockford",434,"H","2:00 pm CST ","Cox Convention Center Oklahoma City, OK"]
[null,null,null,null,null,null,null,null,null,null,null,null,null,null,1013916,"",null,1013916,"2014-12-27","Oklahoma City","San Antonio",457,"R","7:00 pm CST ","AT&T Center San Antonio, TX"]
[null,null,null,null,null,null,null,null,null,null,null,null,null,null,1013922,"",null,1013922,"2014-12-28","Oklahoma City","Charlotte",463,"H","4:00 pm CST ","Cox Convention Center Oklahoma City, OK"]
[null,null,null,null,null,null,null,null,null,null,null,null,null,null,1013939,"",null,1013939,"2014-12-31","Oklahoma City","Charlotte",480,"H","6:00 pm CST ","Cox Convention Center Oklahoma City, OK"]
[null,null,null,null,null,null,null,null,null,null,null,null,null,null,1013949,"",null,1013949,"2015-01-02","Oklahoma City","Lake Erie",490,"R","7:30 pm EST ","Quicken Loans Arena Cleveland, OH"]
[null,null,null,null,null,null,null,null,null,null,null,null,null,null,1013964,"",null,1013964,"2015-01-03","Oklahoma City","Lake Erie",505,"R","7:00 pm EST ","Quicken Loans Arena Cleveland, OH"]
[null,null,null,null,null,null,null,null,null,null,null,null,null,null,1013976,"",null,1013976,"2015-01-06","Oklahoma City","Texas",517,"H","7:00 pm CST ","Cox Convention Center Oklahoma City, OK"]
[null,null,null,null,null,null,null,null,null,null,null,null,null,null,1013984,"",null,1013984,"2015-01-09","Oklahoma City","Adirondack",525,"R","7:00 pm EST ","Glens Falls Civic Center Glens Falls, NY"]
[null,null,null,null,null,null,null,null,null,null,null,null,null,null,1014002,"",null,1014002,"2015-01-10","Oklahoma City","Rochester",543,"R","7:05 pm EST ","Blue Cross Arena Rochester, NY"]
[null,null,null,null,null,null,null,null,null,null,null,null,null,null,1014010,"",null,1014010,"2015-01-11","Oklahoma City","Hamilton",551,"R","3:00 pm EST ","FirstOntario Centre Hamilton, ON"]
[null,null,null,null,null,null,null,null,null,null,null,null,null,null,null,"N",null,1013985,"2015-01-09","Albany","Hershey",526,"H","7:00 pm EST ","Times Union Center Albany, NY"]
[null,null,null,null,null,null,null,null,null,null,null,null,null,null,1014047,"",null,1014047,"2015-01-17","Oklahoma City","Texas",588,"H","7:00 pm CST ","Cox Convention Center Oklahoma City, OK"]
[null,null,null,null,null,null,null,null,null,null,null,null,null,null,1014055,"",null,1014055,"2015-01-18","Oklahoma City","Rochester",596,"H","4:00 pm CST ","Cox Convention Center Oklahoma City, OK"]
[null,null,null,null,null,null,null,null,null,null,null,null,null,null,1014068,"",null,1014068,"2015-01-22","Oklahoma City","Charlotte",609,"R","7:00 pm EST ","Time Warner Cable Arena Charlotte, NC"]
[null,null,null,null,null,null,null,null,null,null,null,null,null,null,1014072,"",null,1014072,"2015-01-23","Oklahoma City","Charlotte",613,"R","7:00 pm EST ","Time Warner Cable Arena Charlotte, NC"]
[null,null,null,null,null,null,null,null,null,null,null,null,null,null,1014107,"",null,1014107,"2015-01-30","Oklahoma City","Lake Erie",648,"H","7:00 pm CST ","Cox Convention Center Oklahoma City, OK"]
[null,null,null,null,null,null,null,null,null,null,null,null,null,null,1014123,"",null,1014123,"2015-01-31","Oklahoma City","Lake Erie",664,"H","7:00 pm CST ","Cox Convention Center Oklahoma City, OK"]
[null,null,null,null,null,null,null,null,null,null,null,null,null,null,1014161,"",null,1014161,"2015-02-07","Oklahoma City","San Antonio",702,"R","7:00 pm CST ","AT&T Center San Antonio, TX"]
[null,null,null,null,null,null,null,null,null,null,null,null,null,null,1014169,"",null,1014169,"2015-02-08","Oklahoma City","Texas",710,"R","5:00 pm CST ","Cedar Park Center Cedar Park, TX"]
[null,null,null,null,null,null,null,null,null,null,null,null,null,null,null,"N",null,1013987,"2015-01-09","Utica","Hamilton",528,"R","7:30 pm EST ","FirstOntario Centre Hamilton, ON"]
[null,null,null,null,null,null,null,null,null,null,null,null,null,null,1014200,"",null,1014200,"2015-02-14","Oklahoma City","Rockford",741,"R","7:00 pm CST ","BMO Harris Bank Center Rockford, IL"]
[null,null,null,null,null,null,null,null,null,null,null,null,null,null,1014208,"",null,1014208,"2015-02-15","Oklahoma City","Iowa",749,"R","4:00 pm CST ","Wells Fargo Arena Des Moines, IA"]
[null,null,null,null,null,null,null,null,null,null,null,null,null,null,1014231,"",null,1014231,"2015-02-20","Oklahoma City","Adirondack",772,"H","7:00 pm CST ","Cox Convention Center Oklahoma City, OK"]
[null,null,null,null,null,null,null,null,null,null,null,null,null,null,1014244,"",null,1014244,"2015-02-21","Oklahoma City","Adirondack",785,"H","7:00 pm CST ","Cox Convention Center Oklahoma City, OK"]
[null,null,null,null,null,null,null,null,null,null,null,null,null,null,1014262,"",null,1014262,"2015-02-24","Oklahoma City","Texas",803,"H","7:00 pm CST ","Cox Convention Center Oklahoma City, OK"]
[null,null,null,null,null,null,null,null,null,null,null,null,null,null,1014273,"",null,1014273,"2015-02-27","Oklahoma City","San Antonio",814,"H","7:00 pm CST ","Cox Convention Center Oklahoma City, OK"]
[null,null,null,null,null,null,null,null,null,null,null,null,null,null,1014288,"",null,1014288,"2015-02-28","Oklahoma City","San Antonio",829,"H","7:00 pm CST ","Cox Convention Center Oklahoma City, OK"]
[null,null,null,null,null,null,null,null,null,null,null,null,null,null,1014302,"",null,1014302,"2015-03-04","Oklahoma City","Grand Rapids",843,"R","7:00 pm EST ","Van Andel Arena Grand Rapids, MI"]
[null,null,null,null,null,null,null,null,null,null,null,null,null,null,1014315,"",null,1014315,"2015-03-06","Oklahoma City","Rockford",856,"R","7:00 pm CST ","BMO Harris Bank Center Rockford, IL"]
[null,null,null,null,null,null,null,null,null,null,null,null,null,null,1014336,"",null,1014336,"2015-03-08","Oklahoma City","Milwaukee",877,"R","4:00 pm CDT ","BMO Harris Bradley Center Milwaukee, WI"]
[null,null,null,null,null,null,null,null,null,null,null,null,null,null,1014342,"",null,1014342,"2015-03-10","Oklahoma City","Milwaukee",883,"H","7:00 pm CDT ","Cox Convention Center Oklahoma City, OK"]
[null,null,null,null,null,null,null,null,null,null,null,null,null,null,1014366,"",null,1014366,"2015-03-14","Oklahoma City","Charlotte",907,"H","7:00 pm CDT ","Cox Convention Center Oklahoma City, OK"]
[null,null,null,null,null,null,null,null,null,null,null,null,null,null,1014379,"",null,1014379,"2015-03-15","Oklahoma City","Charlotte",920,"H","4:00 pm CDT ","Cox Convention Center Oklahoma City, OK"]
[null,null,null,null,null,null,null,null,null,null,null,null,null,null,1014383,"",null,1014383,"2015-03-17","Oklahoma City","Milwaukee",924,"H","7:00 pm CDT ","Cox Convention Center Oklahoma City, OK"]
[null,null,null,null,null,null,null,null,null,null,null,null,null,null,1014393,"",null,1014393,"2015-03-20","Oklahoma City","San Antonio",934,"H","7:00 pm CDT ","Cox Convention Center Oklahoma City, OK"]
[null,null,null,null,null,null,null,null,null,null,null,null,null,null,1014407,"",null,1014407,"2015-03-21","Oklahoma City","Chicago",948,"H","7:00 pm CDT ","Cox Convention Center Oklahoma City, OK"]
[null,null,null,null,null,null,null,null,null,null,null,null,null,null,1014422,"",null,1014422,"2015-03-22","Oklahoma City","Chicago",963,"H","4:00 pm CDT ","Cox Convention Center Oklahoma City, OK"]
[null,null,null,null,null,null,null,null,null,null,null,null,null,null,1014435,"",null,1014435,"2015-03-25","Oklahoma City","Toronto",976,"R","11:00 am EDT ","Ricoh Coliseum Toronto, ON"]
[null,null,null,null,null,null,null,null,null,null,null,null,null,null,1014449,"",null,1014449,"2015-03-27","Oklahoma City","Utica",990,"R","7:00 pm EDT ","Utica Memorial Auditorium Utica, NY"]
[null,null,null,null,null,null,null,null,null,null,null,null,null,null,1014450,"",null,1014450,"2015-03-28","Oklahoma City","Adirondack",991,"R","7:00 pm EDT ","Glens Falls Civic Center Glens Falls, NY"]
[null,null,null,null,null,null,null,null,null,null,null,null,null,null,1014482,{"$f":"IF(O1287=R1287,\"\",\"N\")","v":""},null,1014482,"2015-04-02","Oklahoma City","Charlotte",1023,"R","7:00 pm EDT ","Time Warner Cable Arena Charlotte, NC"]
[null,null,null,null,null,null,null,null,null,null,null,null,null,null,null,"N",null,1014486,"2015-04-03","Oklahoma City","Charlotte",1027,"R","7:00 pm EDT ","Time Warner Cable Arena Charlotte, NC"]
[null,null,null,null,null,null,null,null,null,null,null,null,null,null,null,"N",null,1014512,"2015-04-07","Oklahoma City","San Antonio",1053,"H","7:00 pm CDT ","Cox Convention Center Oklahoma City, OK"]
[null,null,null,null,null,null,null,null,null,null,null,null,null,null,null,"N",null,1014523,"2015-04-10","Oklahoma City","Iowa",1064,"R","7:00 pm CDT ","Wells Fargo Arena Des Moines, IA"]
[null,null,null,null,null,null,null,null,null,null,null,null,null,null,null,"N",null,1014538,"2015-04-11","Oklahoma City","Chicago",1079,"R","7:00 pm CDT ","Allstate Arena Rosemont, IL"]
[null,null,null,null,null,null,null,null,null,null,null,null,null,null,null,"N",null,1014558,"2015-04-14","Oklahoma City","Hamilton",1099,"H","7:00 pm CDT ","Cox Convention Center Oklahoma City, OK"]
[null,null,null,null,null,null,null,null,null,null,null,null,null,null,null,"N",null,1014571,"2015-04-17","Oklahoma City","Iowa",1112,"H","7:00 pm CDT ","Cox Convention Center Oklahoma City, OK"]
[null,null,null,null,null,null,null,null,null,null,null,null,null,null,null,"N",null,1014587,"2015-04-18","Oklahoma City","Iowa",1128,"H","7:00 pm CDT ","Cox Convention Center Oklahoma City, OK"]
[null,null,null,null,null,null,null,null,null,null,null,null,null,null,1013471,"",null,1013471,"2014-10-11","Portland","Providence",12,"H","7:00 pm EDT ","Cross Insurance Arena Portland, ME"]
[null,null,null,null,null,null,null,null,null,null,null,null,null,null,1013486,"",null,1013486,"2014-10-17","Portland","Binghamton",27,"R","7:05 pm EDT ","Floyd L. Maines Veterans Memorial Arena Binghamton, NY"]
[null,null,null,null,null,null,null,null,null,null,null,null,null,null,1013504,"",null,1013504,"2014-10-18","Portland","Hartford",45,"R","7:00 pm EDT ","XL Center Hartford, CT"]
[null,null,null,null,null,null,null,null,null,null,null,null,null,null,1013516,"",null,1013516,"2014-10-19","Portland","Providence",57,"R","3:05 pm EDT ","Dunkin' Donuts Center Providence, RI"]
[null,null,null,null,null,null,null,null,null,null,null,null,null,null,1013529,"",null,1013529,"2014-10-24","Portland","Manchester",70,"R","7:00 pm EDT ","Verizon Wireless Arena Manchester, NH"]
[null,null,null,null,null,null,null,null,null,null,null,null,null,null,1013545,"",null,1013545,"2014-10-25","Portland","Syracuse",86,"H","7:00 pm EDT ","Cross Insurance Arena Portland, ME"]
[null,null,null,null,null,null,null,null,null,null,null,null,null,null,1013558,"",null,1013558,"2014-10-26","Portland","Worcester",99,"R","3:00 pm EDT ","DCU Center Worcester, MA"]
[null,null,null,null,null,null,null,null,null,null,null,null,null,null,1013566,"",null,1013566,"2014-10-29","Portland","Worcester",107,"R","7:00 pm EDT ","DCU Center Worcester, MA"]
[null,null,null,null,null,null,null,null,null,null,null,null,null,null,1013572,"",null,1013572,"2014-10-31","Portland","St. John's",113,"H","7:00 pm EDT ","Cross Insurance Arena Portland, ME"]
[null,null,null,null,null,null,null,null,null,null,null,null,null,null,1013589,"",null,1013589,"1'1 - 2","Portland","Albany",130,"R","3:00 pm EST ","Times Union Center Albany, NY"]
[null,null,null,null,null,null,null,null,null,null,null,null,null,null,1013611,"",null,1013611,"2014-11-07","Portland","Providence",152,"R","7:05 pm EST ","Dunkin' Donuts Center Providence, RI"]
[null,null,null,null,null,null,null,null,null,null,null,null,null,null,1013625,"",null,1013625,"2014-11-08","Portland","Lehigh Valley",166,"H","7:00 pm EST ","Cross Insurance Arena Portland, ME"]
[null,null,null,null,null,null,null,null,null,null,null,null,null,null,null,"N",null,1013992,"2015-01-09","Milwaukee","Rockford",533,"R","7:00 pm CST ","BMO Harris Bank Center Rockford, IL"]
[null,null,null,null,null,null,null,null,null,null,null,null,null,null,null,"N",null,1013992,"2015-01-09","Rockford","Milwaukee",533,"H","7:00 pm CST ","BMO Harris Bank Center Rockford, IL"]
[null,null,null,null,null,null,null,null,null,null,null,null,null,null,1013670,"",null,1013670,"2014-11-15","Portland","Albany",211,"H","7:00 pm EST ","Cross Insurance Arena Portland, ME"]
[null,null,null,null,null,null,null,null,null,null,null,null,null,null,1013679,"",null,1013679,"2014-11-16","Portland","Providence",220,"R","3:05 pm EST ","Dunkin' Donuts Center Providence, RI"]
[null,null,null,null,null,null,null,null,null,null,null,null,null,null,null,"N",null,1013994,"2015-01-09","W-B/Scranton","Norfolk",535,"H","7:05 pm EST ","Mohegan Sun Arena at Casey Plaza Wilkes-Barre, PA"]
[null,null,null,null,null,null,null,null,null,null,null,null,null,null,1013698,"",null,1013698,"2014-11-21","Portland","Norfolk",239,"R","7:30 pm EST ","Norfolk Scope Norfolk, VA"]
[null,null,null,null,null,null,null,null,null,null,null,null,null,null,1013712,"",null,1013712,"2014-11-22","Portland","Norfolk",253,"R","7:15 pm EST ","Norfolk Scope Norfolk, VA"]
[null,null,null,null,null,null,null,null,null,null,null,null,null,null,null,"N",null,1014001,"2015-01-10","Charlotte","Milwaukee",542,"R","7:00 pm CST ","BMO Harris Bradley Center Milwaukee, WI"]
[null,null,null,null,null,null,null,null,null,null,null,null,null,null,1013741,"",null,1013741,"2014-11-28","Portland","Providence",282,"H","7:00 pm EST ","Cross Insurance Arena Portland, ME"]
[null,null,null,null,null,null,null,null,null,null,null,null,null,null,1013779,"",null,1013779,"1'2 - 5","Portland","Manchester",320,"H","7:00 pm EST ","Cross Insurance Arena Portland, ME"]
[null,null,null,null,null,null,null,null,null,null,null,null,null,null,1013787,"",null,1013787,"2014-12-06","Portland","Albany",328,"R","5:00 pm EST ","Times Union Center Albany, NY"]
[null,null,null,null,null,null,null,null,null,null,null,null,null,null,1013806,"",null,1013806,"2014-12-07","Portland","Providence",347,"R","3:05 pm EST ","Dunkin' Donuts Center Providence, RI"]
[null,null,null,null,null,null,null,null,null,null,null,null,null,null,1013831,"",null,1013831,"2014-12-12","Portland","Manchester",372,"H","7:00 pm EST ","Cross Insurance Arena Portland, ME"]
[null,null,null,null,null,null,null,null,null,null,null,null,null,null,1013841,"",null,1013841,"2014-12-13","Portland","Providence",382,"R","7:05 pm EST ","Dunkin' Donuts Center Providence, RI"]
[null,null,null,null,null,null,null,null,null,null,null,null,null,null,null,"N",null,1014002,"2015-01-10","Rochester","Oklahoma City",543,"H","7:05 pm EST ","Blue Cross Arena Rochester, NY"]
[null,null,null,null,null,null,null,null,null,null,null,null,null,null,1013860,"",null,1013860,"2014-12-17","Portland","Manchester",401,"H","7:00 pm EST ","Cross Insurance Arena Portland, ME"]
[null,null,null,null,null,null,null,null,null,null,null,null,null,null,1013872,"",null,1013872,"2014-12-19","Portland","Providence",413,"H","7:00 pm EST ","Cross Insurance Arena Portland, ME"]
[null,null,null,null,null,null,null,null,null,null,null,null,null,null,1013885,"",null,1013885,"2014-12-20","Portland","Worcester",426,"H","7:00 pm EST ","Cross Insurance Arena Portland, ME"]
[null,null,null,null,null,null,null,null,null,null,null,null,null,null,1013911,"",null,1013911,"2014-12-27","Portland","Hartford",452,"R","7:00 pm EST ","XL Center Hartford, CT"]
[null,null,null,null,null,null,null,null,null,null,null,null,null,null,1013921,"",null,1013921,"2014-12-28","Portland","Manchester",462,"R","3:00 pm EST ","Verizon Wireless Arena Manchester, NH"]
[null,null,null,null,null,null,null,null,null,null,null,null,null,null,1013940,"",null,1013940,"2014-12-31","Portland","Hartford",481,"H","7:00 pm EST ","Cross Insurance Arena Portland, ME"]
[null,null,null,null,null,null,null,null,null,null,null,null,null,null,1013951,"",null,1013951,"2015-01-02","Portland","Springfield",492,"H","7:00 pm EST ","Cross Insurance Arena Portland, ME"]
[null,null,null,null,null,null,null,null,null,null,null,null,null,null,null,"N",null,1014010,"2015-01-11","Hamilton","Oklahoma City",551,"H","3:00 pm EST ","FirstOntario Centre Hamilton, ON"]
[null,null,null,null,null,null,null,null,null,null,null,null,null,null,1013980,"",null,1013980,"2015-01-07","Portland","Binghamton",521,"H","7:00 pm EST ","Cross Insurance Arena Portland, ME"]
[null,null,null,null,null,null,null,null,null,null,null,null,null,null,1013989,"",null,1013989,"2015-01-09","Portland","Bridgeport",530,"H","7:00 pm EST ","Cross Insurance Arena Portland, ME"]
[null,null,null,null,null,null,null,null,null,null,null,null,null,null,1014013,"",null,1014013,"2015-01-11","Portland","Providence",554,"R","3:05 pm EST ","Dunkin' Donuts Center Providence, RI"]
[null,null,null,null,null,null,null,null,null,null,null,null,null,null,1014022,"",null,1014022,"2015-01-14","Portland","St. John's",563,"R","7:30 pm NST ","Mile One Centre St. John's, NL"]
[null,null,null,null,null,null,null,null,null,null,null,null,null,null,1014035,"",null,1014035,"2015-01-16","Portland","St. John's",576,"R","7:30 pm NST ","Mile One Centre St. John's, NL"]
[null,null,null,null,null,null,null,null,null,null,null,null,null,null,1014049,"",null,1014049,"2015-01-17","Portland","St. John's",590,"R","7:30 pm NST ","Mile One Centre St. John's, NL"]
[null,null,null,null,null,null,null,null,null,null,null,null,null,null,1014066,"",null,1014066,"2015-01-21","Portland","Worcester",607,"H","7:00 pm EST ","Cross Insurance Arena Portland, ME"]
[null,null,null,null,null,null,null,null,null,null,null,null,null,null,1014078,"",null,1014078,"2015-01-23","Portland","Bridgeport",619,"H","7:00 pm EST ","Cross Insurance Arena Portland, ME"]
[null,null,null,null,null,null,null,null,null,null,null,null,null,null,1014086,"",null,1014086,"2015-01-24","Portland","Bridgeport",627,"R","7:30 pm EST ","Webster Bank Arena Bridgeport, CT"]
[null,null,null,null,null,null,null,null,null,null,null,null,null,null,1014105,"",null,1014105,"2015-01-30","Portland","Manchester",646,"R","7:00 pm EST ","Verizon Wireless Arena Manchester, NH"]
[null,null,null,null,null,null,null,null,null,null,null,null,null,null,1014117,"",null,1014117,"2015-01-31","Portland","Bridgeport",658,"R","7:00 pm EST ","Webster Bank Arena Bridgeport, CT"]
[null,null,null,null,null,null,null,null,null,null,null,null,null,null,1014149,"",null,1014149,"2015-02-06","Portland","St. John's",690,"R","7:30 pm NST ","Mile One Centre St. John's, NL"]
[null,null,null,null,null,null,null,null,null,null,null,null,null,null,null,"N",null,1014014,"2015-01-11","San Antonio","Toronto",555,"H","4:00 pm CST ","AT&T Center San Antonio, TX"]
[null,null,null,null,null,null,null,null,null,null,null,null,null,null,null,"N",null,1014017,"2015-01-13","Iowa","Chicago",558,"H","7:00 pm CST ","Wells Fargo Arena Des Moines, IA"]
[null,null,null,null,null,null,null,null,null,null,null,null,null,null,1014195,"",null,1014195,"2015-02-14","Portland","Hershey",736,"R","7:00 pm EST ","Giant Center Hershey, PA"]
[null,null,null,null,null,null,null,null,null,null,null,null,null,null,1014218,"",null,1014218,"2015-02-17","Portland","Hartford",759,"H","7:00 pm EST ","Cross Insurance Arena Portland, ME"]
[null,null,null,null,null,null,null,null,null,null,null,null,null,null,1014245,"",null,1014245,"2015-02-21","Portland","Springfield",786,"R","7:00 pm EST ","MassMutual Center Springfield, MA"]
[null,null,null,null,null,null,null,null,null,null,null,null,null,null,1014256,"",null,1014256,"2015-02-22","Portland","St. John's",797,"H","3:00 pm EST ","Cross Insurance Arena Portland, ME"]
[null,null,null,null,null,null,null,null,null,null,null,null,null,null,1014264,"",null,1014264,"2015-02-25","Portland","St. John's",805,"H","7:00 pm EST ","Cross Insurance Arena Portland, ME"]
[null,null,null,null,null,null,null,null,null,null,null,null,null,null,1014289,"",null,1014289,"2015-02-28","Portland","Manchester",830,"H","7:00 pm EST ","Cross Insurance Arena Portland, ME"]
[null,null,null,null,null,null,null,null,null,null,null,null,null,null,1014299,"",null,1014299,"2015-03-01","Portland","Springfield",840,"H","3:00 pm EST ","Cross Insurance Arena Portland, ME"]
[null,null,null,null,null,null,null,null,null,null,null,null,null,null,1014317,{"$f":"IF(O1351=R1351,\"\",\"N\")","v":""},null,1014317,"2015-03-06","Portland","Syracuse",858,"R","7:00 pm EST ","Onondaga County War Memorial Arena Syracuse, NY"]
[null,null,null,null,null,null,null,null,null,null,null,null,null,null,1014323,"",null,1014323,"2015-03-07","Portland","Lehigh Valley",864,"R","7:05 pm EST ","PPL Center Allentown, PA"]
[null,null,null,null,null,null,null,null,null,null,null,null,null,null,1014333,"",null,1014333,"2015-03-08","Portland","Hershey",874,"R","5:00 pm EDT ","Giant Center Hershey, PA"]
[null,null,null,null,null,null,null,null,null,null,null,null,null,null,1014353,"",null,1014353,"2015-03-13","Portland","Norfolk",894,"H","7:00 pm EDT ","Cross Insurance Arena Portland, ME"]
[null,null,null,null,null,null,null,null,null,null,null,null,null,null,1014367,"",null,1014367,"2015-03-14","Portland","Norfolk",908,"H","7:00 pm EDT ","Cross Insurance Arena Portland, ME"]
[null,null,null,null,null,null,null,null,null,null,null,null,null,null,1014394,"",null,1014394,"2015-03-20","Portland","Hershey",935,"H","7:00 pm EDT ","Cross Insurance Arena Portland, ME"]
[null,null,null,null,null,null,null,null,null,null,null,null,null,null,1014408,"",null,1014408,"2015-03-21","Portland","Hershey",949,"H","7:00 pm EDT ","Cross Insurance Arena Portland, ME"]
[null,null,null,null,null,null,null,null,null,null,null,null,null,null,1014421,"",null,1014421,"2015-03-22","Portland","Manchester",962,"R","3:00 pm EDT ","Verizon Wireless Arena Manchester, NH"]
[null,null,null,null,null,null,null,null,null,null,null,null,null,null,1014433,"",null,1014433,"2015-03-25","Portland","St. John's",974,"H","7:00 pm EDT ","Cross Insurance Arena Portland, ME"]
[null,null,null,null,null,null,null,null,null,null,null,null,null,null,1014444,"",null,1014444,"2015-03-27","Portland","St. John's",985,"H","7:00 pm EDT ","Cross Insurance Arena Portland, ME"]
[null,null,null,null,null,null,null,null,null,null,null,null,null,null,1014457,"",null,1014457,"2015-03-28","Portland","Providence",998,"H","7:00 pm EDT ","Cross Insurance Arena Portland, ME"]
[null,null,null,null,null,null,null,null,null,null,null,null,null,null,null,"N",null,1014492,"2015-04-03","Portland","Manchester",1033,"H","7:00 pm EDT ","Cross Insurance Arena Portland, ME"]
[null,null,null,null,null,null,null,null,null,null,null,null,null,null,null,"N",null,1014506,"2015-04-04","Portland","Springfield",1047,"R","7:00 pm EDT ","MassMutual Center Springfield, MA"]
[null,null,null,null,null,null,null,null,null,null,null,null,null,null,null,"N",null,1014513,"2015-04-07","Portland","Worcester",1054,"H","7:00 pm EDT ","Cross Insurance Arena Portland, ME"]
[null,null,null,null,null,null,null,null,null,null,null,null,null,null,null,"N",null,1014525,"2015-04-10","Portland","Manchester",1066,"R","7:00 pm EDT ","Verizon Wireless Arena Manchester, NH"]
[null,null,null,null,null,null,null,null,null,null,null,null,null,null,null,"N",null,1014541,"2015-04-11","Portland","W-B/Scranton",1082,"H","7:00 pm EDT ","Cross Insurance Arena Portland, ME"]
[null,null,null,null,null,null,null,null,null,null,null,null,null,null,null,"N",null,1014552,"2015-04-12","Portland","W-B/Scranton",1093,"H","3:00 pm EDT ","Cross Insurance Arena Portland, ME"]
[null,null,null,null,null,null,null,null,null,null,null,null,null,null,null,"N",null,1014568,"2015-04-17","Portland","Manchester",1109,"R","7:00 pm EDT ","Verizon Wireless Arena Manchester, NH"]
[null,null,null,null,null,null,null,null,null,null,null,null,null,null,null,"N",null,1014588,"2015-04-18","Portland","Providence",1129,"H","7:00 pm EDT ","Cross Insurance Arena Portland, ME"]
[null,null,null,null,null,null,null,null,null,null,null,null,null,null,null,"N",null,1014599,"2015-04-19","Portland","Worcester",1140,"R","3:00 pm EDT ","DCU Center Worcester, MA"]
[null,null,null,null,null,null,null,null,null,null,null,null,null,null,1013462,"",null,1013462,"2014-10-10","Providence","St. John's",3,"H","7:05 pm EDT ","Dunkin' Donuts Center Providence, RI"]
[null,null,null,null,null,null,null,null,null,null,null,null,null,null,1013471,"",null,1013471,"2014-10-11","Providence","Portland",12,"R","7:00 pm EDT ","Cross Insurance Arena Portland, ME"]
[null,null,null,null,null,null,null,null,null,null,null,null,null,null,1013495,"",null,1013495,"2014-10-17","Providence","Worcester",36,"H","7:05 pm EDT ","Dunkin' Donuts Center Providence, RI"]
[null,null,null,null,null,null,null,null,null,null,null,null,null,null,1013513,"",null,1013513,"2014-10-18","Providence","Worcester",54,"R","7:00 pm EDT ","DCU Center Worcester, MA"]
[null,null,null,null,null,null,null,null,null,null,null,null,null,null,1013516,"",null,1013516,"2014-10-19","Providence","Portland",57,"H","3:05 pm EDT ","Dunkin' Donuts Center Providence, RI"]
[null,null,null,null,null,null,null,null,null,null,null,null,null,null,1013531,"",null,1013531,"2014-10-24","Providence","Norfolk",72,"H","7:05 pm EDT ","Dunkin' Donuts Center Providence, RI"]
[null,null,null,null,null,null,null,null,null,null,null,null,null,null,1013543,"",null,1013543,"2014-10-25","Providence","Manchester",84,"R","7:00 pm EDT ","Verizon Wireless Arena Manchester, NH"]
[null,null,null,null,null,null,null,null,null,null,null,null,null,null,1013586,"",null,1013586,"1'1 - 1","Providence","Springfield",127,"R","7:00 pm EDT ","MassMutual Center Springfield, MA"]
[null,null,null,null,null,null,null,null,null,null,null,null,null,null,1013596,"",null,1013596,"1'1 - 2","Providence","St. John's",137,"H","3:05 pm EST ","Dunkin' Donuts Center Providence, RI"]
[null,null,null,null,null,null,null,null,null,null,null,null,null,null,1013611,"",null,1013611,"2014-11-07","Providence","Portland",152,"H","7:05 pm EST ","Dunkin' Donuts Center Providence, RI"]
[null,null,null,null,null,null,null,null,null,null,null,null,null,null,1013629,"",null,1013629,"2014-11-08","Providence","Worcester",170,"R","7:00 pm EST ","DCU Center Worcester, MA"]
[null,null,null,null,null,null,null,null,null,null,null,null,null,null,1013634,"",null,1013634,"2014-11-09","Providence","St. John's",175,"H","3:05 pm EST ","Dunkin' Donuts Center Providence, RI"]
[null,null,null,null,null,null,null,null,null,null,null,null,null,null,1013653,"",null,1013653,"2014-11-14","Providence","Springfield",194,"H","7:05 pm EST ","Dunkin' Donuts Center Providence, RI"]
[null,null,null,null,null,null,null,null,null,null,null,null,null,null,1013667,"",null,1013667,"2014-11-15","Providence","Manchester",208,"R","7:00 pm EST ","Verizon Wireless Arena Manchester, NH"]
[null,null,null,null,null,null,null,null,null,null,null,null,null,null,1013679,"",null,1013679,"2014-11-16","Providence","Portland",220,"H","3:05 pm EST ","Dunkin' Donuts Center Providence, RI"]
[null,null,null,null,null,null,null,null,null,null,null,null,null,null,1013700,"",null,1013700,"2014-11-21","Providence","Hartford",241,"H","7:05 pm EST ","Dunkin' Donuts Center Providence, RI"]
[null,null,null,null,null,null,null,null,null,null,null,null,null,null,1013715,"",null,1013715,"2014-11-22","Providence","Springfield",256,"R","7:00 pm EST ","MassMutual Center Springfield, MA"]
[null,null,null,null,null,null,null,null,null,null,null,null,null,null,1013722,"",null,1013722,"2014-11-23","Providence","Springfield",263,"H","3:05 pm EST ","Dunkin' Donuts Center Providence, RI"]
[null,null,null,null,null,null,null,null,null,null,null,null,null,null,1013741,"",null,1013741,"2014-11-28","Providence","Portland",282,"R","7:00 pm EST ","Cross Insurance Arena Portland, ME"]
[null,null,null,null,null,null,null,null,null,null,null,null,null,null,1013761,"",null,1013761,"2014-11-29","Providence","Worcester",302,"R","7:00 pm EST ","DCU Center Worcester, MA"]
[null,null,null,null,null,null,null,null,null,null,null,null,null,null,null,"N",null,1014026,"2015-01-16","Syracuse","Binghamton",567,"R","7:05 pm EST ","Floyd L. Maines Veterans Memorial Arena Binghamton, NY"]
[null,null,null,null,null,null,null,null,null,null,null,null,null,null,1013780,"",null,1013780,"1'2 - 5","Providence","Albany",321,"H","7:05 pm EST ","Dunkin' Donuts Center Providence, RI"]
[null,null,null,null,null,null,null,null,null,null,null,null,null,null,1013806,"",null,1013806,"2014-12-07","Providence","Portland",347,"H","3:05 pm EST ","Dunkin' Donuts Center Providence, RI"]
[null,null,null,null,null,null,null,null,null,null,null,null,null,null,1013812,"",null,1013812,"2014-12-09","Providence","St. John's",353,"R","7:30 pm NST ","Mile One Centre St. John's, NL"]
[null,null,null,null,null,null,null,null,null,null,null,null,null,null,1013818,"",null,1013818,"2014-12-10","Providence","St. John's",359,"R","7:30 pm NST ","Mile One Centre St. John's, NL"]
[null,null,null,null,null,null,null,null,null,null,null,null,null,null,1013841,"",null,1013841,"2014-12-13","Providence","Portland",382,"H","7:05 pm EST ","Dunkin' Donuts Center Providence, RI"]
[null,null,null,null,null,null,null,null,null,null,null,null,null,null,1013850,"",null,1013850,"2014-12-14","Providence","Manchester",391,"H","3:05 pm EST ","Dunkin' Donuts Center Providence, RI"]
[null,null,null,null,null,null,null,null,null,null,null,null,null,null,1013872,"",null,1013872,"2014-12-19","Providence","Portland",413,"R","7:00 pm EST ","Cross Insurance Arena Portland, ME"]
[null,null,null,null,null,null,null,null,null,null,null,null,null,null,1013882,"",null,1013882,"2014-12-20","Providence","Manchester",423,"R","7:00 pm EST ","Verizon Wireless Arena Manchester, NH"]
[null,null,null,null,null,null,null,null,null,null,null,null,null,null,null,"N",null,1014032,"2015-01-16","Oklahoma City","Texas",573,"H","7:00 pm CST ","Cox Convention Center Oklahoma City, OK"]
[null,null,null,null,null,null,null,null,null,null,null,null,null,null,1013914,"",null,1013914,"2014-12-27","Providence","Manchester",455,"R","3:00 pm EST ","Verizon Wireless Arena Manchester, NH"]
[null,null,null,null,null,null,null,null,null,null,null,null,null,null,1013929,"",null,1013929,"2014-12-30","Providence","Albany",470,"R","7:00 pm EST ","Times Union Center Albany, NY"]
[null,null,null,null,null,null,null,null,null,null,null,null,null,null,1013952,"",null,1013952,"2015-01-02","Providence","Bridgeport",493,"H","7:05 pm EST ","Dunkin' Donuts Center Providence, RI"]
[null,null,null,null,null,null,null,null,null,null,null,null,null,null,null,"N",null,1014034,"2015-01-16","Iowa","Rockford",575,"R","7:00 pm CST ","BMO Harris Bank Center Rockford, IL"]
[null,null,null,null,null,null,null,null,null,null,null,null,null,null,1013973,"",null,1013973,"2015-01-04","Providence","Worcester",514,"H","3:05 pm EST ","Dunkin' Donuts Center Providence, RI"]
[null,null,null,null,null,null,null,null,null,null,null,null,null,null,1013990,"",null,1013990,"2015-01-09","Providence","Springfield",531,"H","7:05 pm EST ","Dunkin' Donuts Center Providence, RI"]
[null,null,null,null,null,null,null,null,null,null,null,null,null,null,1014009,"",null,1014009,"2015-01-10","Providence","Worcester",550,"R","7:00 pm EST ","DCU Center Worcester, MA"]
[null,null,null,null,null,null,null,null,null,null,null,null,null,null,1014013,"",null,1014013,"2015-01-11","Providence","Portland",554,"H","3:05 pm EST ","Dunkin' Donuts Center Providence, RI"]
[null,null,null,null,null,null,null,null,null,null,null,null,null,null,1014033,"",null,1014033,"2015-01-16","Providence","Bridgeport",574,"H","7:05 pm EST ","Dunkin' Donuts Center Providence, RI"]
[null,null,null,null,null,null,null,null,null,null,null,null,null,null,1014045,"",null,1014045,"2015-01-17","Providence","Manchester",586,"R","7:00 pm EST ","Verizon Wireless Arena Manchester, NH"]
[null,null,null,null,null,null,null,null,null,null,null,null,null,null,1014056,"",null,1014056,"2015-01-18","Providence","W-B/Scranton",597,"H","3:05 pm EST ","Dunkin' Donuts Center Providence, RI"]
[null,null,null,null,null,null,null,null,null,null,null,null,null,null,null,"N",null,1014035,"2015-01-16","St. John's","Portland",576,"H","7:30 pm NST ","Mile One Centre St. John's, NL"]
[null,null,null,null,null,null,null,null,null,null,null,null,null,null,1014079,"",null,1014079,"2015-01-23","Providence","Manchester",620,"H","7:05 pm EST ","Dunkin' Donuts Center Providence, RI"]
[null,null,null,null,null,null,null,null,null,null,null,null,null,null,1014093,"",null,1014093,"2015-01-24","Providence","Springfield",634,"R","7:00 pm EST ","MassMutual Center Springfield, MA"]
[null,null,null,null,null,null,null,null,null,null,null,null,null,null,1014108,{"$f":"IF(O1415=R1415,\"\",\"N\")","v":""},null,1014108,"2015-01-30","Providence","Worcester",649,"H","7:05 pm EST ","Dunkin' Donuts Center Providence, RI"]
[null,null,null,null,null,null,null,null,null,null,null,null,null,null,1014127,"",null,1014127,"2015-01-31","Providence","Worcester",668,"R","7:00 pm EST ","DCU Center Worcester, MA"]
[null,null,null,null,null,null,null,null,null,null,null,null,null,null,1014147,"",null,1014147,"2015-02-06","Providence","Manchester",688,"H","7:05 pm EST ","Dunkin' Donuts Center Providence, RI"]
[null,null,null,null,null,null,null,null,null,null,null,null,null,null,1014158,"",null,1014158,"2015-02-07","Providence","Manchester",699,"R","7:00 pm EST ","Verizon Wireless Arena Manchester, NH"]
[null,null,null,null,null,null,null,null,null,null,null,null,null,null,1014168,"",null,1014168,"2015-02-08","Providence","Springfield",709,"H","3:05 pm EST ","Dunkin' Donuts Center Providence, RI"]
[null,null,null,null,null,null,null,null,null,null,null,null,null,null,1014190,"",null,1014190,"2015-02-13","Providence","Bridgeport",731,"H","7:05 pm EST ","Dunkin' Donuts Center Providence, RI"]
[null,null,null,null,null,null,null,null,null,null,null,null,null,null,1014201,"",null,1014201,"2015-02-14","Providence","Springfield",742,"R","7:00 pm EST ","MassMutual Center Springfield, MA"]
[null,null,null,null,null,null,null,null,null,null,null,null,null,null,1014210,"",null,1014210,"2015-02-15","Providence","Manchester",751,"H","3:05 pm EST ","Dunkin' Donuts Center Providence, RI"]
[null,null,null,null,null,null,null,null,null,null,null,null,null,null,1014229,"",null,1014229,"2015-02-20","Providence","Lehigh Valley",770,"R","7:05 pm EST ","PPL Center Allentown, PA"]
[null,null,null,null,null,null,null,null,null,null,null,null,null,null,null,"N",null,1014046,"2015-01-17","Norfolk","Hartford",587,"H","7:15 pm EST ","Norfolk Scope Norfolk, VA"]
[null,null,null,null,null,null,null,null,null,null,null,null,null,null,1014254,"",null,1014254,"2015-02-22","Providence","Hershey",795,"R","5:00 pm EST ","Giant Center Hershey, PA"]
[null,null,null,null,null,null,null,null,null,null,null,null,null,null,1014272,"",null,1014272,"2015-02-27","Providence","Norfolk",813,"R","7:30 pm EST ","Norfolk Scope Norfolk, VA"]
[null,null,null,null,null,null,null,null,null,null,null,null,null,null,1014287,"",null,1014287,"2015-02-28","Providence","Norfolk",828,"R","7:15 pm EST ","Norfolk Scope Norfolk, VA"]
[null,null,null,null,null,null,null,null,null,null,null,null,null,null,1014314,"",null,1014314,"2015-03-06","Providence","Hershey",855,"H","7:05 pm EST ","Dunkin' Donuts Center Providence, RI"]
[null,null,null,null,null,null,null,null,null,null,null,null,null,null,1014325,"",null,1014325,"2015-03-07","Providence","Springfield",866,"H","7:05 pm EST ","Dunkin' Donuts Center Providence, RI"]
[null,null,null,null,null,null,null,null,null,null,null,null,null,null,1014337,"",null,1014337,"2015-03-08","Providence","Worcester",878,"H","3:05 pm EDT ","Dunkin' Donuts Center Providence, RI"]
[null,null,null,null,null,null,null,null,null,null,null,null,null,null,1014354,"",null,1014354,"2015-03-13","Providence","Lehigh Valley",895,"H","7:05 pm EDT ","Dunkin' Donuts Center Providence, RI"]
[null,null,null,null,null,null,null,null,null,null,null,null,null,null,1014369,"",null,1014369,"2015-03-14","Providence","Springfield",910,"R","7:00 pm EDT ","MassMutual Center Springfield, MA"]
[null,null,null,null,null,null,null,null,null,null,null,null,null,null,1014380,"",null,1014380,"2015-03-15","Providence","Norfolk",921,"H","3:05 pm EDT ","Dunkin' Donuts Center Providence, RI"]
[null,null,null,null,null,null,null,null,null,null,null,null,null,null,1014395,"",null,1014395,"2015-03-20","Providence","Manchester",936,"H","7:05 pm EDT ","Dunkin' Donuts Center Providence, RI"]
[null,null,null,null,null,null,null,null,null,null,null,null,null,null,1014402,"",null,1014402,"2015-03-21","Providence","Bridgeport",943,"R","7:00 pm EDT ","Webster Bank Arena Bridgeport, CT"]
[null,null,null,null,null,null,null,null,null,null,null,null,null,null,1014423,"",null,1014423,"2015-03-22","Providence","St. John's",964,"H","3:05 pm EDT ","Dunkin' Donuts Center Providence, RI"]
[null,null,null,null,null,null,null,null,null,null,null,null,null,null,null,"N",null,1014050,"2015-01-17","W-B/Scranton","Worcester",591,"R","7:00 pm EST ","DCU Center Worcester, MA"]
[null,null,null,null,null,null,null,null,null,null,null,null,null,null,1014457,"",null,1014457,"2015-03-28","Providence","Portland",998,"R","7:00 pm EDT ","Cross Insurance Arena Portland, ME"]
[null,null,null,null,null,null,null,null,null,null,null,null,null,null,null,"N",null,1014495,"2015-04-03","Providence","St. John's",1036,"R","7:30 pm NDT ","Mile One Centre St. John's, NL"]
[null,null,null,null,null,null,null,null,null,null,null,null,null,null,null,"N",null,1014507,"2015-04-04","Providence","St. John's",1048,"R","7:30 pm NDT ","Mile One Centre St. John's, NL"]
[null,null,null,null,null,null,null,null,null,null,null,null,null,null,null,"N",null,1014527,"2015-04-10","Providence","Worcester",1068,"H","7:05 pm EDT ","Dunkin' Donuts Center Providence, RI"]
[null,null,null,null,null,null,null,null,null,null,null,null,null,null,null,"N",null,1014547,"2015-04-11","Providence","Worcester",1088,"R","7:00 pm EDT ","DCU Center Worcester, MA"]
[null,null,null,null,null,null,null,null,null,null,null,null,null,null,null,"N",null,1014553,"2015-04-12","Providence","Hartford",1094,"H","3:05 pm EDT ","Dunkin' Donuts Center Providence, RI"]
[null,null,null,null,null,null,null,null,null,null,null,null,null,null,null,"N",null,1014572,"2015-04-17","Providence","Worcester",1113,"H","7:05 pm EDT ","Dunkin' Donuts Center Providence, RI"]
[null,null,null,null,null,null,null,null,null,null,null,null,null,null,null,"N",null,1014588,"2015-04-18","Providence","Portland",1129,"R","7:00 pm EDT ","Cross Insurance Arena Portland, ME"]
[null,null,null,null,null,null,null,null,null,null,null,null,null,null,"RCH","N",null,1014598,"2015-04-19","Providence","Manchester",1139,"H","3:05 pm EDT ","Dunkin' Donuts Center Providence, RI"]
[null,null,null,null,null,null,null,null,null,null,null,null,null,null,1013463,"",null,1013463,"2014-10-10","Rochester","Adirondack",4,"H","7:05 pm EDT ","Blue Cross Arena Rochester, NY"]
[null,null,null,null,null,null,null,null,null,null,null,null,null,null,1013472,"",null,1013472,"2014-10-11","Rochester","Hamilton",13,"H","7:05 pm EDT ","Blue Cross Arena Rochester, NY"]
[null,null,null,null,null,null,null,null,null,null,null,null,null,null,1013512,"",null,1013512,"2014-10-18","Rochester","Toronto",53,"R","3:00 pm EDT ","Ricoh Coliseum Toronto, ON"]
[null,null,null,null,null,null,null,null,null,null,null,null,null,null,1013521,"",null,1013521,"2014-10-22","Rochester","Rockford",62,"H","7:05 pm EDT ","Blue Cross Arena Rochester, NY"]
[null,null,null,null,null,null,null,null,null,null,null,null,null,null,1013532,"",null,1013532,"2014-10-24","Rochester","Adirondack",73,"H","7:05 pm EDT ","Blue Cross Arena Rochester, NY"]
[null,null,null,null,null,null,null,null,null,null,null,null,null,null,1013537,"",null,1013537,"2014-10-25","Rochester","Adirondack",78,"R","7:00 pm EDT ","Glens Falls Civic Center Glens Falls, NY"]
[null,null,null,null,null,null,null,null,null,null,null,null,null,null,1013564,"",null,1013564,"2014-10-29","Rochester","Hamilton",105,"H","7:05 pm EDT *","First Niagara Center Buffalo, NY"]
[null,null,null,null,null,null,null,null,null,null,null,null,null,null,1013574,"",null,1013574,"2014-10-31","Rochester","Syracuse",115,"R","7:00 pm EDT ","Onondaga County War Memorial Arena Syracuse, NY"]
[null,null,null,null,null,null,null,null,null,null,null,null,null,null,1013587,"",null,1013587,"1'1 - 1","Rochester","Toronto",128,"R","5:00 pm EDT ","Ricoh Coliseum Toronto, ON"]
[null,null,null,null,null,null,null,null,null,null,null,null,null,null,1013597,"",null,1013597,"1'1 - 4","Rochester","Hamilton",138,"R","10:15 am EST ","FirstOntario Centre Hamilton, ON"]
[null,null,null,null,null,null,null,null,null,null,null,null,null,null,1013612,"",null,1013612,"2014-11-07","Rochester","Binghamton",153,"H","7:05 pm EST ","Blue Cross Arena Rochester, NY"]
[null,null,null,null,null,null,null,null,null,null,null,null,null,null,1013626,"",null,1013626,"2014-11-08","Rochester","Utica",167,"H","7:05 pm EST ","Blue Cross Arena Rochester, NY"]
[null,null,null,null,null,null,null,null,null,null,null,null,null,null,1013638,"",null,1013638,"2014-11-10","Rochester","Adirondack",179,"H","3:05 pm EST ","Blue Cross Arena Rochester, NY"]
[null,null,null,null,null,null,null,null,null,null,null,null,null,null,1013654,"",null,1013654,"2014-11-14","Rochester","Toronto",195,"H","7:05 pm EST ","Blue Cross Arena Rochester, NY"]
[null,null,null,null,null,null,null,null,null,null,null,null,null,null,1013671,"",null,1013671,"2014-11-15","Rochester","Chicago",212,"H","7:05 pm EST ","Blue Cross Arena Rochester, NY"]
[null,null,null,null,null,null,null,null,null,null,null,null,null,null,1013676,"",null,1013676,"2014-11-16","Rochester","Hamilton",217,"R","3:00 pm EST ","FirstOntario Centre Hamilton, ON"]
[null,null,null,null,null,null,null,null,null,null,null,null,null,null,1013701,"",null,1013701,"2014-11-21","Rochester","Utica",242,"H","7:05 pm EST ","Blue Cross Arena Rochester, NY"]
[null,null,null,null,null,null,null,null,null,null,null,null,null,null,1013705,"",null,1013705,"2014-11-22","Rochester","Adirondack",246,"R","7:00 pm EST ","Glens Falls Civic Center Glens Falls, NY"]
[null,null,null,null,null,null,null,null,null,null,null,null,null,null,1013733,"",null,1013733,"2014-11-26","Rochester","Grand Rapids",274,"H","7:05 pm EST ","Blue Cross Arena Rochester, NY"]
[null,null,null,null,null,null,null,null,null,null,null,null,null,null,1013742,"",null,1013742,"2014-11-28","Rochester","Grand Rapids",283,"H","7:05 pm EST ","Blue Cross Arena Rochester, NY"]
[null,null,null,null,null,null,null,null,null,null,null,null,null,null,1013750,"",null,1013750,"2014-11-29","Rochester","Binghamton",291,"R","7:05 pm EST ","Floyd L. Maines Veterans Memorial Arena Binghamton, NY"]
[null,null,null,null,null,null,null,null,null,null,null,null,null,null,1013781,"",null,1013781,"1'2 - 5","Rochester","Binghamton",322,"H","7:05 pm EST ","Blue Cross Arena Rochester, NY"]
[null,null,null,null,null,null,null,null,null,null,null,null,null,null,null,"N",null,1014062,"2015-01-21","Hartford","Providence",603,"H","7:00 pm EST ","XL Center Hartford, CT"]
[null,null,null,null,null,null,null,null,null,null,null,null,null,null,null,"N",null,1014062,"2015-01-21","Providence","Hartford",603,"R","7:00 pm EST ","XL Center Hartford, CT"]
[null,null,null,null,null,null,null,null,null,null,null,null,null,null,1013820,"",null,1013820,"2014-12-10","Rochester","Utica",361,"R","7:00 pm EST ","Utica Memorial Auditorium Utica, NY"]
[null,null,null,null,null,null,null,null,null,null,null,null,null,null,1013824,"",null,1013824,"2014-12-12","Rochester","Hamilton",365,"R","7:30 pm EST ","FirstOntario Centre Hamilton, ON"]
[null,null,null,null,null,null,null,null,null,null,null,null,null,null,1013842,"",null,1013842,"2014-12-13","Rochester","Hamilton",383,"H","7:35 pm EST ","Blue Cross Arena Rochester, NY"]
[null,null,null,null,null,null,null,null,null,null,null,null,null,null,1013861,"",null,1013861,"2014-12-17","Rochester","Syracuse",402,"H","7:05 pm EST ","Blue Cross Arena Rochester, NY"]
[null,null,null,null,null,null,null,null,null,null,null,null,null,null,1013873,"",null,1013873,"2014-12-19","Rochester","Adirondack",414,"H","7:05 pm EST ","Blue Cross Arena Rochester, NY"]
[null,null,null,null,null,null,null,null,null,null,null,null,null,null,1013886,"",null,1013886,"2014-12-20","Rochester","Milwaukee",427,"H","7:05 pm EST ","Blue Cross Arena Rochester, NY"]
[null,null,null,null,null,null,null,null,null,null,null,null,null,null,1013901,"",null,1013901,"2014-12-26","Rochester","Lake Erie",442,"H","7:05 pm EST ","Blue Cross Arena Rochester, NY"]
[null,null,null,null,null,null,null,null,null,null,null,null,null,null,1013915,"",null,1013915,"2014-12-27","Rochester","Toronto",456,"H","7:05 pm EST ","Blue Cross Arena Rochester, NY"]
[null,null,null,null,null,null,null,null,null,null,null,null,null,null,1013941,{"$f":"IF(O1479=R1479,\"\",\"N\")","v":""},null,1013941,"2014-12-31","Rochester","Syracuse",482,"H","3:05 pm EST ","Blue Cross Arena Rochester, NY"]
[null,null,null,null,null,null,null,null,null,null,null,null,null,null,1013953,"",null,1013953,"2015-01-02","Rochester","Iowa",494,"H","7:05 pm EST ","Blue Cross Arena Rochester, NY"]
[null,null,null,null,null,null,null,null,null,null,null,null,null,null,null,"N",null,1014069,"2015-01-22","Iowa","Rockford",610,"H","7:00 pm CST ","Wells Fargo Arena Des Moines, IA"]
[null,null,null,null,null,null,null,null,null,null,null,null,null,null,1013981,"",null,1013981,"2015-01-07","Rochester","San Antonio",522,"H","7:05 pm EST ","Blue Cross Arena Rochester, NY"]
[null,null,null,null,null,null,null,null,null,null,null,null,null,null,1013991,"",null,1013991,"2015-01-09","Rochester","Lake Erie",532,"H","7:05 pm EST ","Blue Cross Arena Rochester, NY"]
[null,null,null,null,null,null,null,null,null,null,null,null,null,null,null,"N",null,1014069,"2015-01-22","Rockford","Iowa",610,"R","7:00 pm CST ","Wells Fargo Arena Des Moines, IA"]
[null,null,null,null,null,null,null,null,null,null,null,null,null,null,1014023,"",null,1014023,"2015-01-14","Rochester","Texas",564,"R","7:30 pm CST ","Cedar Park Center Cedar Park, TX"]
[null,null,null,null,null,null,null,null,null,null,null,null,null,null,1014048,"",null,1014048,"2015-01-17","Rochester","San Antonio",589,"R","7:00 pm CST ","AT&T Center San Antonio, TX"]
[null,null,null,null,null,null,null,null,null,null,null,null,null,null,1014055,"",null,1014055,"2015-01-18","Rochester","Oklahoma City",596,"R","4:00 pm CST ","Cox Convention Center Oklahoma City, OK"]
[null,null,null,null,null,null,null,null,null,null,null,null,null,null,1014080,"",null,1014080,"2015-01-23","Rochester","Adirondack",621,"H","7:05 pm EST ","Blue Cross Arena Rochester, NY"]
[null,null,null,null,null,null,null,null,null,null,null,null,null,null,1014084,"",null,1014084,"2015-01-24","Rochester","Adirondack",625,"R","7:00 pm EST ","Glens Falls Civic Center Glens Falls, NY"]
[null,null,null,null,null,null,null,null,null,null,null,null,null,null,1014112,"",null,1014112,"2015-01-30","Rochester","Syracuse",653,"R","7:00 pm EST ","Onondaga County War Memorial Arena Syracuse, NY"]
[null,null,null,null,null,null,null,null,null,null,null,null,null,null,1014114,"",null,1014114,"2015-01-31","Rochester","Adirondack",655,"R","7:00 pm EST ","Glens Falls Civic Center Glens Falls, NY"]
[null,null,null,null,null,null,null,null,null,null,null,null,null,null,1014129,"",null,1014129,"2015-02-03","Rochester","Chicago",670,"R","11:00 am CST ","Allstate Arena Rosemont, IL"]
[null,null,null,null,null,null,null,null,null,null,null,null,null,null,1014142,"",null,1014142,"2015-02-06","Rochester","Grand Rapids",683,"R","7:00 pm EST ","Van Andel Arena Grand Rapids, MI"]
[null,null,null,null,null,null,null,null,null,null,null,null,null,null,1014155,"",null,1014155,"2015-02-07","Rochester","Grand Rapids",696,"R","7:00 pm EST ","Van Andel Arena Grand Rapids, MI"]
[null,null,null,null,null,null,null,null,null,null,null,null,null,null,1014167,"",null,1014167,"2015-02-08","Rochester","Milwaukee",708,"R","3:00 pm CST ","BMO Harris Bradley Center Milwaukee, WI"]
[null,null,null,null,null,null,null,null,null,null,null,null,null,null,1014178,"",null,1014178,"2015-02-11","Rochester","Utica",719,"R","7:00 pm EST ","Utica Memorial Auditorium Utica, NY"]
[null,null,null,null,null,null,null,null,null,null,null,null,null,null,1014191,"",null,1014191,"2015-02-13","Rochester","Adirondack",732,"H","7:05 pm EST ","Blue Cross Arena Rochester, NY"]
[null,null,null,null,null,null,null,null,null,null,null,null,null,null,1014199,"",null,1014199,"2015-02-14","Rochester","Utica",740,"H","7:05 pm EST ","Blue Cross Arena Rochester, NY"]
[null,null,null,null,null,null,null,null,null,null,null,null,null,null,1014221,"",null,1014221,"2015-02-18","Rochester","Hamilton",762,"R","7:30 pm EST ","FirstOntario Centre Hamilton, ON"]
[null,null,null,null,null,null,null,null,null,null,null,null,null,null,1014232,"",null,1014232,"2015-02-20","Rochester","Texas",773,"H","7:05 pm EST ","Blue Cross Arena Rochester, NY"]
[null,null,null,null,null,null,null,null,null,null,null,null,null,null,1014257,"",null,1014257,"2015-02-22","Rochester","Syracuse",798,"H","5:05 pm EST ","Blue Cross Arena Rochester, NY"]
[null,null,null,null,null,null,null,null,null,null,null,null,null,null,1014261,"",null,1014261,"2015-02-24","Rochester","Lake Erie",802,"R","10:45 am EST ","Quicken Loans Arena Cleveland, OH"]
[null,null,null,null,null,null,null,null,null,null,null,null,null,null,1014265,"",null,1014265,"2015-02-25","Rochester","Syracuse",806,"H","7:05 pm EST ","Blue Cross Arena Rochester, NY"]
[null,null,null,null,null,null,null,null,null,null,null,null,null,null,1014274,"",null,1014274,"2015-02-27","Rochester","Toronto",815,"H","7:05 pm EST ","Blue Cross Arena Rochester, NY"]
[null,null,null,null,null,null,null,null,null,null,null,null,null,null,1014306,"",null,1014306,"2015-03-04","Rochester","Utica",847,"R","7:00 pm EST ","Utica Memorial Auditorium Utica, NY"]
[null,null,null,null,null,null,null,null,null,null,null,null,null,null,1014308,"",null,1014308,"2015-03-06","Rochester","Hamilton",849,"R","7:30 pm EST ","FirstOntario Centre Hamilton, ON"]
[null,null,null,null,null,null,null,null,null,null,null,null,null,null,1014355,"",null,1014355,"2015-03-13","Rochester","Hamilton",896,"H","7:05 pm EDT ","Blue Cross Arena Rochester, NY"]
[null,null,null,null,null,null,null,null,null,null,null,null,null,null,1014399,"",null,1014399,"2015-03-20","Rochester","Utica",940,"R","7:00 pm EDT ","Utica Memorial Auditorium Utica, NY"]
[null,null,null,null,null,null,null,null,null,null,null,null,null,null,1014413,"",null,1014413,"2015-03-21","Rochester","Toronto",954,"R","3:00 pm EDT ","Ricoh Coliseum Toronto, ON"]
[null,null,null,null,null,null,null,null,null,null,null,null,null,null,1014424,"",null,1014424,"2015-03-22","Rochester","Utica",965,"H","3:05 pm EDT ","Blue Cross Arena Rochester, NY"]
[null,null,null,null,null,null,null,null,null,null,null,null,null,null,1014445,"",null,1014445,"2015-03-27","Rochester","Hamilton",986,"H","7:05 pm EDT ","Blue Cross Arena Rochester, NY"]
[null,null,null,null,null,null,null,null,null,null,null,null,null,null,1014459,"",null,1014459,"2015-03-28","Rochester","Syracuse",1000,"R","7:00 pm EDT ","Onondaga County War Memorial Arena Syracuse, NY"]
[null,null,null,null,null,null,null,null,null,null,null,null,null,null,1014468,"",null,1014468,"2015-03-29","Rochester","Toronto",1009,"H","3:05 pm EDT ","Blue Cross Arena Rochester, NY"]
[null,null,null,null,null,null,null,null,null,null,null,null,null,null,1014480,"",null,1014480,"2015-04-01","Rochester","Utica",1021,"R","7:00 pm EDT ","Utica Memorial Auditorium Utica, NY"]
[null,null,null,null,null,null,null,null,null,null,null,null,null,null,null,"N",null,1014488,"2015-04-03","Rochester","Iowa",1029,"R","7:00 pm CDT ","Wells Fargo Arena Des Moines, IA"]
[null,null,null,null,null,null,null,null,null,null,null,null,null,null,null,"N",null,1014504,"2015-04-04","Rochester","Rockford",1045,"R","7:00 pm CDT ","BMO Harris Bank Center Rockford, IL"]
[null,null,null,null,null,null,null,null,null,null,null,null,null,null,null,"N",null,1014520,"2015-04-09","Rochester","Lake Erie",1061,"R","7:00 pm EDT ","Quicken Loans Arena Cleveland, OH"]
[null,null,null,null,null,null,null,null,null,null,null,null,null,null,null,"N",null,1014528,"2015-04-10","Rochester","Toronto",1069,"H","7:05 pm EDT ","Blue Cross Arena Rochester, NY"]
[null,null,null,null,null,null,null,null,null,null,null,null,null,null,null,"N",null,1014546,"2015-04-11","Rochester","Toronto",1087,"R","3:00 pm EDT ","Ricoh Coliseum Toronto, ON"]
[null,null,null,null,null,null,null,null,null,null,null,null,null,null,null,"N",null,1014573,"2015-04-17","Rochester","Utica",1114,"H","7:05 pm EDT ","Blue Cross Arena Rochester, NY"]
[null,null,null,null,null,null,null,null,null,null,null,null,null,null,null,"N",null,1014581,"2015-04-18","Rochester","Binghamton",1122,"R","7:05 pm EDT ","Floyd L. Maines Veterans Memorial Arena Binghamton, NY"]
[null,null,null,null,null,null,null,null,null,null,null,null,null,null,null,"N",null,1014594,"2015-04-19","Rochester","Adirondack",1135,"R","5:00 pm EDT ","Glens Falls Civic Center Glens Falls, NY"]
[null,null,null,null,null,null,null,null,null,null,null,null,null,null,1013473,"",null,1013473,"2014-10-11","Rockford","Milwaukee",14,"H","7:00 pm CDT ","BMO Harris Bank Center Rockford, IL"]
[null,null,null,null,null,null,null,null,null,null,null,null,null,null,1013485,"",null,1013485,"2014-10-16","Rockford","Adirondack",26,"R","7:00 pm EDT ","Glens Falls Civic Center Glens Falls, NY"]
[null,null,null,null,null,null,null,null,null,null,null,null,null,null,1013503,"",null,1013503,"2014-10-18","Rockford","Hamilton",44,"R","7:00 pm EDT ","FirstOntario Centre Hamilton, ON"]
[null,null,null,null,null,null,null,null,null,null,null,null,null,null,null,"N",null,1014074,"2015-01-23","Toronto","Hamilton",615,"R","7:30 pm EST ","FirstOntario Centre Hamilton, ON"]
[null,null,null,null,null,null,null,null,null,null,null,null,null,null,1013521,"",null,1013521,"2014-10-22","Rockford","Rochester",62,"R","7:05 pm EDT ","Blue Cross Arena Rochester, NY"]
[null,null,null,null,null,null,null,null,null,null,null,null,null,null,1013546,"",null,1013546,"2014-10-25","Rockford","Chicago",87,"H","7:00 pm CDT ","BMO Harris Bank Center Rockford, IL"]
[null,null,null,null,null,null,null,null,null,null,null,null,null,null,1013554,"",null,1013554,"2014-10-26","Rockford","Lake Erie",95,"H","4:00 pm CDT ","BMO Harris Bank Center Rockford, IL"]
[null,null,null,null,null,null,null,null,null,null,null,null,null,null,1013561,"",null,1013561,"2014-10-29","Rockford","Grand Rapids",102,"R","7:00 pm EDT ","Van Andel Arena Grand Rapids, MI"]
[null,null,null,null,null,null,null,null,null,null,null,null,null,null,1013573,"",null,1013573,"2014-10-31","Rockford","San Antonio",114,"R","7:30 pm CDT ","AT&T Center San Antonio, TX"]
[null,null,null,null,null,null,null,null,null,null,null,null,null,null,1013585,"",null,1013585,"1'1 - 1","Rockford","San Antonio",126,"R","7:00 pm CDT ","AT&T Center San Antonio, TX"]
[null,null,null,null,null,null,null,null,null,null,null,null,null,null,1013598,"",null,1013598,"1'1 - 4","Rockford","Lake Erie",139,"H","7:00 pm CST ","BMO Harris Bank Center Rockford, IL"]
[null,null,null,null,null,null,null,null,null,null,null,null,null,null,1013606,"",null,1013606,"1'1 - 6","Rockford","Iowa",147,"R","10:30 am CST ","Wells Fargo Arena Des Moines, IA"]
[null,null,null,null,null,null,null,null,null,null,null,null,null,null,1013627,"",null,1013627,"2014-11-08","Rockford","Grand Rapids",168,"H","7:00 pm CST ","BMO Harris Bank Center Rockford, IL"]
[null,null,null,null,null,null,null,null,null,null,null,null,null,null,1013655,"",null,1013655,"2014-11-14","Rockford","Milwaukee",196,"H","7:00 pm CST ","BMO Harris Bank Center Rockford, IL"]
[null,null,null,null,null,null,null,null,null,null,null,null,null,null,1013668,"",null,1013668,"2014-11-15","Rockford","Milwaukee",209,"R","7:00 pm CST ","BMO Harris Bradley Center Milwaukee, WI"]
[null,null,null,null,null,null,null,null,null,null,null,null,null,null,1013680,"",null,1013680,"2014-11-16","Rockford","Texas",221,"H","4:00 pm CST ","BMO Harris Bank Center Rockford, IL"]
[null,null,null,null,null,null,null,null,null,null,null,null,null,null,1013702,"",null,1013702,"2014-11-21","Rockford","Iowa",243,"H","7:00 pm CST ","BMO Harris Bank Center Rockford, IL"]
[null,null,null,null,null,null,null,null,null,null,null,null,null,null,1013714,"",null,1013714,"2014-11-22","Rockford","Milwaukee",255,"H","7:00 pm CST ","BMO Harris Bank Center Rockford, IL"]
[null,null,null,null,null,null,null,null,null,null,null,null,null,null,1013719,"",null,1013719,"2014-11-23","Rockford","Chicago",260,"R","4:00 pm CST ","Allstate Arena Rosemont, IL"]
[null,null,null,null,null,null,null,null,null,null,null,null,null,null,1013734,"",null,1013734,"2014-11-26","Rockford","Iowa",275,"H","7:00 pm CST ","BMO Harris Bank Center Rockford, IL"]
[null,null,null,null,null,null,null,null,null,null,null,null,null,null,1013743,{"$f":"IF(O1543=R1543,\"\",\"N\")","v":""},null,1013743,"2014-11-28","Rockford","Chicago",284,"H","7:00 pm CST ","BMO Harris Bank Center Rockford, IL"]
[null,null,null,null,null,null,null,null,null,null,null,null,null,null,1013753,"",null,1013753,"2014-11-29","Rockford","Chicago",294,"R","7:00 pm CST ","Allstate Arena Rosemont, IL"]
[null,null,null,null,null,null,null,null,null,null,null,null,null,null,1013773,"",null,1013773,"1'2 - 4","Rockford","Milwaukee",314,"R","7:00 pm CST ","BMO Harris Bradley Center Milwaukee, WI"]
[null,null,null,null,null,null,null,null,null,null,null,null,null,null,null,"N",null,1014092,"2015-01-24","Utica","Rockford",633,"R","7:00 pm CST ","BMO Harris Bank Center Rockford, IL"]
[null,null,null,null,null,null,null,null,null,null,null,null,null,null,1013807,"",null,1013807,"2014-12-07","Rockford","Lake Erie",348,"H","4:00 pm CST ","BMO Harris Bank Center Rockford, IL"]
[null,null,null,null,null,null,null,null,null,null,null,null,null,null,1013815,"",null,1013815,"2014-12-10","Rockford","Milwaukee",356,"R","7:00 pm CST ","BMO Harris Bradley Center Milwaukee, WI"]
[null,null,null,null,null,null,null,null,null,null,null,null,null,null,1013827,"",null,1013827,"2014-12-12","Rockford","Lake Erie",368,"R","7:30 pm EST ","Quicken Loans Arena Cleveland, OH"]
[null,null,null,null,null,null,null,null,null,null,null,null,null,null,1013837,"",null,1013837,"2014-12-13","Rockford","Lake Erie",378,"R","7:00 pm EST ","Quicken Loans Arena Cleveland, OH"]
[null,null,null,null,null,null,null,null,null,null,null,null,null,null,1013855,"",null,1013855,"2014-12-16","Rockford","Iowa",396,"R","7:00 pm CST ","Wells Fargo Arena Des Moines, IA"]
[null,null,null,null,null,null,null,null,null,null,null,null,null,null,1013884,"",null,1013884,"2014-12-20","Rockford","Oklahoma City",425,"R","7:00 pm CST ","Cox Convention Center Oklahoma City, OK"]
[null,null,null,null,null,null,null,null,null,null,null,null,null,null,1013893,"",null,1013893,"2014-12-21","Rockford","Oklahoma City",434,"R","2:00 pm CST ","Cox Convention Center Oklahoma City, OK"]
[null,null,null,null,null,null,null,null,null,null,null,null,null,null,1013902,"",null,1013902,"2014-12-26","Rockford","Iowa",443,"H","7:00 pm CST ","BMO Harris Bank Center Rockford, IL"]
[null,null,null,null,null,null,null,null,null,null,null,null,null,null,1013923,"",null,1013923,"2014-12-28","Rockford","Chicago",464,"H","4:00 pm CST ","BMO Harris Bank Center Rockford, IL"]
[null,null,null,null,null,null,null,null,null,null,null,null,null,null,1013933,"",null,1013933,"2014-12-30","Rockford","Hamilton",474,"H","7:00 pm CST ","BMO Harris Bank Center Rockford, IL"]
[null,null,null,null,null,null,null,null,null,null,null,null,null,null,1013937,"",null,1013937,"2014-12-31","Rockford","Grand Rapids",478,"R","6:00 pm EST ","Van Andel Arena Grand Rapids, MI"]
[null,null,null,null,null,null,null,null,null,null,null,null,null,null,1013961,"",null,1013961,"2015-01-03","Rockford","Chicago",502,"R","7:00 pm CST ","Allstate Arena Rosemont, IL"]
[null,null,null,null,null,null,null,null,null,null,null,null,null,null,1013983,"",null,1013983,"2015-01-08","Rockford","Milwaukee",524,"R","7:00 pm CST ","BMO Harris Bradley Center Milwaukee, WI"]
[null,null,null,null,null,null,null,null,null,null,null,null,null,null,null,"N",null,1014097,"2015-01-29","Iowa","Grand Rapids",638,"H","7:00 pm CST ","Wells Fargo Arena Des Moines, IA"]
[null,null,null,null,null,null,null,null,null,null,null,null,null,null,1014018,"",null,1014018,"2015-01-13","Rockford","Charlotte",559,"H","7:00 pm CST ","BMO Harris Bank Center Rockford, IL"]
[null,null,null,null,null,null,null,null,null,null,null,null,null,null,1014034,"",null,1014034,"2015-01-16","Rockford","Iowa",575,"H","7:00 pm CST ","BMO Harris Bank Center Rockford, IL"]
[null,null,null,null,null,null,null,null,null,null,null,null,null,null,1014040,"",null,1014040,"2015-01-17","Rockford","Chicago",581,"R","7:00 pm CST ","Allstate Arena Rosemont, IL"]
[null,null,null,null,null,null,null,null,null,null,null,null,null,null,1014058,"",null,1014058,"2015-01-19","Rockford","Chicago",599,"H","1:00 pm CST ","BMO Harris Bank Center Rockford, IL"]
[null,null,null,null,null,null,null,null,null,null,null,null,null,null,null,"N",null,1014106,"2015-01-30","Milwaukee","Grand Rapids",647,"H","7:00 pm CST ","BMO Harris Bradley Center Milwaukee, WI"]
[null,null,null,null,null,null,null,null,null,null,null,null,null,null,1014092,"",null,1014092,"2015-01-24","Rockford","Utica",633,"H","7:00 pm CST ","BMO Harris Bank Center Rockford, IL"]
[null,null,null,null,null,null,null,null,null,null,null,null,null,null,1014109,"",null,1014109,"2015-01-30","Rockford","Chicago",650,"H","7:00 pm CST ","BMO Harris Bank Center Rockford, IL"]
[null,null,null,null,null,null,null,null,null,null,null,null,null,null,1014118,"",null,1014118,"2015-01-31","Rockford","Chicago",659,"R","7:00 pm CST ","Allstate Arena Rosemont, IL"]
[null,null,null,null,null,null,null,null,null,null,null,null,null,null,1014145,"",null,1014145,"2015-02-06","Rockford","Milwaukee",686,"R","7:00 pm CST ","BMO Harris Bradley Center Milwaukee, WI"]
[null,null,null,null,null,null,null,null,null,null,null,null,null,null,1014160,"",null,1014160,"2015-02-07","Rockford","Milwaukee",701,"H","7:00 pm CST ","BMO Harris Bank Center Rockford, IL"]
[null,null,null,null,null,null,null,null,null,null,null,null,null,null,1014188,"",null,1014188,"2015-02-13","Rockford","Milwaukee",729,"R","7:00 pm CST ","BMO Harris Bradley Center Milwaukee, WI"]
[null,null,null,null,null,null,null,null,null,null,null,null,null,null,1014200,"",null,1014200,"2015-02-14","Rockford","Oklahoma City",741,"H","7:00 pm CST ","BMO Harris Bank Center Rockford, IL"]
[null,null,null,null,null,null,null,null,null,null,null,null,null,null,1014211,"",null,1014211,"2015-02-15","Rockford","San Antonio",752,"H","4:00 pm CST ","BMO Harris Bank Center Rockford, IL"]
[null,null,null,null,null,null,null,null,null,null,null,null,null,null,null,"N",null,1014111,"2015-01-30","Springfield","W-B/Scranton",652,"H","7:00 pm EST ","MassMutual Center Springfield, MA"]
[null,null,null,null,null,null,null,null,null,null,null,null,null,null,1014228,"",null,1014228,"2015-02-20","Rockford","Lake Erie",769,"R","7:30 pm EST ","Quicken Loans Arena Cleveland, OH"]
[null,null,null,null,null,null,null,null,null,null,null,null,null,null,1014240,"",null,1014240,"2015-02-21","Rockford","Lake Erie",781,"R","7:00 pm EST ","Quicken Loans Arena Cleveland, OH"]
[null,null,null,null,null,null,null,null,null,null,null,null,null,null,1014277,"",null,1014277,"2015-02-27","Rockford","Texas",818,"R","7:30 pm CST ","Cedar Park Center Cedar Park, TX"]
[null,null,null,null,null,null,null,null,null,null,null,null,null,null,1014292,"",null,1014292,"2015-02-28","Rockford","Texas",833,"R","7:00 pm CST ","Cedar Park Center Cedar Park, TX"]
[null,null,null,null,null,null,null,null,null,null,null,null,null,null,1014315,"",null,1014315,"2015-03-06","Rockford","Oklahoma City",856,"H","7:00 pm CST ","BMO Harris Bank Center Rockford, IL"]
[null,null,null,null,null,null,null,null,null,null,null,null,null,null,1014326,"",null,1014326,"2015-03-07","Rockford","Grand Rapids",867,"H","7:00 pm CST ","BMO Harris Bank Center Rockford, IL"]
[null,null,null,null,null,null,null,null,null,null,null,null,null,null,1014365,"",null,1014365,"2015-03-14","Rockford","Grand Rapids",906,"R","8:00 pm EDT ","Van Andel Arena Grand Rapids, MI"]
[null,null,null,null,null,null,null,null,null,null,null,null,null,null,1014376,"",null,1014376,"2015-03-15","Rockford","Chicago",917,"R","3:00 pm CDT ","Allstate Arena Rosemont, IL"]
[null,null,null,null,null,null,null,null,null,null,null,null,null,null,1014387,"",null,1014387,"2015-03-18","Rockford","Adirondack",928,"H","7:00 pm CDT ","BMO Harris Bank Center Rockford, IL"]
[null,null,null,null,null,null,null,null,null,null,null,null,null,null,1014409,"",null,1014409,"2015-03-21","Rockford","Adirondack",950,"H","7:00 pm CDT ","BMO Harris Bank Center Rockford, IL"]
[null,null,null,null,null,null,null,null,null,null,null,null,null,null,1014425,"",null,1014425,"2015-03-22","Rockford","Texas",966,"H","4:00 pm CDT ","BMO Harris Bank Center Rockford, IL"]
[null,null,null,null,null,null,null,null,null,null,null,null,null,null,1014434,"",null,1014434,"2015-03-25","Rockford","Lake Erie",975,"H","7:00 pm CDT ","BMO Harris Bank Center Rockford, IL"]
[null,null,null,null,null,null,null,null,null,null,null,null,null,null,1014436,"",null,1014436,"2015-03-27","Rockford","Adirondack",977,"R","7:00 pm EDT ","Glens Falls Civic Center Glens Falls, NY"]
[null,null,null,null,null,null,null,null,null,null,null,null,null,null,1014462,"",null,1014462,"2015-03-28","Rockford","Utica",1003,"R","7:00 pm EDT ","Utica Memorial Auditorium Utica, NY"]
[null,null,null,null,null,null,null,null,null,null,null,null,null,null,1014473,"",null,1014473,"2015-04-01","Rockford","Grand Rapids",1014,"R","7:00 pm EDT ","Van Andel Arena Grand Rapids, MI"]
[null,null,null,null,null,null,null,null,null,null,null,null,null,null,null,"N",null,1014493,"2015-04-03","Rockford","Grand Rapids",1034,"H","7:00 pm CDT ","BMO Harris Bank Center Rockford, IL"]
[null,null,null,null,null,null,null,null,null,null,null,null,null,null,null,"N",null,1014504,"2015-04-04","Rockford","Rochester",1045,"H","7:00 pm CDT ","BMO Harris Bank Center Rockford, IL"]
[null,null,null,null,null,null,null,null,null,null,null,null,null,null,null,"N",null,1014514,"2015-04-07","Rockford","Milwaukee",1055,"H","7:00 pm CDT ","BMO Harris Bank Center Rockford, IL"]
[null,null,null,null,null,null,null,null,null,null,null,null,null,null,null,"N",null,1014519,"2015-04-09","Rockford","Iowa",1060,"R","7:00 pm CDT ","Wells Fargo Arena Des Moines, IA"]
[null,null,null,null,null,null,null,null,null,null,null,null,null,null,null,"N",null,1014537,"2015-04-11","Rockford","Charlotte",1078,"R","7:00 pm EDT ","Time Warner Cable Arena Charlotte, NC"]
[null,null,null,null,null,null,null,null,null,null,null,null,null,null,null,"N",null,1014550,"2015-04-12","Rockford","Charlotte",1091,"R","1:00 pm EDT ","Time Warner Cable Arena Charlotte, NC"]
[null,null,null,null,null,null,null,null,null,null,null,null,null,null,null,"N",null,1014562,"2015-04-15","Rockford","Charlotte",1103,"H","7:00 pm CDT ","BMO Harris Bank Center Rockford, IL"]
[null,null,null,null,null,null,null,null,null,null,null,null,null,null,null,"N",null,1014574,"2015-04-17","Rockford","Chicago",1115,"H","7:00 pm CDT ","BMO Harris Bank Center Rockford, IL"]
[null,null,null,null,null,null,null,null,null,null,null,null,null,null,"SA","N",null,1014589,"2015-04-18","Rockford","Toronto",1130,"H","7:00 pm CDT ","BMO Harris Bank Center Rockford, IL"]
[null,null,null,null,null,null,null,null,null,null,null,null,null,null,1013464,"",null,1013464,"2014-10-10","San Antonio","Iowa",5,"H","7:30 pm CDT ","AT&T Center San Antonio, TX"]
[null,null,null,null,null,null,null,null,null,null,null,null,null,null,1013474,"",null,1013474,"2014-10-11","San Antonio","Oklahoma City",15,"H","7:00 pm CDT ","AT&T Center San Antonio, TX"]
[null,null,null,null,null,null,null,null,null,null,null,null,null,null,null,"N",null,1014119,"2015-01-31","Grand Rapids","Milwaukee",660,"H","7:00 pm EST ","Van Andel Arena Grand Rapids, MI"]
[null,null,null,null,null,null,null,null,null,null,null,null,null,null,1013507,"",null,1013507,"2014-10-18","San Antonio","Oklahoma City",48,"R","7:00 pm CDT ","Cox Convention Center Oklahoma City, OK"]
[null,null,null,null,null,null,null,null,null,null,null,null,null,null,1013534,"",null,1013534,"2014-10-24","San Antonio","Utica",75,"R","7:00 pm EDT ","Utica Memorial Auditorium Utica, NY"]
[null,null,null,null,null,null,null,null,null,null,null,null,null,null,1013540,"",null,1013540,"2014-10-25","San Antonio","Hamilton",81,"R","7:00 pm EDT ","FirstOntario Centre Hamilton, ON"]
[null,null,null,null,null,null,null,null,null,null,null,null,null,null,1013551,"",null,1013551,"2014-10-26","San Antonio","Hamilton",92,"R","3:00 pm EDT ","FirstOntario Centre Hamilton, ON"]
[null,null,null,null,null,null,null,null,null,null,null,null,null,null,1013559,"",null,1013559,"2014-10-29","San Antonio","Adirondack",100,"R","7:00 pm EDT ","Glens Falls Civic Center Glens Falls, NY"]
[null,null,null,null,null,null,null,null,null,null,null,null,null,null,1013573,{"$f":"IF(O1607=R1607,\"\",\"N\")","v":""},null,1013573,"2014-10-31","San Antonio","Rockford",114,"H","7:30 pm CDT ","AT&T Center San Antonio, TX"]
[null,null,null,null,null,null,null,null,null,null,null,null,null,null,1013585,"",null,1013585,"1'1 - 1","San Antonio","Rockford",126,"H","7:00 pm CDT ","AT&T Center San Antonio, TX"]
[null,null,null,null,null,null,null,null,null,null,null,null,null,null,1013613,"",null,1013613,"2014-11-07","San Antonio","Toronto",154,"H","7:30 pm CST ","AT&T Center San Antonio, TX"]
[null,null,null,null,null,null,null,null,null,null,null,null,null,null,1013635,"",null,1013635,"2014-11-09","San Antonio","Oklahoma City",176,"H","4:00 pm CST ","AT&T Center San Antonio, TX"]
[null,null,null,null,null,null,null,null,null,null,null,null,null,null,1013639,"",null,1013639,"2014-11-11","San Antonio","Oklahoma City",180,"R","10:35 am CST ","Cox Convention Center Oklahoma City, OK"]
[null,null,null,null,null,null,null,null,null,null,null,null,null,null,1013656,"",null,1013656,"2014-11-14","San Antonio","Charlotte",197,"H","7:30 pm CST ","AT&T Center San Antonio, TX"]
[null,null,null,null,null,null,null,null,null,null,null,null,null,null,1013672,"",null,1013672,"2014-11-15","San Antonio","Charlotte",213,"H","7:00 pm CST ","AT&T Center San Antonio, TX"]
[null,null,null,null,null,null,null,null,null,null,null,null,null,null,1013683,"",null,1013683,"2014-11-18","San Antonio","Oklahoma City",224,"H","10:30 am CST ","AT&T Center San Antonio, TX"]
[null,null,null,null,null,null,null,null,null,null,null,null,null,null,1013704,"",null,1013704,"2014-11-21","San Antonio","Texas",245,"R","7:30 pm CST ","Cedar Park Center Cedar Park, TX"]
[null,null,null,null,null,null,null,null,null,null,null,null,null,null,1013723,"",null,1013723,"2014-11-23","San Antonio","Texas",264,"H","4:00 pm CST ","AT&T Center San Antonio, TX"]
[null,null,null,null,null,null,null,null,null,null,null,null,null,null,1013757,"",null,1013757,"2014-11-29","San Antonio","Oklahoma City",298,"H","7:00 pm CST ","AT&T Center San Antonio, TX"]
[null,null,null,null,null,null,null,null,null,null,null,null,null,null,1013765,"",null,1013765,"2014-11-30","San Antonio","Iowa",306,"H","4:00 pm CST ","AT&T Center San Antonio, TX"]
[null,null,null,null,null,null,null,null,null,null,null,null,null,null,1013782,"",null,1013782,"1'2 - 5","San Antonio","Utica",323,"H","7:30 pm CST ","AT&T Center San Antonio, TX"]
[null,null,null,null,null,null,null,null,null,null,null,null,null,null,1013808,"",null,1013808,"2014-12-07","San Antonio","Chicago",349,"H","4:00 pm CST ","AT&T Center San Antonio, TX"]
[null,null,null,null,null,null,null,null,null,null,null,null,null,null,1013811,"",null,1013811,"2014-12-09","San Antonio","Chicago",352,"H","7:00 pm CST ","AT&T Center San Antonio, TX"]
[null,null,null,null,null,null,null,null,null,null,null,null,null,null,1013822,"",null,1013822,"2014-12-11","San Antonio","Iowa",363,"R","7:00 pm CST ","Wells Fargo Arena Des Moines, IA"]
[null,null,null,null,null,null,null,null,null,null,null,null,null,null,1013826,"",null,1013826,"2014-12-12","San Antonio","Iowa",367,"R","7:00 pm CST ","Wells Fargo Arena Des Moines, IA"]
[null,null,null,null,null,null,null,null,null,null,null,null,null,null,1013865,"",null,1013865,"2014-12-19","San Antonio","Charlotte",406,"R","7:00 pm EST ","Time Warner Cable Arena Charlotte, NC"]
[null,null,null,null,null,null,null,null,null,null,null,null,null,null,1013890,"",null,1013890,"2014-12-21","San Antonio","Charlotte",431,"R","1:00 pm EST ","Time Warner Cable Arena Charlotte, NC"]
[null,null,null,null,null,null,null,null,null,null,null,null,null,null,1013903,"",null,1013903,"2014-12-26","San Antonio","Texas",444,"H","7:30 pm CST ","AT&T Center San Antonio, TX"]
[null,null,null,null,null,null,null,null,null,null,null,null,null,null,1013916,"",null,1013916,"2014-12-27","San Antonio","Oklahoma City",457,"H","7:00 pm CST ","AT&T Center San Antonio, TX"]
[null,null,null,null,null,null,null,null,null,null,null,null,null,null,1013925,"",null,1013925,"2014-12-28","San Antonio","Texas",466,"R","5:00 pm CST ","Cedar Park Center Cedar Park, TX"]
[null,null,null,null,null,null,null,null,null,null,null,null,null,null,1013943,"",null,1013943,"2015-01-01","San Antonio","Utica",484,"R","3:00 pm EST ","Utica Memorial Auditorium Utica, NY"]
[null,null,null,null,null,null,null,null,null,null,null,null,null,null,1013954,"",null,1013954,"2015-01-02","San Antonio","Toronto",495,"R","7:00 pm EST ","Ricoh Coliseum Toronto, ON"]
[null,null,null,null,null,null,null,null,null,null,null,null,null,null,1013969,"",null,1013969,"2015-01-03","San Antonio","Toronto",510,"R","3:00 pm EST ","Ricoh Coliseum Toronto, ON"]
[null,null,null,null,null,null,null,null,null,null,null,null,null,null,1013975,"",null,1013975,"2015-01-06","San Antonio","Adirondack",516,"R","7:00 pm EST ","Glens Falls Civic Center Glens Falls, NY"]
[null,null,null,null,null,null,null,null,null,null,null,null,null,null,1013981,"",null,1013981,"2015-01-07","San Antonio","Rochester",522,"R","7:05 pm EST ","Blue Cross Arena Rochester, NY"]
[null,null,null,null,null,null,null,null,null,null,null,null,null,null,1014003,"",null,1014003,"2015-01-10","San Antonio","Iowa",544,"H","7:00 pm CST ","AT&T Center San Antonio, TX"]
[null,null,null,null,null,null,null,null,null,null,null,null,null,null,null,"N",null,1014124,"2015-01-31","Charlotte","Texas",665,"R","7:00 pm CST ","Cedar Park Center Cedar Park, TX"]
[null,null,null,null,null,null,null,null,null,null,null,null,null,null,1014048,"",null,1014048,"2015-01-17","San Antonio","Rochester",589,"H","7:00 pm CST ","AT&T Center San Antonio, TX"]
[null,null,null,null,null,null,null,null,null,null,null,null,null,null,1014059,"",null,1014059,"2015-01-20","San Antonio","Texas",600,"H","7:00 pm CST ","AT&T Center San Antonio, TX"]
[null,null,null,null,null,null,null,null,null,null,null,null,null,null,1014070,"",null,1014070,"2015-01-22","San Antonio","Lake Erie",611,"R","7:00 pm EST ","Quicken Loans Arena Cleveland, OH"]
[null,null,null,null,null,null,null,null,null,null,null,null,null,null,1014089,"",null,1014089,"2015-01-24","San Antonio","Lake Erie",630,"R","7:00 pm EST ","Quicken Loans Arena Cleveland, OH"]
[null,null,null,null,null,null,null,null,null,null,null,null,null,null,1014099,"",null,1014099,"2015-01-29","San Antonio","Texas",640,"R","7:30 pm CST ","Cedar Park Center Cedar Park, TX"]
[null,null,null,null,null,null,null,null,null,null,null,null,null,null,1014110,"",null,1014110,"2015-01-30","San Antonio","Charlotte",651,"H","7:30 pm CST ","AT&T Center San Antonio, TX"]
[null,null,null,null,null,null,null,null,null,null,null,null,null,null,1014131,"",null,1014131,"2015-02-03","San Antonio","Texas",672,"R","7:30 pm CST ","Cedar Park Center Cedar Park, TX"]
[null,null,null,null,null,null,null,null,null,null,null,null,null,null,1014138,"",null,1014138,"2015-02-05","San Antonio","Texas",679,"H","7:00 pm CST ","AT&T Center San Antonio, TX"]
[null,null,null,null,null,null,null,null,null,null,null,null,null,null,1014161,"",null,1014161,"2015-02-07","San Antonio","Oklahoma City",702,"H","7:00 pm CST ","AT&T Center San Antonio, TX"]
[null,null,null,null,null,null,null,null,null,null,null,null,null,null,1014175,"",null,1014175,"2015-02-10","San Antonio","Texas",716,"R","7:30 pm CST ","Cedar Park Center Cedar Park, TX"]
[null,null,null,null,null,null,null,null,null,null,null,null,null,null,1014183,"",null,1014183,"2015-02-13","San Antonio","Grand Rapids",724,"R","7:00 pm EST ","Van Andel Arena Grand Rapids, MI"]
[null,null,null,null,null,null,null,null,null,null,null,null,null,null,1014193,"",null,1014193,"2015-02-14","San Antonio","Grand Rapids",734,"R","7:00 pm EST ","Van Andel Arena Grand Rapids, MI"]
[null,null,null,null,null,null,null,null,null,null,null,null,null,null,1014211,"",null,1014211,"2015-02-15","San Antonio","Rockford",752,"R","4:00 pm CST ","BMO Harris Bank Center Rockford, IL"]
[null,null,null,null,null,null,null,null,null,null,null,null,null,null,1014223,"",null,1014223,"2015-02-18","San Antonio","Rockford",764,"R","10:30 am CST ","BMO Harris Bank Center Rockford, IL"]
[null,null,null,null,null,null,null,null,null,null,null,null,null,null,1014237,"",null,1014237,"2015-02-21","San Antonio","Chicago",778,"R","7:00 pm CST ","Allstate Arena Rosemont, IL"]
[null,null,null,null,null,null,null,null,null,null,null,null,null,null,1014252,"",null,1014252,"2015-02-22","San Antonio","Chicago",793,"R","3:00 pm CST ","Allstate Arena Rosemont, IL"]
[null,null,null,null,null,null,null,null,null,null,null,null,null,null,1014273,"",null,1014273,"2015-02-27","San Antonio","Oklahoma City",814,"R","7:00 pm CST ","Cox Convention Center Oklahoma City, OK"]
[null,null,null,null,null,null,null,null,null,null,null,null,null,null,null,"N",null,1014128,"2015-02-01","Norfolk","Hershey",669,"R","2:00 pm EST ","Giant Center Hershey, PA"]
[null,null,null,null,null,null,null,null,null,null,null,null,null,null,1014301,"",null,1014301,"2015-03-04","San Antonio","Charlotte",842,"R","7:00 pm EST ","Time Warner Cable Arena Charlotte, NC"]
[null,null,null,null,null,null,null,null,null,null,null,null,null,null,1014307,"",null,1014307,"2015-03-05","San Antonio","Charlotte",848,"R","7:00 pm EST ","Time Warner Cable Arena Charlotte, NC"]
[null,null,null,null,null,null,null,null,null,null,null,null,null,null,1014327,"",null,1014327,"2015-03-07","San Antonio","Iowa",868,"H","7:00 pm CST ","AT&T Center San Antonio, TX"]
[null,null,null,null,null,null,null,null,null,null,null,null,null,null,1014345,"",null,1014345,"2015-03-11","San Antonio","Milwaukee",886,"H","7:00 pm CDT ","AT&T Center San Antonio, TX"]
[null,null,null,null,null,null,null,null,null,null,null,null,null,null,null,"N",null,1014132,"2015-02-03","Springfield","W-B/Scranton",673,"R","7:05 pm EST ","Mohegan Sun Arena at Casey Plaza Wilkes-Barre, PA"]
[null,null,null,null,null,null,null,null,null,null,null,null,null,null,1014368,"",null,1014368,"2015-03-14","San Antonio","Lake Erie",909,"H","7:00 pm CDT ","AT&T Center San Antonio, TX"]
[null,null,null,null,null,null,null,null,null,null,null,null,null,null,1014384,"",null,1014384,"2015-03-17","San Antonio","Charlotte",925,"H","7:00 pm CDT ","AT&T Center San Antonio, TX"]
[null,null,null,null,null,null,null,null,null,null,null,null,null,null,1014393,"",null,1014393,"2015-03-20","San Antonio","Oklahoma City",934,"R","7:00 pm CDT ","Cox Convention Center Oklahoma City, OK"]
[null,null,null,null,null,null,null,null,null,null,null,null,null,null,1014410,"",null,1014410,"2015-03-21","San Antonio","Hamilton",951,"H","7:00 pm CDT ","AT&T Center San Antonio, TX"]
[null,null,null,null,null,null,null,null,null,null,null,null,null,null,1014426,"",null,1014426,"2015-03-22","San Antonio","Hamilton",967,"H","4:00 pm CDT ","AT&T Center San Antonio, TX"]
[null,null,null,null,null,null,null,null,null,null,null,null,null,null,1014431,"",null,1014431,"2015-03-25","San Antonio","Milwaukee",972,"R","7:00 pm CDT ","BMO Harris Bradley Center Milwaukee, WI"]
[null,null,null,null,null,null,null,null,null,null,null,null,null,null,null,"N",null,1014133,"2015-02-04","Adirondack","Iowa",674,"H","7:00 pm EST ","Glens Falls Civic Center Glens Falls, NY"]
[null,null,null,null,null,null,null,null,null,null,null,null,null,null,1014454,"",null,1014454,"2015-03-28","San Antonio","Iowa",995,"R","12:30 pm CDT ","Wells Fargo Arena Des Moines, IA"]
[null,null,null,null,null,null,null,null,null,null,null,null,null,null,1014484,"",null,1014484,"2015-04-02","San Antonio","Adirondack",1025,"H","7:00 pm CDT ","AT&T Center San Antonio, TX"]
[null,null,null,null,null,null,null,null,null,null,null,null,null,null,null,"N",null,1014505,"2015-04-04","San Antonio","Adirondack",1046,"H","7:00 pm CDT ","AT&T Center San Antonio, TX"]
[null,null,null,null,null,null,null,null,null,null,null,null,null,null,null,"N",null,1014512,"2015-04-07","San Antonio","Oklahoma City",1053,"R","7:00 pm CDT ","Cox Convention Center Oklahoma City, OK"]
[null,null,null,null,null,null,null,null,null,null,null,null,null,null,null,"N",null,1014529,"2015-04-10","San Antonio","Grand Rapids",1070,"H","7:30 pm CDT ","AT&T Center San Antonio, TX"]
[null,null,null,null,null,null,null,null,null,null,null,null,null,null,null,{"$f":"IF(O1671=R1671,\"\",\"N\")","v":"N"},null,1014542,"2015-04-11","San Antonio","Grand Rapids",1083,"H","7:00 pm CDT ","AT&T Center San Antonio, TX"]
[null,null,null,null,null,null,null,null,null,null,null,null,null,null,null,"N",null,1014559,"2015-04-14","San Antonio","Texas",1100,"H","7:00 pm CDT ","AT&T Center San Antonio, TX"]
[null,null,null,null,null,null,null,null,null,null,null,null,null,null,null,"N",null,1014575,"2015-04-17","San Antonio","Texas",1116,"H","7:30 pm CDT ","AT&T Center San Antonio, TX"]
[null,null,null,null,null,null,null,null,null,null,null,null,null,null,"SPR","N",null,1014592,"2015-04-18","San Antonio","Texas",1133,"R","7:00 pm CDT ","Cedar Park Center Cedar Park, TX"]
[null,null,null,null,null,null,null,null,null,null,null,null,null,null,1013475,"",null,1013475,"2014-10-11","Springfield","Syracuse",16,"R","7:00 pm EDT ","Onondaga County War Memorial Arena Syracuse, NY"]
[null,null,null,null,null,null,null,null,null,null,null,null,null,null,1013498,"",null,1013498,"2014-10-17","Springfield","Syracuse",39,"R","7:00 pm EDT ","Onondaga County War Memorial Arena Syracuse, NY"]
[null,null,null,null,null,null,null,null,null,null,null,null,null,null,1013508,"",null,1013508,"2014-10-18","Springfield","Hershey",49,"H","7:00 pm EDT ","MassMutual Center Springfield, MA"]
[null,null,null,null,null,null,null,null,null,null,null,null,null,null,1013514,"",null,1013514,"2014-10-19","Springfield","Bridgeport",55,"R","3:00 pm EDT ","Webster Bank Arena Bridgeport, CT"]
[null,null,null,null,null,null,null,null,null,null,null,null,null,null,null,"N",null,1014146,"2015-02-06","Worcester","Norfolk",687,"R","7:30 pm EST ","Norfolk Scope Norfolk, VA"]
[null,null,null,null,null,null,null,null,null,null,null,null,null,null,1013547,"",null,1013547,"2014-10-25","Springfield","Norfolk",88,"H","7:00 pm EDT ","MassMutual Center Springfield, MA"]
[null,null,null,null,null,null,null,null,null,null,null,null,null,null,1013555,"",null,1013555,"2014-10-26","Springfield","Syracuse",96,"H","3:00 pm EDT ","MassMutual Center Springfield, MA"]
[null,null,null,null,null,null,null,null,null,null,null,null,null,null,1013586,"",null,1013586,"1'1 - 1","Springfield","Providence",127,"H","7:00 pm EDT ","MassMutual Center Springfield, MA"]
[null,null,null,null,null,null,null,null,null,null,null,null,null,null,1013590,"",null,1013590,"1'1 - 2","Springfield","Bridgeport",131,"R","3:00 pm EST ","Webster Bank Arena Bridgeport, CT"]
[null,null,null,null,null,null,null,null,null,null,null,null,null,null,1013602,"",null,1013602,"1'1 - 5","Springfield","St. John's",143,"H","7:00 pm EST ","MassMutual Center Springfield, MA"]
[null,null,null,null,null,null,null,null,null,null,null,null,null,null,1013614,"",null,1013614,"2014-11-07","Springfield","St. John's",155,"H","7:00 pm EST ","MassMutual Center Springfield, MA"]
[null,null,null,null,null,null,null,null,null,null,null,null,null,null,1013623,"",null,1013623,"2014-11-08","Springfield","Manchester",164,"R","7:00 pm EST ","Verizon Wireless Arena Manchester, NH"]
[null,null,null,null,null,null,null,null,null,null,null,null,null,null,1013641,"",null,1013641,"2014-11-11","Springfield","Worcester",182,"H","3:00 pm EST ","MassMutual Center Springfield, MA"]
[null,null,null,null,null,null,null,null,null,null,null,null,null,null,1013653,"",null,1013653,"2014-11-14","Springfield","Providence",194,"R","7:05 pm EST ","Dunkin' Donuts Center Providence, RI"]
[null,null,null,null,null,null,null,null,null,null,null,null,null,null,null,"N",null,1014157,"2015-02-07","Lake Erie","Hamilton",698,"H","7:00 pm EST ","Quicken Loans Arena Cleveland, OH"]
[null,null,null,null,null,null,null,null,null,null,null,null,null,null,1013675,"",null,1013675,"2014-11-16","Springfield","Bridgeport",216,"R","3:00 pm EST ","Webster Bank Arena Bridgeport, CT"]
[null,null,null,null,null,null,null,null,null,null,null,null,null,null,1013703,"",null,1013703,"2014-11-21","Springfield","Bridgeport",244,"H","7:00 pm EST ","MassMutual Center Springfield, MA"]
[null,null,null,null,null,null,null,null,null,null,null,null,null,null,1013715,"",null,1013715,"2014-11-22","Springfield","Providence",256,"H","7:00 pm EST ","MassMutual Center Springfield, MA"]
[null,null,null,null,null,null,null,null,null,null,null,null,null,null,1013722,"",null,1013722,"2014-11-23","Springfield","Providence",263,"R","3:05 pm EST ","Dunkin' Donuts Center Providence, RI"]
[null,null,null,null,null,null,null,null,null,null,null,null,null,null,1013729,"",null,1013729,"2014-11-26","Springfield","Lehigh Valley",270,"R","7:05 pm EST ","PPL Center Allentown, PA"]
[null,null,null,null,null,null,null,null,null,null,null,null,null,null,1013747,"",null,1013747,"2014-11-28","Springfield","Worcester",288,"R","7:30 pm EST ","DCU Center Worcester, MA"]
[null,null,null,null,null,null,null,null,null,null,null,null,null,null,1013758,"",null,1013758,"2014-11-29","Springfield","Manchester",299,"H","7:00 pm EST ","MassMutual Center Springfield, MA"]
[null,null,null,null,null,null,null,null,null,null,null,null,null,null,1013768,"",null,1013768,"1'2 - 2","Springfield","Albany",309,"R","7:00 pm EST ","Times Union Center Albany, NY"]
[null,null,null,null,null,null,null,null,null,null,null,null,null,null,1013783,"",null,1013783,"1'2 - 5","Springfield","Norfolk",324,"H","7:00 pm EST ","MassMutual Center Springfield, MA"]
[null,null,null,null,null,null,null,null,null,null,null,null,null,null,null,"N",null,1014159,"2015-02-07","Norfolk","Worcester",700,"H","7:15 pm EST ","Norfolk Scope Norfolk, VA"]
[null,null,null,null,null,null,null,null,null,null,null,null,null,null,null,"N",null,1014162,"2015-02-07","Portland","St. John's",703,"R","7:30 pm NST ","Mile One Centre St. John's, NL"]
[null,null,null,null,null,null,null,null,null,null,null,null,null,null,1013829,"",null,1013829,"2014-12-12","Springfield","Norfolk",370,"R","7:30 pm EST ","Norfolk Scope Norfolk, VA"]
[null,null,null,null,null,null,null,null,null,null,null,null,null,null,1013839,"",null,1013839,"2014-12-13","Springfield","Norfolk",380,"R","7:15 pm EST ","Norfolk Scope Norfolk, VA"]
[null,null,null,null,null,null,null,null,null,null,null,null,null,null,1013864,"",null,1013864,"2014-12-19","Springfield","Binghamton",405,"R","7:05 pm EST ","Floyd L. Maines Veterans Memorial Arena Binghamton, NY"]
[null,null,null,null,null,null,null,null,null,null,null,null,null,null,1013880,"",null,1013880,"2014-12-20","Springfield","Hershey",421,"R","7:00 pm EST ","Giant Center Hershey, PA"]
[null,null,null,null,null,null,null,null,null,null,null,null,null,null,1013898,"",null,1013898,"2014-12-26","Springfield","Hartford",439,"R","7:00 pm EST ","XL Center Hartford, CT"]
[null,null,null,null,null,null,null,null,null,null,null,null,null,null,1013908,"",null,1013908,"2014-12-27","Springfield","Albany",449,"R","5:00 pm EST ","Times Union Center Albany, NY"]
[null,null,null,null,null,null,null,null,null,null,null,null,null,null,1013924,"",null,1013924,"2014-12-28","Springfield","Syracuse",465,"H","5:00 pm EST ","MassMutual Center Springfield, MA"]
[null,null,null,null,null,null,null,null,null,null,null,null,null,null,1013951,"",null,1013951,"2015-01-02","Springfield","Portland",492,"R","7:00 pm EST ","Cross Insurance Arena Portland, ME"]
[null,null,null,null,null,null,null,null,null,null,null,null,null,null,1013968,"",null,1013968,"2015-01-03","Springfield","Worcester",509,"H","7:00 pm EST ","MassMutual Center Springfield, MA"]
[null,null,null,null,null,null,null,null,null,null,null,null,null,null,1013974,"",null,1013974,"2015-01-04","Springfield","Manchester",515,"H","3:00 pm EST ","MassMutual Center Springfield, MA"]
[null,null,null,null,null,null,null,null,null,null,null,null,null,null,1013990,"",null,1013990,"2015-01-09","Springfield","Providence",531,"R","7:05 pm EST ","Dunkin' Donuts Center Providence, RI"]
[null,null,null,null,null,null,null,null,null,null,null,null,null,null,1014004,"",null,1014004,"2015-01-10","Springfield","Hartford",545,"H","7:00 pm EST ","MassMutual Center Springfield, MA"]
[null,null,null,null,null,null,null,null,null,null,null,null,null,null,1014015,"",null,1014015,"2015-01-11","Springfield","Albany",556,"H","3:00 pm EST ","MassMutual Center Springfield, MA"]
[null,null,null,null,null,null,null,null,null,null,null,null,null,null,1014020,"",null,1014020,"2015-01-14","Springfield","Albany",561,"R","7:00 pm EST ","Times Union Center Albany, NY"]
[null,null,null,null,null,null,null,null,null,null,null,null,null,null,1014057,"",null,1014057,"2015-01-18","Springfield","Binghamton",598,"H","4:00 pm EST ","MassMutual Center Springfield, MA"]
[null,null,null,null,null,null,null,null,null,null,null,null,null,null,1014075,"",null,1014075,"2015-01-23","Springfield","Hartford",616,"R","7:00 pm EST ","XL Center Hartford, CT"]
[null,null,null,null,null,null,null,null,null,null,null,null,null,null,1014093,"",null,1014093,"2015-01-24","Springfield","Providence",634,"H","7:00 pm EST ","MassMutual Center Springfield, MA"]
[null,null,null,null,null,null,null,null,null,null,null,null,null,null,null,"N",null,1014162,"2015-02-07","St. John's","Portland",703,"H","7:30 pm NST ","Mile One Centre St. John's, NL"]
[null,null,null,null,null,null,null,null,null,null,null,null,null,null,1014120,"",null,1014120,"2015-01-31","Springfield","Hartford",661,"R","7:00 pm EST ","XL Center Hartford, CT"]
[null,null,null,null,null,null,null,null,null,null,null,null,null,null,null,"N",null,1014171,"2015-02-10","Syracuse","Adirondack",712,"R","7:00 pm EST ","Glens Falls Civic Center Glens Falls, NY"]
[null,null,null,null,null,null,null,null,null,null,null,null,null,null,1014148,"",null,1014148,"2015-02-06","Springfield","Albany",689,"H","7:00 pm EST ","MassMutual Center Springfield, MA"]
[null,null,null,null,null,null,null,null,null,null,null,null,null,null,1014163,"",null,1014163,"2015-02-07","Springfield","Syracuse",704,"R","7:00 pm EST ","Onondaga County War Memorial Arena Syracuse, NY"]
[null,null,null,null,null,null,null,null,null,null,null,null,null,null,1014168,"",null,1014168,"2015-02-08","Springfield","Providence",709,"R","3:05 pm EST ","Dunkin' Donuts Center Providence, RI"]
[null,null,null,null,null,null,null,null,null,null,null,null,null,null,1014187,"",null,1014187,"2015-02-13","Springfield","Manchester",728,"R","7:00 pm EST ","Verizon Wireless Arena Manchester, NH"]
[null,null,null,null,null,null,null,null,null,null,null,null,null,null,1014201,"",null,1014201,"2015-02-14","Springfield","Providence",742,"H","7:00 pm EST ","MassMutual Center Springfield, MA"]
[null,null,null,null,null,null,null,null,null,null,null,null,null,null,1014212,"",null,1014212,"2015-02-15","Springfield","Lehigh Valley",753,"H","5:00 pm EST ","MassMutual Center Springfield, MA"]
[null,null,null,null,null,null,null,null,null,null,null,null,null,null,1014233,"",null,1014233,"2015-02-20","Springfield","Hartford",774,"H","7:00 pm EST ","MassMutual Center Springfield, MA"]
[null,null,null,null,null,null,null,null,null,null,null,null,null,null,1014245,"",null,1014245,"2015-02-21","Springfield","Portland",786,"H","7:00 pm EST ","MassMutual Center Springfield, MA"]
[null,null,null,null,null,null,null,null,null,null,null,null,null,null,1014258,"",null,1014258,"2015-02-22","Springfield","Albany",799,"H","3:00 pm EST ","MassMutual Center Springfield, MA"]
[null,null,null,null,null,null,null,null,null,null,null,null,null,null,1014275,"",null,1014275,"2015-02-27","Springfield","Bridgeport",816,"H","7:00 pm EST ","MassMutual Center Springfield, MA"]
[null,null,null,null,null,null,null,null,null,null,null,null,null,null,1014290,"",null,1014290,"2015-02-28","Springfield","Bridgeport",831,"H","7:00 pm EST ","MassMutual Center Springfield, MA"]
[null,null,null,null,null,null,null,null,null,null,null,null,null,null,1014299,"",null,1014299,"2015-03-01","Springfield","Portland",840,"R","3:00 pm EST ","Cross Insurance Arena Portland, ME"]
[null,null,null,null,null,null,null,null,null,null,null,null,null,null,1014325,"",null,1014325,"2015-03-07","Springfield","Providence",866,"R","7:05 pm EST ","Dunkin' Donuts Center Providence, RI"]
[null,null,null,null,null,null,null,null,null,null,null,null,null,null,1014338,"",null,1014338,"2015-03-08","Springfield","W-B/Scranton",879,"H","3:00 pm EDT ","MassMutual Center Springfield, MA"]
[null,null,null,null,null,null,null,null,null,null,null,null,null,null,1014357,{"$f":"IF(O1735=R1735,\"\",\"N\")","v":""},null,1014357,"2015-03-13","Springfield","Hartford",898,"H","7:00 pm EDT ","MassMutual Center Springfield, MA"]
[null,null,null,null,null,null,null,null,null,null,null,null,null,null,null,"N",null,1014174,"2015-02-10","Hartford","St. John's",715,"R","7:30 pm NST ","Mile One Centre St. John's, NL"]
[null,null,null,null,null,null,null,null,null,null,null,null,null,null,null,"N",null,1014181,"2015-02-13","Albany","Hershey",722,"H","7:00 pm EST ","Times Union Center Albany, NY"]
[null,null,null,null,null,null,null,null,null,null,null,null,null,null,1014396,"",null,1014396,"2015-03-20","Springfield","Bridgeport",937,"H","7:00 pm EDT ","MassMutual Center Springfield, MA"]
[null,null,null,null,null,null,null,null,null,null,null,null,null,null,1014411,"",null,1014411,"2015-03-21","Springfield","Hartford",952,"H","7:00 pm EDT ","MassMutual Center Springfield, MA"]
[null,null,null,null,null,null,null,null,null,null,null,null,null,null,1014427,"",null,1014427,"2015-03-22","Springfield","Syracuse",968,"H","5:00 pm EDT ","MassMutual Center Springfield, MA"]
[null,null,null,null,null,null,null,null,null,null,null,null,null,null,1014446,"",null,1014446,"2015-03-27","Springfield","Worcester",987,"H","7:00 pm EDT ","MassMutual Center Springfield, MA"]
[null,null,null,null,null,null,null,null,null,null,null,null,null,null,1014458,"",null,1014458,"2015-03-28","Springfield","Hartford",999,"H","7:00 pm EDT ","MassMutual Center Springfield, MA"]
[null,null,null,null,null,null,null,null,null,null,null,null,null,null,1014469,"",null,1014469,"2015-03-29","Springfield","Worcester",1010,"R","3:00 pm EDT ","DCU Center Worcester, MA"]
[null,null,null,null,null,null,null,null,null,null,null,null,null,null,1014472,"",null,1014472,"2015-04-01","Springfield","Bridgeport",1013,"R","11:00 am EDT ","Webster Bank Arena Bridgeport, CT"]
[null,null,null,null,null,null,null,null,null,null,null,null,null,null,null,"N",null,1014494,"2015-04-03","Springfield","Albany",1035,"H","7:00 pm EDT ","MassMutual Center Springfield, MA"]
[null,null,null,null,null,null,null,null,null,null,null,null,null,null,null,"N",null,1014506,"2015-04-04","Springfield","Portland",1047,"H","7:00 pm EDT ","MassMutual Center Springfield, MA"]
[null,null,null,null,null,null,null,null,null,null,null,null,null,null,null,"N",null,1014522,"2015-04-10","Springfield","Hartford",1063,"R","7:00 pm EDT ","XL Center Hartford, CT"]
[null,null,null,null,null,null,null,null,null,null,null,null,null,null,null,"N",null,1014544,"2015-04-11","Springfield","Syracuse",1085,"R","7:00 pm EDT ","Onondaga County War Memorial Arena Syracuse, NY"]
[null,null,null,null,null,null,null,null,null,null,null,null,null,null,null,"N",null,1014576,"2015-04-17","Springfield","St. John's",1117,"R","7:30 pm NDT ","Mile One Centre St. John's, NL"]
[null,null,null,null,null,null,null,null,null,null,null,null,null,null,null,"N",null,1014590,"2015-04-18","Springfield","St. John's",1131,"R","7:30 pm NDT ","Mile One Centre St. John's, NL"]
[null,null,null,null,null,null,null,null,null,null,null,null,null,null,1013462,"",null,1013462,"2014-10-10","St. John's","Providence",3,"R","7:05 pm EDT ","Dunkin' Donuts Center Providence, RI"]
[null,null,null,null,null,null,null,null,null,null,null,null,null,null,1013467,"",null,1013467,"2014-10-11","St. John's","Bridgeport",8,"R","7:00 pm EDT ","Webster Bank Arena Bridgeport, CT"]
[null,null,null,null,null,null,null,null,null,null,null,null,null,null,1013479,"",null,1013479,"2014-10-12","St. John's","Bridgeport",20,"R","3:00 pm EDT ","Webster Bank Arena Bridgeport, CT"]
[null,null,null,null,null,null,null,null,null,null,null,null,null,null,1013497,"",null,1013497,"2014-10-17","St. John's","W-B/Scranton",38,"H","7:30 pm NDT ","Mile One Centre St. John's, NL"]
[null,null,null,null,null,null,null,null,null,null,null,null,null,null,1013509,"",null,1013509,"2014-10-18","St. John's","W-B/Scranton",50,"H","7:30 pm NDT ","Mile One Centre St. John's, NL"]
[null,null,null,null,null,null,null,null,null,null,null,null,null,null,1013519,"",null,1013519,"2014-10-21","St. John's","Binghamton",60,"H","7:30 pm NDT ","Mile One Centre St. John's, NL"]
[null,null,null,null,null,null,null,null,null,null,null,null,null,null,1013522,"",null,1013522,"2014-10-22","St. John's","Binghamton",63,"H","7:30 pm NDT ","Mile One Centre St. John's, NL"]
[null,null,null,null,null,null,null,null,null,null,null,null,null,null,1013548,"",null,1013548,"2014-10-25","St. John's","Bridgeport",89,"H","7:30 pm NDT ","Mile One Centre St. John's, NL"]
[null,null,null,null,null,null,null,null,null,null,null,null,null,null,1013556,"",null,1013556,"2014-10-26","St. John's","Bridgeport",97,"H","4:00 pm NDT ","Mile One Centre St. John's, NL"]
[null,null,null,null,null,null,null,null,null,null,null,null,null,null,1013572,"",null,1013572,"2014-10-31","St. John's","Portland",113,"R","7:00 pm EDT ","Cross Insurance Arena Portland, ME"]
[null,null,null,null,null,null,null,null,null,null,null,null,null,null,1013582,"",null,1013582,"1'1 - 1","St. John's","Manchester",123,"R","7:00 pm EDT ","Verizon Wireless Arena Manchester, NH"]
[null,null,null,null,null,null,null,null,null,null,null,null,null,null,1013596,"",null,1013596,"1'1 - 2","St. John's","Providence",137,"R","3:05 pm EST ","Dunkin' Donuts Center Providence, RI"]
[null,null,null,null,null,null,null,null,null,null,null,null,null,null,1013602,"",null,1013602,"1'1 - 5","St. John's","Springfield",143,"R","7:00 pm EST ","MassMutual Center Springfield, MA"]
[null,null,null,null,null,null,null,null,null,null,null,null,null,null,1013614,"",null,1013614,"2014-11-07","St. John's","Springfield",155,"R","7:00 pm EST ","MassMutual Center Springfield, MA"]
[null,null,null,null,null,null,null,null,null,null,null,null,null,null,1013634,"",null,1013634,"2014-11-09","St. John's","Providence",175,"R","3:05 pm EST ","Dunkin' Donuts Center Providence, RI"]
[null,null,null,null,null,null,null,null,null,null,null,null,null,null,1013646,"",null,1013646,"2014-11-13","St. John's","Hamilton",187,"H","7:30 pm NST ","Mile One Centre St. John's, NL"]
[null,null,null,null,null,null,null,null,null,null,null,null,null,null,1013657,"",null,1013657,"2014-11-14","St. John's","Hamilton",198,"H","7:30 pm NST ","Mile One Centre St. John's, NL"]
[null,null,null,null,null,null,null,null,null,null,null,null,null,null,1013684,"",null,1013684,"2014-11-18","St. John's","Toronto",225,"H","7:30 pm NST ","Mile One Centre St. John's, NL"]
[null,null,null,null,null,null,null,null,null,null,null,null,null,null,1013688,"",null,1013688,"2014-11-19","St. John's","Toronto",229,"H","7:30 pm NST ","Mile One Centre St. John's, NL"]
[null,null,null,null,null,null,null,null,null,null,null,null,null,null,1013711,"",null,1013711,"2014-11-22","St. John's","Lehigh Valley",252,"R","7:05 pm EST ","PPL Center Allentown, PA"]
[null,null,null,null,null,null,null,null,null,null,null,null,null,null,1013720,"",null,1013720,"2014-11-23","St. John's","Hershey",261,"R","5:00 pm EST ","Giant Center Hershey, PA"]
[null,null,null,null,null,null,null,null,null,null,null,null,null,null,1013727,"",null,1013727,"2014-11-26","St. John's","Binghamton",268,"R","7:05 pm EST ","Floyd L. Maines Veterans Memorial Arena Binghamton, NY"]
[null,null,null,null,null,null,null,null,null,null,null,null,null,null,null,"N",null,1014181,"2015-02-13","Hershey","Albany",722,"R","7:00 pm EST ","Times Union Center Albany, NY"]
[null,null,null,null,null,null,null,null,null,null,null,null,null,null,null,"N",null,1014182,"2015-02-13","Chicago","Oklahoma City",723,"H","7:00 pm CST ","Allstate Arena Rosemont, IL"]
[null,null,null,null,null,null,null,null,null,null,null,null,null,null,null,"N",null,1014182,"2015-02-13","Oklahoma City","Chicago",723,"R","7:00 pm CST ","Allstate Arena Rosemont, IL"]
[null,null,null,null,null,null,null,null,null,null,null,null,null,null,1013795,"",null,1013795,"2014-12-06","St. John's","Worcester",336,"H","7:30 pm NST ","Mile One Centre St. John's, NL"]
[null,null,null,null,null,null,null,null,null,null,null,null,null,null,1013812,"",null,1013812,"2014-12-09","St. John's","Providence",353,"H","7:30 pm NST ","Mile One Centre St. John's, NL"]
[null,null,null,null,null,null,null,null,null,null,null,null,null,null,1013818,"",null,1013818,"2014-12-10","St. John's","Providence",359,"H","7:30 pm NST ","Mile One Centre St. John's, NL"]
[null,null,null,null,null,null,null,null,null,null,null,null,null,null,1013844,"",null,1013844,"2014-12-13","St. John's","Toronto",385,"R","3:00 pm EST ","Ricoh Coliseum Toronto, ON"]
[null,null,null,null,null,null,null,null,null,null,null,null,null,null,null,"N",null,1014189,"2015-02-13","Syracuse","Norfolk",730,"R","7:30 pm EST ","Norfolk Scope Norfolk, VA"]
[null,null,null,null,null,null,null,null,null,null,null,null,null,null,1013858,"",null,1013858,"2014-12-17","St. John's","Hamilton",399,"R","7:30 pm EST ","FirstOntario Centre Hamilton, ON"]
[null,null,null,null,null,null,null,null,null,null,null,null,null,null,1013867,"",null,1013867,"2014-12-19","St. John's","Hamilton",408,"R","7:30 pm EST ","FirstOntario Centre Hamilton, ON"]
[null,null,null,null,null,null,null,null,null,null,null,null,null,null,null,"N",null,1014192,"2015-02-13","Portland","W-B/Scranton",733,"R","7:05 pm EST ","Mohegan Sun Arena at Casey Plaza Wilkes-Barre, PA"]
[null,null,null,null,null,null,null,null,null,null,null,null,null,null,1013948,"",null,1013948,"2015-01-02","St. John's","Hartford",489,"R","7:00 pm EST ","XL Center Hartford, CT"]
[null,null,null,null,null,null,null,null,null,null,null,null,null,null,1013962,"",null,1013962,"2015-01-03","St. John's","Hartford",503,"R","7:00 pm EST ","XL Center Hartford, CT"]
[null,null,null,null,null,null,null,null,null,null,null,null,null,null,null,"N",null,1014196,"2015-02-14","Iowa","Texas",737,"H","7:00 pm CST ","Wells Fargo Arena Des Moines, IA"]
[null,null,null,null,null,null,null,null,null,null,null,null,null,null,1013982,"",null,1013982,"2015-01-07","St. John's","Manchester",523,"H","7:30 pm NST ","Mile One Centre St. John's, NL"]
[null,null,null,null,null,null,null,null,null,null,null,null,null,null,1014005,"",null,1014005,"2015-01-10","St. John's","Lehigh Valley",546,"H","7:30 pm NST ","Mile One Centre St. John's, NL"]
[null,null,null,null,null,null,null,null,null,null,null,null,null,null,1014016,"",null,1014016,"2015-01-11","St. John's","Lehigh Valley",557,"H","4:00 pm NST ","Mile One Centre St. John's, NL"]
[null,null,null,null,null,null,null,null,null,null,null,null,null,null,1014022,"",null,1014022,"2015-01-14","St. John's","Portland",563,"H","7:30 pm NST ","Mile One Centre St. John's, NL"]
[null,null,null,null,null,null,null,null,null,null,null,null,null,null,null,"N",null,1014223,"2015-02-18","Rockford","San Antonio",764,"H","10:30 am CST ","BMO Harris Bank Center Rockford, IL"]
[null,null,null,null,null,null,null,null,null,null,null,null,null,null,1014049,"",null,1014049,"2015-01-17","St. John's","Portland",590,"H","7:30 pm NST ","Mile One Centre St. John's, NL"]
[null,null,null,null,null,null,null,null,null,null,null,null,null,null,1014067,"",null,1014067,"2015-01-21","St. John's","W-B/Scranton",608,"R","7:05 pm EST ","Mohegan Sun Arena at Casey Plaza Wilkes-Barre, PA"]
[null,null,null,null,null,null,null,null,null,null,null,null,null,null,1014071,"",null,1014071,"2015-01-23","St. John's","Binghamton",612,"R","7:05 pm EST ","Floyd L. Maines Veterans Memorial Arena Binghamton, NY"]
[null,null,null,null,null,null,null,null,null,null,null,null,null,null,1014090,"",null,1014090,"2015-01-24","St. John's","Lehigh Valley",631,"R","7:05 pm EST ","PPL Center Allentown, PA"]
[null,null,null,null,null,null,null,null,null,null,null,null,null,null,1014100,"",null,1014100,"2015-01-30","St. John's","Albany",641,"R","7:00 pm EST ","Times Union Center Albany, NY"]
[null,null,null,null,null,null,null,null,null,null,null,null,null,null,1014115,"",null,1014115,"2015-01-31","St. John's","Albany",656,"R","5:00 pm EST ","Times Union Center Albany, NY"]
[null,null,null,null,null,null,null,null,null,null,null,null,null,null,1014149,"",null,1014149,"2015-02-06","St. John's","Portland",690,"H","7:30 pm NST ","Mile One Centre St. John's, NL"]
[null,null,null,null,null,null,null,null,null,null,null,null,null,null,null,{"$f":"IF(O1799=R1799,\"\",\"N\")","v":"N"},null,1014238,"2015-02-21","Hamilton","Grand Rapids",779,"R","7:00 pm EST ","Van Andel Arena Grand Rapids, MI"]
[null,null,null,null,null,null,null,null,null,null,null,null,null,null,1014174,"",null,1014174,"2015-02-10","St. John's","Hartford",715,"H","7:30 pm NST ","Mile One Centre St. John's, NL"]
[null,null,null,null,null,null,null,null,null,null,null,null,null,null,1014177,"",null,1014177,"2015-02-11","St. John's","Hartford",718,"H","7:30 pm NST ","Mile One Centre St. John's, NL"]
[null,null,null,null,null,null,null,null,null,null,null,null,null,null,1014202,"",null,1014202,"2015-02-14","St. John's","Worcester",743,"H","7:30 pm NST ","Mile One Centre St. John's, NL"]
[null,null,null,null,null,null,null,null,null,null,null,null,null,null,1014213,"",null,1014213,"2015-02-15","St. John's","Worcester",754,"H","4:00 pm NST ","Mile One Centre St. John's, NL"]
[null,null,null,null,null,null,null,null,null,null,null,null,null,null,1014230,"",null,1014230,"2015-02-20","St. John's","Manchester",771,"R","7:00 pm EST ","Verizon Wireless Arena Manchester, NH"]
[null,null,null,null,null,null,null,null,null,null,null,null,null,null,1014242,"",null,1014242,"2015-02-21","St. John's","Manchester",783,"R","7:00 pm EST ","Verizon Wireless Arena Manchester, NH"]
[null,null,null,null,null,null,null,null,null,null,null,null,null,null,1014256,"",null,1014256,"2015-02-22","St. John's","Portland",797,"R","3:00 pm EST ","Cross Insurance Arena Portland, ME"]
[null,null,null,null,null,null,null,null,null,null,null,null,null,null,1014264,"",null,1014264,"2015-02-25","St. John's","Portland",805,"R","7:00 pm EST ","Cross Insurance Arena Portland, ME"]
[null,null,null,null,null,null,null,null,null,null,null,null,null,null,1014279,"",null,1014279,"2015-02-27","St. John's","Worcester",820,"R","7:30 pm EST ","DCU Center Worcester, MA"]
[null,null,null,null,null,null,null,null,null,null,null,null,null,null,1014293,"",null,1014293,"2015-02-28","St. John's","Worcester",834,"R","7:00 pm EST ","DCU Center Worcester, MA"]
[null,null,null,null,null,null,null,null,null,null,null,null,null,null,1014316,"",null,1014316,"2015-03-06","St. John's","Albany",857,"H","7:30 pm NST ","Mile One Centre St. John's, NL"]
[null,null,null,null,null,null,null,null,null,null,null,null,null,null,null,"N",null,1014249,"2015-02-21","Providence","W-B/Scranton",790,"R","7:05 pm EST ","Mohegan Sun Arena at Casey Plaza Wilkes-Barre, PA"]
[null,null,null,null,null,null,null,null,null,null,null,null,null,null,1014346,"",null,1014346,"2015-03-11","St. John's","Manchester",887,"H","7:30 pm NDT ","Mile One Centre St. John's, NL"]
[null,null,null,null,null,null,null,null,null,null,null,null,null,null,1014358,"",null,1014358,"2015-03-13","St. John's","Manchester",899,"H","7:30 pm NDT ","Mile One Centre St. John's, NL"]
[null,null,null,null,null,null,null,null,null,null,null,null,null,null,1014370,"",null,1014370,"2015-03-14","St. John's","Manchester",911,"H","7:30 pm NDT ","Mile One Centre St. John's, NL"]
[null,null,null,null,null,null,null,null,null,null,null,null,null,null,1014400,"",null,1014400,"2015-03-20","St. John's","Worcester",941,"R","7:30 pm EDT ","DCU Center Worcester, MA"]
[null,null,null,null,null,null,null,null,null,null,null,null,null,null,1014405,"",null,1014405,"2015-03-21","St. John's","Manchester",946,"R","7:00 pm EDT ","Verizon Wireless Arena Manchester, NH"]
[null,null,null,null,null,null,null,null,null,null,null,null,null,null,1014423,"",null,1014423,"2015-03-22","St. John's","Providence",964,"R","3:05 pm EDT ","Dunkin' Donuts Center Providence, RI"]
[null,null,null,null,null,null,null,null,null,null,null,null,null,null,null,"N",null,1014255,"2015-02-22","Manchester","Worcester",796,"H","3:00 pm EST ","Verizon Wireless Arena Manchester, NH"]
[null,null,null,null,null,null,null,null,null,null,null,null,null,null,1014444,"",null,1014444,"2015-03-27","St. John's","Portland",985,"R","7:00 pm EDT ","Cross Insurance Arena Portland, ME"]
[null,null,null,null,null,null,null,null,null,null,null,null,null,null,1014463,"",null,1014463,"2015-03-28","St. John's","Worcester",1004,"R","7:00 pm EDT ","DCU Center Worcester, MA"]
[null,null,null,null,null,null,null,null,null,null,null,null,null,null,null,"N",null,1014495,"2015-04-03","St. John's","Providence",1036,"H","7:30 pm NDT ","Mile One Centre St. John's, NL"]
[null,null,null,null,null,null,null,null,null,null,null,null,null,null,null,"N",null,1014507,"2015-04-04","St. John's","Providence",1048,"H","7:30 pm NDT ","Mile One Centre St. John's, NL"]
[null,null,null,null,null,null,null,null,null,null,null,null,null,null,null,"N",null,1014530,"2015-04-10","St. John's","Hershey",1071,"H","7:30 pm NDT ","Mile One Centre St. John's, NL"]
[null,null,null,null,null,null,null,null,null,null,null,null,null,null,null,"N",null,1014543,"2015-04-11","St. John's","Hershey",1084,"H","7:30 pm NDT ","Mile One Centre St. John's, NL"]
[null,null,null,null,null,null,null,null,null,null,null,null,null,null,null,"N",null,1014576,"2015-04-17","St. John's","Springfield",1117,"H","7:30 pm NDT ","Mile One Centre St. John's, NL"]
[null,null,null,null,null,null,null,null,null,null,null,null,null,null,null,"N",null,1014590,"2015-04-18","St. John's","Springfield",1131,"H","7:30 pm NDT ","Mile One Centre St. John's, NL"]
[null,null,null,null,null,null,null,null,null,null,null,null,null,null,1013475,"",null,1013475,"2014-10-11","Syracuse","Springfield",16,"H","7:00 pm EDT ","Onondaga County War Memorial Arena Syracuse, NY"]
[null,null,null,null,null,null,null,null,null,null,null,null,null,null,1013481,"",null,1013481,"2014-10-12","Syracuse","Hartford",22,"H","5:00 pm EDT ","Onondaga County War Memorial Arena Syracuse, NY"]
[null,null,null,null,null,null,null,null,null,null,null,null,null,null,1013498,"",null,1013498,"2014-10-17","Syracuse","Springfield",39,"H","7:00 pm EDT ","Onondaga County War Memorial Arena Syracuse, NY"]
[null,null,null,null,null,null,null,null,null,null,null,null,null,null,1013510,"",null,1013510,"2014-10-18","Syracuse","Binghamton",51,"H","7:00 pm EDT ","Onondaga County War Memorial Arena Syracuse, NY"]
[null,null,null,null,null,null,null,null,null,null,null,null,null,null,1013536,"",null,1013536,"2014-10-24","Syracuse","Worcester",77,"R","7:30 pm EDT ","DCU Center Worcester, MA"]
[null,null,null,null,null,null,null,null,null,null,null,null,null,null,1013545,"",null,1013545,"2014-10-25","Syracuse","Portland",86,"R","7:00 pm EDT ","Cross Insurance Arena Portland, ME"]
[null,null,null,null,null,null,null,null,null,null,null,null,null,null,1013555,"",null,1013555,"2014-10-26","Syracuse","Springfield",96,"R","3:00 pm EDT ","MassMutual Center Springfield, MA"]
[null,null,null,null,null,null,null,null,null,null,null,null,null,null,null,"N",null,1014268,"2015-02-27","Charlotte","Hamilton",809,"R","7:30 pm EST ","FirstOntario Centre Hamilton, ON"]
[null,null,null,null,null,null,null,null,null,null,null,null,null,null,1013578,"",null,1013578,"1'1 - 1","Syracuse","Binghamton",119,"R","7:05 pm EDT ","Floyd L. Maines Veterans Memorial Arena Binghamton, NY"]
[null,null,null,null,null,null,null,null,null,null,null,null,null,null,1013615,"",null,1013615,"2014-11-07","Syracuse","Norfolk",156,"H","7:00 pm EST ","Onondaga County War Memorial Arena Syracuse, NY"]
[null,null,null,null,null,null,null,null,null,null,null,null,null,null,1013628,"",null,1013628,"2014-11-08","Syracuse","Norfolk",169,"H","7:00 pm EST ","Onondaga County War Memorial Arena Syracuse, NY"]
[null,null,null,null,null,null,null,null,null,null,null,null,null,null,1013636,"",null,1013636,"2014-11-09","Syracuse","W-B/Scranton",177,"R","4:05 pm EST ","Mohegan Sun Arena at Casey Plaza Wilkes-Barre, PA"]
[null,null,null,null,null,null,null,null,null,null,null,null,null,null,1013642,"",null,1013642,"2014-11-12","Syracuse","Albany",183,"R","7:00 pm EST ","Times Union Center Albany, NY"]
[null,null,null,null,null,null,null,null,null,null,null,null,null,null,1013658,"",null,1013658,"2014-11-14","Syracuse","Hershey",199,"H","7:00 pm EST ","Onondaga County War Memorial Arena Syracuse, NY"]
[null,null,null,null,null,null,null,null,null,null,null,null,null,null,1013673,"",null,1013673,"2014-11-15","Syracuse","W-B/Scranton",214,"R","7:05 pm EST ","Mohegan Sun Arena at Casey Plaza Wilkes-Barre, PA"]
[null,null,null,null,null,null,null,null,null,null,null,null,null,null,1013685,"",null,1013685,"2014-11-19","Syracuse","Hartford",226,"R","7:00 pm EST ","XL Center Hartford, CT"]
[null,null,null,null,null,null,null,null,null,null,null,null,null,null,1013691,"",null,1013691,"2014-11-21","Syracuse","Adirondack",232,"R","7:00 pm EST ","Glens Falls Civic Center Glens Falls, NY"]
[null,null,null,null,null,null,null,null,null,null,null,null,null,null,1013716,"",null,1013716,"2014-11-22","Syracuse","Utica",257,"H","7:00 pm EST *","Carrier Dome Syracuse, NY"]
[null,null,null,null,null,null,null,null,null,null,null,null,null,null,1013736,"",null,1013736,"2014-11-26","Syracuse","Utica",277,"R","7:00 pm EST ","Utica Memorial Auditorium Utica, NY"]
[null,null,null,null,null,null,null,null,null,null,null,null,null,null,1013744,"",null,1013744,"2014-11-28","Syracuse","Binghamton",285,"H","7:00 pm EST ","Onondaga County War Memorial Arena Syracuse, NY"]
[null,null,null,null,null,null,null,null,null,null,null,null,null,null,1013755,"",null,1013755,"2014-11-29","Syracuse","Hershey",296,"R","7:00 pm EST ","Giant Center Hershey, PA"]
[null,null,null,null,null,null,null,null,null,null,null,null,null,null,1013785,"",null,1013785,"1'2 - 5","Syracuse","Hartford",326,"H","7:00 pm EST ","Onondaga County War Memorial Arena Syracuse, NY"]
[null,null,null,null,null,null,null,null,null,null,null,null,null,null,1013796,"",null,1013796,"2014-12-06","Syracuse","Rochester",337,"H","7:00 pm EST ","Onondaga County War Memorial Arena Syracuse, NY"]
[null,null,null,null,null,null,null,null,null,null,null,null,null,null,1013817,"",null,1013817,"2014-12-10","Syracuse","Springfield",358,"R","7:00 pm EST ","MassMutual Center Springfield, MA"]
[null,null,null,null,null,null,null,null,null,null,null,null,null,null,1013832,"",null,1013832,"2014-12-12","Syracuse","Hershey",373,"H","7:00 pm EST ","Onondaga County War Memorial Arena Syracuse, NY"]
[null,null,null,null,null,null,null,null,null,null,null,null,null,null,1013845,"",null,1013845,"2014-12-13","Syracuse","Utica",386,"R","7:00 pm EST ","Utica Memorial Auditorium Utica, NY"]
[null,null,null,null,null,null,null,null,null,null,null,null,null,null,1013861,"",null,1013861,"2014-12-17","Syracuse","Rochester",402,"R","7:05 pm EST ","Blue Cross Arena Rochester, NY"]
[null,null,null,null,null,null,null,null,null,null,null,null,null,null,1013868,"",null,1013868,"2014-12-19","Syracuse","Hartford",409,"R","7:00 pm EST ","XL Center Hartford, CT"]
[null,null,null,null,null,null,null,null,null,null,null,null,null,null,1013887,"",null,1013887,"2014-12-20","Syracuse","Albany",428,"H","7:00 pm EST ","Onondaga County War Memorial Arena Syracuse, NY"]
[null,null,null,null,null,null,null,null,null,null,null,null,null,null,1013904,"",null,1013904,"2014-12-26","Syracuse","Albany",445,"H","7:00 pm EST ","Onondaga County War Memorial Arena Syracuse, NY"]
[null,null,null,null,null,null,null,null,null,null,null,null,null,null,1013917,"",null,1013917,"2014-12-27","Syracuse","Worcester",458,"H","7:00 pm EST ","Onondaga County War Memorial Arena Syracuse, NY"]
[null,null,null,null,null,null,null,null,null,null,null,null,null,null,1013924,"",null,1013924,"2014-12-28","Syracuse","Springfield",465,"R","5:00 pm EST ","MassMutual Center Springfield, MA"]
[null,null,null,null,null,null,null,null,null,null,null,null,null,null,1013941,"",null,1013941,"2014-12-31","Syracuse","Rochester",482,"R","3:05 pm EST ","Blue Cross Arena Rochester, NY"]
[null,null,null,null,null,null,null,null,null,null,null,null,null,null,1013945,"",null,1013945,"2015-01-02","Syracuse","Albany",486,"R","7:00 pm EST ","Times Union Center Albany, NY"]
[null,null,null,null,null,null,null,null,null,null,null,null,null,null,1013958,"",null,1013958,"2015-01-03","Syracuse","Binghamton",499,"R","7:05 pm EST ","Floyd L. Maines Veterans Memorial Arena Binghamton, NY"]
[null,null,null,null,null,null,null,null,null,null,null,null,null,null,1013988,"",null,1013988,"2015-01-09","Syracuse","Hartford",529,"R","7:00 pm EST ","XL Center Hartford, CT"]
[null,null,null,null,null,null,null,null,null,null,null,null,null,null,1014006,{"$f":"IF(O1863=R1863,\"\",\"N\")","v":""},null,1014006,"2015-01-10","Syracuse","W-B/Scranton",547,"H","7:00 pm EST ","Onondaga County War Memorial Arena Syracuse, NY"]
[null,null,null,null,null,null,null,null,null,null,null,null,null,null,null,"N",null,1014271,"2015-02-27","Milwaukee","Grand Rapids",812,"H","7:00 pm CST ","BMO Harris Bradley Center Milwaukee, WI"]
[null,null,null,null,null,null,null,null,null,null,null,null,null,null,1014039,"",null,1014039,"2015-01-17","Syracuse","Bridgeport",580,"R","7:00 pm EST ","Webster Bank Arena Bridgeport, CT"]
[null,null,null,null,null,null,null,null,null,null,null,null,null,null,1014051,"",null,1014051,"2015-01-18","Syracuse","Bridgeport",592,"R","3:00 pm EST ","Webster Bank Arena Bridgeport, CT"]
[null,null,null,null,null,null,null,null,null,null,null,null,null,null,1014081,"",null,1014081,"2015-01-23","Syracuse","Lehigh Valley",622,"H","7:00 pm EST ","Onondaga County War Memorial Arena Syracuse, NY"]
[null,null,null,null,null,null,null,null,null,null,null,null,null,null,1014094,"",null,1014094,"2015-01-24","Syracuse","Hartford",635,"H","7:00 pm EST ","Onondaga County War Memorial Arena Syracuse, NY"]
[null,null,null,null,null,null,null,null,null,null,null,null,null,null,1014112,"",null,1014112,"2015-01-30","Syracuse","Rochester",653,"H","7:00 pm EST ","Onondaga County War Memorial Arena Syracuse, NY"]
[null,null,null,null,null,null,null,null,null,null,null,null,null,null,1014121,"",null,1014121,"2015-01-31","Syracuse","Hershey",662,"R","7:00 pm EST ","Giant Center Hershey, PA"]
[null,null,null,null,null,null,null,null,null,null,null,null,null,null,1014136,"",null,1014136,"2015-02-04","Syracuse","Hartford",677,"H","7:00 pm EST ","Onondaga County War Memorial Arena Syracuse, NY"]
[null,null,null,null,null,null,null,null,null,null,null,null,null,null,1014150,"",null,1014150,"2015-02-06","Syracuse","Bridgeport",691,"H","7:00 pm EST ","Onondaga County War Memorial Arena Syracuse, NY"]
[null,null,null,null,null,null,null,null,null,null,null,null,null,null,1014163,"",null,1014163,"2015-02-07","Syracuse","Springfield",704,"H","7:00 pm EST ","Onondaga County War Memorial Arena Syracuse, NY"]
[null,null,null,null,null,null,null,null,null,null,null,null,null,null,null,"N",null,1014278,"2015-02-27","Utica","Adirondack",819,"H","7:00 pm EST ","Utica Memorial Auditorium Utica, NY"]
[null,null,null,null,null,null,null,null,null,null,null,null,null,null,null,"N",null,1014281,"2015-02-28","Chicago","Grand Rapids",822,"H","7:00 pm CST ","Allstate Arena Rosemont, IL"]
[null,null,null,null,null,null,null,null,null,null,null,null,null,null,1014198,"",null,1014198,"2015-02-14","Syracuse","Norfolk",739,"R","7:15 pm EST ","Norfolk Scope Norfolk, VA"]
[null,null,null,null,null,null,null,null,null,null,null,null,null,null,1014234,"",null,1014234,"2015-02-20","Syracuse","Albany",775,"H","7:00 pm EST ","Onondaga County War Memorial Arena Syracuse, NY"]
[null,null,null,null,null,null,null,null,null,null,null,null,null,null,1014246,"",null,1014246,"2015-02-21","Syracuse","Binghamton",787,"H","7:00 pm EST ","Onondaga County War Memorial Arena Syracuse, NY"]
[null,null,null,null,null,null,null,null,null,null,null,null,null,null,1014257,"",null,1014257,"2015-02-22","Syracuse","Rochester",798,"R","5:05 pm EST ","Blue Cross Arena Rochester, NY"]
[null,null,null,null,null,null,null,null,null,null,null,null,null,null,1014265,"",null,1014265,"2015-02-25","Syracuse","Rochester",806,"R","7:05 pm EST ","Blue Cross Arena Rochester, NY"]
[null,null,null,null,null,null,null,null,null,null,null,null,null,null,1014276,"",null,1014276,"2015-02-27","Syracuse","Albany",817,"H","7:00 pm EST ","Onondaga County War Memorial Arena Syracuse, NY"]
[null,null,null,null,null,null,null,null,null,null,null,null,null,null,1014291,"",null,1014291,"2015-02-28","Syracuse","Utica",832,"H","7:00 pm EST ","Onondaga County War Memorial Arena Syracuse, NY"]
[null,null,null,null,null,null,null,null,null,null,null,null,null,null,1014317,"",null,1014317,"2015-03-06","Syracuse","Portland",858,"H","7:00 pm EST ","Onondaga County War Memorial Arena Syracuse, NY"]
[null,null,null,null,null,null,null,null,null,null,null,null,null,null,1014331,"",null,1014331,"2015-03-08","Syracuse","Binghamton",872,"R","3:05 pm EDT ","Floyd L. Maines Veterans Memorial Arena Binghamton, NY"]
[null,null,null,null,null,null,null,null,null,null,null,null,null,null,1014359,"",null,1014359,"2015-03-13","Syracuse","Adirondack",900,"H","7:00 pm EDT ","Onondaga County War Memorial Arena Syracuse, NY"]
[null,null,null,null,null,null,null,null,null,null,null,null,null,null,1014361,"",null,1014361,"2015-03-14","Syracuse","Albany",902,"R","5:00 pm EDT ","Times Union Center Albany, NY"]
[null,null,null,null,null,null,null,null,null,null,null,null,null,null,1014375,"",null,1014375,"2015-03-15","Syracuse","Bridgeport",916,"R","3:00 pm EDT ","Webster Bank Arena Bridgeport, CT"]
[null,null,null,null,null,null,null,null,null,null,null,null,null,null,1014397,"",null,1014397,"2015-03-20","Syracuse","W-B/Scranton",938,"H","7:00 pm EDT ","Onondaga County War Memorial Arena Syracuse, NY"]
[null,null,null,null,null,null,null,null,null,null,null,null,null,null,1014412,"",null,1014412,"2015-03-21","Syracuse","Utica",953,"H","7:00 pm EDT ","Onondaga County War Memorial Arena Syracuse, NY"]
[null,null,null,null,null,null,null,null,null,null,null,null,null,null,1014427,"",null,1014427,"2015-03-22","Syracuse","Springfield",968,"R","5:00 pm EDT ","MassMutual Center Springfield, MA"]
[null,null,null,null,null,null,null,null,null,null,null,null,null,null,1014430,"",null,1014430,"2015-03-25","Syracuse","Lehigh Valley",971,"R","7:05 pm EDT ","PPL Center Allentown, PA"]
[null,null,null,null,null,null,null,null,null,null,null,null,null,null,1014447,"",null,1014447,"2015-03-27","Syracuse","Bridgeport",988,"H","7:00 pm EDT ","Onondaga County War Memorial Arena Syracuse, NY"]
[null,null,null,null,null,null,null,null,null,null,null,null,null,null,null,"N",null,1014288,"2015-02-28","San Antonio","Oklahoma City",829,"R","7:00 pm CST ","Cox Convention Center Oklahoma City, OK"]
[null,null,null,null,null,null,null,null,null,null,null,null,null,null,1014477,"",null,1014477,"2015-04-01","Syracuse","Binghamton",1018,"H","7:00 pm EDT ","Onondaga County War Memorial Arena Syracuse, NY"]
[null,null,null,null,null,null,null,null,null,null,null,null,null,null,null,"N",null,1014487,"2015-04-03","Syracuse","Hartford",1028,"R","7:00 pm EDT ","XL Center Hartford, CT"]
[null,null,null,null,null,null,null,null,null,null,null,null,null,null,null,"N",null,1014498,"2015-04-04","Syracuse","Bridgeport",1039,"R","7:00 pm EDT ","Webster Bank Arena Bridgeport, CT"]
[null,null,null,null,null,null,null,null,null,null,null,null,null,null,null,"N",null,1014531,"2015-04-10","Syracuse","Bridgeport",1072,"H","7:00 pm EDT ","Onondaga County War Memorial Arena Syracuse, NY"]
[null,null,null,null,null,null,null,null,null,null,null,null,null,null,null,"N",null,1014544,"2015-04-11","Syracuse","Springfield",1085,"H","7:00 pm EDT ","Onondaga County War Memorial Arena Syracuse, NY"]
[null,null,null,null,null,null,null,null,null,null,null,null,null,null,null,"N",null,1014554,"2015-04-12","Syracuse","Utica",1095,"R","3:00 pm EDT ","Utica Memorial Auditorium Utica, NY"]
[null,null,null,null,null,null,null,null,null,null,null,null,null,null,null,"N",null,1014560,"2015-04-15","Syracuse","Albany",1101,"R","7:00 pm EDT ","Times Union Center Albany, NY"]
[null,null,null,null,null,null,null,null,null,null,null,null,null,null,null,"N",null,1014577,"2015-04-17","Syracuse","Adirondack",1118,"H","7:00 pm EDT ","Onondaga County War Memorial Arena Syracuse, NY"]
[null,null,null,null,null,null,null,null,null,null,null,null,null,null,"TEX","N",null,1014591,"2015-04-18","Syracuse","Bridgeport",1132,"H","7:00 pm EDT ","Onondaga County War Memorial Arena Syracuse, NY"]
[null,null,null,null,null,null,null,null,null,null,null,null,null,null,1013476,"",null,1013476,"2014-10-11","Texas","Iowa",17,"H","7:00 pm CDT ","Cedar Park Center Cedar Park, TX"]
[null,null,null,null,null,null,null,null,null,null,null,null,null,null,1013494,"",null,1013494,"2014-10-17","Texas","Oklahoma City",35,"R","7:00 pm CDT ","Cox Convention Center Oklahoma City, OK"]
[null,null,null,null,null,null,null,null,null,null,null,null,null,null,null,"N",null,1014290,"2015-02-28","Bridgeport","Springfield",831,"R","7:00 pm EST ","MassMutual Center Springfield, MA"]
[null,null,null,null,null,null,null,null,null,null,null,null,null,null,1013530,"",null,1013530,"2014-10-24","Texas","Oklahoma City",71,"R","7:00 pm CDT ","Cox Convention Center Oklahoma City, OK"]
[null,null,null,null,null,null,null,null,null,null,null,null,null,null,1013549,"",null,1013549,"2014-10-25","Texas","Oklahoma City",90,"H","7:00 pm CDT ","Cedar Park Center Cedar Park, TX"]
[null,null,null,null,null,null,null,null,null,null,null,null,null,null,1013565,"",null,1013565,"2014-10-29","Texas","Oklahoma City",106,"H","7:30 pm CDT ","Cedar Park Center Cedar Park, TX"]
[null,null,null,null,null,null,null,null,null,null,null,null,null,null,1013569,"",null,1013569,"2014-10-31","Texas","Lake Erie",110,"R","7:30 pm EDT ","Quicken Loans Arena Cleveland, OH"]
[null,null,null,null,null,null,null,null,null,null,null,null,null,null,1013580,"",null,1013580,"1'1 - 1","Texas","Lake Erie",121,"R","6:00 pm EDT ","Quicken Loans Arena Cleveland, OH"]
[null,null,null,null,null,null,null,null,null,null,null,null,null,null,1013603,"",null,1013603,"1'1 - 5","Texas","Toronto",144,"H","7:30 pm CST ","Cedar Park Center Cedar Park, TX"]
[null,null,null,null,null,null,null,null,null,null,null,null,null,null,1013619,"",null,1013619,"2014-11-08","Texas","Charlotte",160,"R","7:00 pm EST ","Time Warner Cable Arena Charlotte, NC"]
[null,null,null,null,null,null,null,null,null,null,null,null,null,null,1013631,"",null,1013631,"2014-11-09","Texas","Charlotte",172,"R","3:00 pm EST ","Time Warner Cable Arena Charlotte, NC"]
[null,null,null,null,null,null,null,null,null,null,null,null,null,null,1013647,"",null,1013647,"2014-11-14","Texas","Grand Rapids",188,"R","7:00 pm EST ","Van Andel Arena Grand Rapids, MI"]
[null,null,null,null,null,null,null,null,null,null,null,null,null,null,1013663,"",null,1013663,"2014-11-15","Texas","Grand Rapids",204,"R","7:00 pm EST ","Van Andel Arena Grand Rapids, MI"]
[null,null,null,null,null,null,null,null,null,null,null,null,null,null,1013680,"",null,1013680,"2014-11-16","Texas","Rockford",221,"R","4:00 pm CST ","BMO Harris Bank Center Rockford, IL"]
[null,null,null,null,null,null,null,null,null,null,null,null,null,null,1013704,"",null,1013704,"2014-11-21","Texas","San Antonio",245,"H","7:30 pm CST ","Cedar Park Center Cedar Park, TX"]
[null,null,null,null,null,null,null,null,null,null,null,null,null,null,null,"N",null,1014293,"2015-02-28","Worcester","St. John's",834,"H","7:00 pm EST ","DCU Center Worcester, MA"]
[null,null,null,null,null,null,null,null,null,null,null,null,null,null,1013735,"",null,1013735,"2014-11-26","Texas","Oklahoma City",276,"H","7:30 pm CST ","Cedar Park Center Cedar Park, TX"]
[null,null,null,null,null,null,null,null,null,null,null,null,null,null,1013745,"",null,1013745,"2014-11-28","Texas","Oklahoma City",286,"H","7:30 pm CST ","Cedar Park Center Cedar Park, TX"]
[null,null,null,null,null,null,null,null,null,null,null,null,null,null,1013759,"",null,1013759,"2014-11-29","Texas","Iowa",300,"H","7:00 pm CST ","Cedar Park Center Cedar Park, TX"]
[null,null,null,null,null,null,null,null,null,null,null,null,null,null,1013772,"",null,1013772,"1'2 - 3","Texas","Utica",313,"H","7:30 pm CST ","Cedar Park Center Cedar Park, TX"]
[null,null,null,null,null,null,null,null,null,null,null,null,null,null,1013774,"",null,1013774,"1'2 - 5","Texas","Adirondack",315,"R","7:00 pm EST ","Glens Falls Civic Center Glens Falls, NY"]
[null,null,null,null,null,null,null,null,null,null,null,null,null,null,1013801,"",null,1013801,"2014-12-07","Texas","Hamilton",342,"R","3:00 pm EST ","FirstOntario Centre Hamilton, ON"]
[null,null,null,null,null,null,null,null,null,null,null,null,null,null,1013819,"",null,1013819,"2014-12-10","Texas","Oklahoma City",360,"H","7:30 pm CST ","Cedar Park Center Cedar Park, TX"]
[null,null,null,null,null,null,null,null,null,null,null,null,null,null,1013833,"",null,1013833,"2014-12-12","Texas","Charlotte",374,"H","7:30 pm CST ","Cedar Park Center Cedar Park, TX"]
[null,null,null,null,null,null,null,null,null,null,null,null,null,null,1013843,{"$f":"IF(O1927=R1927,\"\",\"N\")","v":""},null,1013843,"2014-12-13","Texas","Charlotte",384,"H","7:00 pm CST ","Cedar Park Center Cedar Park, TX"]
[null,null,null,null,null,null,null,null,null,null,null,null,null,null,1013874,"",null,1013874,"2014-12-19","Texas","Utica",415,"R","7:00 pm EST ","Utica Memorial Auditorium Utica, NY"]
[null,null,null,null,null,null,null,null,null,null,null,null,null,null,1013888,"",null,1013888,"2014-12-20","Texas","Toronto",429,"R","3:00 pm EST ","Ricoh Coliseum Toronto, ON"]
[null,null,null,null,null,null,null,null,null,null,null,null,null,null,1013891,"",null,1013891,"2014-12-21","Texas","Hamilton",432,"R","3:00 pm EST ","FirstOntario Centre Hamilton, ON"]
[null,null,null,null,null,null,null,null,null,null,null,null,null,null,1013903,"",null,1013903,"2014-12-26","Texas","San Antonio",444,"R","7:30 pm CST ","AT&T Center San Antonio, TX"]
[null,null,null,null,null,null,null,null,null,null,null,null,null,null,1013918,"",null,1013918,"2014-12-27","Texas","Charlotte",459,"H","7:00 pm CST ","Cedar Park Center Cedar Park, TX"]
[null,null,null,null,null,null,null,null,null,null,null,null,null,null,1013925,"",null,1013925,"2014-12-28","Texas","San Antonio",466,"H","5:00 pm CST ","Cedar Park Center Cedar Park, TX"]
[null,null,null,null,null,null,null,null,null,null,null,null,null,null,1013960,"",null,1013960,"2015-01-03","Texas","Charlotte",501,"R","7:00 pm EST ","Time Warner Cable Arena Charlotte, NC"]
[null,null,null,null,null,null,null,null,null,null,null,null,null,null,1013972,"",null,1013972,"2015-01-04","Texas","Charlotte",513,"R","3:00 pm EST ","Time Warner Cable Arena Charlotte, NC"]
[null,null,null,null,null,null,null,null,null,null,null,null,null,null,1013976,"",null,1013976,"2015-01-06","Texas","Oklahoma City",517,"R","7:00 pm CST ","Cox Convention Center Oklahoma City, OK"]
[null,null,null,null,null,null,null,null,null,null,null,null,null,null,1013993,"",null,1013993,"2015-01-09","Texas","Iowa",534,"H","7:30 pm CST ","Cedar Park Center Cedar Park, TX"]
[null,null,null,null,null,null,null,null,null,null,null,null,null,null,1014007,"",null,1014007,"2015-01-10","Texas","Toronto",548,"H","7:00 pm CST ","Cedar Park Center Cedar Park, TX"]
[null,null,null,null,null,null,null,null,null,null,null,null,null,null,1014023,"",null,1014023,"2015-01-14","Texas","Rochester",564,"H","7:30 pm CST ","Cedar Park Center Cedar Park, TX"]
[null,null,null,null,null,null,null,null,null,null,null,null,null,null,1014032,"",null,1014032,"2015-01-16","Texas","Oklahoma City",573,"R","7:00 pm CST ","Cox Convention Center Oklahoma City, OK"]
[null,null,null,null,null,null,null,null,null,null,null,null,null,null,1014047,"",null,1014047,"2015-01-17","Texas","Oklahoma City",588,"R","7:00 pm CST ","Cox Convention Center Oklahoma City, OK"]
[null,null,null,null,null,null,null,null,null,null,null,null,null,null,1014059,"",null,1014059,"2015-01-20","Texas","San Antonio",600,"R","7:00 pm CST ","AT&T Center San Antonio, TX"]
[null,null,null,null,null,null,null,null,null,null,null,null,null,null,1014082,"",null,1014082,"2015-01-23","Texas","Chicago",623,"H","7:30 pm CST ","Cedar Park Center Cedar Park, TX"]
[null,null,null,null,null,null,null,null,null,null,null,null,null,null,1014095,"",null,1014095,"2015-01-24","Texas","Chicago",636,"H","7:00 pm CST ","Cedar Park Center Cedar Park, TX"]
[null,null,null,null,null,null,null,null,null,null,null,null,null,null,1014099,"",null,1014099,"2015-01-29","Texas","San Antonio",640,"H","7:30 pm CST ","Cedar Park Center Cedar Park, TX"]
[null,null,null,null,null,null,null,null,null,null,null,null,null,null,1014124,"",null,1014124,"2015-01-31","Texas","Charlotte",665,"H","7:00 pm CST ","Cedar Park Center Cedar Park, TX"]
[null,null,null,null,null,null,null,null,null,null,null,null,null,null,1014131,"",null,1014131,"2015-02-03","Texas","San Antonio",672,"H","7:30 pm CST ","Cedar Park Center Cedar Park, TX"]
[null,null,null,null,null,null,null,null,null,null,null,null,null,null,1014138,"",null,1014138,"2015-02-05","Texas","San Antonio",679,"R","7:00 pm CST ","AT&T Center San Antonio, TX"]
[null,null,null,null,null,null,null,null,null,null,null,null,null,null,1014169,"",null,1014169,"2015-02-08","Texas","Oklahoma City",710,"H","5:00 pm CST ","Cedar Park Center Cedar Park, TX"]
[null,null,null,null,null,null,null,null,null,null,null,null,null,null,1014175,"",null,1014175,"2015-02-10","Texas","San Antonio",716,"H","7:30 pm CST ","Cedar Park Center Cedar Park, TX"]
[null,null,null,null,null,null,null,null,null,null,null,null,null,null,1014185,"",null,1014185,"2015-02-13","Texas","Iowa",726,"R","7:00 pm CST ","Wells Fargo Arena Des Moines, IA"]
[null,null,null,null,null,null,null,null,null,null,null,null,null,null,1014196,"",null,1014196,"2015-02-14","Texas","Iowa",737,"R","7:00 pm CST ","Wells Fargo Arena Des Moines, IA"]
[null,null,null,null,null,null,null,null,null,null,null,null,null,null,1014224,"",null,1014224,"2015-02-18","Texas","Utica",765,"R","7:00 pm EST ","Utica Memorial Auditorium Utica, NY"]
[null,null,null,null,null,null,null,null,null,null,null,null,null,null,1014232,"",null,1014232,"2015-02-20","Texas","Rochester",773,"R","7:05 pm EST ","Blue Cross Arena Rochester, NY"]
[null,null,null,null,null,null,null,null,null,null,null,null,null,null,1014247,"",null,1014247,"2015-02-21","Texas","Toronto",788,"R","3:00 pm EST ","Ricoh Coliseum Toronto, ON"]
[null,null,null,null,null,null,null,null,null,null,null,null,null,null,1014262,"",null,1014262,"2015-02-24","Texas","Oklahoma City",803,"R","7:00 pm CST ","Cox Convention Center Oklahoma City, OK"]
[null,null,null,null,null,null,null,null,null,null,null,null,null,null,1014277,"",null,1014277,"2015-02-27","Texas","Rockford",818,"H","7:30 pm CST ","Cedar Park Center Cedar Park, TX"]
[null,null,null,null,null,null,null,null,null,null,null,null,null,null,1014292,"",null,1014292,"2015-02-28","Texas","Rockford",833,"H","7:00 pm CST ","Cedar Park Center Cedar Park, TX"]
[null,null,null,null,null,null,null,null,null,null,null,null,null,null,1014318,"",null,1014318,"2015-03-06","Texas","Iowa",859,"H","7:30 pm CST ","Cedar Park Center Cedar Park, TX"]
[null,null,null,null,null,null,null,null,null,null,null,null,null,null,1014347,"",null,1014347,"2015-03-11","Texas","Lake Erie",888,"H","7:30 pm CDT ","Cedar Park Center Cedar Park, TX"]
[null,null,null,null,null,null,null,null,null,null,null,null,null,null,1014371,"",null,1014371,"2015-03-14","Texas","Milwaukee",912,"H","7:00 pm CDT ","Cedar Park Center Cedar Park, TX"]
[null,null,null,null,null,null,null,null,null,null,null,null,null,null,1014381,"",null,1014381,"2015-03-15","Texas","Milwaukee",922,"H","5:00 pm CDT ","Cedar Park Center Cedar Park, TX"]
[null,null,null,null,null,null,null,null,null,null,null,null,null,null,1014385,"",null,1014385,"2015-03-17","Texas","Lake Erie",926,"H","7:30 pm CDT ","Cedar Park Center Cedar Park, TX"]
[null,null,null,null,null,null,null,null,null,null,null,null,null,null,1014389,"",null,1014389,"2015-03-19","Texas","Chicago",930,"R","7:00 pm CDT ","Allstate Arena Rosemont, IL"]
[null,null,null,null,null,null,null,null,null,null,null,null,null,null,1014406,"",null,1014406,"2015-03-21","Texas","Milwaukee",947,"R","7:00 pm CDT ","BMO Harris Bradley Center Milwaukee, WI"]
[null,null,null,null,null,null,null,null,null,null,null,null,null,null,1014425,"",null,1014425,"2015-03-22","Texas","Rockford",966,"R","4:00 pm CDT ","BMO Harris Bank Center Rockford, IL"]
[null,null,null,null,null,null,null,null,null,null,null,null,null,null,1014428,"",null,1014428,"2015-03-24","Texas","Iowa",969,"R","7:00 pm CDT ","Wells Fargo Arena Des Moines, IA"]
[null,null,null,null,null,null,null,null,null,null,null,null,null,null,null,"N",null,1014295,"2015-03-01","Bridgeport","W-B/Scranton",836,"H","3:00 pm EST ","Webster Bank Arena Bridgeport, CT"]
[null,null,null,null,null,null,null,null,null,null,null,null,null,null,1014460,"",null,1014460,"2015-03-28","Texas","Grand Rapids",1001,"H","7:00 pm CDT ","Cedar Park Center Cedar Park, TX"]
[null,null,null,null,null,null,null,null,null,null,null,null,null,null,1014478,"",null,1014478,"2015-04-01","Texas","Adirondack",1019,"H","7:30 pm CDT ","Cedar Park Center Cedar Park, TX"]
[null,null,null,null,null,null,null,null,null,null,null,null,null,null,null,"N",null,1014490,"2015-04-03","Texas","Milwaukee",1031,"R","7:00 pm CDT ","BMO Harris Bradley Center Milwaukee, WI"]
[null,null,null,null,null,null,null,null,null,null,null,null,null,null,null,"N",null,1014499,"2015-04-04","Texas","Chicago",1040,"R","7:00 pm CDT ","Allstate Arena Rosemont, IL"]
[null,null,null,null,null,null,null,null,null,null,null,null,null,null,null,"N",null,1014511,"2015-04-07","Texas","Iowa",1052,"R","7:00 pm CDT ","Wells Fargo Arena Des Moines, IA"]
[null,null,null,null,null,null,null,null,null,null,null,null,null,null,null,"N",null,1014532,"2015-04-10","Texas","Hamilton",1073,"H","7:30 pm CDT ","Cedar Park Center Cedar Park, TX"]
[null,null,null,null,null,null,null,null,null,null,null,null,null,null,null,"N",null,1014545,"2015-04-11","Texas","Hamilton",1086,"H","7:00 pm CDT ","Cedar Park Center Cedar Park, TX"]
[null,null,null,null,null,null,null,null,null,null,null,null,null,null,null,"N",null,1014559,"2015-04-14","Texas","San Antonio",1100,"R","7:00 pm CDT ","AT&T Center San Antonio, TX"]
[null,null,null,null,null,null,null,null,null,null,null,null,null,null,null,"N",null,1014575,"2015-04-17","Texas","San Antonio",1116,"R","7:30 pm CDT ","AT&T Center San Antonio, TX"]
[null,null,null,null,null,null,null,null,null,null,null,null,null,null,"TOR","N",null,1014592,"2015-04-18","Texas","San Antonio",1133,"H","7:00 pm CDT ","Cedar Park Center Cedar Park, TX"]
[null,null,null,null,null,null,null,null,null,null,null,null,null,null,1013477,"",null,1013477,"2014-10-11","Toronto","Utica",18,"H","3:00 pm EDT ","Ricoh Coliseum Toronto, ON"]
[null,null,null,null,null,null,null,null,null,null,null,null,null,null,1013482,"",null,1013482,"2014-10-12","Toronto","Utica",23,"H","3:00 pm EDT ","Ricoh Coliseum Toronto, ON"]
[null,null,null,null,null,null,null,null,null,null,null,null,null,null,1013490,"",null,1013490,"2014-10-17","Toronto","Hamilton",31,"R","7:30 pm EDT ","FirstOntario Centre Hamilton, ON"]
[null,null,null,null,null,null,null,null,null,null,null,null,null,null,1013512,"",null,1013512,"2014-10-18","Toronto","Rochester",53,"H","3:00 pm EDT ","Ricoh Coliseum Toronto, ON"]
[null,null,null,null,null,null,null,null,null,null,null,null,null,null,null,"N",null,1014297,"2015-03-01","Lehigh Valley","Hershey",838,"R","5:00 pm EST ","Giant Center Hershey, PA"]
[null,null,null,null,null,null,null,null,null,null,null,null,null,null,1013533,"",null,1013533,"2014-10-24","Toronto","Hamilton",74,"H","7:00 pm EDT ","Ricoh Coliseum Toronto, ON"]
[null,null,null,null,null,null,null,null,null,null,null,null,null,null,null,"N",null,1014298,"2015-03-01","Worcester","Manchester",839,"R","3:00 pm EST ","Verizon Wireless Arena Manchester, NH"]
[null,null,null,null,null,null,null,null,null,null,null,null,null,null,1013587,"",null,1013587,"1'1 - 1","Toronto","Rochester",128,"H","5:00 pm EDT ","Ricoh Coliseum Toronto, ON"]
[null,null,null,null,null,null,null,null,null,null,null,null,null,null,1013603,"",null,1013603,"1'1 - 5","Toronto","Texas",144,"R","7:30 pm CST ","Cedar Park Center Cedar Park, TX"]
[null,null,null,null,null,null,null,null,null,null,null,null,null,null,1013613,"",null,1013613,"2014-11-07","Toronto","San Antonio",154,"R","7:30 pm CST ","AT&T Center San Antonio, TX"]
[null,null,null,null,null,null,null,null,null,null,null,null,null,null,1013624,"",null,1013624,"2014-11-08","Toronto","Oklahoma City",165,"R","7:00 pm CST ","Cox Convention Center Oklahoma City, OK"]
[null,null,null,null,null,null,null,null,null,null,null,null,null,null,1013654,"",null,1013654,"2014-11-14","Toronto","Rochester",195,"R","7:05 pm EST ","Blue Cross Arena Rochester, NY"]
[null,null,null,null,null,null,null,null,null,null,null,null,null,null,1013666,{"$f":"IF(O1991=R1991,\"\",\"N\")","v":""},null,1013666,"2014-11-15","Toronto","Lehigh Valley",207,"R","7:05 pm EST ","PPL Center Allentown, PA"]
[null,null,null,null,null,null,null,null,null,null,null,null,null,null,null,"N",null,1014304,"2015-03-04","Lake Erie","Milwaukee",845,"H","7:00 pm EST ","Quicken Loans Arena Cleveland, OH"]
[null,null,null,null,null,null,null,null,null,null,null,null,null,null,1013688,"",null,1013688,"2014-11-19","Toronto","St. John's",229,"R","7:30 pm NST ","Mile One Centre St. John's, NL"]
[null,null,null,null,null,null,null,null,null,null,null,null,null,null,1013694,"",null,1013694,"2014-11-21","Toronto","Hamilton",235,"R","7:30 pm EST ","FirstOntario Centre Hamilton, ON"]
[null,null,null,null,null,null,null,null,null,null,null,null,null,null,1013724,"",null,1013724,"2014-11-23","Toronto","Hamilton",265,"H","3:00 pm EST ","Ricoh Coliseum Toronto, ON"]
[null,null,null,null,null,null,null,null,null,null,null,null,null,null,1013725,"",null,1013725,"2014-11-26","Toronto","Adirondack",266,"R","7:00 pm EST ","Glens Falls Civic Center Glens Falls, NY"]
[null,null,null,null,null,null,null,null,null,null,null,null,null,null,1013766,"",null,1013766,"2014-11-30","Toronto","Lake Erie",307,"H","5:00 pm EST ","Ricoh Coliseum Toronto, ON"]
[null,null,null,null,null,null,null,null,null,null,null,null,null,null,1013770,"",null,1013770,"1'2 - 2","Toronto","Grand Rapids",311,"H","7:00 pm EST ","Ricoh Coliseum Toronto, ON"]
[null,null,null,null,null,null,null,null,null,null,null,null,null,null,1013776,"",null,1013776,"1'2 - 5","Toronto","Hamilton",317,"R","7:30 pm EST ","FirstOntario Centre Hamilton, ON"]
[null,null,null,null,null,null,null,null,null,null,null,null,null,null,1013797,"",null,1013797,"2014-12-06","Toronto","Hamilton",338,"H","3:00 pm EST ","Ricoh Coliseum Toronto, ON"]
[null,null,null,null,null,null,null,null,null,null,null,null,null,null,1013809,"",null,1013809,"2014-12-07","Toronto","Rochester",350,"H","3:00 pm EST ","Ricoh Coliseum Toronto, ON"]
[null,null,null,null,null,null,null,null,null,null,null,null,null,null,1013834,"",null,1013834,"2014-12-12","Toronto","Utica",375,"R","7:00 pm EST ","Utica Memorial Auditorium Utica, NY"]
[null,null,null,null,null,null,null,null,null,null,null,null,null,null,1013844,"",null,1013844,"2014-12-13","Toronto","St. John's",385,"H","3:00 pm EST ","Ricoh Coliseum Toronto, ON"]
[null,null,null,null,null,null,null,null,null,null,null,null,null,null,1013851,"",null,1013851,"2014-12-14","Toronto","St. John's",392,"H","3:00 pm EST ","Ricoh Coliseum Toronto, ON"]
[null,null,null,null,null,null,null,null,null,null,null,null,null,null,1013866,"",null,1013866,"2014-12-19","Toronto","Grand Rapids",407,"R","7:00 pm EST ","Van Andel Arena Grand Rapids, MI"]
[null,null,null,null,null,null,null,null,null,null,null,null,null,null,1013888,"",null,1013888,"2014-12-20","Toronto","Texas",429,"H","3:00 pm EST ","Ricoh Coliseum Toronto, ON"]
[null,null,null,null,null,null,null,null,null,null,null,null,null,null,1013894,"",null,1013894,"2014-12-21","Toronto","Milwaukee",435,"H","3:00 pm EST ","Ricoh Coliseum Toronto, ON"]
[null,null,null,null,null,null,null,null,null,null,null,null,null,null,1013905,"",null,1013905,"2014-12-26","Toronto","Hamilton",446,"H","1:00 pm EST ","Ricoh Coliseum Toronto, ON"]
[null,null,null,null,null,null,null,null,null,null,null,null,null,null,1013915,"",null,1013915,"2014-12-27","Toronto","Rochester",456,"R","7:05 pm EST ","Blue Cross Arena Rochester, NY"]
[null,null,null,null,null,null,null,null,null,null,null,null,null,null,1013926,"",null,1013926,"2014-12-28","Toronto","Adirondack",467,"H","3:00 pm EST ","Ricoh Coliseum Toronto, ON"]
[null,null,null,null,null,null,null,null,null,null,null,null,null,null,1013935,"",null,1013935,"2014-12-31","Toronto","Adirondack",476,"R","5:30 pm EST ","Glens Falls Civic Center Glens Falls, NY"]
[null,null,null,null,null,null,null,null,null,null,null,null,null,null,1013954,"",null,1013954,"2015-01-02","Toronto","San Antonio",495,"H","7:00 pm EST ","Ricoh Coliseum Toronto, ON"]
[null,null,null,null,null,null,null,null,null,null,null,null,null,null,1013969,"",null,1013969,"2015-01-03","Toronto","San Antonio",510,"H","3:00 pm EST ","Ricoh Coliseum Toronto, ON"]
[null,null,null,null,null,null,null,null,null,null,null,null,null,null,1014007,"",null,1014007,"2015-01-10","Toronto","Texas",548,"R","7:00 pm CST ","Cedar Park Center Cedar Park, TX"]
[null,null,null,null,null,null,null,null,null,null,null,null,null,null,1014014,"",null,1014014,"2015-01-11","Toronto","San Antonio",555,"R","4:00 pm CST ","AT&T Center San Antonio, TX"]
[null,null,null,null,null,null,null,null,null,null,null,null,null,null,1014025,"",null,1014025,"2015-01-15","Toronto","Charlotte",566,"R","7:00 pm EST ","Time Warner Cable Arena Charlotte, NC"]
[null,null,null,null,null,null,null,null,null,null,null,null,null,null,1014027,"",null,1014027,"2015-01-16","Toronto","Charlotte",568,"R","7:00 pm EST ","Time Warner Cable Arena Charlotte, NC"]
[null,null,null,null,null,null,null,null,null,null,null,null,null,null,null,"N",null,1014324,"2015-03-07","Manchester","W-B/Scranton",865,"H","3:00 pm EST ","Verizon Wireless Arena Manchester, NH"]
[null,null,null,null,null,null,null,null,null,null,null,null,null,null,1014096,"",null,1014096,"2015-01-24","Toronto","Hamilton",637,"H","3:00 pm EST ","Ricoh Coliseum Toronto, ON"]
[null,null,null,null,null,null,null,null,null,null,null,null,null,null,1014113,"",null,1014113,"2015-01-30","Toronto","Utica",654,"R","7:00 pm EST ","Utica Memorial Auditorium Utica, NY"]
[null,null,null,null,null,null,null,null,null,null,null,null,null,null,1014125,"",null,1014125,"2015-01-31","Toronto","Utica",666,"H","3:00 pm EST ","Ricoh Coliseum Toronto, ON"]
[null,null,null,null,null,null,null,null,null,null,null,null,null,null,1014137,"",null,1014137,"2015-02-04","Toronto","Grand Rapids",678,"H","11:00 am EST ","Ricoh Coliseum Toronto, ON"]
[null,null,null,null,null,null,null,null,null,null,null,null,null,null,1014144,"",null,1014144,"2015-02-06","Toronto","Lake Erie",685,"R","7:30 pm EST ","Quicken Loans Arena Cleveland, OH"]
[null,null,null,null,null,null,null,null,null,null,null,null,null,null,1014164,"",null,1014164,"2015-02-07","Toronto","Iowa",705,"H","3:00 pm EST ","Ricoh Coliseum Toronto, ON"]
[null,null,null,null,null,null,null,null,null,null,null,null,null,null,1014184,"",null,1014184,"2015-02-13","Toronto","Hamilton",725,"R","7:30 pm EST ","FirstOntario Centre Hamilton, ON"]
[null,null,null,null,null,null,null,null,null,null,null,null,null,null,1014205,"",null,1014205,"2015-02-15","Toronto","Binghamton",746,"R","3:00 pm EST *","Canadian Tire Centre Ottawa, ON"]
[null,null,null,null,null,null,null,null,null,null,null,null,null,null,1014216,"",null,1014216,"2015-02-16","Toronto","Binghamton",757,"H","1:00 pm EST *","Air Canada Centre Toronto, ON"]
[null,null,null,null,null,null,null,null,null,null,null,null,null,null,1014235,"",null,1014235,"2015-02-20","Toronto","Utica",776,"R","7:00 pm EST ","Utica Memorial Auditorium Utica, NY"]
[null,null,null,null,null,null,null,null,null,null,null,null,null,null,1014247,"",null,1014247,"2015-02-21","Toronto","Texas",788,"H","3:00 pm EST ","Ricoh Coliseum Toronto, ON"]
[null,null,null,null,null,null,null,null,null,null,null,null,null,null,1014259,"",null,1014259,"2015-02-22","Toronto","Charlotte",800,"H","3:00 pm EST ","Ricoh Coliseum Toronto, ON"]
[null,null,null,null,null,null,null,null,null,null,null,null,null,null,1014266,"",null,1014266,"2015-02-25","Toronto","Charlotte",807,"H","11:00 am EST ","Ricoh Coliseum Toronto, ON"]
[null,null,null,null,null,null,null,null,null,null,null,null,null,null,1014274,"",null,1014274,"2015-02-27","Toronto","Rochester",815,"R","7:05 pm EST ","Blue Cross Arena Rochester, NY"]
[null,null,null,null,null,null,null,null,null,null,null,null,null,null,1014280,"",null,1014280,"2015-02-28","Toronto","Adirondack",821,"R","7:00 pm EST ","Glens Falls Civic Center Glens Falls, NY"]
[null,null,null,null,null,null,null,null,null,null,null,null,null,null,1014319,"",null,1014319,"2015-03-06","Toronto","Adirondack",860,"H","7:00 pm EST ","Ricoh Coliseum Toronto, ON"]
[null,null,null,null,null,null,null,null,null,null,null,null,null,null,1014329,"",null,1014329,"2015-03-07","Toronto","Adirondack",870,"H","3:00 pm EST ","Ricoh Coliseum Toronto, ON"]
[null,null,null,null,null,null,null,null,null,null,null,null,null,null,1014339,"",null,1014339,"2015-03-08","Toronto","Utica",880,"H","3:00 pm EDT ","Ricoh Coliseum Toronto, ON"]
[null,null,null,null,null,null,null,null,null,null,null,null,null,null,1014348,"",null,1014348,"2015-03-11","Toronto","Lehigh Valley",889,"H","7:00 pm EDT ","Ricoh Coliseum Toronto, ON"]
[null,null,null,null,null,null,null,null,null,null,null,null,null,null,1014360,"",null,1014360,"2015-03-14","Toronto","Adirondack",901,"R","7:00 pm EDT ","Glens Falls Civic Center Glens Falls, NY"]
[null,null,null,null,null,null,null,null,null,null,null,null,null,null,1014377,"",null,1014377,"2015-03-15","Toronto","Hamilton",918,"R","2:00 pm EDT *","Bell Centre Montreal, QC"]
[null,null,null,null,null,null,null,null,null,null,null,null,null,null,1014398,"",null,1014398,"2015-03-20","Toronto","Lake Erie",939,"H","7:00 pm EDT ","Ricoh Coliseum Toronto, ON"]
[null,null,null,null,null,null,null,null,null,null,null,null,null,null,1014413,"",null,1014413,"2015-03-21","Toronto","Rochester",954,"H","3:00 pm EDT ","Ricoh Coliseum Toronto, ON"]
[null,null,null,null,null,null,null,null,null,null,null,null,null,null,1014435,"",null,1014435,"2015-03-25","Toronto","Oklahoma City",976,"H","11:00 am EDT ","Ricoh Coliseum Toronto, ON"]
[null,null,null,null,null,null,null,null,null,null,null,null,null,null,1014461,"",null,1014461,"2015-03-28","Toronto","Hamilton",1002,"H","3:00 pm EDT ","Ricoh Coliseum Toronto, ON"]
[null,null,null,null,null,null,null,null,null,null,null,null,null,null,1014468,"",null,1014468,"2015-03-29","Toronto","Rochester",1009,"R","3:05 pm EDT ","Blue Cross Arena Rochester, NY"]
[null,null,null,null,null,null,null,null,null,null,null,null,null,null,1014479,"",null,1014479,"2015-04-01","Toronto","Chicago",1020,"H","7:00 pm EDT ","Ricoh Coliseum Toronto, ON"]
[null,null,null,null,null,null,null,null,null,null,null,null,null,null,null,"N",null,1014489,"2015-04-03","Toronto","Lake Erie",1030,"R","7:30 pm EDT ","Quicken Loans Arena Cleveland, OH"]
[null,null,null,null,null,null,null,null,null,null,null,null,null,null,null,"N",null,1014500,"2015-04-04","Toronto","Grand Rapids",1041,"R","7:00 pm EDT ","Van Andel Arena Grand Rapids, MI"]
[null,null,null,null,null,null,null,null,null,null,null,null,null,null,null,"N",null,1014515,"2015-04-07","Toronto","Adirondack",1056,"H","7:00 pm EDT ","Ricoh Coliseum Toronto, ON"]
[null,null,null,null,null,null,null,null,null,null,null,null,null,null,null,"N",null,1014528,"2015-04-10","Toronto","Rochester",1069,"R","7:05 pm EDT ","Blue Cross Arena Rochester, NY"]
[null,null,null,null,null,null,null,null,null,null,null,null,null,null,null,"N",null,1014546,"2015-04-11","Toronto","Rochester",1087,"H","3:00 pm EDT ","Ricoh Coliseum Toronto, ON"]
[null,null,null,null,null,null,null,null,null,null,null,null,null,null,null,"N",null,1014556,"2015-04-14","Toronto","Iowa",1097,"R","7:00 pm CDT ","Wells Fargo Arena Des Moines, IA"]
[null,null,null,null,null,null,null,null,null,null,null,null,null,null,null,"N",null,1014569,"2015-04-17","Toronto","Milwaukee",1110,"R","7:00 pm CDT ","BMO Harris Bradley Center Milwaukee, WI"]
[null,null,null,null,null,null,null,null,null,null,null,null,null,null,null,"N",null,1014589,"2015-04-18","Toronto","Rockford",1130,"R","7:00 pm CDT ","BMO Harris Bank Center Rockford, IL"]
[null,null,null,null,null,null,null,null,null,null,null,null,null,null,"UTI","N",null,1014596,"2015-04-19","Toronto","Chicago",1137,"R","4:00 pm CDT ","Allstate Arena Rosemont, IL"]
[null,null,null,null,null,null,null,null,null,null,null,null,null,null,1013477,{"$f":"IF(O2055=R2055,\"\",\"N\")","v":""},null,1013477,"2014-10-11","Utica","Toronto",18,"R","3:00 pm EDT ","Ricoh Coliseum Toronto, ON"]
[null,null,null,null,null,null,null,null,null,null,null,null,null,null,1013482,"",null,1013482,"2014-10-12","Utica","Toronto",23,"R","3:00 pm EDT ","Ricoh Coliseum Toronto, ON"]
[null,null,null,null,null,null,null,null,null,null,null,null,null,null,1013496,"",null,1013496,"2014-10-17","Utica","San Antonio",37,"R","7:30 pm CDT ","AT&T Center San Antonio, TX"]
[null,null,null,null,null,null,null,null,null,null,null,null,null,null,null,"N",null,1014328,"2015-03-07","St. John's","Albany",869,"H","7:30 pm NST ","Mile One Centre St. John's, NL"]
[null,null,null,null,null,null,null,null,null,null,null,null,null,null,1013523,"",null,1013523,"2014-10-22","Utica","Adirondack",64,"H","7:35 pm EDT ","Utica Memorial Auditorium Utica, NY"]
[null,null,null,null,null,null,null,null,null,null,null,null,null,null,1013534,"",null,1013534,"2014-10-24","Utica","San Antonio",75,"H","7:00 pm EDT ","Utica Memorial Auditorium Utica, NY"]
[null,null,null,null,null,null,null,null,null,null,null,null,null,null,1013550,"",null,1013550,"2014-10-25","Utica","Toronto",91,"H","7:00 pm EDT ","Utica Memorial Auditorium Utica, NY"]
[null,null,null,null,null,null,null,null,null,null,null,null,null,null,1013560,"",null,1013560,"2014-10-29","Utica","Binghamton",101,"R","7:05 pm EDT ","Floyd L. Maines Veterans Memorial Arena Binghamton, NY"]
[null,null,null,null,null,null,null,null,null,null,null,null,null,null,1013575,"",null,1013575,"2014-10-31","Utica","Binghamton",116,"H","7:00 pm EDT ","Utica Memorial Auditorium Utica, NY"]
[null,null,null,null,null,null,null,null,null,null,null,null,null,null,1013576,"",null,1013576,"1'1 - 1","Utica","Adirondack",117,"R","7:00 pm EDT ","Glens Falls Civic Center Glens Falls, NY"]
[null,null,null,null,null,null,null,null,null,null,null,null,null,null,null,"N",null,1014334,"2015-03-08","Chicago","Lake Erie",875,"R","3:00 pm EDT ","Quicken Loans Arena Cleveland, OH"]
[null,null,null,null,null,null,null,null,null,null,null,null,null,null,1013608,"",null,1013608,"2014-11-07","Utica","Lake Erie",149,"R","7:30 pm EST ","Quicken Loans Arena Cleveland, OH"]
[null,null,null,null,null,null,null,null,null,null,null,null,null,null,1013626,"",null,1013626,"2014-11-08","Utica","Rochester",167,"R","7:05 pm EST ","Blue Cross Arena Rochester, NY"]
[null,null,null,null,null,null,null,null,null,null,null,null,null,null,null,"N",null,1014334,"2015-03-08","Lake Erie","Chicago",875,"H","3:00 pm EDT ","Quicken Loans Arena Cleveland, OH"]
[null,null,null,null,null,null,null,null,null,null,null,null,null,null,1013659,"",null,1013659,"2014-11-14","Utica","Chicago",200,"H","7:00 pm EST ","Utica Memorial Auditorium Utica, NY"]
[null,null,null,null,null,null,null,null,null,null,null,null,null,null,1013689,"",null,1013689,"2014-11-19","Utica","Hamilton",230,"H","7:00 pm EST ","Utica Memorial Auditorium Utica, NY"]
[null,null,null,null,null,null,null,null,null,null,null,null,null,null,1013701,"",null,1013701,"2014-11-21","Utica","Rochester",242,"R","7:05 pm EST ","Blue Cross Arena Rochester, NY"]
[null,null,null,null,null,null,null,null,null,null,null,null,null,null,1013716,"",null,1013716,"2014-11-22","Utica","Syracuse",257,"R","7:00 pm EST *","Carrier Dome Syracuse, NY"]
[null,null,null,null,null,null,null,null,null,null,null,null,null,null,1013736,"",null,1013736,"2014-11-26","Utica","Syracuse",277,"H","7:00 pm EST ","Utica Memorial Auditorium Utica, NY"]
[null,null,null,null,null,null,null,null,null,null,null,null,null,null,1013746,"",null,1013746,"2014-11-28","Utica","Adirondack",287,"H","7:00 pm EST ","Utica Memorial Auditorium Utica, NY"]
[null,null,null,null,null,null,null,null,null,null,null,null,null,null,1013749,"",null,1013749,"2014-11-29","Utica","Albany",290,"R","5:00 pm EST ","Times Union Center Albany, NY"]
[null,null,null,null,null,null,null,null,null,null,null,null,null,null,null,"N",null,1014356,"2015-03-13","San Antonio","Lake Erie",897,"H","7:30 pm CDT ","AT&T Center San Antonio, TX"]
[null,null,null,null,null,null,null,null,null,null,null,null,null,null,1013772,"",null,1013772,"1'2 - 3","Utica","Texas",313,"R","7:30 pm CST ","Cedar Park Center Cedar Park, TX"]
[null,null,null,null,null,null,null,null,null,null,null,null,null,null,1013782,"",null,1013782,"1'2 - 5","Utica","San Antonio",323,"R","7:30 pm CST ","AT&T Center San Antonio, TX"]
[null,null,null,null,null,null,null,null,null,null,null,null,null,null,1013820,"",null,1013820,"2014-12-10","Utica","Rochester",361,"H","7:00 pm EST ","Utica Memorial Auditorium Utica, NY"]
[null,null,null,null,null,null,null,null,null,null,null,null,null,null,1013834,"",null,1013834,"2014-12-12","Utica","Toronto",375,"H","7:00 pm EST ","Utica Memorial Auditorium Utica, NY"]
[null,null,null,null,null,null,null,null,null,null,null,null,null,null,1013845,"",null,1013845,"2014-12-13","Utica","Syracuse",386,"H","7:00 pm EST ","Utica Memorial Auditorium Utica, NY"]
[null,null,null,null,null,null,null,null,null,null,null,null,null,null,1013874,"",null,1013874,"2014-12-19","Utica","Texas",415,"H","7:00 pm EST ","Utica Memorial Auditorium Utica, NY"]
[null,null,null,null,null,null,null,null,null,null,null,null,null,null,1013876,"",null,1013876,"2014-12-20","Utica","Adirondack",417,"R","7:00 pm EST ","Glens Falls Civic Center Glens Falls, NY"]
[null,null,null,null,null,null,null,null,null,null,null,null,null,null,1013906,"",null,1013906,"2014-12-26","Utica","Adirondack",447,"H","7:00 pm EST ","Utica Memorial Auditorium Utica, NY"]
[null,null,null,null,null,null,null,null,null,null,null,null,null,null,1013919,"",null,1013919,"2014-12-27","Utica","Lake Erie",460,"H","7:00 pm EST ","Utica Memorial Auditorium Utica, NY"]
[null,null,null,null,null,null,null,null,null,null,null,null,null,null,1013943,"",null,1013943,"2015-01-01","Utica","San Antonio",484,"H","3:00 pm EST ","Utica Memorial Auditorium Utica, NY"]
[null,null,null,null,null,null,null,null,null,null,null,null,null,null,1013944,"",null,1013944,"2015-01-02","Utica","Adirondack",485,"R","7:00 pm EST ","Glens Falls Civic Center Glens Falls, NY"]
[null,null,null,null,null,null,null,null,null,null,null,null,null,null,1013970,"",null,1013970,"2015-01-03","Utica","Iowa",511,"H","7:00 pm EST ","Utica Memorial Auditorium Utica, NY"]
[null,null,null,null,null,null,null,null,null,null,null,null,null,null,null,"N",null,1014364,"2015-03-14","Chicago","Utica",905,"H","7:00 pm CDT ","Allstate Arena Rosemont, IL"]
[null,null,null,null,null,null,null,null,null,null,null,null,null,null,1014008,"",null,1014008,"2015-01-10","Utica","Adirondack",549,"H","7:00 pm EST ","Utica Memorial Auditorium Utica, NY"]
[null,null,null,null,null,null,null,null,null,null,null,null,null,null,1014024,"",null,1014024,"2015-01-14","Utica","Grand Rapids",565,"H","7:00 pm EST ","Utica Memorial Auditorium Utica, NY"]
[null,null,null,null,null,null,null,null,null,null,null,null,null,null,1014036,"",null,1014036,"2015-01-16","Utica","Milwaukee",577,"H","7:00 pm EST ","Utica Memorial Auditorium Utica, NY"]
[null,null,null,null,null,null,null,null,null,null,null,null,null,null,1014064,"",null,1014064,"2015-01-21","Utica","Milwaukee",605,"R","7:00 pm CST ","BMO Harris Bradley Center Milwaukee, WI"]
[null,null,null,null,null,null,null,null,null,null,null,null,null,null,1014073,"",null,1014073,"2015-01-23","Utica","Grand Rapids",614,"R","7:00 pm EST ","Van Andel Arena Grand Rapids, MI"]
[null,null,null,null,null,null,null,null,null,null,null,null,null,null,null,"N",null,1014367,"2015-03-14","Norfolk","Portland",908,"R","7:00 pm EDT ","Cross Insurance Arena Portland, ME"]
[null,null,null,null,null,null,null,null,null,null,null,null,null,null,1014113,"",null,1014113,"2015-01-30","Utica","Toronto",654,"H","7:00 pm EST ","Utica Memorial Auditorium Utica, NY"]
[null,null,null,null,null,null,null,null,null,null,null,null,null,null,1014125,"",null,1014125,"2015-01-31","Utica","Toronto",666,"R","3:00 pm EST ","Ricoh Coliseum Toronto, ON"]
[null,null,null,null,null,null,null,null,null,null,null,null,null,null,1014139,"",null,1014139,"2015-02-06","Utica","Adirondack",680,"R","7:00 pm EST ","Glens Falls Civic Center Glens Falls, NY"]
[null,null,null,null,null,null,null,null,null,null,null,null,null,null,1014151,"",null,1014151,"2015-02-07","Utica","Adirondack",692,"R","7:00 pm EST ","Glens Falls Civic Center Glens Falls, NY"]
[null,null,null,null,null,null,null,null,null,null,null,null,null,null,1014170,"",null,1014170,"2015-02-08","Utica","Binghamton",711,"H","3:00 pm EST ","Utica Memorial Auditorium Utica, NY"]
[null,null,null,null,null,null,null,null,null,null,null,null,null,null,1014178,"",null,1014178,"2015-02-11","Utica","Rochester",719,"H","7:00 pm EST ","Utica Memorial Auditorium Utica, NY"]
[null,null,null,null,null,null,null,null,null,null,null,null,null,null,1014199,"",null,1014199,"2015-02-14","Utica","Rochester",740,"R","7:05 pm EST ","Blue Cross Arena Rochester, NY"]
[null,null,null,null,null,null,null,null,null,null,null,null,null,null,1014215,"",null,1014215,"2015-02-16","Utica","Hamilton",756,"R","1:00 pm EST ","FirstOntario Centre Hamilton, ON"]
[null,null,null,null,null,null,null,null,null,null,null,null,null,null,1014224,"",null,1014224,"2015-02-18","Utica","Texas",765,"H","7:00 pm EST ","Utica Memorial Auditorium Utica, NY"]
[null,null,null,null,null,null,null,null,null,null,null,null,null,null,1014235,"",null,1014235,"2015-02-20","Utica","Toronto",776,"H","7:00 pm EST ","Utica Memorial Auditorium Utica, NY"]
[null,null,null,null,null,null,null,null,null,null,null,null,null,null,1014248,"",null,1014248,"2015-02-21","Utica","Albany",789,"H","7:00 pm EST ","Utica Memorial Auditorium Utica, NY"]
[null,null,null,null,null,null,null,null,null,null,null,null,null,null,1014263,"",null,1014263,"2015-02-24","Utica","Hamilton",804,"H","7:00 pm EST ","Utica Memorial Auditorium Utica, NY"]
[null,null,null,null,null,null,null,null,null,null,null,null,null,null,null,"N",null,1014369,"2015-03-14","Springfield","Providence",910,"H","7:00 pm EDT ","MassMutual Center Springfield, MA"]
[null,null,null,null,null,null,null,null,null,null,null,null,null,null,1014291,"",null,1014291,"2015-02-28","Utica","Syracuse",832,"R","7:00 pm EST ","Onondaga County War Memorial Arena Syracuse, NY"]
[null,null,null,null,null,null,null,null,null,null,null,null,null,null,1014300,"",null,1014300,"2015-03-01","Utica","Hamilton",841,"H","4:00 pm EST ","Utica Memorial Auditorium Utica, NY"]
[null,null,null,null,null,null,null,null,null,null,null,null,null,null,1014306,"",null,1014306,"2015-03-04","Utica","Rochester",847,"H","7:00 pm EST ","Utica Memorial Auditorium Utica, NY"]
[null,null,null,null,null,null,null,null,null,null,null,null,null,null,1014321,"",null,1014321,"2015-03-07","Utica","Hamilton",862,"R","7:00 pm EST ","FirstOntario Centre Hamilton, ON"]
[null,null,null,null,null,null,null,null,null,null,null,null,null,null,1014339,"",null,1014339,"2015-03-08","Utica","Toronto",880,"R","3:00 pm EDT ","Ricoh Coliseum Toronto, ON"]
[null,null,null,null,null,null,null,null,null,null,null,null,null,null,1014344,"",null,1014344,"2015-03-11","Utica","Chicago",885,"R","7:00 pm CDT ","Allstate Arena Rosemont, IL"]
[null,null,null,null,null,null,null,null,null,null,null,null,null,null,1014364,"",null,1014364,"2015-03-14","Utica","Chicago",905,"R","7:00 pm CDT ","Allstate Arena Rosemont, IL"]
[null,null,null,null,null,null,null,null,null,null,null,null,null,null,1014378,"",null,1014378,"2015-03-15","Utica","Iowa",919,"R","5:00 pm CDT ","Wells Fargo Arena Des Moines, IA"]
[null,null,null,null,null,null,null,null,null,null,null,null,null,null,1014399,"",null,1014399,"2015-03-20","Utica","Rochester",940,"H","7:00 pm EDT ","Utica Memorial Auditorium Utica, NY"]
[null,null,null,null,null,null,null,null,null,null,null,null,null,null,1014412,"",null,1014412,"2015-03-21","Utica","Syracuse",953,"R","7:00 pm EDT ","Onondaga County War Memorial Arena Syracuse, NY"]
[null,null,null,null,null,null,null,null,null,null,null,null,null,null,1014424,{"$f":"IF(O2119=R2119,\"\",\"N\")","v":""},null,1014424,"2015-03-22","Utica","Rochester",965,"R","3:05 pm EDT ","Blue Cross Arena Rochester, NY"]
[null,null,null,null,null,null,null,null,null,null,null,null,null,null,1014449,"",null,1014449,"2015-03-27","Utica","Oklahoma City",990,"H","7:00 pm EDT ","Utica Memorial Auditorium Utica, NY"]
[null,null,null,null,null,null,null,null,null,null,null,null,null,null,1014462,"",null,1014462,"2015-03-28","Utica","Rockford",1003,"H","7:00 pm EDT ","Utica Memorial Auditorium Utica, NY"]
[null,null,null,null,null,null,null,null,null,null,null,null,null,null,1014480,"",null,1014480,"2015-04-01","Utica","Rochester",1021,"H","7:00 pm EDT ","Utica Memorial Auditorium Utica, NY"]
[null,null,null,null,null,null,null,null,null,null,null,null,null,null,null,"N",null,1014501,"2015-04-04","Utica","Hamilton",1042,"R","7:00 pm EDT ","FirstOntario Centre Hamilton, ON"]
[null,null,null,null,null,null,null,null,null,null,null,null,null,null,null,"N",null,1014516,"2015-04-07","Utica","Hamilton",1057,"H","7:00 pm EDT ","Utica Memorial Auditorium Utica, NY"]
[null,null,null,null,null,null,null,null,null,null,null,null,null,null,null,"N",null,1014533,"2015-04-10","Utica","Adirondack",1074,"H","7:00 pm EDT ","Utica Memorial Auditorium Utica, NY"]
[null,null,null,null,null,null,null,null,null,null,null,null,null,null,null,"N",null,1014535,"2015-04-11","Utica","Binghamton",1076,"R","7:05 pm EDT ","Floyd L. Maines Veterans Memorial Arena Binghamton, NY"]
[null,null,null,null,null,null,null,null,null,null,null,null,null,null,null,"N",null,1014554,"2015-04-12","Utica","Syracuse",1095,"H","3:00 pm EDT ","Utica Memorial Auditorium Utica, NY"]
[null,null,null,null,null,null,null,null,null,null,null,null,null,null,null,"N",null,1014561,"2015-04-15","Utica","Binghamton",1102,"R","7:05 pm EDT ","Floyd L. Maines Veterans Memorial Arena Binghamton, NY"]
[null,null,null,null,null,null,null,null,null,null,null,null,null,null,null,"N",null,1014573,"2015-04-17","Utica","Rochester",1114,"R","7:05 pm EDT ","Blue Cross Arena Rochester, NY"]
[null,null,null,null,null,null,null,null,null,null,null,null,null,null,"WBS","N",null,1014579,"2015-04-18","Utica","Adirondack",1120,"R","7:00 pm EDT ","Glens Falls Civic Center Glens Falls, NY"]
[null,null,null,null,null,null,null,null,null,null,null,null,null,null,1013478,"",null,1013478,"2014-10-11","W-B/Scranton","Lehigh Valley",19,"H","7:05 pm EDT ","Mohegan Sun Arena at Casey Plaza Wilkes-Barre, PA"]
[null,null,null,null,null,null,null,null,null,null,null,null,null,null,1013483,"",null,1013483,"2014-10-12","W-B/Scranton","Manchester",24,"H","4:05 pm EDT ","Mohegan Sun Arena at Casey Plaza Wilkes-Barre, PA"]
[null,null,null,null,null,null,null,null,null,null,null,null,null,null,1013497,"",null,1013497,"2014-10-17","W-B/Scranton","St. John's",38,"R","7:30 pm NDT ","Mile One Centre St. John's, NL"]
[null,null,null,null,null,null,null,null,null,null,null,null,null,null,1013509,"",null,1013509,"2014-10-18","W-B/Scranton","St. John's",50,"R","7:30 pm NDT ","Mile One Centre St. John's, NL"]
[null,null,null,null,null,null,null,null,null,null,null,null,null,null,null,"N",null,1014374,"2015-03-15","Albany","Springfield",915,"H","3:00 pm EDT ","Times Union Center Albany, NY"]
[null,null,null,null,null,null,null,null,null,null,null,null,null,null,1013535,"",null,1013535,"2014-10-24","W-B/Scranton","Springfield",76,"H","7:05 pm EDT ","Mohegan Sun Arena at Casey Plaza Wilkes-Barre, PA"]
[null,null,null,null,null,null,null,null,null,null,null,null,null,null,1013541,"",null,1013541,"2014-10-25","W-B/Scranton","Hershey",82,"R","7:00 pm EDT ","Giant Center Hershey, PA"]
[null,null,null,null,null,null,null,null,null,null,null,null,null,null,1013557,"",null,1013557,"2014-10-26","W-B/Scranton","Binghamton",98,"H","4:05 pm EDT ","Mohegan Sun Arena at Casey Plaza Wilkes-Barre, PA"]
[null,null,null,null,null,null,null,null,null,null,null,null,null,null,1013562,"",null,1013562,"2014-10-29","W-B/Scranton","Lehigh Valley",103,"R","7:05 pm EDT ","PPL Center Allentown, PA"]
[null,null,null,null,null,null,null,null,null,null,null,null,null,null,1013571,"",null,1013571,"2014-10-31","W-B/Scranton","Norfolk",112,"R","7:30 pm EDT ","Norfolk Scope Norfolk, VA"]
[null,null,null,null,null,null,null,null,null,null,null,null,null,null,1013583,"",null,1013583,"1'1 - 1","W-B/Scranton","Norfolk",124,"R","7:15 pm EDT ","Norfolk Scope Norfolk, VA"]
[null,null,null,null,null,null,null,null,null,null,null,null,null,null,1013616,"",null,1013616,"2014-11-07","W-B/Scranton","Hershey",157,"H","7:05 pm EST ","Mohegan Sun Arena at Casey Plaza Wilkes-Barre, PA"]
[null,null,null,null,null,null,null,null,null,null,null,null,null,null,1013617,"",null,1013617,"2014-11-08","W-B/Scranton","Binghamton",158,"R","7:05 pm EST ","Floyd L. Maines Veterans Memorial Arena Binghamton, NY"]
[null,null,null,null,null,null,null,null,null,null,null,null,null,null,1013636,"",null,1013636,"2014-11-09","W-B/Scranton","Syracuse",177,"H","4:05 pm EST ","Mohegan Sun Arena at Casey Plaza Wilkes-Barre, PA"]
[null,null,null,null,null,null,null,null,null,null,null,null,null,null,1013660,"",null,1013660,"2014-11-14","W-B/Scranton","Lehigh Valley",201,"H","7:05 pm EST ","Mohegan Sun Arena at Casey Plaza Wilkes-Barre, PA"]
[null,null,null,null,null,null,null,null,null,null,null,null,null,null,1013673,"",null,1013673,"2014-11-15","W-B/Scranton","Syracuse",214,"H","7:05 pm EST ","Mohegan Sun Arena at Casey Plaza Wilkes-Barre, PA"]
[null,null,null,null,null,null,null,null,null,null,null,null,null,null,1013678,"",null,1013678,"2014-11-16","W-B/Scranton","Hershey",219,"R","5:00 pm EST ","Giant Center Hershey, PA"]
[null,null,null,null,null,null,null,null,null,null,null,null,null,null,1013690,"",null,1013690,"2014-11-19","W-B/Scranton","Portland",231,"H","7:05 pm EST ","Mohegan Sun Arena at Casey Plaza Wilkes-Barre, PA"]
[null,null,null,null,null,null,null,null,null,null,null,null,null,null,1013692,"",null,1013692,"2014-11-21","W-B/Scranton","Albany",233,"R","7:00 pm EST ","Times Union Center Albany, NY"]
[null,null,null,null,null,null,null,null,null,null,null,null,null,null,1013717,"",null,1013717,"2014-11-22","W-B/Scranton","Manchester",258,"H","7:05 pm EST ","Mohegan Sun Arena at Casey Plaza Wilkes-Barre, PA"]
[null,null,null,null,null,null,null,null,null,null,null,null,null,null,1013728,"",null,1013728,"2014-11-26","W-B/Scranton","Hershey",269,"R","7:00 pm EST ","Giant Center Hershey, PA"]
[null,null,null,null,null,null,null,null,null,null,null,null,null,null,null,"N",null,1014374,"2015-03-15","Springfield","Albany",915,"R","3:00 pm EDT ","Times Union Center Albany, NY"]
[null,null,null,null,null,null,null,null,null,null,null,null,null,null,1013786,"",null,1013786,"1'2 - 5","W-B/Scranton","Lehigh Valley",327,"H","7:05 pm EST ","Mohegan Sun Arena at Casey Plaza Wilkes-Barre, PA"]
[null,null,null,null,null,null,null,null,null,null,null,null,null,null,1013798,"",null,1013798,"2014-12-06","W-B/Scranton","Hershey",339,"H","7:05 pm EST ","Mohegan Sun Arena at Casey Plaza Wilkes-Barre, PA"]
[null,null,null,null,null,null,null,null,null,null,null,null,null,null,1013803,"",null,1013803,"2014-12-07","W-B/Scranton","Hershey",344,"R","5:00 pm EST ","Giant Center Hershey, PA"]
[null,null,null,null,null,null,null,null,null,null,null,null,null,null,1013835,"",null,1013835,"2014-12-12","W-B/Scranton","Bridgeport",376,"H","7:05 pm EST ","Mohegan Sun Arena at Casey Plaza Wilkes-Barre, PA"]
[null,null,null,null,null,null,null,null,null,null,null,null,null,null,1013838,"",null,1013838,"2014-12-13","W-B/Scranton","Lehigh Valley",379,"R","7:05 pm EST ","PPL Center Allentown, PA"]
[null,null,null,null,null,null,null,null,null,null,null,null,null,null,1013852,"",null,1013852,"2014-12-14","W-B/Scranton","Hershey",393,"H","4:05 pm EST ","Mohegan Sun Arena at Casey Plaza Wilkes-Barre, PA"]
[null,null,null,null,null,null,null,null,null,null,null,null,null,null,1013875,"",null,1013875,"2014-12-19","W-B/Scranton","Albany",416,"H","7:05 pm EST ","Mohegan Sun Arena at Casey Plaza Wilkes-Barre, PA"]
[null,null,null,null,null,null,null,null,null,null,null,null,null,null,1013877,"",null,1013877,"2014-12-20","W-B/Scranton","Binghamton",418,"R","7:05 pm EST ","Floyd L. Maines Veterans Memorial Arena Binghamton, NY"]
[null,null,null,null,null,null,null,null,null,null,null,null,null,null,null,"N",null,1014375,"2015-03-15","Bridgeport","Syracuse",916,"H","3:00 pm EDT ","Webster Bank Arena Bridgeport, CT"]
[null,null,null,null,null,null,null,null,null,null,null,null,null,null,null,"N",null,1014377,"2015-03-15","Hamilton","Toronto",918,"H","2:00 pm EDT *","Bell Centre Montreal, QC"]
[null,null,null,null,null,null,null,null,null,null,null,null,null,null,1013927,"",null,1013927,"2014-12-28","W-B/Scranton","Norfolk",468,"H","4:05 pm EST ","Mohegan Sun Arena at Casey Plaza Wilkes-Barre, PA"]
[null,null,null,null,null,null,null,null,null,null,null,null,null,null,1013942,"",null,1013942,"2014-12-31","W-B/Scranton","Hershey",483,"H","3:05 pm EST ","Mohegan Sun Arena at Casey Plaza Wilkes-Barre, PA"]
[null,null,null,null,null,null,null,null,null,null,null,null,null,null,1013955,"",null,1013955,"2015-01-02","W-B/Scranton","Binghamton",496,"H","7:05 pm EST ","Mohegan Sun Arena at Casey Plaza Wilkes-Barre, PA"]
[null,null,null,null,null,null,null,null,null,null,null,null,null,null,1013963,"",null,1013963,"2015-01-03","W-B/Scranton","Hershey",504,"R","7:00 pm EST ","Giant Center Hershey, PA"]
[null,null,null,null,null,null,null,null,null,null,null,null,null,null,1013978,"",null,1013978,"2015-01-06","W-B/Scranton","Norfolk",519,"H","7:05 pm EST ","Mohegan Sun Arena at Casey Plaza Wilkes-Barre, PA"]
[null,null,null,null,null,null,null,null,null,null,null,null,null,null,null,"N",null,1014386,"2015-03-18","Albany","Norfolk",927,"H","7:00 pm EDT ","Times Union Center Albany, NY"]
[null,null,null,null,null,null,null,null,null,null,null,null,null,null,1014006,"",null,1014006,"2015-01-10","W-B/Scranton","Syracuse",547,"R","7:00 pm EST ","Onondaga County War Memorial Arena Syracuse, NY"]
[null,null,null,null,null,null,null,null,null,null,null,null,null,null,null,"N",null,1014386,"2015-03-18","Norfolk","Albany",927,"R","7:00 pm EDT ","Times Union Center Albany, NY"]
[null,null,null,null,null,null,null,null,null,null,null,null,null,null,1014056,"",null,1014056,"2015-01-18","W-B/Scranton","Providence",597,"R","3:05 pm EST ","Dunkin' Donuts Center Providence, RI"]
[null,null,null,null,null,null,null,null,null,null,null,null,null,null,1014067,"",null,1014067,"2015-01-21","W-B/Scranton","St. John's",608,"H","7:05 pm EST ","Mohegan Sun Arena at Casey Plaza Wilkes-Barre, PA"]
[null,null,null,null,null,null,null,null,null,null,null,null,null,null,1014077,"",null,1014077,"2015-01-23","W-B/Scranton","Norfolk",618,"R","7:30 pm EST ","Norfolk Scope Norfolk, VA"]
[null,null,null,null,null,null,null,null,null,null,null,null,null,null,1014091,"",null,1014091,"2015-01-24","W-B/Scranton","Norfolk",632,"R","7:15 pm EST ","Norfolk Scope Norfolk, VA"]
[null,null,null,null,null,null,null,null,null,null,null,null,null,null,1014111,"",null,1014111,"2015-01-30","W-B/Scranton","Springfield",652,"R","7:00 pm EST ","MassMutual Center Springfield, MA"]
[null,null,null,null,null,null,null,null,null,null,null,null,null,null,1014126,"",null,1014126,"2015-01-31","W-B/Scranton","Lehigh Valley",667,"H","7:05 pm EST ","Mohegan Sun Arena at Casey Plaza Wilkes-Barre, PA"]
[null,null,null,null,null,null,null,null,null,null,null,null,null,null,1014132,"",null,1014132,"2015-02-03","W-B/Scranton","Springfield",673,"H","7:05 pm EST ","Mohegan Sun Arena at Casey Plaza Wilkes-Barre, PA"]
[null,null,null,null,null,null,null,null,null,null,null,null,null,null,1014156,"",null,1014156,"2015-02-07","W-B/Scranton","Hershey",697,"R","7:00 pm EST ","Giant Center Hershey, PA"]
[null,null,null,null,null,null,null,null,null,null,null,null,null,null,1014165,"",null,1014165,"2015-02-08","W-B/Scranton","Bridgeport",706,"R","3:00 pm EST ","Webster Bank Arena Bridgeport, CT"]
[null,null,null,null,null,null,null,null,null,null,null,null,null,null,1014179,"",null,1014179,"2015-02-11","W-B/Scranton","Binghamton",720,"H","7:05 pm EST ","Mohegan Sun Arena at Casey Plaza Wilkes-Barre, PA"]
[null,null,null,null,null,null,null,null,null,null,null,null,null,null,1014192,"",null,1014192,"2015-02-13","W-B/Scranton","Portland",733,"H","7:05 pm EST ","Mohegan Sun Arena at Casey Plaza Wilkes-Barre, PA"]
[null,null,null,null,null,null,null,null,null,null,null,null,null,null,1014203,"",null,1014203,"2015-02-14","W-B/Scranton","Lehigh Valley",744,"H","7:05 pm EST ","Mohegan Sun Arena at Casey Plaza Wilkes-Barre, PA"]
[null,null,null,null,null,null,null,null,null,null,null,null,null,null,1014249,{"$f":"IF(O2183=R2183,\"\",\"N\")","v":""},null,1014249,"2015-02-21","W-B/Scranton","Providence",790,"H","7:05 pm EST ","Mohegan Sun Arena at Casey Plaza Wilkes-Barre, PA"]
[null,null,null,null,null,null,null,null,null,null,null,null,null,null,1014253,"",null,1014253,"2015-02-22","W-B/Scranton","Hartford",794,"R","3:00 pm EST ","XL Center Hartford, CT"]
[null,null,null,null,null,null,null,null,null,null,null,null,null,null,1014283,"",null,1014283,"2015-02-28","W-B/Scranton","Hartford",824,"R","7:00 pm EST ","XL Center Hartford, CT"]
[null,null,null,null,null,null,null,null,null,null,null,null,null,null,1014295,"",null,1014295,"2015-03-01","W-B/Scranton","Bridgeport",836,"R","3:00 pm EST ","Webster Bank Arena Bridgeport, CT"]
[null,null,null,null,null,null,null,null,null,null,null,null,null,null,1014311,"",null,1014311,"2015-03-06","W-B/Scranton","Manchester",852,"R","7:00 pm EST ","Verizon Wireless Arena Manchester, NH"]
[null,null,null,null,null,null,null,null,null,null,null,null,null,null,1014324,"",null,1014324,"2015-03-07","W-B/Scranton","Manchester",865,"R","3:00 pm EST ","Verizon Wireless Arena Manchester, NH"]
[null,null,null,null,null,null,null,null,null,null,null,null,null,null,1014338,"",null,1014338,"2015-03-08","W-B/Scranton","Springfield",879,"R","3:00 pm EDT ","MassMutual Center Springfield, MA"]
[null,null,null,null,null,null,null,null,null,null,null,null,null,null,1014349,"",null,1014349,"2015-03-11","W-B/Scranton","Hershey",890,"H","7:05 pm EDT ","Mohegan Sun Arena at Casey Plaza Wilkes-Barre, PA"]
[null,null,null,null,null,null,null,null,null,null,null,null,null,null,1014372,"",null,1014372,"2015-03-14","W-B/Scranton","Hershey",913,"H","7:05 pm EDT ","Mohegan Sun Arena at Casey Plaza Wilkes-Barre, PA"]
[null,null,null,null,null,null,null,null,null,null,null,null,null,null,1014382,"",null,1014382,"2015-03-15","W-B/Scranton","Hartford",923,"H","4:05 pm EDT ","Mohegan Sun Arena at Casey Plaza Wilkes-Barre, PA"]
[null,null,null,null,null,null,null,null,null,null,null,null,null,null,1014397,"",null,1014397,"2015-03-20","W-B/Scranton","Syracuse",938,"R","7:00 pm EDT ","Onondaga County War Memorial Arena Syracuse, NY"]
[null,null,null,null,null,null,null,null,null,null,null,null,null,null,1014414,"",null,1014414,"2015-03-21","W-B/Scranton","Binghamton",955,"H","7:05 pm EDT ","Mohegan Sun Arena at Casey Plaza Wilkes-Barre, PA"]
[null,null,null,null,null,null,null,null,null,null,null,null,null,null,1014420,"",null,1014420,"2015-03-22","W-B/Scranton","Lehigh Valley",961,"R","5:05 pm EDT ","PPL Center Allentown, PA"]
[null,null,null,null,null,null,null,null,null,null,null,null,null,null,1014437,"",null,1014437,"2015-03-27","W-B/Scranton","Binghamton",978,"R","7:05 pm EDT ","Floyd L. Maines Veterans Memorial Arena Binghamton, NY"]
[null,null,null,null,null,null,null,null,null,null,null,null,null,null,1014455,"",null,1014455,"2015-03-28","W-B/Scranton","Lehigh Valley",996,"R","7:05 pm EDT ","PPL Center Allentown, PA"]
[null,null,null,null,null,null,null,null,null,null,null,null,null,null,1014481,"",null,1014481,"2015-04-01","W-B/Scranton","Hartford",1022,"H","7:05 pm EDT ","Mohegan Sun Arena at Casey Plaza Wilkes-Barre, PA"]
[null,null,null,null,null,null,null,null,null,null,null,null,null,null,null,"N",null,1014496,"2015-04-03","W-B/Scranton","Worcester",1037,"H","7:05 pm EDT ","Mohegan Sun Arena at Casey Plaza Wilkes-Barre, PA"]
[null,null,null,null,null,null,null,null,null,null,null,null,null,null,null,"N",null,1014508,"2015-04-04","W-B/Scranton","Lehigh Valley",1049,"H","7:05 pm EDT ","Mohegan Sun Arena at Casey Plaza Wilkes-Barre, PA"]
[null,null,null,null,null,null,null,null,null,null,null,null,null,null,null,"N",null,1014518,"2015-04-08","W-B/Scranton","Lehigh Valley",1059,"R","7:05 pm EDT ","PPL Center Allentown, PA"]
[null,null,null,null,null,null,null,null,null,null,null,null,null,null,null,"N",null,1014541,"2015-04-11","W-B/Scranton","Portland",1082,"R","7:00 pm EDT ","Cross Insurance Arena Portland, ME"]
[null,null,null,null,null,null,null,null,null,null,null,null,null,null,null,"N",null,1014552,"2015-04-12","W-B/Scranton","Portland",1093,"R","3:00 pm EDT ","Cross Insurance Arena Portland, ME"]
[null,null,null,null,null,null,null,null,null,null,null,null,null,null,null,"N",null,1014578,"2015-04-17","W-B/Scranton","Albany",1119,"H","7:05 pm EDT ","Mohegan Sun Arena at Casey Plaza Wilkes-Barre, PA"]
[null,null,null,null,null,null,null,null,null,null,null,null,null,null,null,"N",null,1014593,"2015-04-18","W-B/Scranton","Norfolk",1134,"H","7:05 pm EDT ","Mohegan Sun Arena at Casey Plaza Wilkes-Barre, PA"]
[null,null,null,null,null,null,null,null,null,null,null,null,null,null,null,"N",null,1014597,"2015-04-19","W-B/Scranton","Lehigh Valley",1138,"R","5:05 pm EDT ","PPL Center Allentown, PA"]
[null,null,null,null,null,null,null,null,null,null,null,null,null,null,1013466,"",null,1013466,"2014-10-11","Worcester","Binghamton",7,"R","7:05 pm EDT ","Floyd L. Maines Veterans Memorial Arena Binghamton, NY"]
[null,null,null,null,null,null,null,null,null,null,null,null,null,null,1013495,"",null,1013495,"2014-10-17","Worcester","Providence",36,"R","7:05 pm EDT ","Dunkin' Donuts Center Providence, RI"]
[null,null,null,null,null,null,null,null,null,null,null,null,null,null,1013513,"",null,1013513,"2014-10-18","Worcester","Providence",54,"H","7:00 pm EDT ","DCU Center Worcester, MA"]
[null,null,null,null,null,null,null,null,null,null,null,null,null,null,1013520,"",null,1013520,"2014-10-21","Worcester","Hartford",61,"H","7:00 pm EDT ","DCU Center Worcester, MA"]
[null,null,null,null,null,null,null,null,null,null,null,null,null,null,1013536,"",null,1013536,"2014-10-24","Worcester","Syracuse",77,"H","7:30 pm EDT ","DCU Center Worcester, MA"]
[null,null,null,null,null,null,null,null,null,null,null,null,null,null,1013558,"",null,1013558,"2014-10-26","Worcester","Portland",99,"H","3:00 pm EDT ","DCU Center Worcester, MA"]
[null,null,null,null,null,null,null,null,null,null,null,null,null,null,1013566,"",null,1013566,"2014-10-29","Worcester","Portland",107,"H","7:00 pm EDT ","DCU Center Worcester, MA"]
[null,null,null,null,null,null,null,null,null,null,null,null,null,null,1013588,"",null,1013588,"1'1 - 1","Worcester","Hershey",129,"H","7:00 pm EDT ","DCU Center Worcester, MA"]
[null,null,null,null,null,null,null,null,null,null,null,null,null,null,1013592,"",null,1013592,"1'1 - 2","Worcester","Hartford",133,"R","3:00 pm EST ","XL Center Hartford, CT"]
[null,null,null,null,null,null,null,null,null,null,null,null,null,null,1013605,"",null,1013605,"1'1 - 5","Worcester","Lehigh Valley",146,"H","7:00 pm EST ","DCU Center Worcester, MA"]
[null,null,null,null,null,null,null,null,null,null,null,null,null,null,1013629,"",null,1013629,"2014-11-08","Worcester","Providence",170,"H","7:00 pm EST ","DCU Center Worcester, MA"]
[null,null,null,null,null,null,null,null,null,null,null,null,null,null,1013641,"",null,1013641,"2014-11-11","Worcester","Springfield",182,"R","3:00 pm EST ","MassMutual Center Springfield, MA"]
[null,null,null,null,null,null,null,null,null,null,null,null,null,null,1013661,"",null,1013661,"2014-11-14","Worcester","Manchester",202,"H","7:30 pm EST ","DCU Center Worcester, MA"]
[null,null,null,null,null,null,null,null,null,null,null,null,null,null,null,"N",null,1014389,"2015-03-19","Chicago","Texas",930,"H","7:00 pm CDT ","Allstate Arena Rosemont, IL"]
[null,null,null,null,null,null,null,null,null,null,null,null,null,null,1013687,"",null,1013687,"2014-11-19","Worcester","Manchester",228,"R","10:00 am EST ","Verizon Wireless Arena Manchester, NH"]
[null,null,null,null,null,null,null,null,null,null,null,null,null,null,null,"N",null,1014409,"2015-03-21","Adirondack","Rockford",950,"R","7:00 pm CDT ","BMO Harris Bank Center Rockford, IL"]
[null,null,null,null,null,null,null,null,null,null,null,null,null,null,null,"N",null,1014420,"2015-03-22","Lehigh Valley","W-B/Scranton",961,"H","5:05 pm EDT ","PPL Center Allentown, PA"]
[null,null,null,null,null,null,null,null,null,null,null,null,null,null,null,"N",null,1014433,"2015-03-25","St. John's","Portland",974,"R","7:00 pm EDT ","Cross Insurance Arena Portland, ME"]
[null,null,null,null,null,null,null,null,null,null,null,null,null,null,1013747,"",null,1013747,"2014-11-28","Worcester","Springfield",288,"H","7:30 pm EST ","DCU Center Worcester, MA"]
[null,null,null,null,null,null,null,null,null,null,null,null,null,null,1013761,"",null,1013761,"2014-11-29","Worcester","Providence",302,"H","7:00 pm EST ","DCU Center Worcester, MA"]
[null,null,null,null,null,null,null,null,null,null,null,null,null,null,null,"N",null,1014436,"2015-03-27","Adirondack","Rockford",977,"H","7:00 pm EDT ","Glens Falls Civic Center Glens Falls, NY"]
[null,null,null,null,null,null,null,null,null,null,null,null,null,null,1013795,"",null,1013795,"2014-12-06","Worcester","St. John's",336,"R","7:30 pm NST ","Mile One Centre St. John's, NL"]
[null,null,null,null,null,null,null,null,null,null,null,null,null,null,1013825,"",null,1013825,"2014-12-12","Worcester","Hartford",366,"R","7:00 pm EST ","XL Center Hartford, CT"]
[null,null,null,null,null,null,null,null,null,null,null,null,null,null,1013846,"",null,1013846,"2014-12-13","Worcester","Manchester",387,"H","7:00 pm EST ","DCU Center Worcester, MA"]
[null,null,null,null,null,null,null,null,null,null,null,null,null,null,null,"N",null,1014439,"2015-03-27","Providence","Hartford",980,"R","7:00 pm EDT ","XL Center Hartford, CT"]
[null,null,null,null,null,null,null,null,null,null,null,null,null,null,1013870,"",null,1013870,"2014-12-19","Worcester","Manchester",411,"R","7:00 pm EST ","Verizon Wireless Arena Manchester, NH"]
[null,null,null,null,null,null,null,null,null,null,null,null,null,null,1013885,"",null,1013885,"2014-12-20","Worcester","Portland",426,"R","7:00 pm EST ","Cross Insurance Arena Portland, ME"]
[null,null,null,null,null,null,null,null,null,null,null,null,null,null,null,"N",null,1014441,"2015-03-27","Iowa","San Antonio",982,"H","7:00 pm CDT ","Wells Fargo Arena Des Moines, IA"]
[null,null,null,null,null,null,null,null,null,null,null,null,null,null,1013907,"",null,1013907,"2014-12-26","Worcester","Manchester",448,"H","5:00 pm EST ","DCU Center Worcester, MA"]
[null,null,null,null,null,null,null,null,null,null,null,null,null,null,1013917,"",null,1013917,"2014-12-27","Worcester","Syracuse",458,"R","7:00 pm EST ","Onondaga County War Memorial Arena Syracuse, NY"]
[null,null,null,null,null,null,null,null,null,null,null,null,null,null,1013934,"",null,1013934,"2014-12-30","Worcester","Bridgeport",475,"H","7:00 pm EST ","DCU Center Worcester, MA"]
[null,null,null,null,null,null,null,null,null,null,null,null,null,null,1013956,"",null,1013956,"2015-01-02","Worcester","Manchester",497,"H","7:30 pm EST ","DCU Center Worcester, MA"]
[null,null,null,null,null,null,null,null,null,null,null,null,null,null,1013968,"",null,1013968,"2015-01-03","Worcester","Springfield",509,"R","7:00 pm EST ","MassMutual Center Springfield, MA"]
[null,null,null,null,null,null,null,null,null,null,null,null,null,null,1013973,"",null,1013973,"2015-01-04","Worcester","Providence",514,"R","3:05 pm EST ","Dunkin' Donuts Center Providence, RI"]
[null,null,null,null,null,null,null,null,null,null,null,null,null,null,1013995,"",null,1013995,"2015-01-09","Worcester","Binghamton",536,"H","7:30 pm EST ","DCU Center Worcester, MA"]
[null,null,null,null,null,null,null,null,null,null,null,null,null,null,1014009,"",null,1014009,"2015-01-10","Worcester","Providence",550,"H","7:00 pm EST ","DCU Center Worcester, MA"]
[null,null,null,null,null,null,null,null,null,null,null,null,null,null,1014019,"",null,1014019,"2015-01-13","Worcester","Manchester",560,"H","7:00 pm EST ","DCU Center Worcester, MA"]
[null,null,null,null,null,null,null,null,null,null,null,null,null,null,1014037,"",null,1014037,"2015-01-16","Worcester","Manchester",578,"H","7:30 pm EST ","DCU Center Worcester, MA"]
[null,null,null,null,null,null,null,null,null,null,null,null,null,null,1014050,"",null,1014050,"2015-01-17","Worcester","W-B/Scranton",591,"H","7:00 pm EST ","DCU Center Worcester, MA"]
[null,null,null,null,null,null,null,null,null,null,null,null,null,null,1014054,"",null,1014054,"2015-01-18","Worcester","Manchester",595,"R","3:00 pm EST ","Verizon Wireless Arena Manchester, NH"]
[null,null,null,null,null,null,null,null,null,null,null,null,null,null,1014066,{"$f":"IF(O2247=R2247,\"\",\"N\")","v":""},null,1014066,"2015-01-21","Worcester","Portland",607,"R","7:00 pm EST ","Cross Insurance Arena Portland, ME"]
[null,null,null,null,null,null,null,null,null,null,null,null,null,null,1014083,"",null,1014083,"2015-01-23","Worcester","Albany",624,"H","7:30 pm EST ","DCU Center Worcester, MA"]
[null,null,null,null,null,null,null,null,null,null,null,null,null,null,1014085,"",null,1014085,"2015-01-24","Worcester","Albany",626,"R","2:00 pm EST ","Times Union Center Albany, NY"]
[null,null,null,null,null,null,null,null,null,null,null,null,null,null,1014108,"",null,1014108,"2015-01-30","Worcester","Providence",649,"R","7:05 pm EST ","Dunkin' Donuts Center Providence, RI"]
[null,null,null,null,null,null,null,null,null,null,null,null,null,null,1014127,"",null,1014127,"2015-01-31","Worcester","Providence",668,"H","7:00 pm EST ","DCU Center Worcester, MA"]
[null,null,null,null,null,null,null,null,null,null,null,null,null,null,1014134,"",null,1014134,"2015-02-04","Worcester","Lehigh Valley",675,"R","7:05 pm EST ","PPL Center Allentown, PA"]
[null,null,null,null,null,null,null,null,null,null,null,null,null,null,null,"N",null,1014441,"2015-03-27","San Antonio","Iowa",982,"R","7:00 pm CDT ","Wells Fargo Arena Des Moines, IA"]
[null,null,null,null,null,null,null,null,null,null,null,null,null,null,1014159,"",null,1014159,"2015-02-07","Worcester","Norfolk",700,"R","7:15 pm EST ","Norfolk Scope Norfolk, VA"]
[null,null,null,null,null,null,null,null,null,null,null,null,null,null,1014202,"",null,1014202,"2015-02-14","Worcester","St. John's",743,"R","7:30 pm NST ","Mile One Centre St. John's, NL"]
[null,null,null,null,null,null,null,null,null,null,null,null,null,null,1014213,"",null,1014213,"2015-02-15","Worcester","St. John's",754,"R","4:00 pm NST ","Mile One Centre St. John's, NL"]
[null,null,null,null,null,null,null,null,null,null,null,null,null,null,1014236,"",null,1014236,"2015-02-20","Worcester","Norfolk",777,"H","7:30 pm EST ","DCU Center Worcester, MA"]
[null,null,null,null,null,null,null,null,null,null,null,null,null,null,1014250,"",null,1014250,"2015-02-21","Worcester","Norfolk",791,"H","7:00 pm EST ","DCU Center Worcester, MA"]
[null,null,null,null,null,null,null,null,null,null,null,null,null,null,1014255,"",null,1014255,"2015-02-22","Worcester","Manchester",796,"R","3:00 pm EST ","Verizon Wireless Arena Manchester, NH"]
[null,null,null,null,null,null,null,null,null,null,null,null,null,null,1014279,"",null,1014279,"2015-02-27","Worcester","St. John's",820,"H","7:30 pm EST ","DCU Center Worcester, MA"]
[null,null,null,null,null,null,null,null,null,null,null,null,null,null,null,"N",null,1014448,"2015-03-27","Texas","Grand Rapids",989,"H","7:30 pm CDT ","Cedar Park Center Cedar Park, TX"]
[null,null,null,null,null,null,null,null,null,null,null,null,null,null,null,"N",null,1014459,"2015-03-28","Syracuse","Rochester",1000,"H","7:00 pm EDT ","Onondaga County War Memorial Arena Syracuse, NY"]
[null,null,null,null,null,null,null,null,null,null,null,null,null,null,1014320,"",null,1014320,"2015-03-06","Worcester","Hartford",861,"H","7:30 pm EST ","DCU Center Worcester, MA"]
[null,null,null,null,null,null,null,null,null,null,null,null,null,null,1014330,"",null,1014330,"2015-03-07","Worcester","Bridgeport",871,"H","7:00 pm EST ","DCU Center Worcester, MA"]
[null,null,null,null,null,null,null,null,null,null,null,null,null,null,1014337,"",null,1014337,"2015-03-08","Worcester","Providence",878,"R","3:05 pm EDT ","Dunkin' Donuts Center Providence, RI"]
[null,null,null,null,null,null,null,null,null,null,null,null,null,null,1014343,"",null,1014343,"2015-03-11","Worcester","Bridgeport",884,"R","7:00 pm EDT ","Webster Bank Arena Bridgeport, CT"]
[null,null,null,null,null,null,null,null,null,null,null,null,null,null,1014351,"",null,1014351,"2015-03-13","Worcester","Albany",892,"R","7:00 pm EDT ","Times Union Center Albany, NY"]
[null,null,null,null,null,null,null,null,null,null,null,null,null,null,1014388,"",null,1014388,"2015-03-18","Worcester","Hershey",929,"H","7:00 pm EDT ","DCU Center Worcester, MA"]
[null,null,null,null,null,null,null,null,null,null,null,null,null,null,1014400,"",null,1014400,"2015-03-20","Worcester","St. John's",941,"H","7:30 pm EDT ","DCU Center Worcester, MA"]
[null,null,null,null,null,null,null,null,null,null,null,null,null,null,1014415,"",null,1014415,"2015-03-21","Worcester","Lehigh Valley",956,"H","7:00 pm EDT ","DCU Center Worcester, MA"]
[null,null,null,null,null,null,null,null,null,null,null,null,null,null,1014446,"",null,1014446,"2015-03-27","Worcester","Springfield",987,"R","7:00 pm EDT ","MassMutual Center Springfield, MA"]
[null,null,null,null,null,null,null,null,null,null,null,null,null,null,1014463,"",null,1014463,"2015-03-28","Worcester","St. John's",1004,"H","7:00 pm EDT ","DCU Center Worcester, MA"]
[null,null,null,null,null,null,null,null,null,null,null,null,null,null,1014469,"",null,1014469,"2015-03-29","Worcester","Springfield",1010,"H","3:00 pm EDT ","DCU Center Worcester, MA"]
[null,null,null,null,null,null,null,null,null,null,null,null,null,null,1014474,"",null,1014474,"2015-04-01","Worcester","Hershey",1015,"R","7:00 pm EDT ","Giant Center Hershey, PA"]
[null,null,null,null,null,null,null,null,null,null,null,null,null,null,null,null,null,1014496,"2015-04-03","Worcester","W-B/Scranton",1037,"R","7:05 pm EDT ","Mohegan Sun Arena at Casey Plaza Wilkes-Barre, PA"]
[null,null,null,null,null,null,null,null,null,null,null,null,null,null,null,null,null,1014513,"2015-04-07","Worcester","Portland",1054,"R","7:00 pm EDT ","Cross Insurance Arena Portland, ME"]
[null,null,null,null,null,null,null,null,null,null,null,null,null,null,null,null,null,1014527,"2015-04-10","Worcester","Providence",1068,"R","7:05 pm EDT ","Dunkin' Donuts Center Providence, RI"]
[null,null,null,null,null,null,null,null,null,null,null,null,null,null,null,null,null,1014547,"2015-04-11","Worcester","Providence",1088,"H","7:00 pm EDT ","DCU Center Worcester, MA"]
[null,null,null,null,null,null,null,null,null,null,null,null,null,null,null,null,null,1014555,"2015-04-12","Worcester","Albany",1096,"H","3:00 pm EDT ","DCU Center Worcester, MA"]
[null,null,null,null,null,null,null,null,null,null,null,null,null,null,null,null,null,1014572,"2015-04-17","Worcester","Providence",1113,"R","7:05 pm EDT ","Dunkin' Donuts Center Providence, RI"]
[null,null,null,null,null,null,null,null,null,null,null,null,null,null,null,null,null,1014586,"2015-04-18","Worcester","Manchester",1127,"R","7:00 pm EDT ","Verizon Wireless Arena Manchester, NH"]
[null,null,null,null,null,null,null,null,null,null,null,null,null,null,null,null,null,1014599,"2015-04-19","Worcester","Portland",1140,"H","3:00 pm EDT ","DCU Center Worcester, MA"]

{"sheet":"Rosters","index":1,"n_rows":1079,"n_cols":28,"rows_kept":1079,"cut":false,"hidden":false,"merged":[]}
["Team","#","Player","Pos","GP","G","A","PTS","+/-","PIM","PP","PPA","SH","SHA","GW","FG","IG","OT","UA","EN","SOG","SOA","SOGW","SO%","Pt/G","PIM/G","Shots","Sh%"]
["Adirondack Flames",2,"Brett Kulak","D",20,3,4,7,0,25,2,4,0,0,0,0,0,0,0,0,0,0,0,0,0.35,1.25,31,9.6999999999999993]
["Adirondack Flames",3,"Ryan Culkin","D",37,1,17,18,7,18,1,10,0,0,0,0,0,0,1,0,0,0,0,0,0.49,0.49,63,1.6]
["Adirondack Flames",4,"Sena Acolatse","D",35,6,12,18,0,64,4,2,0,0,0,1,0,0,0,0,0,0,0,0,0.51,1.83,62,9.6999999999999993]
["Adirondack Flames",5,"Tyler Wotherspoon","D",61,2,22,24,-1,20,1,5,0,1,1,0,0,0,0,0,0,0,0,0,0.39,0.33,107,1.9]
["Adirondack Flames",6,"Dustin Stevenson","D",37,2,7,9,7,81,1,2,0,0,0,0,1,0,1,1,0,0,0,0,0.24,2.19,56,3.6]
["Adirondack Flames",7,"John Ramage","D",51,3,11,14,-6,77,1,5,0,0,1,0,1,0,0,0,0,0,0,0,0.27,1.51,82,3.7]
["Adirondack Flames",8,"Kenney Morrison","D",3,1,3,4,3,0,0,1,0,0,0,0,0,0,1,0,0,0,0,0,1.33,0,7,14.3]
["Adirondack Flames",9,"Garnet Hathaway","RW",67,17,14,31,-7,65,5,3,2,1,0,4,2,0,0,1,0,0,0,0,0.46,0.97,112,15.2]
["Adirondack Flames",10,"Devin Setoguchi","RW",19,3,7,10,-7,4,0,1,0,0,0,1,0,0,1,0,0,1,0,0,0.53,0.21,38,7.9]
["Adirondack Flames",11,"Corban Knight","C",22,8,4,12,-1,12,1,1,1,0,2,1,2,0,3,0,1,1,0,100,0.55000000000000004,0.55000000000000004,51,15.7]
["Adirondack Flames",12,"Nathan Moon","C",6,0,1,1,-2,0,0,0,0,0,0,0,0,0,0,0,0,0,0,0,0.17,0,5,0]
["Adirondack Flames",13,"Turner Elson","C",53,14,11,25,6,48,2,2,1,0,3,1,1,0,3,1,0,0,0,0,0.47,0.91,130,10.8]
["Adirondack Flames",14,"Mark Cundari","D",49,7,22,29,-6,64,3,12,0,1,1,0,1,0,0,0,0,0,0,0,0.59,1.31,64,10.9]
["Adirondack Flames",15,"Ken Agostino","LW",59,11,23,34,0,38,1,4,2,1,1,1,0,0,1,1,0,0,0,0,0.57999999999999996,0.64,113,9.6999999999999993]
["Adirondack Flames",16,"Mathieu Tousignant","C",63,4,12,16,-7,125,1,2,1,0,2,1,0,0,0,0,1,3,0,33.299999999999997,0.25,1.98,82,4.9000000000000004]
["Adirondack Flames",17,"Josh Jooris","RW",2,0,0,0,0,0,0,0,0,0,0,0,0,0,0,0,0,0,0,0,0,0,6,0]
["Adirondack Flames",19,"Michael Ferland","LW",32,7,8,15,2,30,1,2,0,0,0,3,1,0,1,0,0,0,0,0,0.47,0.94,80,8.8000000000000007]
["Adirondack Flames",20,"Brant Harris","RW",8,1,1,2,-2,0,0,0,0,0,0,0,0,0,0,0,0,0,0,0,0.25,0,11,9.1]
["Adirondack Flames",21,"Emile Poirier","RW",49,16,18,34,8,48,4,5,0,0,3,2,1,0,1,0,1,2,1,50,0.69,0.98,98,16.3]
["Adirondack Flames",22,"Brian McGrattan","RW",16,1,5,6,7,25,0,1,0,0,0,0,0,0,0,0,0,0,0,0,0.38,1.56,26,3.8]
["Adirondack Flames",23,"Drew Shore","C",47,12,25,37,0,24,4,11,0,1,2,3,1,1,0,1,1,2,0,50,0.79,0.51,106,11.3]
["Adirondack Flames",23,"Brett Cameron","RW",1,0,0,0,0,0,0,0,0,0,0,0,0,0,0,0,0,0,0,0,0,0,2,0]
["Adirondack Flames",24,"Trevor Gillies","LW",20,1,0,1,-5,45,0,0,0,0,0,1,0,0,0,0,0,0,0,0,0.05,2.25,4,25]
["Adirondack Flames",25,"Max Reinhart","C",61,13,19,32,-4,24,2,5,1,3,4,4,1,1,1,0,0,1,0,0,0.52,0.39,156,8.3000000000000007]
["Adirondack Flames",26,"Markus Granlund","C",21,9,8,17,-2,14,3,5,1,0,2,2,3,0,1,0,0,0,0,0,0.81,0.67,66,13.6]
["Adirondack Flames",27,"Sven Baertschi","LW",36,8,17,25,0,6,1,7,0,0,1,1,0,0,0,0,0,1,0,0,0.69,0.17,75,10.7]
["Adirondack Flames",28,"Ben Hanowski","RW",55,16,9,25,3,21,5,1,0,0,1,3,1,0,1,2,0,3,0,0,0.45,0.38,128,12.5]
["Adirondack Flames",32,"Patrick Sieloff","D",40,1,1,2,-9,69,0,0,0,0,0,1,0,0,0,0,0,0,0,0,0.05,1.73,35,2.9]
["Adirondack Flames",34,"Taylor Vause","C",33,4,7,11,-6,4,0,2,0,0,3,1,0,1,0,0,0,1,0,0,0.33,0.12,55,7.3]
["Adirondack Flames",36,"Brodie Reid","RW",11,3,2,5,-2,2,2,1,0,0,1,0,1,0,0,1,0,0,0,0,0.45,0.18,24,12.5]
["Adirondack Flames",36,"Cam Reid","C",6,1,0,1,-2,16,0,0,0,0,0,0,0,0,0,0,0,0,0,0,0.17,2.67,8,12.5]
["Adirondack Flames",38,"Nolan Yonkman","D",57,1,9,10,-5,48,0,0,0,0,0,0,1,0,0,0,0,0,0,0,0.18,0.84,53,1.9]
["Adirondack Flames",44,"Corey Potter","D",25,0,10,10,10,18,0,3,0,0,0,0,0,0,0,0,0,0,0,0,0.4,0.72,44,0]
["Adirondack Flames",45,"David Wolf","LW",53,19,17,36,10,135,4,4,0,0,1,2,0,0,0,1,0,1,0,0,0.68,2.5499999999999998,104,18.3]
["Adirondack Flames",46,"Bill Arnold","C",53,12,17,29,-2,26,4,1,0,0,3,5,0,1,0,0,0,0,0,0,0.55000000000000004,0.49,73,16.399999999999999]
["Adirondack Flames",48,"Bryce Van Brabant","LW",52,8,7,15,-8,54,1,1,0,0,1,1,1,0,0,0,0,0,0,0,0.28999999999999998,1.04,86,9.3000000000000007]
["Adirondack Flames",49,"Tyler Spurgeon","C",1,0,0,0,0,0,0,0,0,0,0,0,0,0,0,0,0,0,0,0,0,0,2,0]
["Albany Devils",2,"Seth Helgeson","D",42,1,8,9,-1,56,1,2,0,0,0,0,0,0,0,0,0,0,0,0,0.21,1.33,45,2.2000000000000002]
["Albany Devils",5,"Peter Harrold","D",13,1,1,2,3,10,1,0,0,0,0,0,0,0,0,0,0,0,0,0,0.15,0.77,21,4.8]
["Albany Devils",5,"Adam Larsson","D",1,0,2,2,1,0,0,2,0,0,0,0,0,0,0,0,0,0,0,0,2,0,1,0]
["Albany Devils",6,"Mark Fraser","D",18,1,2,3,-1,45,0,0,0,0,0,0,0,0,0,0,0,0,0,0,0.17,2.5,19,5.3]
["Albany Devils",7,"Brandon Burlon","D",64,6,24,30,0,91,1,14,0,0,2,2,0,0,0,1,0,1,0,0,0.47,1.42,75,8]
["Albany Devils",8,"Dan Kelly","D",56,1,10,11,-1,130,0,0,0,0,1,0,0,1,0,0,0,0,0,0,0.2,2.3199999999999998,44,2.2999999999999998]
["Albany Devils",9,"Joe Whitney","LW",60,20,29,49,-4,62,7,16,0,0,5,7,1,2,0,0,0,2,0,0,0.82,1.03,153,13.1]
["Albany Devils",10,"Rod Pelley","C",62,7,5,12,-10,61,0,0,1,0,0,0,0,0,0,1,0,1,0,0,0.19,0.98,86,8.1]
["Albany Devils",11,"Kelly Zajac","C",24,3,10,13,-4,18,3,5,0,1,0,0,0,0,0,0,0,0,0,0,0.54,0.75,29,10.3]
["Albany Devils",12,"Tim Sestito","C",52,9,13,22,-12,73,2,3,0,0,1,1,1,1,2,2,0,0,0,0,0.42,1.4,107,8.4]
["Albany Devils",14,"Reid Boucher","LW",58,13,15,28,-8,32,7,8,0,0,0,2,2,0,1,0,1,4,1,25,0.48,0.55000000000000004,157,8.3000000000000007]
["Albany Devils",15,"Paul Thompson","RW",65,29,20,49,8,61,10,8,1,1,4,7,4,0,1,1,2,7,0,28.6,0.75,0.94,210,13.8]
["Albany Devils",16,"Chris McKelvie","LW",50,3,4,7,-16,57,0,0,0,0,0,0,1,0,0,0,0,0,0,0,0.14000000000000001,1.1399999999999999,58,5.2]
["Albany Devils",17,"Scott Timmins","C",36,9,15,24,3,8,3,5,0,1,3,1,1,0,0,0,0,0,0,0,0.67,0.22,77,11.7]
["Albany Devils",18,"Stefan Matteau","LW",57,9,14,23,4,35,4,6,0,0,2,1,1,0,0,0,0,2,0,0,0.4,0.61,97,9.3000000000000007]
["Albany Devils",19,"Mike Sislo","RW",57,17,17,34,-1,47,7,11,1,0,3,4,1,1,0,1,1,6,0,16.7,0.6,0.82,130,13.1]
["Albany Devils",20,"Ben Johnson","LW",26,1,1,2,-4,8,0,0,1,0,0,0,0,0,0,0,0,1,0,0,0.08,0.31,22,4.5]
["Albany Devils",21,"Graham Black","C",44,7,7,14,10,16,4,3,0,0,2,1,1,0,0,0,0,2,0,0,0.32,0.36,81,8.6]
["Albany Devils",22,"Cam Janssen","RW",26,1,1,2,1,59,0,0,0,0,0,0,0,0,0,0,0,0,0,0,0.08,2.27,11,9.1]
["Albany Devils",23,"Darcy Zajac","RW",64,7,12,19,-7,83,1,1,1,2,2,0,0,0,1,0,0,0,0,0,0.3,1.3,97,7.2]
["Albany Devils",24,"Reece Scarlett","D",49,2,19,21,0,21,0,11,0,0,1,0,0,0,1,0,0,1,0,0,0.43,0.43,80,2.5]
["Albany Devils",25,"David Wohlberg","LW",44,5,6,11,6,14,0,1,1,0,0,2,0,0,1,0,0,1,0,0,0.25,0.32,40,12.5]
["Albany Devils",26,"Ben Thomson","LW",60,7,8,15,-2,95,0,1,0,0,1,2,1,0,1,0,0,1,0,0,0.25,1.58,68,10.3]
["Albany Devils",28,"Steve Bernier","RW",9,1,4,5,-1,17,0,2,0,0,0,1,0,0,0,0,0,0,0,0,0.56000000000000005,1.89,16,6.3]
["Albany Devils",28,"Matt Lorito","F",5,2,1,3,-2,0,2,0,0,0,1,1,0,0,1,0,0,0,0,0,0.6,0,10,20]
["Albany Devils",29,"Raman Hrabarenka","D",40,8,16,24,-3,26,4,7,0,0,2,0,1,0,1,0,0,0,0,0,0.6,0.65,69,11.6]
["Albany Devils",32,"Joe Faust","D",25,0,3,3,-4,18,0,0,0,0,0,0,0,0,0,0,0,0,0,0,0.12,0.72,24,0]
["Albany Devils",33,"Corbin McPherson","D",68,1,7,8,-7,66,0,0,0,0,0,0,0,0,1,0,0,0,0,0,0.12,0.97,80,1.3]
["Albany Devils",34,"Myles Bell","RW",2,0,0,0,0,0,0,0,0,0,0,0,0,0,0,0,0,0,0,0,0,0,2,0]
["Albany Devils",36,"Eric Baier","D",12,1,2,3,-3,4,0,1,0,0,0,0,1,0,0,0,0,0,0,0,0.25,0.33,19,5.3]
["Albany Devils",37,"Mike Keenan","D",22,0,3,3,-1,15,0,0,0,0,0,0,0,0,0,0,0,0,0,0,0.14000000000000001,0.68,27,0]
["Albany Devils",39,"Alexandre Carrier","RW",13,0,0,0,-2,10,0,0,0,0,0,0,0,0,0,0,0,0,0,0,0,0.77,11,0]
["Binghamton Senators",2,"Troy Rutkowski","D",8,0,0,0,-2,10,0,0,0,0,0,0,0,0,0,0,0,0,0,0,0,1.25,7,0]
["Binghamton Senators",3,"Fredrik Claesson","D",68,3,15,18,-8,42,0,1,0,1,1,0,0,0,0,0,0,0,0,0,0.26,0.62,74,4.0999999999999996]
["Binghamton Senators",4,"Michael Sdao","D",30,2,2,4,-4,89,0,1,0,0,0,2,0,0,1,0,0,0,0,0,0.13,2.97,21,9.5]
["Binghamton Senators",5,"Nick Tuzzolino","D",10,0,1,1,2,23,0,0,0,0,0,0,0,0,0,0,0,0,0,0,0.1,2.2999999999999998,8,0]
["Binghamton Senators",5,"Marc Methot","D",1,0,0,0,-2,0,0,0,0,0,0,0,0,0,0,0,0,0,0,0,0,0,1,0]
["Binghamton Senators",6,"Chris Wideman","D",67,17,35,52,8,98,7,11,0,2,3,0,0,3,1,0,0,0,0,0,0.78,1.46,208,8.1999999999999993]
["Binghamton Senators",7,"Guillaume Lepine","D",32,1,2,3,-4,79,0,0,0,0,0,1,0,0,0,0,0,0,0,0,0.09,2.4700000000000002,24,4.2]
["Binghamton Senators",8,"Daniel New","D",33,2,7,9,-7,19,0,1,0,0,0,1,0,0,1,0,0,0,0,0,0.27,0.57999999999999996,36,5.6]
["Binghamton Senators",9,"Matt Puempel","LW",51,12,20,32,-13,31,5,11,0,0,0,0,2,0,0,1,0,1,0,0,0.63,0.61,146,8.1999999999999993]
["Binghamton Senators",10,"Buddy Robinson","RW",67,11,18,29,11,60,0,0,3,2,0,3,0,0,1,1,0,0,0,0,0.43,0.9,153,7.2]
["Binghamton Senators",11,"Carter Camper","C",67,14,34,48,2,16,2,13,0,0,1,2,1,1,1,1,0,0,0,0,0.72,0.24,108,13]
["Binghamton Senators",12,"Danny Hobbs","LW",19,2,1,3,-10,4,0,0,0,0,0,0,1,0,0,1,0,0,0,0,0.16,0.21,21,9.5]
["Binghamton Senators",14,"Patrick Mullen","D",54,5,24,29,-3,32,3,7,0,2,0,1,0,0,0,0,0,0,0,0,0.54,0.59,67,7.5]
["Binghamton Senators",15,"Cole Schneider","RW",61,23,25,48,2,14,7,10,1,0,4,6,1,0,1,0,0,1,0,0,0.79,0.23,143,16.100000000000001]
["Binghamton Senators",16,"Garrett Thompson","C",58,6,7,13,-13,29,0,0,0,0,0,1,1,0,0,0,0,0,0,0,0.22,0.5,68,8.8000000000000007]
["Binghamton Senators",17,"Max McCormick","LW",54,10,10,20,1,129,0,0,1,0,1,1,3,0,1,0,0,0,0,0,0.37,2.39,99,10.1]
["Binghamton Senators",18,"Shane Prince","LW",64,24,31,55,8,29,8,9,0,0,5,5,2,0,1,1,0,1,0,0,0.86,0.45,168,14.3]
["Binghamton Senators",19,"Brad Mills","C",31,3,10,13,0,75,0,3,0,2,0,0,0,0,0,0,0,0,0,0,0.42,2.42,66,4.5]
["Binghamton Senators",20,"Alex Grant","D",50,5,24,29,-13,51,4,9,0,0,0,0,1,0,0,0,0,0,0,0,0.57999999999999996,1.02,93,5.4]
["Binghamton Senators",21,"Matt Tassone","C",6,1,1,2,-2,11,0,0,0,0,0,1,0,0,0,0,0,0,0,0,0.33,1.83,7,14.3]
["Binghamton Senators",21,"Shawn Szydlowski","RW",3,0,0,0,0,2,0,0,0,0,0,0,0,0,0,0,0,0,0,0,0,0.67,2,0]
["Binghamton Senators",22,"David Dziurzynski","LW",39,4,10,14,1,79,0,0,0,1,0,1,0,0,0,1,0,0,0,0,0.36,2.0299999999999998,49,8.1999999999999993]
["Binghamton Senators",23,"Zack Smith","F",2,1,1,2,1,2,0,0,0,0,0,0,0,0,0,0,0,0,0,0,1,1,5,20]
["Binghamton Senators",24,"Colin Greening","LW",12,5,2,7,-2,13,0,0,1,0,0,1,1,0,0,1,0,0,0,0,0.57999999999999996,1.08,25,20]
["Binghamton Senators",24,"David Marshall","RW",4,1,0,1,0,2,0,0,0,0,0,0,0,0,0,0,0,0,0,0,0.25,0.5,1,100]
["Binghamton Senators",27,"Alex Guptill","LW",53,7,7,14,-2,57,0,0,0,0,3,1,0,0,0,0,0,0,0,0,0.26,1.08,72,9.6999999999999993]
["Binghamton Senators",37,"Darren Kramer","LW",64,4,12,16,-4,230,0,0,0,0,1,1,0,0,0,0,0,0,0,0,0.25,3.59,72,5.6]
["Binghamton Senators",41,"Jakub Culek","C",2,0,0,0,-1,2,0,0,0,0,0,0,0,0,0,0,0,0,0,0,0,1,4,0]
["Binghamton Senators",43,"Ryan Dzingel","C",58,15,13,28,-8,50,2,2,0,0,3,0,1,2,2,0,0,1,0,0,0.48,0.86,93,16.100000000000001]
["Binghamton Senators",44,"Jean-Gabriel Pageau","C",27,11,10,21,9,27,1,5,3,1,2,0,0,0,1,2,0,1,0,0,0.78,1,103,10.7]
["Binghamton Senators",57,"Derek Grant","C",65,18,15,33,-10,43,8,2,1,2,2,3,2,0,0,0,0,1,0,0,0.51,0.66,157,11.5]
["Binghamton Senators",72,"Aaron Johnson","D",65,5,23,28,1,70,1,8,0,0,3,0,0,2,0,0,0,0,0,0,0.43,1.08,99,5.0999999999999996]
["Binghamton Senators",84,"Todd Bertuzzi","RW",2,0,0,0,-3,0,0,0,0,0,0,0,0,0,0,0,0,0,0,0,0,0,2,0]
["Bridgeport Sound Tigers",2,"Jesse Graham","D",39,3,16,19,-5,20,1,6,0,0,0,1,0,0,0,0,1,1,0,100,0.49,0.51,63,4.8]
["Bridgeport Sound Tigers",3,"Andrey Pedan","D",6,0,3,3,3,51,0,1,0,0,0,0,0,0,0,0,0,0,0,0,0.5,8.5,5,0]
["Bridgeport Sound Tigers",3,"Matt Carkner","D",12,1,1,2,3,20,0,0,0,0,0,1,0,0,0,0,0,0,0,0,0.17,1.67,18,5.6]
["Bridgeport Sound Tigers",4,"Adam Pelech","D",57,0,10,10,3,30,0,1,0,0,0,0,0,0,0,0,0,0,0,0,0.18,0.53,58,0]
["Bridgeport Sound Tigers",5,"Matt Lashoff","D",11,1,3,4,-4,22,0,1,0,0,0,0,0,0,0,0,0,0,0,0,0.36,2,8,12.5]
["Bridgeport Sound Tigers",5,"Mark Nemec","D",2,0,1,1,0,0,0,0,0,0,0,0,0,0,0,0,0,0,0,0,0.5,0,1,0]
["Bridgeport Sound Tigers",6,"Ryan Pulock","D",46,15,8,23,-7,6,12,3,0,0,3,0,2,0,2,0,0,0,0,0,0.5,0.13,110,13.6]
["Bridgeport Sound Tigers",7,"Scooter Vaughan","RW",63,9,6,15,-7,90,3,1,0,1,0,4,0,0,2,0,0,0,0,0,0.24,1.43,105,8.6]
["Bridgeport Sound Tigers",8,"Griffin Reinhart","D",54,6,15,21,-13,58,1,8,0,0,0,0,1,0,2,0,0,0,0,0,0.39,1.07,70,8.6]
["Bridgeport Sound Tigers",9,"Anders Lee","LW",5,3,2,5,0,2,2,0,0,0,1,0,0,1,0,0,0,0,0,0,1,0.4,18,16.7]
["Bridgeport Sound Tigers",10,"Scott Mayfield","D",61,0,12,12,-6,151,0,0,0,2,0,0,0,0,0,0,0,0,0,0,0.2,2.48,76,0]
["Bridgeport Sound Tigers",11,"Chris Langkow","C",61,7,6,13,-10,24,0,0,2,0,2,1,0,1,1,0,0,0,0,0,0.21,0.39,43,16.3]
["Bridgeport Sound Tigers",12,"C.J. Stretch","C",45,7,20,27,-1,34,4,8,0,0,0,3,0,0,0,0,2,3,1,66.7,0.6,0.76,75,9.3000000000000007]
["Bridgeport Sound Tigers",13,"Colin McDonald","RW",40,14,21,35,-7,28,4,8,1,0,0,2,2,0,1,1,1,2,0,50,0.88,0.7,106,13.2]
["Bridgeport Sound Tigers",14,"Justin Courtnall","LW",40,4,3,7,0,82,0,0,1,0,0,1,1,0,1,0,0,0,0,0,0.18,2.0499999999999998,41,9.8000000000000007]
["Bridgeport Sound Tigers",16,"Harry Zolnierczyk","LW",60,18,26,44,-3,78,7,10,1,3,2,3,0,0,0,1,1,1,0,100,0.73,1.3,144,12.5]
["Bridgeport Sound Tigers",17,"Colton Gillies","RW",62,4,7,11,4,72,0,0,0,0,1,1,0,0,0,0,0,0,0,0,0.18,1.1599999999999999,75,5.3]
["Bridgeport Sound Tigers",19,"Cam Reid","C",2,1,0,1,1,14,0,0,0,0,0,0,0,0,0,0,0,0,0,0,0.5,7,4,25]
["Bridgeport Sound Tigers",19,"Jason Bast","C",2,0,0,0,1,0,0,0,0,0,0,0,0,0,0,0,0,0,0,0,0,0,2,0]
["Bridgeport Sound Tigers",19,"Jack MacLellan","C",3,0,0,0,-2,2,0,0,0,0,0,0,0,0,0,0,0,0,0,0,0,0.67,2,0]
["Bridgeport Sound Tigers",20,"Dustin Jeffrey","C",61,22,34,56,17,22,6,11,0,2,3,3,1,0,0,1,0,1,0,0,0.92,0.36,123,17.899999999999999]
["Bridgeport Sound Tigers",21,"Kael Mouillierat","C",61,20,24,44,-15,100,5,12,1,2,3,4,1,2,1,0,3,4,2,75,0.72,1.64,144,13.9]
["Bridgeport Sound Tigers",22,"Alan Quine","C",67,20,32,52,-10,34,6,17,0,0,4,2,2,0,0,0,1,3,0,33.299999999999997,0.78,0.51,124,16.100000000000001]
["Bridgeport Sound Tigers",23,"John Persson","LW",53,11,10,21,-9,28,3,3,0,0,0,2,1,0,0,1,2,3,0,66.7,0.4,0.53,102,10.8]
["Bridgeport Sound Tigers",24,"Kevin Czuczman","D",49,1,6,7,4,54,0,2,0,0,0,0,1,0,0,0,0,0,0,0,0.14000000000000001,1.1000000000000001,75,1.3]
["Bridgeport Sound Tigers",26,"Mike Halmo","RW",32,10,7,17,-3,78,3,2,0,0,3,2,2,0,2,2,0,1,0,0,0.53,2.44,78,12.8]
["Bridgeport Sound Tigers",27,"Aaron Ness","D",66,8,29,37,-13,54,2,12,1,1,1,1,0,0,0,0,0,0,0,0,0.56000000000000005,0.82,125,6.4]
["Bridgeport Sound Tigers",28,"Johan Sundstrom","C",64,6,7,13,-1,70,0,0,0,0,0,2,0,0,0,0,0,0,0,0,0.2,1.0900000000000001,128,4.7]
["Bridgeport Sound Tigers",33,"Mark Louis","D",38,0,3,3,5,93,0,0,0,0,0,0,0,0,0,0,0,0,0,0,0.08,2.4500000000000002,24,0]
["Bridgeport Sound Tigers",41,"Dyson Stevenson","RW",6,0,0,0,-1,7,0,0,0,0,0,0,0,0,0,0,0,0,0,0,0,1.17,3,0]
["Bridgeport Sound Tigers",44,"Brett Gallant","LW",40,2,3,5,-2,196,1,0,0,0,0,1,0,0,0,0,0,0,0,0,0.13,4.9000000000000004,28,7.1]
["Bridgeport Sound Tigers",45,"Carson McMillan","C",29,3,3,6,-2,12,0,0,0,0,0,1,0,0,0,0,0,0,0,0,0.21,0.41,30,10]
["Bridgeport Sound Tigers",49,"Sebastian Collberg","RW",36,4,13,17,-3,13,0,3,0,0,2,0,1,0,0,0,0,1,0,0,0.47,0.36,48,8.3000000000000007]
["Bridgeport Sound Tigers",59,"Peter Sivak","RW",6,1,0,1,1,2,1,0,0,0,0,0,0,0,0,1,0,0,0,0,0.17,0.33,9,11.1]
["Bridgeport Sound Tigers",63,"Lukas Sutter","C",13,0,1,1,-2,23,0,0,0,0,0,0,0,0,0,0,0,0,0,0,0.08,1.77,9,0]
["Bridgeport Sound Tigers",76,"Mario Lamoureux","C",2,1,0,1,-1,0,0,0,0,0,0,0,0,0,0,0,0,0,0,0,0.5,0,3,33.299999999999997]
["Bridgeport Sound Tigers",89,"Cory Conacher","LW",28,5,18,23,-8,30,3,9,0,0,0,1,0,0,0,0,0,0,0,0,0.82,1.07,61,8.1999999999999993]
["Charlotte Checkers",2,"Rasmus Rissanen","D",52,1,10,11,-7,69,0,0,0,0,0,0,0,0,0,0,0,0,0,0,0.21,1.33,50,2]
["Charlotte Checkers",3,"Mike Little","D",4,0,0,0,0,2,0,0,0,0,0,0,0,0,0,0,0,0,0,0,0,0.5,2,0]
["Charlotte Checkers",3,"Jordan Henry","D",5,0,0,0,0,4,0,0,0,0,0,0,0,0,0,0,0,0,0,0,0,0.8,14,0]
["Charlotte Checkers",4,"Keegan Lowe","D",54,2,9,11,-13,106,0,2,0,0,1,0,0,0,0,0,0,0,0,0,0.2,1.96,64,3.1]
["Charlotte Checkers",5,"Trevor Carrick","D",70,7,21,28,-20,89,1,11,1,0,0,2,0,0,1,1,0,1,0,0,0.4,1.27,129,5.4]
["Charlotte Checkers",6,"Ryan Murphy","D",25,0,17,17,-7,10,0,7,0,0,0,0,0,0,0,0,0,0,0,0,0.68,0.4,47,0]
["Charlotte Checkers",7,"Brock McGinn","LW",67,13,11,24,-19,38,3,4,0,0,0,4,1,0,2,0,2,3,1,66.7,0.36,0.56999999999999995,145,9]
["Charlotte Checkers",8,"Mike Cornell","D",43,3,8,11,-9,139,2,1,0,0,1,1,0,1,0,0,0,0,0,0,0.26,3.23,58,5.2]
["Charlotte Checkers",8,"Andrew Rowe","LW",28,1,4,5,-8,8,0,1,0,0,0,1,0,0,0,0,0,1,0,0,0.18,0.28999999999999998,48,2.1]
["Charlotte Checkers",9,"Danny Biega","D",64,2,12,14,-22,77,1,1,0,1,1,0,0,0,0,0,1,2,1,50,0.22,1.2,102,2]
["Charlotte Checkers",10,"Ben Holmstrom","C",59,5,14,19,-14,90,1,3,1,0,1,1,2,1,2,2,0,0,0,0,0.32,1.53,92,5.4]
["Charlotte Checkers",11,"Zach Boychuk","LW",36,12,11,23,-11,14,6,3,0,0,1,1,1,0,2,2,0,1,0,0,0.64,0.39,82,14.6]
["Charlotte Checkers",12,"Brody Sutter","C",42,11,12,23,-13,15,3,5,0,0,2,2,1,0,0,1,1,3,0,33.299999999999997,0.55000000000000004,0.36,73,15.1]
["Charlotte Checkers",14,"Justin Shugg","RW",59,19,19,38,-18,26,6,7,0,0,3,5,2,1,0,0,2,5,2,40,0.64,0.44,159,12]
["Charlotte Checkers",15,"A.J. Jenks","C",27,2,4,6,-7,12,0,0,0,0,0,0,0,0,0,0,0,1,0,0,0.22,0.44,40,5]
["Charlotte Checkers",15,"Andrej Nestrasil","F",3,0,0,0,0,17,0,0,0,0,0,0,0,0,0,0,0,0,0,0,0,5.67,9,0]
["Charlotte Checkers",16,"Jason Bast","C",6,0,1,1,0,0,0,1,0,0,0,0,0,0,0,0,0,0,0,0,0.17,0,5,0]
["Charlotte Checkers",16,"Mike Aviani","C",2,0,0,0,0,2,0,0,0,0,0,0,0,0,0,0,0,0,0,0,0,1,1,0]
["Charlotte Checkers",16,"Sean Dolan","C",12,0,0,0,-1,4,0,0,0,0,0,0,0,0,0,0,0,0,0,0,0,0.33,11,0]
["Charlotte Checkers",17,"Alex Aleardi","RW",42,11,9,20,-3,18,2,3,0,0,1,3,2,0,1,0,1,3,1,33.299999999999997,0.48,0.43,73,15.1]
["Charlotte Checkers",18,"Kyle Hagel","LW",67,1,2,3,-15,154,0,0,0,0,0,0,0,0,0,0,0,0,0,0,0.04,2.2999999999999998,59,1.7]
["Charlotte Checkers",19,"Greg Nemisz","RW",21,8,6,14,1,6,1,2,2,0,2,1,1,0,0,0,0,0,0,0,0.67,0.28999999999999998,32,25]
["Charlotte Checkers",20,"Dennis Robertson","D",51,3,13,16,0,64,0,2,0,0,1,0,0,0,0,0,0,0,0,0,0.31,1.25,69,4.3]
["Charlotte Checkers",21,"Brendan Woods","LW",62,13,14,27,-8,99,2,2,2,0,2,2,1,0,0,0,0,1,0,0,0.44,1.6,111,11.7]
["Charlotte Checkers",22,"Jared Staal","RW",62,7,4,11,-23,27,0,0,0,0,1,2,0,0,2,0,0,0,0,0,0.18,0.44,93,7.5]
["Charlotte Checkers",24,"Patrick Brown","C",54,1,7,8,-11,34,0,0,0,1,1,0,0,0,0,0,0,0,0,0,0.15,0.63,64,1.6]
["Charlotte Checkers",25,"Chris Terry","LW",5,1,1,2,-2,4,0,0,0,1,0,1,0,0,0,0,0,1,0,0,0.4,0.8,9,11.1]
["Charlotte Checkers",26,"Carter Sandlak","LW",39,2,2,4,-8,65,0,0,0,0,1,0,0,0,0,0,0,0,0,0,0.1,1.67,25,8]
["Charlotte Checkers",27,"Gabriel Desjardins","LW",12,0,1,1,-6,4,0,0,0,0,0,0,0,0,0,0,0,0,0,0,0.08,0.33,18,0]
["Charlotte Checkers",28,"Phil Di Giuseppe","LW",70,10,15,25,-8,18,2,4,0,0,1,4,0,0,0,0,0,3,0,0,0.36,0.26,158,6.3]
["Charlotte Checkers",29,"Michal Jordan","D",30,2,9,11,-12,4,1,4,0,1,1,0,0,0,0,0,0,0,0,0,0.37,0.13,44,4.5]
["Charlotte Checkers",32,"Austin Levi","D",15,0,1,1,-6,6,0,0,0,0,0,0,0,0,0,0,0,0,0,0,7.0000000000000007E-2,0.4,17,0]
["Charlotte Checkers",33,"Kyle Jean","C",8,0,2,2,0,4,0,0,0,0,0,0,0,0,0,0,0,0,0,0,0.25,0.5,8,0]
["Charlotte Checkers",33,"Brett Pesce","D",1,0,0,0,1,2,0,0,0,0,0,0,0,0,0,0,0,0,0,0,0,2,2,0]
["Charlotte Checkers",36,"Beau Schmitz","D",33,0,6,6,-11,24,0,1,0,0,0,0,0,0,0,0,0,0,0,0,0.18,0.73,23,0]
["Charlotte Checkers",59,"Chad LaRose","RW",58,17,17,34,-6,40,6,2,1,3,3,2,1,0,0,1,0,1,0,0,0.59,0.69,154,11]
["Chicago Wolves",2,"Matthew Register","D",6,0,4,4,-1,2,0,3,0,0,0,0,0,0,0,0,0,0,0,0,0.67,0.33,2,0]
["Chicago Wolves",3,"Joel Edmundson","D",23,2,6,8,2,29,0,0,0,0,1,0,0,0,0,0,0,0,0,0,0.35,1.26,41,4.9000000000000004]
["Chicago Wolves",4,"Petteri Lindbohm","D",46,6,12,18,4,56,2,8,0,1,0,1,0,0,0,0,0,0,0,0,0.39,1.22,106,5.7]
["Chicago Wolves",5,"Mathieu Brodeur","D",65,4,10,14,6,33,0,1,0,0,0,1,0,0,0,0,0,0,0,0,0.22,0.51,91,4.4000000000000004]
["Chicago Wolves",6,"Jani Hakanpaa","D",56,1,5,6,-3,41,0,0,0,0,1,0,0,0,0,0,0,0,0,0,0.11,0.73,51,2]
["Chicago Wolves",7,"David Shields","D",40,0,6,6,-7,10,0,0,0,0,0,0,0,0,0,0,0,0,0,0,0.15,0.25,30,0]
["Chicago Wolves",8,"Ty Rattie","RW",59,21,21,42,7,12,5,8,0,0,5,3,4,1,2,1,0,1,0,0,0.71,0.2,195,10.8]
["Chicago Wolves",9,"Shane Harper","RW",68,30,17,47,-1,14,10,7,0,0,9,5,3,1,0,0,0,1,0,0,0.69,0.21,128,23.4]
["Chicago Wolves",10,"Philip McRae","C",61,15,17,32,-5,21,5,7,0,0,2,2,3,0,2,0,0,1,0,0,0.52,0.34,135,11.1]
["Chicago Wolves",12,"Pat Cannone","C",57,13,32,45,11,16,2,14,0,0,2,0,3,2,1,2,0,0,0,0,0.79,0.28000000000000003,97,13.4]
["Chicago Wolves",14,"Brendan Bell","D",59,2,29,31,-6,24,0,16,0,0,0,0,0,0,0,0,0,2,0,0,0.53,0.41,104,1.9]
["Chicago Wolves",14,"Joe Sova","D",3,0,0,0,-2,2,0,0,0,0,0,0,0,0,0,0,0,0,0,0,0,0.67,3,0]
["Chicago Wolves",15,"Jeremy Welsh","C",68,17,19,36,9,28,4,5,3,0,3,1,1,1,2,2,0,0,0,0,0.53,0.41,134,12.7]
["Chicago Wolves",17,"Adam Burish","RW",47,10,9,19,-5,26,2,0,0,0,1,2,1,0,0,1,0,0,0,0,0.4,0.55000000000000004,70,14.3]
["Chicago Wolves",17,"John McCarthy","LW",25,5,3,8,0,11,0,0,0,0,0,2,1,0,2,1,0,0,0,0,0.32,0.44,39,12.8]
["Chicago Wolves",18,"Yannick Veilleux","LW",58,7,4,11,-5,74,1,0,0,0,2,2,0,0,0,0,0,0,0,0,0.19,1.28,72,9.6999999999999993]
["Chicago Wolves",20,"Cody Beach","RW",39,2,7,9,-2,203,2,0,0,0,0,0,0,0,0,0,0,0,0,0,0.23,5.21,24,8.3000000000000007]
["Chicago Wolves",21,"Benn Ferriero","RW",35,2,5,7,-9,12,0,2,0,0,0,1,0,0,0,0,0,0,0,0,0.2,0.34,47,4.3]
["Chicago Wolves",22,"Dmitrij Jaskin","LW",18,4,11,15,6,31,3,3,0,0,1,1,0,0,0,0,0,0,0,0,0.83,1.72,58,6.9]
["Chicago Wolves",23,"Magnus Paajarvi","LW",29,11,12,23,5,6,3,3,0,0,2,4,2,0,1,1,0,0,0,0,0.79,0.21,69,15.9]
["Chicago Wolves",24,"Colin Fraser","C",52,8,6,14,-1,63,0,3,2,0,0,1,0,0,1,2,0,0,0,0,0.27,1.21,75,10.7]
["Chicago Wolves",25,"Adam Cracknell","RW",33,8,9,17,-1,8,3,0,0,0,3,1,0,0,0,0,0,0,0,0,0.52,0.24,84,9.5]
["Chicago Wolves",25,"Chris Butler","D",14,1,8,9,5,6,0,4,0,0,0,1,0,0,1,0,0,0,0,0,0.64,0.43,34,2.9]
["Chicago Wolves",26,"Nathan Longpre","LW",25,1,2,3,1,2,0,0,0,1,0,0,0,0,0,1,0,0,0,0,0.12,0.08,44,2.2999999999999998]
["Chicago Wolves",27,"Rob Bordson","LW",58,6,14,20,5,29,2,1,0,1,2,1,1,0,0,0,0,0,0,0,0.34,0.5,110,5.5]
["Chicago Wolves",28,"Brent Regner","D",64,5,22,27,22,29,0,6,0,1,3,1,0,2,0,0,0,0,0,0,0.42,0.45,93,5.4]
["Chicago Wolves",32,"Jacob Doty","RW",6,1,2,3,3,5,0,0,0,0,0,0,0,0,0,0,0,0,0,0,0.5,0.83,9,11.1]
["Chicago Wolves",36,"Colton Parayko","D",9,2,1,3,6,4,1,0,0,0,0,0,1,0,0,0,0,0,0,0,0.33,0.44,23,8.6999999999999993]
["Chicago Wolves",37,"Terry Broadhurst","LW",52,7,16,23,-9,10,4,2,0,0,0,1,2,0,1,0,0,0,0,0,0.44,0.19,74,9.5]
["Chicago Wolves",38,"Sebastian Wannstrom","RW",30,2,8,10,4,12,1,0,0,1,1,0,0,1,0,0,0,0,0,0,0.33,0.4,56,3.6]
["Chicago Wolves",39,"Ben Eager","LW",26,0,2,2,-7,86,0,0,0,0,0,0,0,0,0,0,0,0,0,0,0.08,3.31,18,0]
["Chicago Wolves",42,"Jake Chelios","D",41,1,14,15,-7,32,0,9,0,0,0,0,0,0,1,0,0,0,0,0,0.37,0.78,31,3.2]
["Chicago Wolves",49,"Gergo Nagy","F",6,0,2,2,2,2,0,2,0,0,0,0,0,0,0,0,0,0,0,0,0.33,0.33,6,0]
["Chicago Wolves",55,"Brent Sopel","D",29,1,7,8,-3,46,0,3,0,0,0,1,0,0,0,0,0,0,0,0,0.28000000000000003,1.59,22,4.5]
["Grand Rapids Griffins",2,"Scott Czarnowczan","D",27,2,7,9,10,26,0,4,0,0,0,0,0,0,0,0,0,0,0,0,0.33,0.96,12,16.7]
["Grand Rapids Griffins",3,"Alexey Marchenko","D",48,3,17,20,23,24,2,1,0,0,0,0,0,0,1,0,0,0,0,0,0.42,0.5,48,6.3]
["Grand Rapids Griffins",4,"Nathan Paetsch","D",67,6,29,35,24,36,1,14,0,0,1,1,0,1,0,0,0,1,0,0,0.52,0.54,140,4.3]
["Grand Rapids Griffins",5,"Mattias Backman","D",18,0,4,4,-3,6,0,2,0,0,0,0,0,0,0,0,0,0,0,0,0.22,0.33,22,0]
["Grand Rapids Griffins",5,"Jakub Kindl","D",2,1,0,1,2,2,0,0,0,0,0,0,0,0,0,0,0,0,0,0,0.5,1,3,33.299999999999997]
["Grand Rapids Griffins",5,"Jared Nightingale","D",2,0,0,0,0,0,0,0,0,0,0,0,0,0,0,0,0,0,0,0,0,0,0,0]
["Grand Rapids Griffins",6,"Teemu Pulkkinen","RW",46,34,27,61,1,30,10,9,0,0,6,4,3,1,2,1,1,2,1,50,1.33,0.65,189,18]
["Grand Rapids Griffins",7,"Ryan Sproul","D",60,5,18,23,-5,26,1,4,0,0,2,0,0,1,0,0,0,0,0,0,0.38,0.43,137,3.7]
["Grand Rapids Griffins",8,"Anthony Mantha","LW",57,13,16,29,9,55,4,1,0,0,1,3,1,0,3,1,0,3,0,0,0.51,0.96,127,10.199999999999999]
["Grand Rapids Griffins",9,"Mark Zengerle","RW",64,12,19,31,15,6,3,5,0,0,4,4,2,0,0,0,0,1,0,0,0.48,0.09,64,18.8]
["Grand Rapids Griffins",10,"Jeff Hoggan","LW",68,11,15,26,19,37,3,1,0,0,2,3,3,0,0,0,0,0,0,0,0.38,0.54,113,9.6999999999999993]
["Grand Rapids Griffins",11,"Joel Chouinard","D",2,0,0,0,-1,0,0,0,0,0,0,0,0,0,0,0,0,0,0,0,0,0,2,0]
["Grand Rapids Griffins",12,"Kevin Porter","C",68,12,22,34,-9,25,2,3,0,0,5,4,2,1,1,1,0,1,0,0,0.5,0.37,116,10.3]
["Grand Rapids Griffins",13,"Marek Tvrdon","LW",43,8,17,25,17,12,3,4,0,0,1,1,2,0,1,0,0,1,0,0,0.57999999999999996,0.28000000000000003,87,9.1999999999999993]
["Grand Rapids Griffins",14,"Nick Jensen","D",67,5,16,21,22,13,1,1,0,2,1,1,1,0,0,0,0,0,0,0,0.31,0.19,76,6.6]
["Grand Rapids Griffins",15,"Mitch Callahan","RW",48,16,22,38,3,24,4,10,0,1,2,3,2,0,1,1,1,2,1,50,0.79,0.5,129,12.4]
["Grand Rapids Griffins",16,"Xavier Ouellet","D",44,1,13,14,6,22,0,3,0,0,0,1,0,0,0,0,0,0,0,0,0.32,0.5,96,1]
["Grand Rapids Griffins",17,"Colin Campbell","RW",40,2,3,5,6,20,0,0,0,0,0,0,0,0,0,0,0,0,0,0,0.13,0.5,44,4.5]
["Grand Rapids Griffins",18,"Brian Lashoff","D",25,1,5,6,11,10,0,0,0,0,1,1,0,0,1,0,0,0,0,0,0.24,0.4,31,3.2]
["Grand Rapids Griffins",19,"Tomas Nosek","C",47,9,18,27,21,18,1,3,3,1,0,0,1,0,3,2,0,0,0,0,0.56999999999999995,0.38,91,9.9]
["Grand Rapids Griffins",20,"Kyle Bonis","F",3,0,0,0,0,0,0,0,0,0,0,0,0,0,0,0,0,0,0,0,0,0,0,0]
["Grand Rapids Griffins",21,"Andy Miele","C",63,23,40,63,15,40,8,16,0,0,4,5,2,2,1,1,3,4,0,75,1,0.63,124,18.5]
["Grand Rapids Griffins",22,"Louis-Marc Aubry","C",59,5,8,13,9,24,0,1,0,0,1,2,0,0,1,0,0,0,0,0,0.22,0.41,69,7.2]
["Grand Rapids Griffins",23,"Andreas Athanasiou","C",48,14,15,29,14,25,1,0,1,0,4,0,3,1,1,1,0,0,0,0,0.6,0.52,99,14.1]
["Grand Rapids Griffins",25,"Tyler Barnes","F",2,0,0,0,0,0,0,0,0,0,0,0,0,0,0,0,0,0,0,0,0,0,1,0]
["Grand Rapids Griffins",26,"Shane Berschbach","RW",5,0,0,0,-3,0,0,0,0,0,0,0,0,0,0,0,0,0,0,0,0,0,2,0]
["Grand Rapids Griffins",27,"Martin Frk","RW",24,4,2,6,-3,10,0,0,0,0,0,2,0,0,1,0,0,0,0,0,0.25,0.42,29,13.8]
["Grand Rapids Griffins",29,"Landon Ferraro","RW",68,27,15,42,12,51,0,4,3,0,4,2,4,1,4,4,0,0,0,0,0.62,0.75,233,11.6]
["Grand Rapids Griffins",32,"Alden Hirschfeld","C",10,0,1,1,-2,10,0,0,0,0,0,0,0,0,0,0,0,0,0,0,0.1,1,8,0]
["Grand Rapids Griffins",44,"Brennan Evans","D",48,1,2,3,10,67,0,0,0,0,0,0,0,0,0,0,0,0,0,0,0.06,1.4,35,2.9]
["Grand Rapids Griffins",55,"Chris Bruton","LW",48,2,2,4,-2,110,0,0,0,0,0,0,0,0,0,0,0,0,0,0,0.08,2.29,26,7.7]
["Grand Rapids Griffins",90,"Stephen Weiss","C",3,2,0,2,0,0,1,0,0,0,0,1,0,0,0,0,0,0,0,0,0.67,0,4,50]
["Hamilton Bulldogs",2,"Greg Pateryn","D",53,3,12,15,-1,56,1,4,0,0,1,0,0,1,1,0,0,0,0,0,0.28000000000000003,1.06,78,3.8]
["Hamilton Bulldogs",3,"Morgan Ellis","D",20,2,5,7,7,11,0,1,0,0,1,0,0,0,1,0,0,0,0,0,0.35,0.55000000000000004,47,4.3]
["Hamilton Bulldogs",4,"Davis Drewiske","D",62,4,18,22,15,28,0,2,0,0,0,0,1,0,0,0,0,0,0,0,0.35,0.45,112,3.6]
["Hamilton Bulldogs",5,"Jarred Tinordi","D",44,1,6,7,9,36,0,0,0,0,0,0,0,0,0,0,0,0,0,0,0.16,0.82,53,1.9]
["Hamilton Bulldogs",6,"Bryan Allen","D",35,1,5,6,-3,24,0,0,0,0,0,0,0,0,0,0,0,0,0,0,0.17,0.69,38,2.6]
["Hamilton Bulldogs",7,"Darren Dietz","D",64,4,13,17,-4,55,0,2,0,0,2,2,0,0,0,0,0,0,0,0,0.27,0.86,62,6.5]
["Hamilton Bulldogs",8,"Nathan Beaulieu","D",8,2,2,4,-2,9,0,2,0,0,0,1,0,0,0,0,0,0,0,0,0.5,1.1299999999999999,20,10]
["Hamilton Bulldogs",9,"Mac Bennett","D",53,4,7,11,-3,8,2,2,0,0,2,0,0,0,0,0,0,0,0,0,0.21,0.15,57,7]
["Hamilton Bulldogs",10,"Charles Hudon","C",69,16,38,54,9,62,3,10,0,0,3,3,0,2,2,0,0,0,0,0,0.78,0.9,152,10.5]
["Hamilton Bulldogs",11,"Daniel Carr","LW",69,22,12,34,12,21,3,2,0,0,4,7,4,0,2,0,0,0,0,0,0.49,0.3,158,13.9]
["Hamilton Bulldogs",12,"Maxime Macenauer","C",47,6,4,10,0,28,0,0,0,0,0,1,2,0,0,0,0,0,0,0,0.21,0.6,48,12.5]
["Hamilton Bulldogs",14,"Rene Bourque","LW",4,2,2,4,2,4,1,0,0,0,0,0,0,0,0,0,0,0,0,0,1,1,17,11.8]
["Hamilton Bulldogs",15,"Drayson Bowman","LW",56,12,17,29,-7,31,4,3,0,0,0,2,2,0,0,3,0,0,0,0,0.52,0.55000000000000004,130,9.1999999999999993]
["Hamilton Bulldogs",16,"Bobby Shea","D",17,1,2,3,-3,31,0,0,0,0,0,0,0,0,0,0,0,0,0,0,0.18,1.82,13,7.7]
["Hamilton Bulldogs",17,"T.J. Hensick","C",68,18,36,54,-10,10,1,15,0,0,3,3,1,1,0,0,0,0,0,0,0.79,0.15,166,10.8]
["Hamilton Bulldogs",18,"Jake Dowell","F",69,5,10,15,-5,59,0,0,1,1,2,0,1,0,0,3,0,0,0,0,0.22,0.86,80,6.3]
["Hamilton Bulldogs",19,"Christian Thomas","RW",45,10,8,18,-11,16,2,2,0,0,2,1,0,0,1,0,0,0,0,0,0.4,0.36,112,8.9]
["Hamilton Bulldogs",20,"Jacob de la Rose","F",37,6,5,11,7,11,0,0,1,0,1,1,0,0,0,1,0,0,0,0,0.3,0.3,49,12.2]
["Hamilton Bulldogs",21,"Nick Sorkin","RW",61,9,13,22,4,10,1,3,0,0,2,2,1,0,1,0,0,0,0,0,0.36,0.16,93,9.6999999999999993]
["Hamilton Bulldogs",22,"Stefan Fournier","RW",11,0,1,1,-1,14,0,0,0,0,0,0,0,0,0,0,0,0,0,0,0.09,1.27,7,0]
["Hamilton Bulldogs",23,"Connor Crisp","LW",34,1,2,3,-5,102,0,0,0,0,0,0,0,0,0,0,0,0,0,0,0.09,3,12,8.3000000000000007]
["Hamilton Bulldogs",24,"Brandon McNally","LW",4,0,0,0,-2,0,0,0,0,0,0,0,0,0,0,0,0,0,0,0,0,0,3,0]
["Hamilton Bulldogs",24,"Jack Nevins","LW",32,0,0,0,-8,88,0,0,0,0,0,0,0,0,0,0,0,0,0,0,0,2.75,13,0]
["Hamilton Bulldogs",25,"Eric Tangradi","LW",41,12,17,29,10,52,3,3,0,0,2,1,3,1,0,3,0,0,0,0,0.71,1.27,117,10.3]
["Hamilton Bulldogs",26,"Joe Finley","D",53,0,3,3,-7,132,0,0,0,0,0,0,0,0,0,0,0,0,0,0,0.06,2.4900000000000002,33,0]
["Hamilton Bulldogs",27,"Sven Andrighetto","C",53,14,26,40,-1,40,4,6,0,0,3,2,1,1,1,0,0,0,0,0,0.75,0.75,134,10.4]
["Hamilton Bulldogs",28,"Michael Bournival","C",12,3,6,9,4,8,0,0,0,0,0,1,1,0,0,1,0,0,0,0,0.75,0.67,34,8.8000000000000007]
["Hamilton Bulldogs",29,"Sahir Gill","LW",37,3,4,7,0,6,0,1,0,0,0,0,0,0,2,0,0,0,0,0,0.19,0.16,32,9.4]
["Hamilton Bulldogs",32,"Magnus Nygren","D",15,4,6,10,2,2,1,0,0,0,0,0,0,0,0,0,0,0,0,0,0.67,0.13,38,10.5]
["Hamilton Bulldogs",36,"David Makowski","D",7,0,0,0,-1,2,0,0,0,0,0,0,0,0,0,0,0,0,0,0,0,0.28999999999999998,3,0]
["Hamilton Bulldogs",38,"Shane Bakker","F",15,0,1,1,1,37,0,0,0,0,0,0,0,0,0,0,0,0,0,0,7.0000000000000007E-2,2.4700000000000002,2,0]
["Hamilton Bulldogs",39,"Josiah Didier","D",1,0,0,0,0,0,0,0,0,0,0,0,0,0,0,0,0,0,0,0,0,0,0,0]
["Hamilton Bulldogs",40,"Gabriel Dumont","C",60,19,23,42,3,86,4,0,2,2,4,2,2,0,3,3,0,0,0,0,0.7,1.43,161,11.8]
["Hartford Wolf Pack",2,"Mat Bodie","D",68,5,24,29,9,36,1,7,0,0,3,0,0,1,0,0,0,0,0,0,0.43,0.53,100,5]
["Hartford Wolf Pack",3,"Chris McCarthy","LW",5,1,0,1,-3,0,0,0,0,0,0,1,0,0,0,0,0,0,0,0,0.2,0,6,16.7]
["Hartford Wolf Pack",4,"Conor Allen","D",64,11,22,33,-6,105,3,4,0,0,3,1,0,1,0,0,0,0,0,0,0.52,1.64,79,13.9]
["Hartford Wolf Pack",5,"Tommy Hughes","D",34,1,3,4,-1,23,0,0,1,0,0,0,0,0,0,0,0,0,0,0,0.12,0.68,36,2.8]
["Hartford Wolf Pack",6,"Ryan Malone","LW",24,4,6,10,0,29,0,4,0,0,1,1,0,1,0,0,0,1,0,0,0.42,1.21,46,8.6999999999999993]
["Hartford Wolf Pack",6,"Samuel Noreau","D",4,0,0,0,-1,13,0,0,0,0,0,0,0,0,0,0,0,0,0,0,0,3.25,1,0]
["Hartford Wolf Pack",7,"Tomas Kaberle","D",2,0,2,2,-3,0,0,2,0,0,0,0,0,0,0,0,0,0,0,0,1,0,4,0]
["Hartford Wolf Pack",7,"Henrik Tallinder","D",4,0,1,1,1,0,0,0,0,0,0,0,0,0,0,0,0,0,0,0,0.25,0,5,0]
["Hartford Wolf Pack",7,"Sean Escobedo","D",2,0,0,0,-2,0,0,0,0,0,0,0,0,0,0,0,0,0,0,0,0,0,1,0]
["Hartford Wolf Pack",8,"Dylan McIlrath","D",66,4,10,14,2,146,0,1,0,1,2,1,0,1,0,0,0,0,0,0,0.21,2.21,71,5.6]
["Hartford Wolf Pack",9,"Ryan Bourque","LW",68,12,17,29,-5,27,2,2,1,0,2,2,1,0,0,0,0,0,0,0,0.43,0.4,128,9.4]
["Hartford Wolf Pack",10,"J.T. Miller","C",18,6,9,15,-3,12,1,5,0,0,1,0,0,0,0,0,0,1,0,0,0.83,0.67,42,14.3]
["Hartford Wolf Pack",11,"Kodie Curran","D",2,0,1,1,1,0,0,0,0,0,0,0,0,0,0,0,0,0,0,0,0.5,0,0,0]
["Hartford Wolf Pack",11,"Michael Kantor","RW",1,0,0,0,0,14,0,0,0,0,0,0,0,0,0,0,0,0,0,0,0,14,0,0]
["Hartford Wolf Pack",14,"Joey Crabb","RW",58,11,12,23,4,32,0,0,2,1,0,3,2,0,3,1,0,0,0,0,0.4,0.55000000000000004,63,17.5]
["Hartford Wolf Pack",15,"Marek Hrivik","C",64,9,20,29,4,12,2,2,1,1,1,1,2,1,0,1,0,0,0,0,0.45,0.19,78,11.5]
["Hartford Wolf Pack",16,"Chad Nehring","C",45,3,7,10,2,45,0,0,0,0,0,0,0,0,0,0,0,0,0,0,0.22,1,42,7.1]
["Hartford Wolf Pack",16,"Bretton Stamler","D",7,0,0,0,-3,4,0,0,0,0,0,0,0,0,0,0,0,0,0,0,0,0.56999999999999995,4,0]
["Hartford Wolf Pack",17,"Chris Bourque","LW",65,26,30,56,3,50,10,12,0,1,2,6,2,0,0,1,0,4,0,0,0.86,0.77,176,14.8]
["Hartford Wolf Pack",18,"Tyler Brown","LW",29,6,6,12,2,6,0,0,0,0,2,1,0,0,1,0,0,0,0,0,0.41,0.21,31,19.399999999999999]
["Hartford Wolf Pack",19,"Chris Mueller","C",56,12,24,36,-4,24,5,9,0,2,2,1,1,1,1,1,0,2,0,0,0.64,0.43,121,9.9]
["Hartford Wolf Pack",20,"Dallas Jackson","D",43,1,9,10,4,18,0,1,0,0,1,0,0,0,0,0,0,0,0,0,0.23,0.42,54,1.9]
["Hartford Wolf Pack",21,"Shawn O'Donnell","RW",38,2,3,5,-4,62,0,0,0,0,0,0,1,0,0,0,0,0,0,0,0.13,1.63,28,7.1]
["Hartford Wolf Pack",22,"Ryan Potulny","C",24,1,3,4,0,10,0,1,0,0,0,0,0,0,0,0,0,0,0,0,0.17,0.42,35,2.9]
["Hartford Wolf Pack",23,"Justin Vaive","LW",55,12,17,29,-4,66,5,2,0,0,2,4,0,0,2,0,0,0,0,0,0.53,1.2,88,13.6]
["Hartford Wolf Pack",24,"Oscar Lindberg","C",68,23,25,48,5,68,8,7,0,1,5,5,2,3,1,0,0,1,0,0,0.71,1,199,11.6]
["Hartford Wolf Pack",25,"Jared Nightingale","D",6,0,1,1,5,2,0,0,0,0,0,0,0,0,0,0,0,0,0,0,0.17,0.33,2,0]
["Hartford Wolf Pack",27,"Jesper Fast","RW",11,1,8,9,-2,2,0,5,0,0,1,0,0,0,0,0,0,0,0,0,0.82,0.18,17,5.9]
["Hartford Wolf Pack",28,"Michael Kostka","D",56,5,24,29,4,33,1,10,0,0,0,0,1,0,1,1,0,1,0,0,0.52,0.59,99,5.0999999999999996]
["Hartford Wolf Pack",29,"Danny Kristo","RW",64,20,19,39,9,33,3,7,1,0,4,3,1,1,0,1,2,5,1,40,0.61,0.52,146,13.7]
["Hartford Wolf Pack",39,"Ryan Haggerty","RW",68,13,16,29,0,34,6,6,0,0,3,4,1,1,1,0,0,1,0,0,0.43,0.5,145,9]
["Hartford Wolf Pack",44,"Steve Spinell","D",51,1,4,5,2,59,0,0,0,0,0,0,0,0,0,0,0,0,0,0,0.1,1.1599999999999999,41,2.4]
["Hartford Wolf Pack",47,"Vinny Saponari","RW",3,0,1,1,0,0,0,0,0,0,0,0,0,0,0,0,0,0,0,0,0.33,0,1,0]
["Hartford Wolf Pack",48,"Carl Klingberg","RW",61,17,23,40,-2,45,2,9,0,1,5,5,0,2,1,1,0,2,0,0,0.66,0.74,175,9.6999999999999993]
["Hartford Wolf Pack",49,"Josh Nicholls","RW",5,0,1,1,-1,0,0,0,0,0,0,0,0,0,0,0,0,0,0,0,0.2,0,3,0]
["Hartford Wolf Pack",55,"Chris Summers","D",19,0,2,2,-1,21,0,0,0,0,0,0,0,0,0,0,0,0,0,0,0.11,1.1100000000000001,18,0]
["Hartford Wolf Pack",74,"Nick Tarnasky","LW",23,1,3,4,0,32,0,0,0,0,0,0,0,0,0,0,0,0,0,0,0.17,1.39,16,6.3]
["Hershey Bears",2,"Nate Schmidt","D",12,2,5,7,-1,0,2,2,0,0,1,0,0,0,0,0,0,0,0,0,0.57999999999999996,0,15,13.3]
["Hershey Bears",4,"Jon Landry","D",60,2,11,13,23,36,0,0,0,0,0,1,0,0,0,0,0,0,0,0,0.22,0.6,56,3.6]
["Hershey Bears",5,"Cameron Schilling","D",57,3,13,16,17,54,0,2,0,0,1,0,0,0,0,0,0,0,0,0,0.28000000000000003,0.95,75,4]
["Hershey Bears",6,"Mike Moore","D",34,3,11,14,11,36,0,0,0,3,1,0,0,1,0,0,0,0,0,0,0.41,1.06,40,7.5]
["Hershey Bears",7,"Steve Oleksy","D",61,4,11,15,13,141,0,0,0,1,0,1,0,0,0,1,0,0,0,0,0.25,2.31,74,5.4]
["Hershey Bears",10,"Dustin Gazley","RW",65,17,17,34,11,34,2,0,0,3,1,4,1,0,1,3,1,4,0,25,0.52,0.52,115,14.8]
["Hershey Bears",11,"Kris Newbury","C",62,18,28,46,2,133,1,6,1,0,3,3,2,0,1,2,0,0,0,0,0.74,2.15,138,13]
["Hershey Bears",12,"Nathan Walker","LW",28,1,3,4,2,30,0,0,0,0,0,0,0,0,0,0,0,0,0,0,0.14000000000000001,1.07,30,3.3]
["Hershey Bears",13,"Tim Kennedy","C",68,11,46,57,7,52,3,19,0,1,1,5,1,1,1,0,0,0,0,0,0.84,0.76,82,13.4]
["Hershey Bears",14,"Jim O'Brien","C",26,8,16,24,13,24,3,1,1,1,4,1,0,1,0,1,0,0,0,0,0.92,0.92,52,15.4]
["Hershey Bears",14,"Tom Wilson","RW",2,0,0,0,0,0,0,0,0,0,0,0,0,0,0,0,0,0,0,0,0,0,5,0]
["Hershey Bears",15,"Andre Burakovsky","LW",11,3,4,7,0,6,1,2,0,0,1,0,0,1,0,0,1,1,0,100,0.64,0.55000000000000004,28,10.7]
["Hershey Bears",17,"Chandler Stephenson","C",49,6,7,13,3,10,0,0,2,0,2,1,1,0,2,0,0,2,0,0,0.27,0.2,28,21.4]
["Hershey Bears",18,"Philippe Cornet","LW",51,8,13,21,8,17,3,4,0,0,1,1,1,0,0,0,1,2,1,50,0.41,0.33,77,10.4]
["Hershey Bears",19,"Joel Broda","C",48,7,1,8,-3,50,0,0,0,0,0,1,2,0,1,0,0,0,0,0,0.17,1.04,57,12.3]
["Hershey Bears",20,"Liam O'Brien","LW",39,3,3,6,-2,95,0,0,0,0,0,1,0,0,1,0,0,0,0,0,0.15,2.44,39,7.7]
["Hershey Bears",21,"Casey Wellman","RW",69,23,29,52,5,28,6,13,0,0,4,7,5,1,1,1,0,2,0,0,0.75,0.41,168,13.7]
["Hershey Bears",22,"Stanislav Galiev","RW",62,24,20,44,5,22,14,11,0,0,5,9,4,1,0,0,0,4,0,0,0.71,0.35,163,14.7]
["Hershey Bears",23,"Chris Conner","LW",54,17,32,49,7,10,5,11,1,0,6,1,0,0,0,1,0,0,0,0,0.91,0.19,126,13.5]
["Hershey Bears",24,"Chris Brown","RW",58,17,10,27,5,58,5,2,0,0,5,4,2,0,0,0,1,4,1,25,0.47,1,161,10.6]
["Hershey Bears",25,"Connor Carrick","D",67,8,34,42,-5,126,4,18,0,0,1,2,1,1,0,0,0,2,0,0,0.63,1.88,117,6.8]
["Hershey Bears",26,"Aaron Volpatti","LW",5,0,0,0,-1,8,0,0,0,0,0,0,0,0,0,0,0,0,0,0,0,1.6,10,0]
["Hershey Bears",27,"Tim Spencer","LW",12,0,0,0,-2,29,0,0,0,0,0,0,0,0,0,0,0,0,0,0,0,2.42,6,0]
["Hershey Bears",28,"Dmitry Orlov","D",3,0,3,3,-3,4,0,3,0,0,0,0,0,0,0,0,0,0,0,0,1,1.33,6,0]
["Hershey Bears",28,"Patrick Wey","D",3,0,0,0,0,2,0,0,0,0,0,0,0,0,0,0,0,0,0,0,0,0.67,1,0]
["Hershey Bears",32,"Erik Burgdoerfer","D",53,1,6,7,13,54,0,0,0,0,0,1,0,0,0,0,0,0,0,0,0.13,1.02,42,2.4]
["Hershey Bears",34,"Tomas Kundratek","D",58,4,22,26,-3,28,2,9,0,0,0,0,0,0,0,0,0,0,0,0,0.45,0.48,102,3.9]
["Hershey Bears",36,"Garrett Mitchell","RW",57,4,3,7,-3,94,0,0,0,0,1,1,1,0,0,0,0,1,0,0,0.12,1.65,64,6.3]
["Hershey Bears",37,"Michal Cajkovsky","D",13,0,2,2,-1,31,0,1,0,1,0,0,0,0,0,0,0,0,0,0,0.15,2.38,20,0]
["Hershey Bears",38,"Dane Byers","LW",43,7,12,19,0,91,2,0,1,1,2,1,1,0,0,0,0,0,0,0,0.44,2.12,67,10.4]
["Hershey Bears",40,"Caleb Herbert","RW",12,0,2,2,3,4,0,0,0,0,0,0,0,0,0,0,0,0,0,0,0.17,0.33,14,0]
["Iowa Wild",2,"Guillaume Gelinas","D",37,2,2,4,-7,22,2,1,0,0,1,2,0,0,0,0,0,0,0,0,0.11,0.59,53,3.8]
["Iowa Wild",4,"Tyler Graovac","F",65,20,24,44,-5,26,9,6,1,0,3,4,1,2,2,0,0,3,0,0,0.68,0.4,174,11.5]
["Iowa Wild",5,"Christian Folin","D",13,2,2,4,-6,4,0,0,0,0,0,0,0,0,0,0,0,0,0,0,0.31,0.31,30,6.7]
["Iowa Wild",6,"Jared Knight","LW",44,2,4,6,-5,40,0,0,0,0,0,0,0,0,0,0,0,0,0,0,0.14000000000000001,0.91,49,4.0999999999999996]
["Iowa Wild",6,"Joe Stejskal","D",7,0,0,0,0,4,0,0,0,0,0,0,0,0,0,0,0,0,0,0,0,0.56999999999999995,7,0]
["Iowa Wild",7,"Jonathon Blum","D",58,9,22,31,-8,16,5,8,0,0,0,1,2,0,0,1,0,0,0,0,0.53,0.28000000000000003,105,8.6]
["Iowa Wild",8,"Joe Perry","F",6,0,1,1,-1,11,0,0,0,0,0,0,0,0,0,0,0,0,0,0,0.17,1.83,4,0]
["Iowa Wild",9,"Olivier Archambault","LW",18,4,3,7,-7,17,0,0,0,0,0,1,0,0,0,0,0,0,0,0,0.39,0.94,22,18.2]
["Iowa Wild",10,"Jordan Schroeder","C",35,10,18,28,-6,10,3,8,0,1,2,3,1,1,0,0,0,1,0,0,0.8,0.28999999999999998,85,11.8]
["Iowa Wild",11,"Ian Schultz","F",14,0,2,2,-2,23,0,0,0,0,0,0,0,0,0,0,0,0,0,0,0.14000000000000001,1.64,25,0]
["Iowa Wild",11,"Jake Parenteau","D",4,0,1,1,-1,2,0,0,0,0,0,0,0,0,0,0,0,0,0,0,0.25,0.5,7,0]
["Iowa Wild",12,"Joel Chouinard","D",21,3,1,4,0,8,0,0,0,0,1,0,0,1,0,0,0,0,0,0,0.19,0.38,31,9.6999999999999993]
["Iowa Wild",12,"Cody Almond","C",5,0,0,0,-3,6,0,0,0,0,0,0,0,0,0,0,0,0,0,0,0,1.2,6,0]
["Iowa Wild",13,"Curt Gogol","LW",25,1,1,2,-7,123,1,0,0,0,0,0,0,0,0,0,0,0,0,0,0.08,4.92,24,4.2]
["Iowa Wild",14,"Collin Bowman","D",18,2,5,7,1,17,2,2,0,0,0,1,0,0,1,0,0,0,0,0,0.39,0.94,34,5.9]
["Iowa Wild",14,"Corbin Baldwin","D",16,0,0,0,-9,16,0,0,0,0,0,0,0,0,0,0,0,0,0,0,0,1,4,0]
["Iowa Wild",15,"Ryan Walters","F",20,1,7,8,-2,6,0,1,0,0,0,0,0,0,1,0,0,0,0,0,0.4,0.3,38,2.6]
["Iowa Wild",15,"Pavel Jenys","F",2,0,1,1,1,0,0,0,0,0,0,0,0,0,0,0,0,0,0,0,0.5,0,7,0]
["Iowa Wild",16,"Greg Wolfe","F",9,0,1,1,-2,2,0,0,0,0,0,0,0,0,0,0,0,0,0,0,0.11,0.22,15,0]
["Iowa Wild",16,"Nicholas Rioux","D",11,0,0,0,3,2,0,0,0,0,0,0,0,0,0,0,0,0,0,0,0,0.18,9,0]
["Iowa Wild",17,"Brett Bulmer","LW",47,3,11,14,-7,48,0,1,0,0,1,0,0,0,0,0,0,0,0,0,0.3,1.02,82,3.7]
["Iowa Wild",18,"Zack Mitchell","F",68,16,15,31,-4,10,2,3,1,0,2,4,0,0,0,1,0,1,0,0,0.46,0.15,115,13.9]
["Iowa Wild",19,"Stephane Veilleux","LW",52,2,14,16,-14,67,0,3,0,1,0,1,0,0,0,0,0,0,0,0,0.31,1.29,66,3]
["Iowa Wild",20,"Benjamin Dieude-Fauvel","D",20,0,1,1,-9,10,0,0,0,0,0,0,0,0,0,0,0,0,0,0,0.05,0.5,17,0]
["Iowa Wild",21,"Brady Brassart","F",64,6,11,17,-13,18,0,1,1,1,0,1,0,0,0,1,0,0,0,0,0.27,0.28000000000000003,80,7.5]
["Iowa Wild",22,"Steve McCarthy","D",9,1,1,2,4,12,0,1,0,0,0,0,0,0,0,0,0,0,0,0,0.22,1.33,7,14.3]
["Iowa Wild",23,"Gustav Olofsson","D",1,0,0,0,0,0,0,0,0,0,0,0,0,0,0,0,0,0,0,0,0,0,1,0]
["Iowa Wild",24,"Alex Gudbranson","D",46,1,3,4,-6,17,0,0,0,0,0,1,0,0,0,0,0,0,0,0,0.09,0.37,23,4.3]
["Iowa Wild",25,"Danny Syvret","D",58,4,14,18,-21,24,0,6,0,0,0,2,1,0,0,1,0,0,0,0,0.31,0.41,77,5.2]
["Iowa Wild",26,"Ruslan Fedotenko","F",11,2,0,2,-4,6,0,0,0,0,1,0,1,0,0,1,0,0,0,0,0.18,0.55000000000000004,13,15.4]
["Iowa Wild",27,"Brett Sutter","C",63,10,15,25,-15,31,1,1,0,0,1,2,1,0,0,0,0,0,0,0,0.4,0.49,124,8.1]
["Iowa Wild",28,"Raphael Bussieres","F",9,0,0,0,-4,0,0,0,0,0,0,0,0,0,0,0,0,0,0,0,0,0,5,0]
["Iowa Wild",29,"Marc Hagel","RW",59,11,21,32,3,26,1,3,0,0,0,1,1,0,0,0,0,0,0,0,0.54,0.44,140,7.9]
["Iowa Wild",36,"Michael Keranen","F",63,9,25,34,-8,18,3,9,0,0,2,2,0,0,0,0,0,1,0,0,0.54,0.28999999999999998,131,6.9]
["Iowa Wild",39,"Kurtis Gabriel","F",59,7,6,13,-17,123,1,0,0,0,1,2,0,0,0,1,0,0,0,0,0.22,2.08,51,13.7]
["Iowa Wild",41,"Stu Bickel","D",36,2,6,8,-19,70,0,1,0,0,0,0,0,0,0,0,0,0,0,0,0.22,1.94,47,4.3]
["Iowa Wild",44,"Justin Falk","D",39,1,6,7,-10,34,0,2,0,0,0,0,0,0,0,0,0,0,0,0,0.18,0.87,48,2.1]
["Iowa Wild",51,"Zack Phillips","C",49,7,8,15,-19,14,2,2,0,0,3,1,0,0,0,0,2,2,1,100,0.31,0.28999999999999998,84,8.3000000000000007]
["Iowa Wild",55,"Matt Dumba","D",20,5,9,14,2,6,2,4,0,0,0,0,0,0,0,0,0,0,0,0,0.7,0.3,39,12.8]
["Lake Erie Monsters",2,"Mat Clark","D",58,1,6,7,-6,71,0,0,0,1,0,0,1,0,0,0,0,0,0,0,0.12,1.22,46,2.2000000000000002]
["Lake Erie Monsters",3,"Karl Stollery","D",46,5,9,14,-13,55,0,1,0,0,1,1,2,0,1,0,0,0,0,0,0.3,1.2,66,7.6]
["Lake Erie Monsters",4,"Reid Petryk","C",27,3,6,9,2,11,0,0,0,0,0,1,0,0,2,0,0,0,0,0,0.33,0.41,45,6.7]
["Lake Erie Monsters",5,"Mason Geertsen","D",2,0,0,0,0,0,0,0,0,0,0,0,0,0,0,0,0,0,0,0,0,0,0,0]
["Lake Erie Monsters",5,"Joey Leach","D",10,0,0,0,-5,7,0,0,0,0,0,0,0,0,0,0,0,0,0,0,0,0.7,4,0]
["Lake Erie Monsters",10,"Ben Street","C",36,7,24,31,3,8,2,9,1,1,3,2,0,2,1,0,0,1,0,0,0.86,0.22,144,4.9000000000000004]
["Lake Erie Monsters",11,"Markus Lauridsen","D",56,5,10,15,-3,20,1,3,0,0,0,1,0,0,0,0,0,0,0,0,0.27,0.36,54,9.3000000000000007]
["Lake Erie Monsters",12,"Freddie Hamilton","C",54,9,22,31,-18,12,3,9,0,0,1,1,3,0,1,1,0,2,0,0,0.56999999999999995,0.22,99,9.1]
["Lake Erie Monsters",14,"Troy Bourke","C",54,8,11,19,3,18,2,2,1,0,1,0,0,0,2,0,0,0,0,0,0.35,0.33,49,16.3]
["Lake Erie Monsters",16,"Duncan Siemens","D",48,0,6,6,-4,57,0,0,0,0,0,0,0,0,0,0,0,0,0,0,0.13,1.19,33,0]
["Lake Erie Monsters",17,"Kenny Ryan","RW",67,10,15,25,-15,34,0,1,2,0,2,0,2,0,2,2,0,0,0,0,0.37,0.51,100,10]
["Lake Erie Monsters",18,"Andrew Agozzino","LW",66,23,29,52,3,43,4,14,2,2,4,4,0,1,2,0,0,1,0,0,0.79,0.65,213,10.8]
["Lake Erie Monsters",20,"Kyle Jean","C",12,0,2,2,1,6,0,0,0,0,0,0,0,0,0,0,0,0,0,0,0.17,0.5,12,0]
["Lake Erie Monsters",20,"Shawn Szydlowski","RW",5,0,0,0,0,5,0,0,0,0,0,0,0,0,0,0,0,0,0,0,0,1,6,0]
["Lake Erie Monsters",24,"Michael Schumacher","LW",65,10,15,25,-19,50,2,2,1,2,3,0,0,1,1,0,0,0,0,0,0.38,0.77,119,8.4]
["Lake Erie Monsters",26,"Maxim Noreau","D",39,8,22,30,-4,29,2,9,0,0,1,0,0,1,0,1,0,0,0,0,0.77,0.74,84,9.5]
["Lake Erie Monsters",27,"Bruno Gervais","D",64,2,9,11,-11,24,0,2,1,1,0,0,0,0,0,0,0,0,0,0,0.17,0.38,82,2.4]
["Lake Erie Monsters",28,"Paul Carey","LW",43,13,14,27,-5,16,3,4,1,0,0,4,1,0,0,0,0,0,0,0,0.63,0.37,76,17.100000000000001]
["Lake Erie Monsters",29,"Ben Youds","D",60,8,21,29,3,31,6,9,0,1,1,1,1,0,0,0,0,0,0,0,0.48,0.52,110,7.3]
["Lake Erie Monsters",29,"James Martin","D",7,0,0,0,-6,2,0,0,0,0,0,0,0,0,0,0,0,0,0,0,0,0.28999999999999998,7,0]
["Lake Erie Monsters",36,"Garrett Meurs","RW",18,0,0,0,-2,8,0,0,0,0,0,0,0,0,0,0,0,0,0,0,0,0.44,17,0]
["Lake Erie Monsters",37,"Colin Smith","C",45,10,17,27,-6,16,3,6,1,1,2,1,1,1,0,0,1,4,0,25,0.6,0.36,91,11]
["Lake Erie Monsters",38,"Joey Hishon","C",50,14,18,32,-10,32,4,8,0,0,1,4,1,1,1,0,1,2,1,50,0.64,0.64,139,10.1]
["Lake Erie Monsters",39,"Trevor Cheek","LW",58,6,9,15,-4,57,0,0,0,0,1,1,0,0,0,1,0,0,0,0,0.26,0.98,97,6.2]
["Lake Erie Monsters",41,"Cody Corbett","D",43,2,3,5,-11,20,1,1,0,0,1,1,0,1,0,0,0,0,0,0,0.12,0.47,40,5]
["Lake Erie Monsters",42,"Sam Henley","C",54,6,4,10,-7,47,2,0,0,0,0,0,1,0,0,0,0,0,0,0,0.19,0.87,44,13.6]
["Lake Erie Monsters",43,"Mike Sgarbossa","C",40,4,19,23,-17,35,0,7,0,0,2,0,0,0,0,0,1,3,0,33.299999999999997,0.57999999999999996,0.88,83,4.8]
["Lake Erie Monsters",44,"Daniel Maggio","RW",46,1,3,4,-4,193,0,0,0,0,0,0,0,0,0,0,0,0,0,0,0.09,4.2,29,3.4]
["Lake Erie Monsters",45,"Dennis Everberg","RW",12,5,2,7,-1,4,0,0,0,0,1,1,0,0,0,0,0,0,0,0,0.57999999999999996,0.33,26,19.2]
["Lake Erie Monsters",46,"Stefan Elliott","D",56,18,17,35,-1,20,12,4,1,2,5,5,0,0,1,0,0,2,0,0,0.63,0.36,155,11.6]
["Lake Erie Monsters",47,"Gabriel Beaupre","D",35,1,3,4,3,23,0,1,0,0,0,0,0,0,0,0,0,0,0,0,0.11,0.66,23,4.3]
["Lake Erie Monsters",51,"Mitchell Heard","C",44,6,5,11,-12,110,1,1,0,0,1,0,0,1,0,0,0,1,0,0,0.25,2.5,68,8.8000000000000007]
["Lake Erie Monsters",71,"Borna Rendulic","F",26,4,4,8,-9,12,2,1,0,0,0,0,0,0,1,0,0,1,0,0,0.31,0.46,47,8.5]
["Lake Erie Monsters",81,"Tomas Vincour","RW",30,5,11,16,-5,6,1,5,0,0,1,0,0,0,1,0,2,4,0,50,0.53,0.2,50,10]
["Lehigh Valley Phantoms",2,"Mark Alt","D",35,1,6,7,-13,14,0,1,0,0,1,0,0,0,0,0,0,0,0,0,0.2,0.4,52,1.9]
["Lehigh Valley Phantoms",3,"Brett Flemming","D",37,0,6,6,2,39,0,1,0,0,0,0,0,0,0,0,0,0,0,0,0.16,1.05,48,0]
["Lehigh Valley Phantoms",4,"Robert Hagg","D",60,3,15,18,-13,42,2,6,1,0,0,1,1,0,0,0,0,0,0,0,0.3,0.7,105,2.9]
["Lehigh Valley Phantoms",5,"Steven Delisle","D",56,2,13,15,-7,127,0,1,0,0,1,0,1,0,0,0,0,0,0,0,0.27,2.27,83,2.4]
["Lehigh Valley Phantoms",7,"Oliver Lauridsen","D",66,3,4,7,4,133,0,0,1,1,0,0,1,0,0,1,0,0,0,0,0.11,2.02,64,4.7]
["Lehigh Valley Phantoms",8,"Jesper Pettersson","D",43,2,4,6,-4,29,0,2,0,0,2,0,0,0,0,0,0,0,0,0,0.14000000000000001,0.67,40,5]
["Lehigh Valley Phantoms",9,"Cole Bardreau","RW",7,1,0,1,-2,2,0,0,0,0,0,0,0,0,0,0,0,0,0,0,0.14000000000000001,0.28999999999999998,10,10]
["Lehigh Valley Phantoms",10,"Andrew Gordon","RW",67,18,24,42,-4,22,3,13,0,0,2,4,0,1,4,0,0,3,0,0,0.63,0.33,142,12.7]
["Lehigh Valley Phantoms",11,"Austin Fyten","LW",64,2,9,11,-9,85,0,0,0,0,0,1,0,0,0,0,0,0,0,0,0.17,1.33,61,3.3]
["Lehigh Valley Phantoms",12,"Andrew Johnston","F",9,0,0,0,-5,2,0,0,0,0,0,0,0,0,0,0,0,0,0,0,0,0.22,9,0]
["Lehigh Valley Phantoms",14,"Shayne Gostisbehere","D",5,0,5,5,-1,0,0,2,0,0,0,0,0,0,0,0,0,0,0,0,1,0,10,0]
["Lehigh Valley Phantoms",16,"Brett Hextall","RW",56,5,7,12,-15,105,1,1,0,1,0,2,0,0,0,0,0,0,0,0,0.21,1.88,80,6.3]
["Lehigh Valley Phantoms",17,"Kevin Goumas","C",56,5,8,13,-1,21,0,1,0,0,1,2,0,1,0,0,0,0,0,0,0.23,0.38,81,6.2]
["Lehigh Valley Phantoms",18,"Matt Hatch","F",2,0,0,0,0,0,0,0,0,0,0,0,0,0,0,0,0,0,0,0,0,0,6,0]
["Lehigh Valley Phantoms",19,"Brandon Alderson","RW",35,3,4,7,-10,57,0,1,0,0,0,0,0,0,1,0,0,0,0,0,0.2,1.63,46,6.5]
["Lehigh Valley Phantoms",20,"Maxim Lamarche","D",7,0,1,1,0,4,0,0,0,0,0,0,0,0,0,0,0,0,0,0,0.14000000000000001,0.56999999999999995,2,0]
["Lehigh Valley Phantoms",21,"Scott Laughton","C",30,11,10,21,-11,29,4,3,1,1,2,3,0,1,0,1,1,1,1,100,0.7,0.97,70,15.7]
["Lehigh Valley Phantoms",22,"Blair Jones","C",28,7,12,19,2,42,2,5,0,2,1,1,1,0,0,0,1,3,1,33.299999999999997,0.68,1.5,74,9.5]
["Lehigh Valley Phantoms",23,"Taylor Leier","LW",64,13,16,29,-7,16,4,4,0,0,3,4,1,0,0,0,2,2,1,100,0.45,0.25,111,11.7]
["Lehigh Valley Phantoms",24,"Petr Straka","LW",59,13,10,23,-18,22,1,2,0,0,0,4,1,0,2,0,2,4,0,50,0.39,0.37,140,9.3000000000000007]
["Lehigh Valley Phantoms",25,"Nick Cousins","C",60,21,34,55,2,71,9,10,0,0,3,3,3,1,2,0,1,4,1,25,0.92,1.18,124,16.899999999999999]
["Lehigh Valley Phantoms",26,"Chris VandeVelde","C",1,2,0,2,0,0,2,0,0,0,0,1,0,0,0,0,0,0,0,0,2,0,3,66.7]
["Lehigh Valley Phantoms",27,"Adam Comrie","D",35,5,12,17,-15,43,2,5,0,0,0,0,0,0,0,0,1,1,1,100,0.49,1.23,58,8.6]
["Lehigh Valley Phantoms",28,"Brandon Manning","D",58,11,32,43,-11,150,6,19,0,0,4,0,0,2,0,0,0,1,0,0,0.74,2.59,190,5.8]
["Lehigh Valley Phantoms",29,"Derek Mathers","RW",32,0,2,2,-2,107,0,0,0,0,0,0,0,0,0,0,0,0,0,0,0.06,3.34,28,0]
["Lehigh Valley Phantoms",36,"Darroll Powe","C",43,5,9,14,-5,49,2,3,0,1,1,0,0,0,1,0,0,1,0,0,0.33,1.1399999999999999,48,10.4]
["Lehigh Valley Phantoms",37,"Jay Rosehill","LW",61,5,7,12,-15,192,0,1,0,0,0,1,0,0,1,0,0,0,0,0,0.2,3.15,50,10]
["Lehigh Valley Phantoms",38,"Jason Akeson","RW",49,21,26,47,-12,23,8,12,3,0,3,3,2,1,1,2,2,6,1,33.299999999999997,0.96,0.47,158,13.3]
["Lehigh Valley Phantoms",39,"Ryan White","C",11,1,2,3,-3,39,0,0,1,0,0,0,1,0,1,1,0,0,0,0,0.27,3.55,8,12.5]
["Lehigh Valley Phantoms",41,"Nick Luukko","D",2,0,0,0,0,0,0,0,0,0,0,0,0,0,0,0,0,0,0,0,0,0,0,0]
["Lehigh Valley Phantoms",45,"Zack Stortini","RW",67,13,12,25,-3,150,5,5,0,0,1,3,0,0,0,0,0,0,0,0,0.37,2.2400000000000002,110,11.8]
["Manchester Monarchs",3,"Derek Forbort","D",59,4,11,15,20,43,1,6,0,0,2,1,0,0,0,0,0,0,0,0,0.25,0.73,85,4.7]
["Manchester Monarchs",4,"Kevin Gravel","D",50,5,9,14,12,23,2,4,0,1,0,1,0,0,0,0,0,0,0,0,0.28000000000000003,0.46,67,7.5]
["Manchester Monarchs",5,"Vincent LoVerde","D",62,9,11,20,12,63,4,5,0,0,1,1,2,0,0,0,0,0,0,0,0.32,1.02,79,11.4]
["Manchester Monarchs",6,"Colin Miller","D",63,17,29,46,7,72,10,12,0,1,3,1,1,1,0,0,0,1,0,0,0.73,1.1399999999999999,162,10.5]
["Manchester Monarchs",7,"Andrew Bodnarchuk","D",54,5,18,23,11,70,2,8,0,1,1,0,1,0,0,0,0,0,0,0,0.43,1.3,114,4.4000000000000004]
["Manchester Monarchs",10,"Zach O'Brien","RW",55,13,16,29,10,4,0,4,1,0,1,4,4,0,0,1,0,1,0,0,0.53,7.0000000000000007E-2,111,11.7]
["Manchester Monarchs",11,"Kenton Miller","F",4,0,0,0,-1,0,0,0,0,0,0,0,0,0,0,0,0,0,0,0,0,0,3,0]
["Manchester Monarchs",12,"Andy Andreoff","LW",7,5,5,10,8,11,1,1,0,0,2,0,1,0,0,0,0,0,0,0,1.43,1.57,12,41.7]
["Manchester Monarchs",13,"Josh Gratton","LW",38,5,6,11,0,75,0,0,0,0,1,1,0,0,1,0,0,0,0,0,0.28999999999999998,1.97,28,17.899999999999999]
["Manchester Monarchs",14,"David Van der Gulik","LW",53,11,13,24,11,39,1,2,2,0,1,4,2,0,1,0,0,0,0,0,0.45,0.74,93,11.8]
["Manchester Monarchs",15,"Paul Bissonnette","LW",48,1,4,5,-8,119,0,0,0,0,0,0,0,0,0,0,0,0,0,0,0.1,2.48,33,3]
["Manchester Monarchs",16,"Sean Backman","RW",68,17,23,40,14,26,3,7,0,0,2,3,4,0,0,3,0,1,0,0,0.59,0.38,213,8]
["Manchester Monarchs",18,"Mike Richards","C",16,3,11,14,6,4,1,4,0,1,0,2,1,0,0,0,0,0,0,0,0.88,0.25,39,7.7]
["Manchester Monarchs",18,"Adam Hughesman","F",3,1,0,1,2,0,0,0,0,0,0,1,0,0,0,0,0,0,0,0,0.33,0,6,16.7]
["Manchester Monarchs",19,"Jordan Weal","C",68,18,44,62,6,52,7,16,0,0,6,3,2,1,3,0,0,2,0,0,0.91,0.76,170,10.6]
["Manchester Monarchs",21,"Andrew Crescenzi","C",49,5,7,12,-9,60,1,0,1,0,2,0,0,0,2,1,0,0,0,0,0.24,1.22,48,10.4]
["Manchester Monarchs",22,"Brian O'Neill","RW",64,22,49,71,23,53,9,15,2,2,7,3,3,2,0,1,1,2,0,50,1.1100000000000001,0.83,162,13.6]
["Manchester Monarchs",23,"Nick Ebert","D",37,6,3,9,9,18,0,0,0,0,2,1,0,1,0,0,0,0,0,0,0.24,0.49,46,13]
["Manchester Monarchs",24,"Ryan Horvat","LW",47,3,8,11,-1,87,0,0,0,0,1,0,0,0,0,0,0,0,0,0,0.23,1.85,48,6.3]
["Manchester Monarchs",25,"Scott Sabourin","RW",43,3,6,9,-4,109,0,0,0,0,0,1,0,0,0,0,0,0,0,0,0.21,2.5299999999999998,61,4.9000000000000004]
["Manchester Monarchs",26,"Nic Dowd","C",67,5,30,35,15,37,1,11,0,1,1,0,0,1,0,0,0,0,0,0,0.52,0.55000000000000004,99,5.0999999999999996]
["Manchester Monarchs",27,"Michael Mersch","LW",68,18,20,38,14,25,6,7,1,0,3,3,3,0,1,1,0,0,0,0,0.56000000000000005,0.37,192,9.4]
["Manchester Monarchs",33,"Kevin Raine","D",46,2,2,4,6,55,0,0,0,0,1,0,0,0,0,0,0,0,0,0,0.09,1.2,43,4.7]
["Manchester Monarchs",37,"Nick Shore","C",38,20,22,42,23,16,7,5,3,0,3,2,2,0,2,1,1,2,1,50,1.1100000000000001,0.42,101,19.8]
["Manchester Monarchs",39,"Justin Auger","RW",64,11,15,26,10,49,0,1,0,0,3,1,3,0,0,0,0,0,0,0,0.41,0.77,103,10.7]
["Manchester Monarchs",44,"Jamie McBain","D",5,1,2,3,2,2,1,1,0,0,0,0,0,0,0,0,0,0,0,0,0.6,0.4,12,8.3000000000000007]
["Manchester Monarchs",48,"Maxim Kitsyn","LW",7,1,0,1,-2,0,0,0,0,0,0,1,0,0,1,0,0,0,0,0,0.14000000000000001,0,10,10]
["Manchester Monarchs",55,"Jeff Schultz","D",48,3,12,15,16,28,1,4,0,0,0,1,2,0,0,0,0,0,0,0,0.31,0.57999999999999996,56,5.4]
["Milwaukee Admirals",2,"Anthony Bitetto","D",64,3,24,27,1,76,0,8,0,0,1,0,0,1,0,0,0,0,0,0,0.42,1.19,99,3]
["Milwaukee Admirals",3,"Jonathan Diaby","D",48,0,2,2,3,94,0,0,0,0,0,0,0,0,0,0,0,0,0,0,0.04,1.96,15,0]
["Milwaukee Admirals",4,"Scott Ford","D",8,0,1,1,-3,7,0,0,0,0,0,0,0,0,0,0,0,0,0,0,0.13,0.88,10,0]
["Milwaukee Admirals",7,"Joe Piskula","D",61,1,15,16,25,26,0,2,0,0,1,0,0,0,0,0,0,0,0,0,0.26,0.43,52,1.9]
["Milwaukee Admirals",10,"Patrick Cehlin","RW",4,0,0,0,1,2,0,0,0,0,0,0,0,0,0,0,1,1,0,100,0,0.5,7,0]
["Milwaukee Admirals",12,"Kevin Fiala","LW",29,10,8,18,-3,16,2,4,0,0,1,2,2,1,0,0,1,2,0,50,0.62,0.55000000000000004,67,14.9]
["Milwaukee Admirals",15,"Ian White","D",42,4,19,23,-1,17,2,7,0,0,0,0,1,0,1,2,0,0,0,0,0.55000000000000004,0.4,57,7]
["Milwaukee Admirals",15,"Gary Steffes","C",5,3,0,3,-6,0,2,0,0,0,0,0,0,0,0,0,0,0,0,0,0.6,0,11,27.3]
["Milwaukee Admirals",16,"Felix Girard","C",61,4,5,9,-9,54,0,0,0,0,1,0,1,0,1,1,0,0,0,0,0.15,0.89,71,5.6]
["Milwaukee Admirals",17,"Michael Liambas","LW",48,5,2,7,2,128,0,0,0,0,0,0,0,0,0,1,0,0,0,0,0.15,2.67,30,16.7]
["Milwaukee Admirals",18,"Colton Sissons","C",70,23,16,39,3,27,6,5,0,0,4,4,3,0,0,1,0,1,0,0,0.56000000000000005,0.39,170,13.5]
["Milwaukee Admirals",19,"Eric Robinson","F",6,1,0,1,-2,2,0,0,0,0,0,0,0,0,0,0,0,0,0,0,0.17,0.33,10,10]
["Milwaukee Admirals",19,"Jared Nightingale","D",6,0,0,0,-2,4,0,0,0,0,0,0,0,0,0,0,0,0,0,0,0,0.67,3,0]
["Milwaukee Admirals",20,"Miikka Salomaki","LW",38,7,11,18,15,30,2,3,0,0,0,1,2,0,1,0,1,2,1,50,0.47,0.79,84,8.3000000000000007]
["Milwaukee Admirals",21,"Triston Grant","LW",67,12,12,24,-6,113,3,0,0,0,1,3,0,0,0,0,0,0,0,0,0.36,1.69,119,10.1]
["Milwaukee Admirals",22,"Joe Pendenza","C",45,9,9,18,0,6,3,0,0,2,3,4,0,0,0,1,0,0,0,0,0.4,0.13,73,12.3]
["Milwaukee Admirals",23,"Taylor Aronson","D",67,3,28,31,-8,20,0,16,0,0,2,1,0,1,0,0,0,0,0,0,0.46,0.3,55,5.5]
["Milwaukee Admirals",24,"Zach Budish","RW",39,6,7,13,2,16,0,0,0,0,1,0,3,0,1,0,0,0,0,0,0.33,0.41,82,7.3]
["Milwaukee Admirals",25,"Viktor Stalberg","LW",20,11,6,17,0,14,3,2,1,0,1,2,0,1,2,1,1,2,0,50,0.85,0.7,50,22]
["Milwaukee Admirals",28,"Brendan Leipsic","LW",47,7,28,35,2,16,3,13,0,0,0,1,1,0,1,0,1,5,1,20,0.74,0.34,96,7.3]
["Milwaukee Admirals",29,"Mark Van Guilder","C",70,10,15,25,-3,14,0,0,1,0,1,1,0,0,1,0,0,0,0,0,0.36,0.2,96,10.4]
["Milwaukee Admirals",33,"Viktor Arvidsson","RW",64,19,32,51,4,43,7,9,0,0,4,5,1,1,3,2,0,3,0,0,0.8,0.67,239,8]
["Milwaukee Admirals",36,"Richard Clune","LW",56,6,9,15,0,167,0,1,2,0,1,3,0,0,1,0,0,0,0,0,0.27,2.98,67,9]
["Milwaukee Admirals",37,"Garrett Noonan","D",38,4,5,9,5,15,1,1,0,0,0,0,0,0,0,0,0,0,0,0,0.24,0.39,38,10.5]
["Milwaukee Admirals",46,"Pontus Åberg","RW",64,16,14,30,-5,22,5,3,0,0,1,4,1,1,1,1,1,4,0,25,0.47,0.34,143,11.2]
["Milwaukee Admirals",47,"Jimmy Oligny","D",50,1,3,4,-2,46,0,0,0,0,0,0,0,0,0,0,0,0,0,0,0.08,0.92,35,2.9]
["Milwaukee Admirals",51,"Austin Watson","C",70,23,16,39,-1,32,2,6,1,0,8,4,2,2,0,4,0,1,0,0,0.56000000000000005,0.46,143,16.100000000000001]
["Milwaukee Admirals",55,"Johan Alm","D",38,0,10,10,-7,16,0,0,0,0,0,0,0,0,0,0,0,0,0,0,0.26,0.42,24,0]
["Milwaukee Admirals",81,"Jaynen Rissling","D",5,0,0,0,-2,4,0,0,0,0,0,0,0,0,0,0,0,0,0,0,0,0.8,2,0]
["Milwaukee Admirals",89,"Frederick Gaudreau","C",38,4,6,10,2,12,0,0,0,0,0,0,1,0,0,0,0,1,0,0,0.26,0.32,56,7.1]
["Norfolk Admirals",2,"Mat Clark","D",45,1,5,6,-7,60,0,0,0,1,0,0,1,0,0,0,0,0,0,0,0.13,1.33,38,2.6]
["Norfolk Admirals",3,"Josh Manson","D",30,3,6,9,-8,41,1,2,0,0,0,0,1,0,1,0,0,0,0,0,0.3,1.37,43,7]
["Norfolk Admirals",4,"Jesse Blacker","D",15,0,5,5,-12,9,0,1,0,0,0,0,0,0,0,0,0,0,0,0,0.33,0.6,25,0]
["Norfolk Admirals",5,"Kevin Gagne","D",53,2,6,8,-20,16,1,1,0,0,0,0,0,0,0,0,0,0,0,0,0.15,0.3,79,2.5]
["Norfolk Admirals",6,"Nathan McIver","D",55,2,1,3,-8,162,0,0,0,0,0,1,0,0,0,0,0,0,0,0,0.05,2.95,21,9.5]
["Norfolk Admirals",7,"Mark Fistric","D",28,1,4,5,0,63,0,0,0,0,0,0,0,0,0,0,0,0,0,0,0.18,2.25,30,3.3]
["Norfolk Admirals",7,"Bryan Allen","D",2,0,0,0,0,0,0,0,0,0,0,0,0,0,0,0,0,0,0,0,0,0,1,0]
["Norfolk Admirals",8,"Nic Kerdiles","LW",49,9,17,26,-7,41,4,7,0,0,3,2,0,1,0,0,0,1,0,0,0.53,0.84,116,7.8]
["Norfolk Admirals",9,"Brendan Bell","D",47,1,22,23,-8,20,0,12,0,0,0,0,0,0,0,0,0,2,0,0,0.49,0.43,76,1.3]
["Norfolk Admirals",9,"Mathew Berry","RW",2,0,0,0,-1,0,0,0,0,0,0,0,0,0,0,0,0,0,0,0,0,0,3,0]
["Norfolk Admirals",10,"Matt Bailey","RW",49,4,4,8,-5,27,1,0,0,1,0,0,0,0,0,0,0,0,0,0,0.16,0.55000000000000004,60,6.7]
["Norfolk Admirals",11,"Stefan Noesen","RW",23,5,8,13,-4,23,0,4,0,0,2,1,0,0,0,0,1,1,0,100,0.56999999999999995,1,68,7.4]
["Norfolk Admirals",12,"John Kurtz","LW",65,4,3,7,-14,173,0,0,1,0,0,0,0,0,0,0,0,0,0,0,0.11,2.66,73,5.5]
["Norfolk Admirals",13,"Rickard Rakell","C",2,1,3,4,3,0,0,0,0,1,1,0,0,1,0,0,0,0,0,0,2,0,7,14.3]
["Norfolk Admirals",14,"Max Friberg","LW",51,13,20,33,-1,40,4,8,2,1,4,0,1,0,2,0,0,2,0,0,0.65,0.78,170,7.6]
["Norfolk Admirals",15,"Brad Winchester","LW",15,4,5,9,-1,39,2,1,0,1,0,1,0,0,0,0,0,0,0,0,0.6,2.6,34,11.8]
["Norfolk Admirals",16,"Emerson Etem","RW",22,13,8,21,-1,2,6,2,1,0,2,4,1,0,1,1,0,1,0,0,0.95,0.09,79,16.5]
["Norfolk Admirals",17,"Charles Sarault","C",47,6,7,13,-7,24,1,5,0,0,1,4,0,0,0,0,0,1,0,0,0.28000000000000003,0.51,58,10.3]
["Norfolk Admirals",18,"Mike Sgarbossa","C",53,7,23,30,-24,58,1,9,0,0,2,0,0,0,0,0,1,3,0,33.299999999999997,0.56999999999999995,1.0900000000000001,120,5.8]
["Norfolk Admirals",18,"Brandon Yip","RW",31,3,9,12,-11,8,0,1,0,0,1,0,0,1,0,0,0,0,0,0,0.39,0.26,59,5.0999999999999996]
["Norfolk Admirals",19,"Joseph Cramarossa","C",50,5,4,9,-12,75,0,0,1,0,0,0,0,0,0,0,0,0,0,0,0.18,1.5,53,9.4]
["Norfolk Admirals",20,"Louis Leblanc","RW",66,13,12,25,-17,36,5,3,0,0,3,4,1,0,1,0,0,1,0,0,0.38,0.55000000000000004,189,6.9]
["Norfolk Admirals",21,"Chris Wagner","C",48,15,13,28,-7,65,2,5,2,0,3,0,0,0,3,1,0,1,0,0,0.57999999999999996,1.35,118,12.7]
["Norfolk Admirals",22,"William Karlsson","C",37,8,16,24,-5,2,3,6,0,0,1,0,0,1,0,0,0,2,0,0,0.65,0.05,86,9.3000000000000007]
["Norfolk Admirals",23,"Colby Robak","D",25,1,4,5,-10,16,0,1,0,0,0,0,0,0,0,0,0,0,0,0,0.2,0.64,46,2.2000000000000002]
["Norfolk Admirals",23,"Kyle Palmieri","RW",2,0,0,0,-2,4,0,0,0,0,0,0,0,0,0,0,0,0,0,0,0,2,12,0]
["Norfolk Admirals",24,"Jaycob Megna","D",25,1,3,4,-2,4,0,0,0,0,0,0,0,0,0,0,0,0,0,0,0.16,0.16,30,3.3]
["Norfolk Admirals",25,"Andrew O'Brien","D",58,4,9,13,-18,114,1,2,0,0,1,0,1,1,0,0,0,1,0,0,0.22,1.97,119,3.4]
["Norfolk Admirals",26,"Jared Nightingale","D",20,0,1,1,-2,32,0,0,0,0,0,0,0,0,0,0,0,0,0,0,0.05,1.6,18,0]
["Norfolk Admirals",26,"Mike Embach","LW",3,0,0,0,-1,2,0,0,0,0,0,0,0,0,0,0,0,0,0,0,0,0.67,6,0]
["Norfolk Admirals",26,"Casey Pierro-Zabotel","LW",3,0,0,0,-5,0,0,0,0,0,0,0,0,0,0,0,0,0,0,0,0,0,1,0]
["Norfolk Admirals",26,"Kevin Lind","D",4,0,0,0,-2,2,0,0,0,0,0,0,0,0,0,0,0,0,0,0,0,0.5,1,0]
["Norfolk Admirals",27,"Rocco Carzo","F",7,0,1,1,-3,2,0,0,0,0,0,0,0,0,0,0,0,0,0,0,0.14000000000000001,0.28999999999999998,9,0]
["Norfolk Admirals",27,"Shawn Szydlowski","RW",11,0,1,1,-1,7,0,0,0,0,0,0,0,0,0,0,0,0,0,0,0.09,0.64,13,0]
["Norfolk Admirals",27,"Alex Krushelnyski","LW",3,0,0,0,-2,4,0,0,0,0,0,0,0,0,0,0,0,0,0,0,0,1.33,6,0]
["Norfolk Admirals",28,"Antoine Laganiere","C",66,9,5,14,-12,40,2,2,0,0,0,1,0,0,0,0,0,1,0,0,0.21,0.61,116,7.8]
["Norfolk Admirals",29,"Marc Cantin","D",21,1,3,4,-5,43,0,0,0,1,0,0,1,0,0,0,0,0,0,0,0.19,2.0499999999999998,30,3.3]
["Norfolk Admirals",29,"Aaron Rome","D",2,0,0,0,2,0,0,0,0,0,0,0,0,0,0,0,0,0,0,0,0,0,1,0]
["Norfolk Admirals",32,"Shea Theodore","D",5,3,2,5,-2,0,2,1,0,0,1,1,0,1,0,0,0,0,0,0,1,0,14,21.4]
["Norfolk Admirals",32,"Matthew Pistilli","RW",10,1,2,3,-7,4,1,1,0,0,0,0,0,0,0,0,0,0,0,0,0.3,0.4,19,5.3]
["Norfolk Admirals",32,"Robert Czarnik","C",4,1,1,2,1,2,0,0,0,0,0,0,0,0,0,0,0,0,0,0,0.5,0.5,5,20]
["Norfolk Admirals",33,"Steve MacIntyre","LW",18,0,0,0,-3,28,0,0,0,0,0,0,0,0,0,0,0,0,0,0,0,1.56,3,0]
["Norfolk Admirals",34,"David Pacan","RW",8,1,0,1,-7,2,0,0,0,0,0,1,0,0,1,0,0,0,0,0,0.13,0.25,10,10]
["Norfolk Admirals",34,"Alexander MacMillan","C",4,0,0,0,0,2,0,0,0,0,0,0,0,0,0,0,0,0,0,0,0,0.5,3,0]
["Norfolk Admirals",38,"David MacDonald","D",5,0,2,2,0,9,0,0,0,1,0,0,0,0,0,0,0,0,0,0,0.4,1.8,3,0]
["Norfolk Admirals",38,"Brandon Montour","D",7,0,2,2,3,2,0,1,0,0,0,0,0,0,0,0,0,0,0,0,0.28999999999999998,0.28999999999999998,16,0]
["Norfolk Admirals",39,"Dave Steckel","C",69,5,14,19,-15,51,0,1,1,1,0,1,1,0,0,1,0,0,0,0,0.28000000000000003,0.74,121,4.0999999999999996]
["Norfolk Admirals",51,"Dany Heatley","LW",25,2,5,7,-5,8,2,1,0,0,0,1,0,0,0,0,0,1,0,0,0.28000000000000003,0.32,45,4.4000000000000004]
["Oklahoma City Barons",2,"Graeme Craig","D",5,0,0,0,-2,2,0,0,0,0,0,0,0,0,0,0,0,0,0,0,0,0.4,3,0]
["Oklahoma City Barons",3,"Brandon Davidson","D",52,4,6,10,9,41,0,0,0,0,2,0,0,2,1,0,0,0,0,0,0.19,0.79,92,4.3]
["Oklahoma City Barons",5,"Nick Pageau","D",3,0,2,2,3,0,0,1,0,0,0,0,0,0,0,0,0,0,0,0,0.67,0,2,0]
["Oklahoma City Barons",5,"Keith Aulie","D",8,0,1,1,-6,0,0,0,0,0,0,0,0,0,0,0,0,0,0,0,0.13,0,11,0]
["Oklahoma City Barons",6,"David Musil","D",62,1,9,10,-2,33,0,0,0,0,1,1,0,0,0,0,0,0,0,0,0.16,0.53,51,2]
["Oklahoma City Barons",7,"Jujhar Khaira","C",51,4,6,10,-7,62,0,0,0,0,2,0,1,0,0,0,0,0,0,0,0.2,1.22,73,5.5]
["Oklahoma City Barons",8,"Brad Winchester","LW",22,5,5,10,-6,43,2,1,0,1,0,1,0,0,1,0,0,0,0,0,0.45,1.95,51,9.8000000000000007]
["Oklahoma City Barons",8,"Oscar Klefbom","D",9,1,7,8,10,4,1,0,0,0,0,0,0,0,0,0,0,0,0,0,0.89,0.44,13,7.7]
["Oklahoma City Barons",9,"Tyler Pitlick","RW",14,3,6,9,-1,8,1,3,0,0,2,0,0,0,0,0,0,0,0,0,0.64,0.56999999999999995,36,8.3000000000000007]
["Oklahoma City Barons",9,"Jackson Houck","RW",3,0,1,1,1,0,0,0,0,0,0,0,0,0,0,0,0,0,0,0,0.33,0,3,0]
["Oklahoma City Barons",10,"Curtis Hamilton","LW",58,12,17,29,1,36,3,3,1,1,2,3,0,1,1,0,0,0,0,0,0.5,0.62,83,14.5]
["Oklahoma City Barons",11,"Matthew Ford","RW",62,17,30,47,-6,30,5,13,1,1,3,1,0,2,0,1,0,1,0,0,0.76,0.48,168,10.1]
["Oklahoma City Barons",12,"Ryan Hamilton","LW",36,17,15,32,11,15,5,3,0,0,4,2,1,1,0,0,0,2,0,0,0.89,0.42,75,22.7]
["Oklahoma City Barons",13,"Steve Pinizzotto","RW",21,1,10,11,4,76,0,5,0,0,0,0,0,0,0,0,0,0,0,0,0.52,3.62,21,4.8]
["Oklahoma City Barons",14,"C.J. Stretch","C",61,9,25,34,-7,48,5,9,0,0,0,3,1,0,0,0,2,3,1,66.7,0.56000000000000005,0.79,114,7.9]
["Oklahoma City Barons",14,"Will Acton","C",6,1,1,2,-3,2,0,1,0,0,0,0,0,0,0,0,0,0,0,0,0.33,0.33,21,4.8]
["Oklahoma City Barons",15,"Jordan Oesterle","D",59,7,16,23,-3,8,1,5,0,0,3,1,0,2,0,0,0,0,0,0,0.39,0.14000000000000001,100,7]
["Oklahoma City Barons",16,"Anton Lander","C",29,9,22,31,8,20,3,10,0,0,0,2,0,0,1,1,0,2,0,0,1.07,0.69,96,9.4]
["Oklahoma City Barons",17,"Andrew Miller","RW",58,25,31,56,12,14,8,14,0,0,6,5,3,3,3,1,1,2,0,50,0.97,0.24,135,18.5]
["Oklahoma City Barons",18,"Dillon Simpson","D",64,2,14,16,2,14,0,0,0,0,0,1,0,0,0,0,0,0,0,0,0.25,0.22,55,3.6]
["Oklahoma City Barons",19,"Jason Williams","C",66,21,28,49,-10,26,9,13,0,0,4,7,2,2,2,2,1,3,0,33.299999999999997,0.74,0.39,165,12.7]
["Oklahoma City Barons",20,"Connor Jones","C",35,4,4,8,-6,16,0,0,0,0,2,2,0,0,0,0,0,0,0,0,0.23,0.46,53,7.5]
["Oklahoma City Barons",20,"Luke Gazdic","LW",5,2,0,2,-1,7,0,0,0,0,0,0,0,0,0,0,0,0,0,0,0.4,1.4,6,33.299999999999997]
["Oklahoma City Barons",21,"Travis Ewanyk","C",65,3,4,7,-23,116,0,0,0,0,0,0,1,0,0,0,0,0,0,0,0.11,1.78,92,3.3]
["Oklahoma City Barons",22,"Kale Kessy","LW",17,3,3,6,-7,61,0,0,0,0,0,0,1,0,1,1,0,0,0,0,0.35,3.59,19,15.8]
["Oklahoma City Barons",23,"Akim Aliu","RW",11,3,1,4,-6,51,0,0,0,0,1,0,0,0,0,0,0,0,0,0,0.36,4.6399999999999997,16,18.8]
["Oklahoma City Barons",24,"C.J. Ludwig","D",24,1,4,5,-5,57,0,0,0,0,0,0,1,0,0,0,0,0,0,0,0.21,2.38,12,8.3000000000000007]
["Oklahoma City Barons",25,"Iiro Pakarinen","RW",39,17,11,28,17,20,4,1,0,0,1,0,4,0,2,2,0,2,0,0,0.72,0.51,125,13.6]
["Oklahoma City Barons",27,"Mitch Moroz","LW",59,5,3,8,-12,151,0,0,0,0,0,1,0,0,0,0,0,0,0,0,0.14000000000000001,2.56,66,7.6]
["Oklahoma City Barons",28,"Martin Marincin","D",27,0,7,7,-4,20,0,1,0,0,0,0,0,0,0,0,0,0,0,0,0.26,0.74,47,0]
["Oklahoma City Barons",29,"Brad Hunt","D",55,16,31,47,-6,16,8,15,0,0,2,3,1,0,2,2,0,0,0,0,0.85,0.28999999999999998,170,9.4]
["Oklahoma City Barons",34,"Greger Hanson","RW",14,2,3,5,3,12,0,0,0,0,0,0,1,0,0,0,0,0,0,0,0.36,0.86,25,8]
["Oklahoma City Barons",36,"Kellen Jones","LW",42,5,9,14,-5,8,0,1,0,0,0,1,1,0,0,0,0,0,0,0,0.33,0.19,60,8.3000000000000007]
["Oklahoma City Barons",37,"Joshua Winquist","LW",39,7,10,17,6,15,2,3,0,0,1,0,1,0,0,0,0,0,0,0,0.44,0.38,63,11.1]
["Oklahoma City Barons",38,"Chase Schaber","LW",12,1,0,1,-1,2,0,0,0,0,0,0,1,0,0,0,0,0,0,0,0.08,0.17,8,12.5]
["Oklahoma City Barons",39,"Bogdan Yakimov","C",57,12,16,28,7,18,3,2,0,0,3,1,1,1,1,0,0,1,0,0,0.49,0.32,123,9.8000000000000007]
["Oklahoma City Barons",40,"Martin Gernat","D",54,1,8,9,1,32,0,0,0,1,0,1,0,0,0,0,0,0,0,0,0.17,0.59,52,1.9]
["Oklahoma City Barons",41,"David Ling","RW",3,1,0,1,-2,2,0,0,0,0,0,1,0,0,1,0,0,0,0,0,0.33,0.67,4,25]
["Oklahoma City Barons",42,"Jason Pitton","LW",1,0,0,0,-2,0,0,0,0,0,0,0,0,0,0,0,0,0,0,0,0,0,1,0]
["Oklahoma City Barons",42,"Tom Mele","LW",3,0,0,0,0,4,0,0,0,0,0,0,0,0,0,0,0,0,0,0,0,1.33,1,0]
["Oklahoma City Barons",43,"Brett Lyon","LW",1,0,0,0,0,0,0,0,0,0,0,0,0,0,0,0,0,0,0,0,0,0,0,0]
["Oklahoma City Barons",45,"Kellan Lain","C",12,0,1,1,1,24,0,0,0,0,0,0,0,0,0,0,0,0,0,0,0.08,2,19,0]
["Portland Pirates",2,"Dylan Reese","D",63,10,26,36,14,42,3,10,0,0,2,1,1,2,0,0,0,0,0,0,0.56999999999999995,0.67,122,8.1999999999999993]
["Portland Pirates",3,"Jordon Southorn","D",23,3,6,9,9,8,2,4,0,0,1,1,0,0,0,0,0,0,0,0,0.39,0.35,37,8.1]
["Portland Pirates",4,"Andrew Campbell","D",40,3,9,12,1,30,2,3,1,0,0,1,0,0,0,0,0,0,0,0,0.3,0.75,53,5.7]
["Portland Pirates",5,"Matt Lashoff","D",22,1,3,4,1,33,0,1,0,0,0,0,0,0,0,0,0,0,0,0,0.18,1.5,15,6.7]
["Portland Pirates",5,"Chris Summers","D",8,0,1,1,-5,6,0,0,0,0,0,0,0,0,0,0,0,0,0,0,0.13,0.75,9,0]
["Portland Pirates",6,"David Schlemko","D",2,1,3,4,2,0,0,2,0,0,0,0,0,0,1,0,0,0,0,0,2,0,5,20]
["Portland Pirates",7,"Greg Miller","C",30,3,7,10,3,8,0,0,0,0,0,1,1,0,0,0,0,0,0,0,0.33,0.27,40,7.5]
["Portland Pirates",8,"Philip Samuelsson","D",64,4,17,21,8,44,3,3,0,0,0,0,1,0,0,1,0,0,0,0,0.33,0.69,75,5.3]
["Portland Pirates",9,"Tobias Rieder","RW",9,4,1,5,2,0,0,0,2,0,1,2,1,0,0,0,0,0,0,0,0.56000000000000005,0,25,16]
["Portland Pirates",10,"Jordan Szwarz","RW",42,9,12,21,4,58,2,2,1,1,3,1,0,0,1,0,1,2,1,50,0.5,1.38,95,9.5]
["Portland Pirates",11,"Francis Wathier","C",59,5,8,13,-1,51,0,0,0,0,1,1,1,0,0,0,0,0,0,0,0.22,0.86,83,6]
["Portland Pirates",12,"Justin Hodgman","C",54,11,22,33,-3,51,3,6,0,0,3,2,3,1,1,0,0,3,0,0,0.61,0.94,86,12.8]
["Portland Pirates",14,"Dan O'Donoghue","C",16,0,0,0,-3,2,0,0,0,0,0,0,0,0,0,0,0,0,0,0,0,0.13,13,0]
["Portland Pirates",15,"Matt Kassian","LW",2,0,0,0,-1,0,0,0,0,0,0,0,0,0,0,0,0,0,0,0,0,0,1,0]
["Portland Pirates",15,"Paul Bissonnette","LW",8,0,0,0,-1,0,0,0,0,0,0,0,0,0,0,0,0,0,0,0,0,0,8,0]
["Portland Pirates",16,"Greg Carey","LW",29,2,4,6,-1,18,0,0,0,0,1,0,0,0,0,0,0,0,0,0,0.21,0.62,46,4.3]
["Portland Pirates",17,"Jordan Martinook","C",58,15,28,43,12,35,1,4,2,3,2,2,0,0,2,2,0,0,0,0,0.74,0.6,155,9.6999999999999993]
["Portland Pirates",18,"Corey Trivino","C",36,2,11,13,2,2,0,1,0,0,0,0,0,0,0,0,0,0,0,0,0.36,0.06,45,4.4000000000000004]
["Portland Pirates",19,"Henrik Samuelsson","RW",62,14,21,35,9,48,4,5,0,0,3,5,2,0,0,0,0,1,0,0,0.56000000000000005,0.77,124,11.3]
["Portland Pirates",20,"Patrick McNeill","D",14,1,8,9,1,8,1,6,0,0,0,0,0,0,0,0,0,0,0,0,0.64,0.56999999999999995,24,4.2]
["Portland Pirates",21,"Dyson Stevenson","RW",2,0,0,0,0,2,0,0,0,0,0,0,0,0,0,0,0,0,0,0,0,1,1,0]
["Portland Pirates",22,"Phil Lane","RW",44,3,6,9,-3,31,1,0,0,1,0,1,1,0,0,1,0,0,0,0,0.2,0.7,45,6.7]
["Portland Pirates",23,"Joel Hanley","D",54,2,15,17,10,34,1,6,0,0,1,0,0,0,0,0,0,0,0,0,0.31,0.63,72,2.8]
["Portland Pirates",24,"Brendan Shinnimin","C",55,18,22,40,3,65,5,7,1,0,4,3,1,0,0,1,0,0,0,0,0.73,1.18,132,13.6]
["Portland Pirates",25,"Eric Selleck","LW",65,7,13,20,4,169,0,0,0,0,1,2,3,0,3,1,0,0,0,0,0.31,2.6,63,11.1]
["Portland Pirates",26,"Darian Dziurzynski","LW",61,14,3,17,1,45,0,0,0,1,2,1,0,0,0,0,0,0,0,0,0.28000000000000003,0.74,80,17.5]
["Portland Pirates",27,"Evan Oberg","D",48,7,11,18,-7,47,1,7,0,0,2,1,1,1,0,0,0,0,0,0,0.38,0.98,81,8.6]
["Portland Pirates",28,"Justin Hache","D",55,0,6,6,0,16,0,0,0,0,0,0,0,0,0,0,0,0,0,0,0.11,0.28999999999999998,30,0]
["Portland Pirates",32,"Tyler Gaudet","C",62,7,12,19,-3,20,0,0,2,1,1,1,2,0,1,1,0,0,0,0,0.31,0.32,91,7.7]
["Portland Pirates",33,"Mark Louis","D",34,0,3,3,6,77,0,0,0,0,0,0,0,0,0,0,0,0,0,0,0.09,2.2599999999999998,24,0]
["Portland Pirates",36,"Brandon Gormley","D",16,3,4,7,-3,14,0,1,0,0,2,0,1,0,0,1,0,0,0,0,0.44,0.88,47,6.4]
["Portland Pirates",38,"Lucas Lessio","LW",40,13,11,24,-5,22,6,3,0,0,1,1,2,1,0,1,0,0,0,0,0.6,0.55000000000000004,128,10.199999999999999]
["Portland Pirates",43,"James Melindy","D",9,0,0,0,-5,6,0,0,0,0,0,0,0,0,0,0,0,0,0,0,0,0.67,8,0]
["Portland Pirates",49,"Alexandre Bolduc","C",53,20,26,46,14,96,7,6,1,1,4,3,0,0,1,3,1,3,1,33.299999999999997,0.87,1.81,122,16.399999999999999]
["Providence Bruins",2,"Ben Youds","D",47,5,16,21,5,25,3,7,0,1,1,1,0,0,0,0,0,0,0,0,0.45,0.53,76,6.6]
["Providence Bruins",2,"Linus Arnesson","D",4,0,1,1,1,2,0,0,0,0,0,0,0,0,0,0,0,0,0,0,0.25,0.5,7,0]
["Providence Bruins",3,"Tommy Cross","D",48,2,17,19,4,81,1,6,0,0,0,0,2,0,0,0,0,0,0,0,0.4,1.69,62,3.2]
["Providence Bruins",5,"David Warsofsky","D",38,4,11,15,4,20,2,4,0,0,0,1,1,0,0,0,0,1,0,0,0.39,0.53,101,4]
["Providence Bruins",6,"Chris Casto","D",56,1,9,10,13,35,0,1,0,0,0,1,0,0,0,0,0,0,0,0,0.18,0.63,57,1.8]
["Providence Bruins",7,"Joe Morrow","D",27,3,5,8,0,12,2,2,0,0,1,1,0,1,0,0,0,0,0,0,0.3,0.44,41,7.3]
["Providence Bruins",8,"Chris Breen","D",46,1,10,11,7,31,0,0,0,1,0,0,1,0,0,0,0,0,0,0,0.24,0.67,42,2.4]
["Providence Bruins",9,"Matt Lindblad","LW",43,9,13,22,7,6,1,8,1,0,0,1,1,0,1,1,0,0,0,0,0.51,0.14000000000000001,68,13.2]
["Providence Bruins",10,"Rob Flick","C",59,14,5,19,9,62,0,0,0,0,2,4,1,0,1,2,0,1,0,0,0.32,1.05,111,12.6]
["Providence Bruins",11,"Tyler Randell","RW",67,7,6,13,0,106,0,0,2,0,2,2,1,0,1,0,0,0,0,0,0.19,1.58,92,7.6]
["Providence Bruins",12,"Andrew Ammon","F",4,1,0,1,-1,0,0,0,0,0,0,0,0,0,0,0,0,0,0,0,0.25,0,7,14.3]
["Providence Bruins",12,"Frank Vatrano","F",1,0,0,0,0,0,0,0,0,0,0,0,0,0,0,0,0,0,0,0,0,0,1,0]
["Providence Bruins",13,"Alexander Khokhlachev","C",55,14,27,41,-2,28,4,8,0,0,4,3,0,1,1,0,1,2,1,50,0.75,0.51,156,9]
["Providence Bruins",14,"Craig Cunningham","LW",21,5,10,15,-5,8,1,5,0,2,1,1,1,1,0,0,0,0,0,0,0.71,0.38,67,7.5]
["Providence Bruins",15,"Anthony Camara","LW",56,3,4,7,-2,32,0,0,0,0,1,1,1,0,0,0,0,1,0,0,0.13,0.56999999999999995,65,4.5999999999999996]
["Providence Bruins",16,"Zack Phillips","C",59,9,12,21,-18,14,2,4,0,0,3,2,0,0,0,0,2,3,1,66.7,0.36,0.24,102,8.8000000000000007]
["Providence Bruins",16,"Alexander Fallstrom","RW",4,1,0,1,1,4,0,0,0,0,0,1,0,0,0,0,0,0,0,0,0.25,1,6,16.7]
["Providence Bruins",16,"Wayne Simpson","F",4,1,0,1,-2,0,1,0,0,0,0,0,0,0,0,0,0,0,0,0,0.25,0,4,25]
["Providence Bruins",17,"Seth Griffith","RW",33,12,15,27,1,10,7,4,0,0,4,1,2,0,1,2,0,1,0,0,0.82,0.3,78,15.4]
["Providence Bruins",18,"Justin Florek","F",67,10,20,30,2,28,2,6,1,2,0,1,0,0,2,1,0,0,0,0,0.45,0.42,165,6.1]
["Providence Bruins",19,"Brian Ferlin","F",48,9,8,17,-10,38,3,2,0,0,2,2,1,1,0,0,0,0,0,0,0.35,0.79,86,10.5]
["Providence Bruins",20,"Ethan Werek","RW",49,7,11,18,-3,28,4,5,0,0,4,0,1,0,0,0,0,0,0,0,0.37,0.56999999999999995,88,8]
["Providence Bruins",21,"Bobby Robins","RW",2,0,0,0,-2,2,0,0,0,0,0,0,0,0,0,0,0,0,0,0,0,1,1,0]
["Providence Bruins",22,"Jared Knight","LW",36,1,2,3,-6,38,0,0,0,0,0,0,0,0,0,0,0,0,0,0,0.08,1.06,40,2.5]
["Providence Bruins",23,"Spencer Asuchak","F",21,2,4,6,-1,27,1,0,0,0,1,0,0,0,0,0,0,0,0,0,0.28999999999999998,1.29,26,7.7]
["Providence Bruins",23,"Eric Neiley","C",1,0,0,0,0,0,0,0,0,0,0,0,0,0,0,0,0,0,0,0,0,0,2,0]
["Providence Bruins",24,"Ryan Spooner","C",33,8,18,26,-4,8,3,8,0,0,0,3,0,0,0,0,1,1,0,100,0.79,0.24,85,9.4]
["Providence Bruins",26,"Yann Sauve","D",21,1,2,3,-5,12,1,0,0,0,0,1,0,0,0,0,0,0,0,0,0.14000000000000001,0.56999999999999995,25,4]
["Providence Bruins",26,"Drew MacKenzie","D",4,0,1,1,2,0,0,0,0,0,0,0,0,0,0,0,0,0,0,0,0.25,0,0,0]
["Providence Bruins",27,"Jordan Caron","F",23,9,10,19,3,10,3,2,0,0,2,3,1,0,0,0,0,0,0,0,0.83,0.43,54,16.7]
["Providence Bruins",28,"Paul Carey","LW",53,15,15,30,-6,22,4,4,1,0,0,5,1,0,0,0,0,0,0,0,0.56999999999999995,0.42,91,16.5]
["Providence Bruins",28,"Ian White","D",8,1,3,4,-5,4,1,3,0,0,0,0,0,0,0,0,0,0,0,0,0.5,0.5,12,8.3000000000000007]
["Providence Bruins",29,"Frankie Simonelli","D",33,2,5,7,4,16,1,0,0,0,0,0,0,0,0,0,0,0,0,0,0.21,0.48,25,8]
["Providence Bruins",32,"David Pastrnak","RW",24,10,17,27,14,10,1,3,0,0,2,0,0,1,0,0,0,1,0,0,1.1299999999999999,0.42,74,13.5]
["Providence Bruins",34,"Ben Sexton","F",28,2,5,7,1,39,0,0,0,0,0,0,1,0,0,0,0,0,0,0,0.25,1.39,18,11.1]
["Providence Bruins",37,"Zach Trotman","D",38,2,10,12,-9,27,1,5,0,0,0,0,0,0,0,0,0,0,0,0,0.32,0.71,58,3.4]
["Providence Bruins",38,"Cory Kane","F",48,6,9,15,6,15,1,1,0,0,0,3,0,0,0,0,0,0,0,0,0.31,0.31,70,8.6]
["Providence Bruins",39,"Andrew Cherniwchan","F",43,8,9,17,4,32,0,0,1,0,2,3,2,0,1,0,0,0,0,0,0.4,0.74,57,14]
["Providence Bruins",44,"Steve Eminger","D",56,3,19,22,-1,54,2,7,0,1,0,3,0,0,0,0,0,0,0,0,0.39,0.96,62,4.8]
["Providence Bruins",49,"Colin Stuart","LW",38,16,8,24,-5,20,3,2,0,0,6,4,0,0,0,0,0,0,0,0,0.63,0.53,90,17.8]
["Providence Bruins",49,"Bryce Aneloski","D",4,1,1,2,3,0,0,0,0,0,0,1,0,0,0,0,0,0,0,0,0.5,0,4,25]
["Rochester Americans",2,"Nick Petrecki","D",19,0,2,2,-1,56,0,0,0,1,0,0,0,0,0,0,0,0,0,0,0.11,2.95,14,0]
["Rochester Americans",3,"Mark Pysyk","D",51,3,13,16,0,30,0,4,0,0,0,3,0,0,1,0,0,0,0,0,0.31,0.59,70,4.3]
["Rochester Americans",4,"Drew Bagnall","D",36,2,9,11,7,55,0,0,0,1,0,1,0,0,0,0,0,0,0,0,0.31,1.53,29,6.9]
["Rochester Americans",5,"Chad Ruhwedel","D",66,10,23,33,-5,20,8,10,0,0,3,0,1,1,0,0,0,1,0,0,0.5,0.3,149,6.7]
["Rochester Americans",8,"Matt Garbowsky","C",1,0,0,0,-2,0,0,0,0,0,0,0,0,0,0,0,0,0,0,0,0,0,2,0]
["Rochester Americans",10,"Justin Mercier","LW",11,1,1,2,-1,6,0,0,0,0,0,0,1,0,0,1,0,0,0,0,0.18,0.55000000000000004,25,4]
["Rochester Americans",11,"Tim Schaller","C",59,15,26,41,5,95,4,4,1,2,1,1,0,0,1,1,0,1,0,0,0.69,1.61,158,9.5]
["Rochester Americans",14,"Justin Kea","C",19,1,0,1,-1,42,0,0,0,0,0,0,0,0,1,0,0,0,0,0,0.05,2.21,12,8.3000000000000007]
["Rochester Americans",15,"Evan Rankin","RW",24,6,5,11,9,8,0,1,0,0,1,3,0,1,1,0,0,1,0,0,0.46,0.33,31,19.399999999999999]
["Rochester Americans",16,"Akim Aliu","RW",10,3,1,4,-2,51,0,0,0,0,1,0,0,0,0,0,0,0,0,0,0.4,5.0999999999999996,13,23.1]
["Rochester Americans",16,"Matt Pelech","D",39,0,2,2,-5,80,0,0,0,0,0,0,0,0,0,0,0,0,0,0,0.05,2.0499999999999998,34,0]
["Rochester Americans",17,"Colin Jacobs","C",6,0,1,1,-4,0,0,0,0,0,0,0,0,0,0,0,0,0,0,0,0.17,0,5,0]
["Rochester Americans",18,"Jordan Samuels-Thomas","LW",58,3,5,8,-17,70,1,0,0,0,0,0,1,0,0,1,0,0,0,0,0.14000000000000001,1.21,59,5.0999999999999996]
["Rochester Americans",19,"Jerry D'Amigo","LW",59,9,17,26,-4,47,1,2,0,1,1,0,1,0,0,1,0,0,0,0,0.44,0.8,93,9.6999999999999993]
["Rochester Americans",19,"Luke Adam","C",27,8,12,20,-13,24,2,5,0,0,2,1,1,0,0,0,0,0,0,0,0.74,0.89,61,13.1]
["Rochester Americans",21,"Zac Dalpe","RW",44,16,12,28,-7,0,3,2,1,1,1,2,3,0,1,0,2,2,2,100,0.64,0,135,11.9]
["Rochester Americans",22,"Phil Varone","C",52,14,29,43,-5,22,5,10,0,1,2,2,2,1,0,0,0,1,0,0,0.83,0.42,118,11.9]
["Rochester Americans",23,"Jack Nevins","LW",40,0,0,0,-8,93,0,0,0,0,0,0,0,0,0,0,0,0,0,0,0,2.33,21,0]
["Rochester Americans",24,"Allan McPherson","C",37,2,4,6,-6,2,0,0,0,0,1,1,0,0,0,0,0,0,0,0,0.16,0.05,33,6.1]
["Rochester Americans",25,"Mikhail Grigorenko","C",40,12,21,33,-4,25,0,8,0,0,2,1,0,0,1,0,0,3,0,0,0.83,0.63,91,13.2]
["Rochester Americans",26,"Johan Larsson","LW",41,14,23,37,12,36,2,11,0,0,1,0,0,0,0,1,0,2,0,0,0.9,0.88,104,13.5]
["Rochester Americans",27,"Curtis Leonard","D",1,0,1,1,0,0,0,0,0,0,0,0,0,0,0,0,0,0,0,0,1,0,1,0]
["Rochester Americans",28,"William Carrier","LW",63,7,14,21,1,38,0,0,0,1,0,2,0,0,0,0,0,0,0,0,0.33,0.6,80,8.8000000000000007]
["Rochester Americans",29,"Jake McCabe","D",52,5,22,27,-2,46,3,4,0,0,0,1,0,0,0,0,0,0,0,0,0.52,0.88,80,6.3]
["Rochester Americans",33,"Joel Armia","RW",33,10,15,25,3,39,2,4,2,0,1,3,1,0,2,1,0,2,0,0,0.76,1.18,78,12.8]
["Rochester Americans",34,"Jerome Leduc","D",68,6,16,22,-5,38,2,5,1,1,1,0,1,0,0,0,1,1,0,100,0.32,0.56000000000000005,117,5.0999999999999996]
["Rochester Americans",37,"Matt Ellis","LW",38,7,6,13,-6,2,3,0,0,0,0,0,0,0,0,0,0,0,0,0,0.34,0.05,65,10.8]
["Rochester Americans",38,"Brodie Reid","RW",43,9,6,15,-10,8,2,1,0,0,3,1,1,0,1,1,0,1,0,0,0.35,0.19,71,12.7]
["Rochester Americans",42,"Jayden Hart","RW",4,1,0,1,-1,2,0,0,0,0,0,1,0,0,0,0,0,0,0,0,0.25,0.5,9,11.1]
["Rochester Americans",43,"Dan Catenacci","RW",60,13,12,25,-3,52,2,0,0,0,3,1,1,0,2,1,0,1,0,0,0.42,0.87,85,15.3]
["Rochester Americans",44,"Steven Shamanski","D",1,0,0,0,0,0,0,0,0,0,0,0,0,0,0,0,0,0,0,0,0,0,0,0]
["Rochester Americans",45,"Nick Tuzzolino","D",14,0,2,2,3,27,0,0,0,0,0,0,0,0,0,0,0,0,0,0,0.14000000000000001,1.93,9,0]
["Rochester Americans",46,"Brayden Irwin","RW",50,14,12,26,-2,22,4,4,0,0,1,0,1,0,1,1,0,0,0,0,0.52,0.44,118,11.9]
["Rochester Americans",47,"Matt MacKenzie","D",40,2,4,6,2,50,0,0,0,0,1,0,0,1,0,0,0,0,0,0,0.15,1.25,33,6.1]
["Rochester Americans",48,"Cameron Burt","D",3,0,1,1,-1,2,0,1,0,0,0,0,0,0,0,0,0,0,0,0,0.33,0.67,1,0]
["Rochester Americans",49,"Matt Tassone","C",3,1,0,1,-1,7,0,0,0,0,0,1,0,0,0,0,0,0,0,0,0.33,2.33,3,33.299999999999997]
["Rochester Americans",49,"Matt Prapavessis","D",3,0,0,0,0,0,0,0,0,0,0,0,0,0,0,0,0,0,0,0,0,0,0,0]
["Rochester Americans",52,"Brady Austin","D",59,1,9,10,-12,29,0,1,1,0,1,0,0,0,0,0,0,0,0,0,0.17,0.49,74,1.4]
["Rochester Americans",55,"Michael Pelech","C",8,1,3,4,4,4,0,0,0,0,0,0,0,0,0,0,0,0,0,0,0.5,0.5,4,25]
["Rochester Americans",92,"Kevin Sundher","LW",25,1,3,4,-1,12,0,1,0,0,0,1,0,0,0,0,0,1,0,0,0.16,0.48,21,4.8]
["Rockford IceHogs",2,"Adam Clendening","D",38,1,12,13,-4,20,0,4,0,0,0,1,0,0,0,0,0,0,0,0,0.34,0.53,89,1.1000000000000001]
["Rockford IceHogs",2,"Kirill Gotovets","D",9,1,1,2,1,8,0,0,0,0,0,1,0,0,0,0,0,0,0,0,0.22,0.89,14,7.1]
["Rockford IceHogs",3,"Zach Miskovic","D",35,2,5,7,1,19,0,0,0,0,0,0,0,0,0,0,0,0,0,0,0.2,0.54,45,4.4000000000000004]
["Rockford IceHogs",4,"Stephen Johns","D",42,3,14,17,22,32,0,2,1,2,2,1,0,0,2,1,0,0,0,0,0.4,0.76,77,3.9]
["Rockford IceHogs",5,"Keith Seabrook","D",8,0,2,2,1,2,0,0,0,0,0,0,0,0,0,0,0,0,0,0,0.25,0.25,14,0]
["Rockford IceHogs",5,"Mathieu Brisebois","D",1,0,0,0,-2,0,0,0,0,0,0,0,0,0,0,0,0,0,0,0,0,0,0,0]
["Rockford IceHogs",6,"Trevor van Riemsdyk","D",8,0,3,3,2,0,0,0,0,0,0,0,0,0,0,0,0,0,0,0,0.38,0,7,0]
["Rockford IceHogs",7,"T.J. Brennan","D",54,9,27,36,12,59,2,7,0,1,3,2,1,0,0,0,1,2,1,50,0.67,1.0900000000000001,153,5.9]
["Rockford IceHogs",8,"Viktor Svedberg","D",40,3,6,9,11,37,0,0,0,0,0,0,0,0,0,0,0,0,0,0,0.23,0.93,55,5.5]
["Rockford IceHogs",9,"Dillon Fournier","D",19,0,3,3,1,14,0,1,0,0,0,0,0,0,0,0,0,0,0,0,0.16,0.74,25,0]
["Rockford IceHogs",10,"Klas Dahlbeck","D",49,4,6,10,2,35,2,0,0,0,2,1,1,0,0,0,0,0,0,0,0.2,0.71,91,4.4000000000000004]
["Rockford IceHogs",11,"Peter Regin","C",61,8,26,34,2,30,3,8,0,0,2,1,2,2,0,1,1,3,1,33.299999999999997,0.56000000000000005,0.49,115,7]
["Rockford IceHogs",12,"Dennis Rasmussen","C",64,11,11,22,9,20,0,3,0,0,2,3,1,0,2,0,0,0,0,0,0.34,0.31,112,9.8000000000000007]
["Rockford IceHogs",13,"Spencer Abbott","RW",57,14,20,34,-2,14,3,7,0,0,2,2,0,1,2,1,2,2,1,100,0.6,0.25,126,11.1]
["Rockford IceHogs",14,"Drew LeBlanc","C",40,4,2,6,-1,8,0,1,0,0,0,0,1,0,1,0,0,0,0,0,0.15,0.2,43,9.3000000000000007]
["Rockford IceHogs",15,"Kyle Cumiskey","D",49,2,12,14,2,10,1,2,0,0,0,2,0,0,0,0,0,0,0,0,0.28999999999999998,0.2,62,3.2]
["Rockford IceHogs",16,"Cody Bass","C",53,3,7,10,0,140,0,0,0,1,1,1,1,0,0,0,0,0,0,0,0.19,2.64,59,5.0999999999999996]
["Rockford IceHogs",17,"Justin Holl","D",1,0,0,0,-1,0,0,0,0,0,0,0,0,0,0,0,0,0,0,0,0,0,0,0]
["Rockford IceHogs",18,"Phillip Danault","C",62,11,22,33,14,38,1,1,2,1,1,2,2,0,2,1,0,0,0,0,0.53,0.61,137,8]
["Rockford IceHogs",19,"Dane Walters","RW",14,1,4,5,3,12,0,0,0,0,0,0,0,0,1,0,0,0,0,0,0.36,0.86,18,5.6]
["Rockford IceHogs",19,"Jeremy Morin","LW",3,1,0,1,-1,2,1,0,0,0,0,0,0,0,0,0,0,0,0,0,0.33,0.67,12,8.3000000000000007]
["Rockford IceHogs",20,"Jamie Wise","F",22,3,0,3,-3,11,0,0,0,0,1,0,0,1,0,0,0,0,0,0,0.14000000000000001,0.5,23,13]
["Rockford IceHogs",21,"Teuvo Teravainen","C",39,6,19,25,-6,6,2,8,1,0,0,3,0,0,0,0,1,2,0,50,0.64,0.15,98,6.1]
["Rockford IceHogs",22,"Pierre-Cedric Labrie","LW",59,9,7,16,4,111,1,1,1,0,2,1,1,1,1,0,0,0,0,0,0.27,1.88,79,11.4]
["Rockford IceHogs",23,"Joakim Nordstrom","C",23,9,7,16,-1,19,5,5,0,0,3,1,2,0,0,0,1,1,0,100,0.7,0.83,48,18.8]
["Rockford IceHogs",24,"Ryan Hartman","RW",60,10,17,27,7,87,2,6,0,0,1,1,2,1,0,0,0,1,0,0,0.45,1.45,137,7.3]
["Rockford IceHogs",25,"Alex Broadhurst","C",20,2,3,5,2,2,0,1,0,0,0,0,0,0,0,0,0,1,0,0,0.25,0.1,23,8.6999999999999993]
["Rockford IceHogs",26,"Garret Ross","LW",61,18,20,38,17,96,2,7,0,0,3,4,2,0,0,2,0,2,0,0,0.62,1.57,153,11.8]
["Rockford IceHogs",27,"Matt Carey","LW",61,10,11,21,-4,34,4,5,0,0,2,4,1,0,0,0,0,2,0,0,0.34,0.56000000000000005,117,8.5]
["Rockford IceHogs",28,"Mark McNeill","C",54,18,18,36,8,21,4,4,1,0,5,3,2,0,2,3,0,1,0,0,0.67,0.39,134,13.4]
["Rockford IceHogs",29,"Ville Pokka","D",61,8,21,29,-1,16,5,6,0,0,1,1,0,0,0,0,0,0,0,0,0.48,0.26,117,6.8]
["Rockford IceHogs",38,"Ryan Schnell","LW",24,2,4,6,1,71,0,0,0,0,0,0,0,0,0,0,0,0,0,0,0.25,2.96,23,8.6999999999999993]
["Rockford IceHogs",53,"Brandon Mashinter","LW",61,15,12,27,1,53,5,3,0,0,4,6,0,0,0,2,0,0,0,0,0.44,0.87,115,13]
["San Antonio Rampage",2,"Mackenzie Weegar","D",30,2,8,10,1,40,1,5,0,0,1,1,1,0,0,0,0,0,0,0,0.33,1.33,41,4.9000000000000004]
["San Antonio Rampage",4,"Alex Petrovic","D",39,3,16,19,-1,57,1,6,0,0,0,0,0,0,0,0,1,1,1,100,0.49,1.46,63,4.8]
["San Antonio Rampage",4,"Josh McFadden","D",8,1,2,3,3,7,0,0,0,0,0,0,0,0,0,0,0,0,0,0,0.38,0.88,5,20]
["San Antonio Rampage",5,"Greg Zanon","D",68,3,21,24,16,42,0,1,1,0,0,1,0,0,1,1,0,0,0,0,0.35,0.62,80,3.8]
["San Antonio Rampage",6,"Jonathan Racine","D",64,0,6,6,6,143,0,1,0,1,0,0,0,0,0,0,0,0,0,0,0.09,2.23,49,0]
["San Antonio Rampage",7,"Blake Parlett","D",61,8,16,24,9,61,1,3,0,0,3,1,0,1,0,0,0,0,0,0,0.39,1,82,9.8000000000000007]
["San Antonio Rampage",8,"Steven Kampfer","D",42,8,11,19,-5,49,4,6,1,0,2,2,0,0,0,0,0,2,0,0,0.45,1.17,106,7.5]
["San Antonio Rampage",9,"Rocco Grimaldi","C",59,12,28,40,9,22,1,9,0,1,4,1,1,4,3,0,3,6,3,50,0.68,0.37,122,9.8000000000000007]
["San Antonio Rampage",10,"Andrew Yogan","C",41,8,1,9,-5,42,0,1,0,0,0,3,0,0,1,0,0,0,0,0,0.22,1.02,42,19]
["San Antonio Rampage",11,"Steven Hodges","C",23,1,1,2,-4,4,0,0,0,0,0,0,0,0,0,0,0,1,0,0,0.09,0.17,20,5]
["San Antonio Rampage",12,"Brett Olson","C",69,14,29,43,14,54,3,6,3,1,1,5,2,1,2,0,0,0,0,0,0.62,0.78,171,8.1999999999999993]
["San Antonio Rampage",14,"Vincent Trocheck","C",21,6,11,17,2,19,2,3,1,0,0,0,0,0,1,0,1,1,0,100,0.81,0.9,46,13]
["San Antonio Rampage",15,"Dany Heatley","LW",38,8,7,15,-3,14,4,2,0,0,1,1,0,0,0,1,0,3,0,0,0.39,0.37,71,11.3]
["San Antonio Rampage",16,"Bobby Butler","RW",66,26,32,58,8,37,6,12,1,1,7,1,6,0,3,2,1,3,0,33.299999999999997,0.88,0.56000000000000005,163,16]
["San Antonio Rampage",17,"Ryan Martindale","C",45,8,5,13,-7,6,2,0,1,0,0,1,1,0,1,0,0,1,0,0,0.28999999999999998,0.13,82,9.8000000000000007]
["San Antonio Rampage",17,"Matthew Corrente","D",58,3,10,13,17,144,1,0,0,0,0,0,1,0,0,0,0,0,0,0,0.22,2.48,54,5.6]
["San Antonio Rampage",18,"John McFarland","RW",41,10,7,17,5,6,2,0,0,0,2,3,1,0,0,1,0,0,0,0,0.41,0.15,64,15.6]
["San Antonio Rampage",19,"Garrett Wilson","LW",64,21,12,33,0,73,7,4,0,0,2,1,4,0,1,1,1,1,0,100,0.52,1.1399999999999999,181,11.6]
["San Antonio Rampage",20,"Corban Knight","C",51,14,18,32,1,16,1,5,1,0,2,3,3,0,3,0,1,2,0,50,0.63,0.31,112,12.5]
["San Antonio Rampage",20,"Byron Froese","C",3,0,0,0,-2,2,0,0,0,0,0,0,0,0,0,0,0,0,0,0,0,0.67,2,0]
["San Antonio Rampage",22,"Logan Shaw","RW",63,13,10,23,3,23,3,1,0,0,2,1,0,0,1,2,2,3,1,66.7,0.37,0.37,112,11.6]
["San Antonio Rampage",23,"Connor Brickley","LW",66,21,21,42,10,66,4,2,0,1,2,4,3,0,1,1,0,1,0,0,0.64,1,142,14.8]
["San Antonio Rampage",24,"Quinton Howden","LW",26,2,15,17,13,12,0,0,1,0,1,0,0,0,0,0,0,0,0,0,0.65,0.46,41,4.9000000000000004]
["San Antonio Rampage",25,"Jesse Blacker","D",50,6,17,23,-10,33,3,3,0,1,1,0,1,1,0,0,0,0,0,0,0.46,0.66,96,6.3]
["San Antonio Rampage",26,"Mark Mancari","RW",68,13,31,44,-2,41,2,10,0,0,3,4,1,0,0,0,1,4,1,25,0.65,0.6,173,7.5]
["San Antonio Rampage",27,"Joe Basaraba","F",22,0,1,1,-2,8,0,0,0,0,0,0,0,0,0,0,0,0,0,0,0.05,0.36,24,0]
["San Antonio Rampage",28,"Wade Megan","C",52,5,5,10,-2,44,0,0,2,0,0,2,0,0,2,0,0,1,0,0,0.19,0.85,72,6.9]
["San Antonio Rampage",32,"Drew Shore","C",35,9,21,30,0,16,2,9,0,1,2,3,1,1,0,1,1,2,0,50,0.86,0.46,88,10.199999999999999]
["San Antonio Rampage",33,"Shayne Taker","D",4,0,0,0,-3,2,0,0,0,0,0,0,0,0,0,0,0,0,0,0,0,0.5,2,0]
["San Antonio Rampage",34,"Dylan Olsen","D",5,1,2,3,3,2,0,1,0,0,1,0,0,1,0,0,0,0,0,0,0.6,0.4,12,8.3000000000000007]
["San Antonio Rampage",36,"Tony Turgeon","LW",16,0,1,1,-1,46,0,0,0,0,0,0,0,0,0,0,0,0,0,0,0.06,2.88,12,0]
["San Antonio Rampage",42,"Stephan Vigier","F",6,0,2,2,-2,4,0,0,0,0,0,0,0,0,0,0,0,0,0,0,0.33,0.67,6,0]
["San Antonio Rampage",44,"Shane O'Brien","D",47,11,18,29,4,127,4,7,0,1,2,3,0,0,1,0,0,0,0,0,0.62,2.7,92,12]
["Springfield Falcons",3,"Hubert Labrie","D",40,0,6,6,5,50,0,0,0,0,0,0,0,0,0,0,0,0,0,0,0.15,1.25,45,0]
["Springfield Falcons",4,"Will Weber","D",26,0,1,1,2,54,0,0,0,0,0,0,0,0,0,0,0,0,0,0,0.04,2.08,19,0]
["Springfield Falcons",5,"Austin Madaisky","D",53,12,23,35,4,28,2,11,0,0,2,3,2,0,1,0,0,0,0,0,0.66,0.53,132,9.1]
["Springfield Falcons",6,"Mike Cornell","D",11,0,2,2,-4,16,0,0,0,0,0,0,0,0,0,0,0,0,0,0,0.18,1.45,13,0]
["Springfield Falcons",6,"Steven Shamanski","D",2,0,0,0,0,0,0,0,0,0,0,0,0,0,0,0,0,0,0,0,0,0,0,0]
["Springfield Falcons",6,"Derek Docken","D",5,0,0,0,-3,0,0,0,0,0,0,0,0,0,0,0,0,0,0,0,0,0,3,0]
["Springfield Falcons",7,"Denny Urban","D",31,2,9,11,-2,12,2,2,0,0,2,0,0,1,0,0,0,0,0,0,0.35,0.39,50,4]
["Springfield Falcons",8,"Josh Anderson","RW",46,5,8,13,0,65,1,1,0,1,0,0,0,0,0,0,0,0,0,0,0.28000000000000003,1.41,68,7.4]
["Springfield Falcons",9,"Brian Gibbons","LW",21,3,7,10,-11,12,2,2,0,0,1,0,1,0,1,0,0,1,0,0,0.48,0.56999999999999995,28,10.7]
["Springfield Falcons",10,"Marko Dano","C",37,10,8,18,-5,26,1,4,0,0,2,2,0,1,1,0,0,1,0,0,0.49,0.7,88,11.4]
["Springfield Falcons",11,"Mike Hoeffel","LW",56,8,9,17,6,39,1,1,0,1,2,3,0,0,1,0,0,0,0,0,0.3,0.7,93,8.6]
["Springfield Falcons",12,"Ryan Craig","LW",63,16,17,33,0,58,7,6,1,1,0,3,2,0,0,1,0,0,0,0,0.52,0.92,134,11.9]
["Springfield Falcons",13,"Trent Vogelhuber","C",58,7,6,13,0,39,0,1,1,0,2,1,0,1,0,1,0,0,0,0,0.22,0.67,56,12.5]
["Springfield Falcons",14,"Dana Tyrell","RW",51,13,13,26,2,34,2,3,0,0,1,1,2,1,1,2,0,0,0,0,0.51,0.67,71,18.3]
["Springfield Falcons",15,"Kerby Rychel","LW",51,12,21,33,7,43,4,6,0,0,4,3,1,0,0,1,1,2,1,50,0.65,0.84,132,9.1]
["Springfield Falcons",16,"Michael Chaput","C",39,9,11,20,-1,22,4,2,0,0,1,2,2,0,0,0,1,1,1,100,0.51,0.56000000000000005,76,11.8]
["Springfield Falcons",17,"Sean Collins","RW",58,15,17,32,-9,26,4,6,0,0,2,5,3,0,2,1,2,3,1,66.7,0.55000000000000004,0.45,151,9.9]
["Springfield Falcons",18,"T.J. Tynan","C",69,10,32,42,-11,46,3,16,0,0,1,1,0,1,0,0,2,4,2,50,0.61,0.67,118,8.5]
["Springfield Falcons",19,"Luke Adam","C",67,15,26,41,-19,60,3,10,0,0,2,4,1,0,0,0,0,0,0,0,0.61,0.9,144,10.4]
["Springfield Falcons",19,"Riley Wetmore","C",1,0,0,0,-1,0,0,0,0,0,0,0,0,0,0,0,0,0,0,0,0,0,0,0]
["Springfield Falcons",20,"Nathan Oystrick","D",12,1,3,4,-3,4,0,2,0,0,1,0,0,1,0,0,0,0,0,0,0.33,0.33,10,10]
["Springfield Falcons",20,"Yann Sauve","D",17,0,2,2,-5,12,0,0,0,0,0,0,0,0,0,0,0,0,0,0,0.12,0.71,19,0]
["Springfield Falcons",20,"Rick Pinkston","D",1,0,0,0,-1,0,0,0,0,0,0,0,0,0,0,0,0,0,0,0,0,0,1,0]
["Springfield Falcons",21,"William Karlsson","C",46,8,16,24,-14,2,3,6,0,0,1,0,0,1,0,0,0,2,0,0,0.52,0.04,101,7.9]
["Springfield Falcons",21,"Adam Cracknell","RW",18,3,4,7,-3,2,1,0,0,0,2,0,0,0,0,0,0,0,0,0,0.39,0.11,38,7.9]
["Springfield Falcons",21,"Steve McCarthy","D",3,0,0,0,1,6,0,0,0,0,0,0,0,0,0,0,0,0,0,0,0,2,1,0]
["Springfield Falcons",22,"Lukas Sedlak","C",46,6,9,15,9,30,0,0,1,1,1,0,1,0,1,1,0,0,0,0,0.33,0.65,68,8.8000000000000007]
["Springfield Falcons",24,"Brett Ponich","D",33,0,4,4,-2,105,0,0,0,0,0,0,0,0,0,0,0,0,0,0,0.12,3.18,14,0]
["Springfield Falcons",25,"Mathieu Gagnon","LW",20,1,0,1,3,65,0,0,0,0,0,1,0,0,0,0,0,0,0,0,0.05,3.25,9,11.1]
["Springfield Falcons",26,"Jaime Sifers","D",70,3,17,20,-4,78,0,3,0,0,1,0,0,0,1,0,0,0,0,0,0.28999999999999998,1.1100000000000001,114,2.6]
["Springfield Falcons",27,"Rene Bourque","LW",4,2,2,4,2,4,1,0,0,0,0,0,0,0,0,0,0,0,0,0,1,1,17,11.8]
["Springfield Falcons",27,"Cody Goloubef","D",3,0,0,0,0,0,0,0,0,0,0,0,0,0,0,0,0,0,0,0,0,0,3,0]
["Springfield Falcons",27,"Matthew Zay","LW",3,0,0,0,-1,0,0,0,0,0,0,0,0,0,0,0,0,0,0,0,0,0,8,0]
["Springfield Falcons",28,"Andrew Cherniwchan","F",12,2,1,3,-4,6,0,0,0,0,0,0,0,0,0,0,0,0,0,0,0.25,0.5,13,15.4]
["Springfield Falcons",28,"Mike Little","D",7,0,2,2,-1,2,0,1,0,0,0,0,0,0,0,0,0,0,0,0,0.28999999999999998,0.28999999999999998,4,0]
["Springfield Falcons",28,"Steve Weinstein","D",2,0,1,1,-2,0,0,1,0,0,0,0,0,0,0,0,0,0,0,0,0.5,0,0,0]
["Springfield Falcons",28,"Tyler Sikura","F",2,0,0,0,-1,0,0,0,0,0,0,0,0,0,0,0,0,0,0,0,0,0,1,0]
["Springfield Falcons",28,"Patrick Cullity","D",3,0,0,0,-3,4,0,0,0,0,0,0,0,0,0,0,0,0,0,0,0,1.33,0,0]
["Springfield Falcons",28,"James Livingston","RW",6,0,0,0,-1,0,0,0,0,0,0,0,0,0,0,0,0,0,0,0,0,0,3,0]
["Springfield Falcons",29,"Jerry D'Amigo","LW",28,3,4,7,-4,26,1,1,0,0,1,0,0,0,0,0,0,0,0,0,0.25,0.93,36,8.3000000000000007]
["Springfield Falcons",29,"Sonny Milano","LW",4,0,1,1,-4,0,0,0,0,0,0,0,0,0,0,0,0,0,0,0,0.25,0,6,0]
["Springfield Falcons",32,"Frederic St. Denis","D",53,3,15,18,3,26,2,3,0,1,0,0,0,0,1,0,0,0,0,0,0.34,0.49,113,2.7]
["Springfield Falcons",34,"Alexander Wennberg","C",6,0,3,3,4,12,0,0,0,0,0,0,0,0,0,0,0,1,0,0,0.5,2,7,0]
["Springfield Falcons",36,"Corey Cowick","LW",46,6,3,9,-2,47,0,1,1,0,2,2,0,0,1,1,0,0,0,0,0.2,1.02,57,10.5]
["Springfield Falcons",37,"Thomas Larkin","D",58,5,11,16,8,85,2,0,0,0,1,1,0,0,0,0,0,0,0,0,0.28000000000000003,1.47,57,8.8000000000000007]
["Springfield Falcons",38,"Seth Ambroz","RW",2,0,0,0,-1,5,0,0,0,0,0,0,0,0,0,0,0,0,0,0,0,2.5,0,0]
["Springfield Falcons",40,"Domenic Monardo","RW",43,10,4,14,0,46,2,0,0,0,1,0,0,0,2,0,0,0,0,0,0.33,1.07,101,9.9]
["St. John's IceCaps",2,"Peter Stoykewych","D",2,0,0,0,0,2,0,0,0,0,0,0,0,0,0,0,0,0,0,0,0,1,0,0]
["St. John's IceCaps",3,"Aaron Harstad","D",2,0,0,0,1,0,0,0,0,0,0,0,0,0,0,0,0,0,0,0,0,0,2,0]
["St. John's IceCaps",4,"Keaton Ellerby","D",41,3,13,16,-10,32,0,3,2,0,0,0,1,0,0,0,0,0,0,0,0.39,0.78,68,4.4000000000000004]
["St. John's IceCaps",7,"Kris Fredheim","D",54,2,5,7,-5,26,1,0,0,1,0,0,0,0,0,0,0,0,0,0,0.13,0.48,57,3.5]
["St. John's IceCaps",8,"Brenden Kichton","D",59,8,17,25,-7,26,3,11,0,0,2,2,0,1,0,0,1,1,1,100,0.42,0.44,96,8.3000000000000007]
["St. John's IceCaps",9,"Ryan Olsen","C",59,4,5,9,-17,47,0,0,0,0,0,0,0,0,0,0,0,0,0,0,0.15,0.8,55,7.3]
["St. John's IceCaps",13,"Chase Balisy","LW",67,17,20,37,-14,26,6,6,0,1,3,2,2,0,0,0,2,4,1,50,0.55000000000000004,0.39,94,18.100000000000001]
["St. John's IceCaps",14,"Eric O'Dell","C",37,14,15,29,-4,34,3,8,0,0,1,5,1,0,1,1,0,2,0,0,0.78,0.92,106,13.2]
["St. John's IceCaps",15,"Jason Jaffray","LW",30,10,6,16,-2,16,1,1,0,0,1,2,1,0,0,2,0,0,0,0,0.53,0.53,54,18.5]
["St. John's IceCaps",16,"John Albert","C",64,16,26,42,3,26,1,8,3,0,1,1,2,1,1,0,2,6,0,33.299999999999997,0.66,0.41,140,11.4]
["St. John's IceCaps",17,"Brandon MacLean","LW",35,0,2,2,-4,8,0,0,0,0,0,0,0,0,0,0,0,0,0,0,0.06,0.23,50,0]
["St. John's IceCaps",18,"Ben Chiarot","D",24,4,5,9,0,21,3,2,0,0,0,1,0,0,0,0,0,0,0,0,0.38,0.88,64,6.3]
["St. John's IceCaps",19,"Kyle MacKinnon","C",46,6,21,27,3,22,3,4,0,2,0,0,0,0,0,1,2,2,1,100,0.59,0.48,74,8.1]
["St. John's IceCaps",20,"Yann Sauve","D",4,1,0,1,0,0,1,0,0,0,0,1,0,0,0,0,0,0,0,0,0.25,0,6,16.7]
["St. John's IceCaps",21,"Ben Walker","RW",30,1,2,3,-10,16,0,0,0,0,1,1,0,1,0,0,1,1,0,100,0.1,0.53,35,2.9]
["St. John's IceCaps",23,"Ralfs Freibergs","D",5,0,2,2,-1,2,0,1,0,0,0,0,0,0,0,0,0,0,0,0,0.4,0.4,2,0]
["St. John's IceCaps",24,"Scott Kosmachuk","RW",64,13,12,25,-19,62,4,6,0,0,1,3,1,0,2,0,0,2,0,0,0.39,0.97,113,11.5]
["St. John's IceCaps",25,"Blair Riley","RW",64,6,10,16,-8,114,0,0,0,0,1,1,0,0,1,0,0,1,0,0,0.25,1.78,59,10.199999999999999]
["St. John's IceCaps",26,"Nicolas Blanchard","LW",59,3,11,14,-7,79,0,0,0,0,0,0,0,0,0,0,0,0,0,0,0.24,1.34,69,4.3]
["St. John's IceCaps",27,"Will O'Neill","D",66,10,33,43,-12,63,8,12,0,0,2,3,1,0,0,0,0,0,0,0,0.65,0.95,177,5.7]
["St. John's IceCaps",28,"Patrice Cormier","C",43,9,7,16,-12,66,2,4,2,0,2,4,0,1,1,0,0,0,0,0,0.37,1.53,72,12.5]
["St. John's IceCaps",29,"Jordan Hill","D",32,1,3,4,-10,25,0,0,0,0,1,0,0,1,0,0,0,0,0,0,0.13,0.78,22,4.5]
["St. John's IceCaps",33,"Joel Armia","RW",48,10,19,29,-1,51,2,4,2,0,1,3,1,0,2,1,0,2,0,0,0.6,1.06,107,9.3000000000000007]
["St. John's IceCaps",34,"JC Lipon","RW",69,4,19,23,-19,141,0,2,0,2,0,1,0,0,0,0,1,2,1,50,0.33,2.04,115,3.5]
["St. John's IceCaps",41,"Patrick Holland","RW",21,0,2,2,-1,6,0,0,0,0,0,0,0,0,0,0,1,1,0,100,0.1,0.28999999999999998,8,0]
["St. John's IceCaps",44,"Julian Melchiori","D",68,1,5,6,-13,54,0,0,0,0,1,0,0,0,0,0,0,0,0,0,0.09,0.79,51,2]
["St. John's IceCaps",45,"Mike Cornell","D",15,2,2,4,-4,49,2,1,0,0,1,1,0,1,0,0,0,0,0,0,0.27,3.27,26,7.7]
["St. John's IceCaps",45,"Brodie Reid","RW",1,0,0,0,-2,0,0,0,0,0,0,0,0,0,0,0,0,0,0,0,0,0,1,0]
["St. John's IceCaps",47,"Ryan Parent","D",18,0,1,1,-3,10,0,0,0,0,0,0,0,0,0,0,0,0,0,0,0.06,0.56000000000000005,10,0]
["St. John's IceCaps",48,"Carl Klingberg","RW",51,15,15,30,0,41,2,4,0,1,5,4,0,2,1,1,0,2,0,0,0.59,0.8,152,9.9]
["St. John's IceCaps",49,"Julien Brouillette","D",44,6,9,15,-5,16,1,4,0,0,3,0,0,1,0,0,0,0,0,0,0.34,0.36,74,8.1]
["St. John's IceCaps",50,"Austen Brassard","RW",69,5,10,15,-12,60,1,1,0,0,0,1,0,0,0,0,1,2,0,50,0.22,0.87,65,7.7]
["Syracuse Crunch",3,"Joey Mormina","D",51,4,14,18,3,61,1,4,1,0,0,2,0,0,0,0,0,0,0,0,0.35,1.2,101,4]
["Syracuse Crunch",4,"Jake Dotchin","D",49,6,12,18,-3,99,4,1,0,0,0,0,0,0,0,1,0,0,0,0,0.37,2.02,74,8.1]
["Syracuse Crunch",6,"Dylan Blujus","D",59,2,17,19,3,16,1,6,0,0,0,0,0,0,0,0,0,0,0,0,0.32,0.27,76,2.6]
["Syracuse Crunch",7,"Artem Sergeev","D",5,1,0,1,0,7,0,0,0,0,0,1,0,0,0,0,0,0,0,0,0.2,1.4,3,33.299999999999997]
["Syracuse Crunch",8,"Ryan Martindale","C",57,13,8,21,-6,10,2,1,1,0,0,1,1,0,1,0,0,1,0,0,0.37,0.18,103,12.6]
["Syracuse Crunch",9,"Carter Ashton","RW",34,7,14,21,-2,57,1,8,0,0,1,0,2,0,0,3,0,0,0,0,0.62,1.68,81,8.6]
["Syracuse Crunch",10,"Mike Angelidis","C",63,20,18,38,3,138,6,2,0,1,4,4,0,0,0,0,0,1,0,0,0.6,2.19,100,20]
["Syracuse Crunch",11,"Jerome Samson","RW",26,1,7,8,-2,14,0,2,0,0,1,1,0,0,0,0,0,0,0,0,0.31,0.54,53,1.9]
["Syracuse Crunch",11,"Brayden Point","F",2,0,0,0,-2,0,0,0,0,0,0,0,0,0,0,0,0,0,0,0,0,0,7,0]
["Syracuse Crunch",12,"Kevin Lynch","C",46,1,1,2,-8,16,0,0,0,0,1,0,0,0,0,0,1,2,1,50,0.04,0.35,51,2]
["Syracuse Crunch",13,"Matthew Corrente","D",48,2,6,8,7,101,0,0,0,0,0,0,1,0,0,0,0,0,0,0,0.17,2.1,46,4.3]
["Syracuse Crunch",14,"Justin Courtnall","LW",50,7,7,14,8,82,0,0,1,0,0,2,2,0,1,0,0,0,0,0,0.28000000000000003,1.64,64,10.9]
["Syracuse Crunch",15,"David Broll","LW",36,0,3,3,-9,114,0,0,0,0,0,0,0,0,0,0,0,0,0,0,0.08,3.17,47,0]
["Syracuse Crunch",16,"Jeff Costello","LW",2,0,0,0,0,0,0,0,0,0,0,0,0,0,0,0,0,0,0,0,0,0,0,0]
["Syracuse Crunch",17,"Cedric Paquette","C",5,4,3,7,8,7,0,0,0,0,0,0,0,0,0,0,0,0,0,0,1.4,1.4,19,21.1]
["Syracuse Crunch",18,"Jonathan Marchessault","RW",61,21,37,58,6,28,6,13,1,0,4,4,1,1,5,4,1,3,1,33.299999999999997,0.95,0.46,224,9.4]
["Syracuse Crunch",19,"Nicolas Deschamps","LW",12,0,1,1,-2,2,0,0,0,0,0,0,0,0,0,0,0,0,0,0,0.08,0.17,14,0]
["Syracuse Crunch",20,"Cody Kunyk","C",61,9,14,23,-16,34,2,5,0,1,1,2,1,0,0,0,0,1,0,0,0.38,0.56000000000000005,90,10]
["Syracuse Crunch",21,"Mike Blunden","RW",33,13,9,22,0,28,2,2,1,0,3,1,1,0,2,1,0,1,0,0,0.67,0.85,94,13.8]
["Syracuse Crunch",24,"Jean-Philippe Cote","D",66,2,8,10,13,104,0,0,0,0,0,1,0,0,0,0,0,0,0,0,0.15,1.58,52,3.8]
["Syracuse Crunch",27,"Jonathan Drouin","LW",2,1,2,3,4,0,0,0,0,0,1,0,0,0,1,0,0,0,0,0,1.5,0,9,11.1]
["Syracuse Crunch",29,"Eric Neilson","RW",19,0,1,1,-6,57,0,0,0,0,0,0,0,0,0,0,0,0,0,0,0.05,3,10,0]
["Syracuse Crunch",33,"Dalton Smith","LW",60,11,6,17,-13,77,2,0,0,0,0,1,2,0,0,0,0,0,0,0,0.28000000000000003,1.28,83,13.3]
["Syracuse Crunch",37,"Yanni Gourde","LW",68,26,26,52,17,53,8,5,1,0,5,7,3,1,2,1,1,2,0,50,0.76,0.78,149,17.5]
["Syracuse Crunch",42,"Jared Nightingale","D",35,0,2,2,1,38,0,0,0,0,0,0,0,0,0,0,0,0,0,0,0.06,1.0900000000000001,23,0]
["Syracuse Crunch",44,"Charlie Dodero","D",28,1,3,4,5,64,0,0,0,0,1,0,0,0,0,0,0,0,0,0,0.14000000000000001,2.29,22,4.5]
["Syracuse Crunch",57,"Henri Ikonen","LW",53,5,6,11,6,37,0,0,0,0,2,0,1,0,1,1,0,1,0,0,0.21,0.7,55,9.1]
["Syracuse Crunch",63,"Philippe Paradis","LW",34,8,7,15,10,49,0,0,1,0,1,3,0,0,1,0,0,0,0,0,0.44,1.44,55,14.5]
["Syracuse Crunch",65,"Slater Koekkoek","D",66,5,19,24,10,40,1,5,0,0,1,1,1,1,0,0,0,0,0,0,0.36,0.61,107,4.7]
["Syracuse Crunch",71,"Tanner Richard","C",64,12,25,37,18,129,3,7,0,0,1,5,3,0,0,0,1,2,1,50,0.57999999999999996,2.02,104,11.5]
["Syracuse Crunch",78,"Danick Gauthier","LW",3,0,0,0,-3,2,0,0,0,0,0,0,0,0,0,0,0,0,0,0,0,0.67,4,0]
["Syracuse Crunch",82,"Luke Witkowski","D",47,2,6,8,6,91,0,0,0,0,1,0,0,0,0,0,0,0,0,0,0.17,1.94,44,4.5]
["Syracuse Crunch",89,"Nikita Nesterov","D",32,3,11,14,4,26,2,7,0,0,2,1,0,1,0,0,0,0,0,0,0.44,0.81,64,4.7]
["Syracuse Crunch",90,"Vladislav Namestnikov","C",34,14,21,35,11,12,3,5,1,1,3,3,3,1,1,1,0,1,0,0,1.03,0.35,99,14.1]
["Syracuse Crunch",92,"Joel Vermin","RW",65,10,20,30,1,16,1,5,0,0,4,0,0,0,2,0,0,1,0,0,0.46,0.25,89,11.2]
["Texas Stars",2,"William Wrenn","D",31,1,2,3,-3,25,0,0,0,0,0,0,1,0,0,0,0,0,0,0,0.1,0.81,17,5.9]
["Texas Stars",3,"Jyrki Jokipakka","D",19,3,2,5,-1,4,2,2,0,0,1,0,0,0,0,0,0,0,0,0,0.26,0.21,33,9.1]
["Texas Stars",4,"John Klingberg","D",10,4,8,12,5,6,1,4,0,0,1,0,1,0,0,0,0,0,0,0,1.2,0.6,22,18.2]
["Texas Stars",4,"Esa Lindell","D",5,0,1,1,0,2,0,0,0,0,0,0,0,0,0,0,0,0,0,0,0.2,0.4,6,0]
["Texas Stars",4,"Connor Hardowa","D",5,0,0,0,-5,2,0,0,0,0,0,0,0,0,0,0,0,0,0,0,0,0.4,3,0]
["Texas Stars",6,"Jamie Oleksiak","D",27,4,10,14,16,8,1,1,0,0,1,0,1,0,0,0,0,0,0,0,0.52,0.3,40,10]
["Texas Stars",7,"Julius Honka","D",60,7,19,26,-8,51,3,5,0,0,1,1,0,0,1,0,0,0,0,0,0.43,0.85,122,5.7]
["Texas Stars",8,"Kevin Henderson","LW",49,5,5,10,-3,23,0,1,0,0,0,1,0,0,0,0,0,0,0,0,0.2,0.47,60,8.3000000000000007]
["Texas Stars",9,"Derek Meech","D",61,10,24,34,-11,30,3,13,1,0,1,2,2,0,1,0,0,0,0,0,0.56000000000000005,0.49,113,8.9]
["Texas Stars",10,"Justin Dowling","C",57,19,25,44,-7,18,6,7,0,2,2,3,1,1,0,2,0,2,0,0,0.77,0.32,122,15.6]
["Texas Stars",11,"Branden Troock","RW",42,5,7,12,7,27,0,0,0,1,1,2,0,0,1,0,0,0,0,0,0.28999999999999998,0.64,49,10.199999999999999]
["Texas Stars",12,"Patrik Nemeth","D",5,0,1,1,-5,0,0,0,0,0,0,0,0,0,0,0,0,0,0,0,0.2,0,5,0]
["Texas Stars",13,"Mike Dalhuisen","D",8,1,0,1,0,23,0,0,0,0,0,0,0,0,0,0,0,0,0,0,0.13,2.88,7,14.3]
["Texas Stars",14,"Gemel Smith","C",60,9,16,25,9,29,1,4,0,0,1,2,2,0,1,0,0,1,0,0,0.42,0.48,76,11.8]
["Texas Stars",15,"Scott Glennie","C",61,14,21,35,-1,45,6,3,0,0,3,5,2,0,0,1,0,0,0,0,0.56999999999999995,0.74,100,14]
["Texas Stars",16,"Curtis McKenzie","LW",26,6,12,18,-2,44,3,5,0,0,2,0,0,0,0,0,0,0,0,0,0.69,1.69,66,9.1]
["Texas Stars",17,"Eric Faille","F",21,2,4,6,0,2,0,0,0,0,0,1,1,0,1,0,0,0,0,0,0.28999999999999998,0.1,22,9.1]
["Texas Stars",17,"Taylor Stefishen","LW",4,0,1,1,1,0,0,0,0,0,0,0,0,0,0,0,0,0,0,0,0.25,0,6,0]
["Texas Stars",18,"Maxime Fortunus","D",59,9,22,31,-8,25,5,9,0,0,2,0,1,1,1,0,0,0,0,0,0.53,0.42,110,8.1999999999999993]
["Texas Stars",19,"Brendan Ranford","LW",65,15,28,43,-2,22,5,8,0,0,0,2,3,0,0,1,2,2,0,100,0.66,0.34,133,11.3]
["Texas Stars",20,"Brett Ritchie","RW",25,12,7,19,12,34,2,3,0,0,3,1,2,0,1,3,0,0,0,0,0.76,1.36,106,11.3]
["Texas Stars",21,"Jesse Root","C",37,5,7,12,0,6,0,0,0,0,1,1,1,0,0,0,0,0,0,0,0.32,0.16,61,8.1999999999999993]
["Texas Stars",22,"Scott Valentine","D",45,3,6,9,6,75,0,0,0,0,1,0,0,0,0,0,0,0,0,0,0.2,1.67,52,5.8]
["Texas Stars",23,"Travis Morin","C",57,19,35,54,-10,38,4,18,1,0,2,4,1,0,2,1,1,1,1,100,0.95,0.67,147,12.9]
["Texas Stars",24,"Cameron Gaunce","D",67,4,8,12,7,94,1,1,0,1,0,2,0,0,0,0,0,0,0,0,0.18,1.4,88,4.5]
["Texas Stars",25,"Taylor Peters","C",39,0,3,3,-4,9,0,0,0,0,0,0,0,0,0,0,0,0,0,0,0.08,0.23,29,0]
["Texas Stars",26,"Matt Mangene","D",31,0,14,14,-4,12,0,7,0,0,0,0,0,0,0,0,0,0,0,0,0.45,0.39,48,0]
["Texas Stars",27,"Greg Rallo","C",65,23,18,41,-13,36,10,5,0,1,3,8,2,0,2,0,0,0,0,0,0.63,0.55000000000000004,183,12.6]
["Texas Stars",28,"Matej Stransky","RW",63,4,11,15,1,60,0,0,0,0,1,0,0,0,0,0,0,1,0,0,0.24,0.95,116,3.4]
["Texas Stars",29,"Radek Faksa","C",32,4,6,10,-13,12,0,3,0,0,1,1,1,0,0,1,0,0,0,0,0.31,0.38,49,8.1999999999999993]
["Texas Stars",34,"Devin Shore","C",11,2,2,4,2,4,0,0,0,0,0,0,0,0,0,0,0,0,0,0,0.36,0.36,16,12.5]
["Texas Stars",35,"Ludwig Karlsson","F",2,0,0,0,0,0,0,0,0,0,0,0,0,0,0,0,0,0,0,0,0,0,2,0]
["Texas Stars",36,"Ludwig Bystrom","D",6,0,2,2,1,4,0,0,0,0,0,0,0,0,0,0,0,0,0,0,0.33,0.67,4,0]
["Texas Stars",37,"Valeri Nichushkin","RW",5,0,4,4,-6,12,0,2,0,0,0,0,0,0,0,0,0,0,0,0,0.8,2.4,16,0]
["Texas Stars",39,"Derek Hulak","LW",63,18,22,40,0,22,4,7,1,0,4,3,0,0,2,1,0,0,0,0,0.63,0.35,121,14.9]
["Toronto Marlies",2,"Andrew MacWilliam","D",56,3,4,7,21,47,0,0,0,0,1,1,1,0,0,0,0,0,0,0,0.13,0.84,42,7.1]
["Toronto Marlies",3,"T.J. Brennan","D",64,9,30,39,12,67,2,9,0,1,3,2,1,0,0,0,1,2,1,50,0.61,1.05,190,4.7]
["Toronto Marlies",4,"Brendan Mikkelson","D",52,7,13,20,9,32,1,5,0,0,2,2,1,0,0,0,0,0,0,0,0.38,0.62,110,6.4]
["Toronto Marlies",5,"Korbinian Holzer","D",9,0,2,2,-1,10,0,1,0,0,0,0,0,0,0,0,0,0,0,0,0.22,1.1100000000000001,16,0]
["Toronto Marlies",7,"Matt Finn","D",25,1,1,2,-2,12,0,1,0,0,0,0,0,0,0,0,0,0,0,0,0.08,0.48,25,4]
["Toronto Marlies",8,"Petter Granberg","D",44,1,13,14,11,24,0,0,0,0,0,1,0,0,0,0,0,0,0,0,0.32,0.55000000000000004,26,3.8]
["Toronto Marlies",9,"Greg McKegg","C",54,19,14,33,8,33,4,3,1,1,4,4,4,2,1,1,1,1,1,100,0.61,0.61,114,16.7]
["Toronto Marlies",10,"Stuart Percy","D",37,1,7,8,-3,14,0,2,0,0,1,0,0,1,1,0,0,0,0,0,0.22,0.38,51,2]
["Toronto Marlies",11,"Brad Ross","LW",31,4,4,8,0,50,0,0,0,0,0,2,1,0,0,0,0,0,0,0,0.26,1.61,45,8.9]
["Toronto Marlies",12,"Petri Kontiola","C",11,0,0,0,-4,6,0,0,0,0,0,0,0,0,0,0,0,0,0,0,0,0.55000000000000004,14,0]
["Toronto Marlies",13,"Spencer Abbott","RW",46,7,17,24,-3,10,2,5,0,0,1,2,0,1,1,1,1,1,0,100,0.52,0.22,92,7.6]
["Toronto Marlies",14,"Josh Leivo","RW",44,10,16,26,9,25,1,2,0,0,0,1,2,0,0,1,0,1,0,0,0.59,0.56999999999999995,113,8.9]
["Toronto Marlies",15,"Brandon Kozun","RW",23,5,6,11,3,16,0,0,0,0,2,2,1,0,0,1,0,0,0,0,0.48,0.7,46,10.9]
["Toronto Marlies",16,"Sam Carrick","C",51,7,18,25,-4,78,1,2,1,0,2,2,1,1,2,1,0,1,0,0,0.49,1.53,105,6.7]
["Toronto Marlies",17,"David Broll","LW",21,0,0,0,-8,79,0,0,0,0,0,0,0,0,0,0,0,0,0,0,0,3.76,33,0]
["Toronto Marlies",18,"Carter Ashton","RW",12,4,4,8,-2,8,1,2,0,0,0,0,2,0,0,2,0,0,0,0,0.67,0.67,27,14.8]
["Toronto Marlies",19,"Troy Bodie","LW",58,8,7,15,0,77,0,0,1,1,1,4,1,0,0,1,0,0,0,0,0.26,1.33,89,9]
["Toronto Marlies",20,"Ryan Rupert","C",49,14,11,25,20,34,3,1,0,0,3,2,0,0,0,0,0,0,0,0,0.51,0.69,77,18.2]
["Toronto Marlies",90,"David Booth","LW",2,1,0,1,-1,2,1,0,0,0,0,1,0,0,0,0,0,0,0,0,0.5,1,10,10]
["Toronto Marlies",21,"Patrick Watling","LW",29,2,1,3,2,12,0,0,0,0,0,1,0,0,0,0,0,0,0,0,0.1,0.41,18,11.1]
["Toronto Marlies",22,"Tyler Biggs","RW",47,2,3,5,-6,56,0,0,0,0,0,0,1,0,0,0,0,0,0,0,0.11,1.19,63,3.2]
["Toronto Marlies",23,"Trevor Smith","C",8,2,3,5,1,12,1,0,0,0,0,1,0,0,0,0,0,0,0,0,0.63,1.5,12,16.7]
["Toronto Marlies",24,"Jamie Devane","LW",39,0,2,2,-4,62,0,0,0,0,0,0,0,0,0,0,0,0,0,0,0.05,1.59,19,0]
["Toronto Marlies",25,"Tom Nilsson","D",42,1,5,6,2,26,0,1,0,0,0,0,0,0,0,0,0,0,0,0,0.14000000000000001,0.62,29,3.4]
["Toronto Marlies",26,"Kevin Marshall","D",39,1,5,6,7,34,0,0,0,0,0,0,0,0,0,0,0,0,0,0,0.15,0.87,38,2.6]
["Toronto Marlies",28,"Colton Orr","RW",14,0,0,0,-5,4,0,0,0,0,0,0,0,0,0,0,0,0,0,0,0,0.28999999999999998,6,0]
["Toronto Marlies",29,"Connor Brown","RW",67,18,37,55,20,8,3,13,0,1,6,0,0,0,0,1,1,1,0,100,0.82,0.12,120,15]
["Toronto Marlies",36,"Brett Findlay","LW",15,1,3,4,-5,12,0,0,0,0,0,0,0,0,0,0,0,0,0,0,0.27,0.8,17,5.9]
["Toronto Marlies",38,"Frazer McLaren","LW",15,0,1,1,0,26,0,0,0,0,0,0,0,0,0,0,0,0,0,0,7.0000000000000007E-2,1.73,12,0]
["Toronto Marlies",39,"Matt Frattin","RW",50,20,12,32,2,24,6,4,0,0,5,5,1,0,1,1,0,0,0,0,0.64,0.48,129,15.5]
["Toronto Marlies",41,"Brendan Leipsic","LW",65,9,33,42,4,20,3,13,0,0,0,1,1,0,1,0,1,5,1,20,0.65,0.31,134,6.7]
["Toronto Marlies",44,"Denver Manderson","C",11,0,2,2,2,2,0,0,0,0,0,0,0,0,0,0,0,0,0,0,0.18,0.18,13,0]
["Toronto Marlies",45,"Eric Knodel","D",19,0,8,8,0,6,0,2,0,1,0,0,0,0,0,0,0,0,0,0,0.42,0.32,24,0]
["Toronto Marlies",50,"Viktor Loov","D",65,6,14,20,13,32,0,2,0,1,1,1,0,1,0,1,0,0,0,0,0.31,0.49,82,7.3]
["Toronto Marlies",51,"Carson McMillan","C",13,0,1,1,-4,8,0,0,0,0,0,0,0,0,0,0,0,0,0,0,0.08,0.62,12,0]
["Toronto Marlies",52,"Blake Kessel","D",3,0,1,1,0,0,0,0,0,0,0,0,0,0,0,0,0,0,0,0,0.33,0,3,0]
["Toronto Marlies",54,"Byron Froese","C",40,14,15,29,15,18,2,3,2,0,2,3,1,0,2,2,0,0,0,0,0.73,0.45,99,14.1]
["Toronto Marlies",55,"Reggie Traccitto","D",2,0,0,0,-1,0,0,0,0,0,0,0,0,0,0,0,0,0,0,0,0,0,7,0]
["Toronto Marlies",56,"Bryce Aneloski","D",7,1,1,2,0,2,0,0,0,0,0,1,0,0,0,0,0,0,0,0,0.28999999999999998,0.28999999999999998,6,16.7]
["Toronto Marlies",62,"William Nylander","C",28,8,11,19,5,4,3,3,0,0,0,2,0,0,0,0,0,0,0,0,0.68,0.14000000000000001,53,15.1]
["Toronto Marlies",79,"Brady Vail","C",6,0,0,0,-2,2,0,0,0,0,0,0,0,0,0,0,0,0,0,0,0,0.33,1,0]
["Utica Comets",2,"Travis Ehrhardt","D",37,3,4,7,-8,22,0,2,0,0,0,1,0,0,0,0,0,0,0,0,0.19,0.59,39,7.7]
["Utica Comets",3,"Alex Biega","D",54,3,16,19,1,22,0,4,1,0,1,0,1,1,0,0,0,0,0,0,0.35,0.41,107,2.8]
["Utica Comets",4,"Kane Lafranchise","D",27,2,8,10,-1,4,0,1,0,0,1,0,0,0,0,0,0,0,0,0,0.37,0.15,36,5.6]
["Utica Comets",5,"Jeremie Blain","D",14,0,4,4,-2,2,0,3,0,0,0,0,0,0,0,0,0,0,0,0,0.28999999999999998,0.14000000000000001,17,0]
["Utica Comets",6,"Bobby Sanguinetti","D",56,15,22,37,22,16,6,10,0,1,5,2,1,2,0,0,1,1,1,100,0.66,0.28999999999999998,130,11.5]
["Utica Comets",7,"Henrik Tommernes","D",23,3,8,11,-3,8,2,3,0,0,1,0,1,0,0,0,0,0,0,0,0.48,0.35,43,7]
["Utica Comets",8,"Alex Friesen","C",52,9,18,27,14,53,1,3,1,0,1,1,2,0,1,2,0,0,0,0,0.52,1.02,78,11.5]
["Utica Comets",9,"Hunter Shinkaruk","LW",66,13,12,25,0,28,3,3,0,0,7,3,2,0,1,0,1,1,0,100,0.38,0.42,139,9.4]
["Utica Comets",10,"Brendan Gaunce","LW",67,11,15,26,0,31,2,2,0,0,2,3,3,0,1,1,0,0,0,0,0.39,0.46,142,7.7]
["Utica Comets",11,"John Negrin","D",30,0,3,3,4,8,0,0,0,0,0,0,0,0,0,0,0,0,0,0,0.1,0.27,26,0]
["Utica Comets",14,"Mike Zalewski","C",47,3,8,11,-4,12,0,0,0,0,1,1,0,0,1,0,0,0,0,0,0.23,0.26,54,5.6]
["Utica Comets",15,"Ronalds Kenins","LW",36,5,7,12,6,23,2,1,0,0,1,0,0,0,0,0,0,0,0,0,0.33,0.64,61,8.1999999999999993]
["Utica Comets",16,"Cal O'Reilly","C",68,8,44,52,5,10,1,22,1,1,1,4,0,1,0,0,0,1,0,0,0.76,0.15,84,9.5]
["Utica Comets",17,"Nicklas Jensen","RW",53,12,12,24,-16,35,2,4,0,1,3,2,2,0,0,1,0,2,0,0,0.45,0.66,144,8.3000000000000007]
["Utica Comets",18,"Ryan Jones","LW",5,0,1,1,-2,9,0,0,0,0,0,0,0,0,0,0,0,0,0,0,0.2,1.8,6,0]
["Utica Comets",18,"Patrick Kennedy","RW",5,0,0,0,0,0,0,0,0,0,0,0,0,0,0,0,0,0,0,0,0,0,7,0]
["Utica Comets",19,"Kellan Lain","C",10,0,1,1,1,20,0,0,0,0,0,0,0,0,0,0,0,0,0,0,0.1,2,18,0]
["Utica Comets",20,"Ben Hutton","D",1,1,0,1,2,2,0,0,0,0,1,0,0,0,0,0,0,0,0,0,1,2,2,50]
["Utica Comets",21,"Dustin Jeffrey","C",49,17,24,41,5,18,6,9,0,2,3,3,0,0,0,1,0,1,0,0,0.84,0.37,95,17.899999999999999]
["Utica Comets",22,"Bo Horvat","C",5,0,0,0,0,4,0,0,0,0,0,0,0,0,0,0,0,0,0,0,0,0.8,9,0]
["Utica Comets",24,"Brandon DeFazio","RW",67,18,22,40,7,76,2,2,3,1,1,6,0,0,3,2,2,3,1,66.7,0.6,1.1299999999999999,167,10.8]
["Utica Comets",25,"Darren Archibald","LW",62,12,10,22,10,98,0,0,0,0,2,4,0,0,0,2,0,0,0,0,0.35,1.58,118,10.199999999999999]
["Utica Comets",26,"Frank Corrado","D",27,5,5,10,7,19,2,0,0,0,1,1,2,0,0,0,0,0,0,0,0.37,0.7,60,8.3000000000000007]
["Utica Comets",27,"Tom Sestito","LW",10,1,0,1,-2,20,0,0,0,0,0,0,0,0,0,0,0,0,0,0,0.1,2,11,9.1]
["Utica Comets",28,"Alexandre Grenier","RW",59,15,24,39,10,64,10,6,0,0,1,3,2,0,0,0,2,2,0,100,0.66,1.08,153,9.8000000000000007]
["Utica Comets",29,"Kent Huskins","D",43,1,5,6,7,6,0,1,0,1,0,0,0,0,0,0,0,0,0,0,0.14000000000000001,0.14000000000000001,27,3.7]
["Utica Comets",34,"Carter Bancks","RW",51,6,5,11,5,42,0,0,1,0,1,3,1,0,1,1,0,0,0,0,0.22,0.82,61,9.8000000000000007]
["Utica Comets",36,"Wacey Hamilton","C",33,5,9,14,5,25,0,1,0,0,3,1,1,0,1,0,0,0,0,0,0.42,0.76,47,10.6]
["Utica Comets",37,"Andrey Pedan","D",48,3,14,17,9,121,0,1,0,0,1,1,0,1,0,0,0,0,0,0,0.35,2.52,84,3.6]
["Utica Comets",37,"Nick Tuzzolino","D",1,0,0,0,0,0,0,0,0,0,0,0,0,0,0,0,0,0,0,0,0,0,0,0]
["Utica Comets",38,"Curtis Valk","C",1,0,0,0,0,0,0,0,0,0,0,0,0,0,0,0,0,0,0,0,0,0,0,0]
["Utica Comets",40,"Peter Andersson","D",51,2,8,10,13,20,0,2,0,0,0,0,0,0,0,0,0,0,0,0,0.2,0.39,63,3.2]
["Utica Comets",41,"Will Acton","C",51,12,9,21,-4,28,0,1,2,1,1,0,2,0,3,1,0,0,0,0,0.41,0.55000000000000004,94,12.8]
["Utica Comets",44,"Adam Clendening","D",41,1,15,16,-1,20,0,4,0,0,0,1,0,0,0,0,0,0,0,0,0.39,0.49,96,1]
["Utica Comets",47,"Sven Baertschi","LW",48,15,23,38,6,10,4,10,0,0,1,1,2,0,0,2,0,2,0,0,0.79,0.21,101,14.9]
["Utica Comets",89,"Cory Conacher","LW",40,8,22,30,-3,48,4,10,0,0,1,1,0,0,0,0,0,1,0,0,0.75,1.2,96,8.3000000000000007]
["Wilkes-Barre/Scranton Penguins",2,"Harrison Ruopp","D",7,0,0,0,0,9,0,0,0,0,0,0,0,0,0,0,0,0,0,0,0,1.29,3,0]
["Wilkes-Barre/Scranton Penguins",3,"Reid McNeill","D",54,2,5,7,6,121,0,0,0,0,1,1,0,1,0,0,0,0,0,0,0.13,2.2400000000000002,42,4.8]
["Wilkes-Barre/Scranton Penguins",4,"Taylor Chorney","D",62,4,15,19,26,42,3,4,0,0,0,0,0,0,0,0,0,0,0,0,0.31,0.68,90,4.4000000000000004]
["Wilkes-Barre/Scranton Penguins",5,"Philip Samuelsson","D",22,0,4,4,-3,20,0,0,0,0,0,0,0,0,0,0,0,0,0,0,0.18,0.91,23,0]
["Wilkes-Barre/Scranton Penguins",6,"Scott Harrington","D",44,2,9,11,14,18,1,1,0,0,0,0,0,0,1,1,0,0,0,0,0.25,0.41,50,4]
["Wilkes-Barre/Scranton Penguins",7,"Alex Boak","D",23,1,3,4,5,54,0,0,0,0,1,1,0,0,0,0,0,0,0,0,0.17,2.35,24,4.2]
["Wilkes-Barre/Scranton Penguins",8,"Brian Dumoulin","D",58,3,28,31,19,18,1,16,0,0,0,0,0,0,0,0,0,0,0,0,0.53,0.31,78,3.8]
["Wilkes-Barre/Scranton Penguins",9,"Jean-Sebastien Dea","C",40,9,10,19,0,14,6,6,0,0,3,1,0,2,0,0,1,2,0,50,0.48,0.35,78,11.5]
["Wilkes-Barre/Scranton Penguins",10,"Nick Drazenovic","C",25,8,11,19,6,18,3,2,0,0,3,1,2,0,0,0,0,1,0,0,0.76,0.72,48,16.7]
["Wilkes-Barre/Scranton Penguins",12,"Bryan Rust","RW",40,13,12,25,4,12,3,7,0,0,3,2,2,0,0,0,1,2,0,50,0.63,0.3,103,12.6]
["Wilkes-Barre/Scranton Penguins",13,"Beau Bennett","RW",2,0,5,5,4,0,0,2,0,0,0,0,0,0,0,0,0,0,0,0,2.5,0,6,0]
["Wilkes-Barre/Scranton Penguins",13,"Patrick McGrath","RW",2,0,0,0,-2,12,0,0,0,0,0,0,0,0,0,0,0,0,0,0,0,6,3,0]
["Wilkes-Barre/Scranton Penguins",14,"Tom Kuhnhackl","RW",64,7,13,20,8,15,3,4,1,0,1,2,1,0,1,1,1,1,0,100,0.31,0.23,105,6.7]
["Wilkes-Barre/Scranton Penguins",15,"Josh Archibald","RW",39,5,5,10,1,24,2,2,0,0,0,0,2,0,0,0,1,2,0,50,0.26,0.62,62,8.1]
["Wilkes-Barre/Scranton Penguins",16,"Matia Marcantuoni","C",51,4,8,12,1,18,0,0,0,0,1,1,0,0,0,0,0,0,0,0,0.24,0.35,34,11.8]
["Wilkes-Barre/Scranton Penguins",17,"Carter Rowney","RW",57,8,18,26,12,31,2,5,1,0,1,0,2,0,2,0,0,0,0,0,0.46,0.54,83,9.6]
["Wilkes-Barre/Scranton Penguins",18,"Anton Zlobin","LW",6,0,0,0,-3,0,0,0,0,0,0,0,0,0,0,0,0,0,0,0,0,0,10,0]
["Wilkes-Barre/Scranton Penguins",19,"Jayson Megna","C",55,21,13,34,16,40,3,2,1,0,3,5,0,1,3,0,0,1,0,0,0.62,0.73,109,19.3]
["Wilkes-Barre/Scranton Penguins",20,"Danny Syvret","D",67,5,14,19,-20,28,1,6,0,0,0,2,1,0,0,1,0,0,0,0,0.28000000000000003,0.42,84,6]
["Wilkes-Barre/Scranton Penguins",21,"Nick D'Agostino","D",42,0,8,8,5,10,0,1,0,0,0,0,0,0,0,0,0,1,0,0,0.19,0.24,35,0]
["Wilkes-Barre/Scranton Penguins",23,"Scott Wilson","LW",50,16,22,38,13,30,6,8,0,0,5,8,1,0,4,1,0,2,0,0,0.76,0.6,132,12.1]
["Wilkes-Barre/Scranton Penguins",24,"Bobby Farnham","LW",54,5,6,11,2,202,0,0,0,0,1,0,1,0,0,0,0,0,0,0,0.2,3.74,76,6.6]
["Wilkes-Barre/Scranton Penguins",25,"Andrew Ebbett","C",37,16,24,40,18,8,5,11,0,1,4,3,3,1,1,1,0,2,0,0,1.08,0.22,85,18.8]
["Wilkes-Barre/Scranton Penguins",26,"Dominik Uher","C",64,11,9,20,7,58,0,0,0,0,2,3,3,0,0,1,0,0,0,0,0.31,0.91,97,11.3]
["Wilkes-Barre/Scranton Penguins",28,"Adam Payerl","C",39,2,7,9,2,72,0,0,0,0,2,0,0,1,0,0,0,0,0,0,0.23,1.85,51,3.9]
["Wilkes-Barre/Scranton Penguins",29,"Tom Kostopoulos","RW",65,16,26,42,3,58,4,9,0,0,5,6,3,1,1,0,0,1,0,0,0.65,0.89,123,13]
["Wilkes-Barre/Scranton Penguins",33,"Sahir Gill","LW",12,1,2,3,1,0,0,1,0,0,0,0,0,0,1,0,0,0,0,0,0.25,0,14,7.1]
["Wilkes-Barre/Scranton Penguins",34,"Pierre-Luc Letourneau-Leblond","RW",48,2,4,6,1,208,0,0,0,0,1,0,0,0,0,0,0,0,0,0,0.13,4.33,31,6.5]
["Wilkes-Barre/Scranton Penguins",36,"Clark Seymour","D",5,0,1,1,-2,2,0,0,0,0,0,0,0,0,0,0,0,0,0,0,0.2,0.4,4,0]
["Wilkes-Barre/Scranton Penguins",38,"Paul Cianfrini","D",3,0,0,0,-3,0,0,0,0,0,0,0,0,0,0,0,0,0,0,0,0,0,0,0]
["Wilkes-Barre/Scranton Penguins",41,"Barry Goers","D",48,1,7,8,3,25,0,0,0,0,0,0,0,0,0,0,0,0,0,0,0.17,0.52,29,3.4]
["Wilkes-Barre/Scranton Penguins",42,"Zack Torquato","C",12,1,1,2,1,15,0,0,0,0,0,0,0,0,0,1,0,0,0,0,0.17,1.25,13,7.7]
["Wilkes-Barre/Scranton Penguins",43,"Conor Sheary","LW",54,20,20,40,-1,8,5,10,0,0,1,3,6,0,1,1,0,2,0,0,0.74,0.15,121,16.5]
["Wilkes-Barre/Scranton Penguins",51,"Derrick Pouliot","D",31,7,17,24,2,20,4,10,0,0,1,0,1,0,1,0,0,0,0,0,0.77,0.65,60,11.7]
["Worcester Sharks",2,"Dylan DeMelo","D",58,5,17,22,-9,26,3,8,0,0,2,1,0,2,0,0,0,0,0,0,0.38,0.45,81,6.2]
["Worcester Sharks",3,"Gus Young","D",55,3,8,11,13,30,1,0,0,0,1,2,0,0,0,0,0,0,0,0,0.2,0.55000000000000004,46,6.5]
["Worcester Sharks",4,"Taylor Doherty","D",51,2,4,6,1,84,0,0,0,0,0,1,0,0,0,0,0,0,0,0,0.12,1.65,60,3.3]
["Worcester Sharks",5,"Matt Tennyson","D",34,3,9,12,10,18,2,1,0,0,0,0,0,0,0,0,0,0,0,0,0.35,0.53,59,5.0999999999999996]
["Worcester Sharks",6,"Kyle Bigos","D",3,0,1,1,-1,0,0,0,0,0,0,0,0,0,0,0,0,0,0,0,0.33,0,2,0]
["Worcester Sharks",7,"Eriah Hayes","RW",51,8,15,23,2,40,0,1,0,0,1,1,0,0,1,1,0,0,0,0,0.45,0.78,139,5.8]
["Worcester Sharks",8,"Greger Hanson","RW",11,1,3,4,2,8,0,0,0,0,0,0,1,0,0,0,0,0,0,0,0.36,0.73,19,5.3]
["Worcester Sharks",8,"Tyler Kennedy","RW",3,2,1,3,2,0,0,0,0,0,0,0,0,0,0,0,0,0,0,0,1,0,12,16.7]
["Worcester Sharks",8,"Derek DeBlois","RW",4,1,0,1,1,0,0,0,0,0,0,0,0,0,0,0,0,0,0,0,0.25,0,5,20]
["Worcester Sharks",10,"Konrad Abeltshauser","D",50,3,16,19,2,19,2,8,0,0,0,1,1,0,0,0,0,0,0,0,0.38,0.38,77,3.9]
["Worcester Sharks",11,"Bryan Lerg","LW",65,13,28,41,4,10,4,11,0,0,4,3,1,1,1,0,2,4,1,50,0.63,0.15,166,7.8]
["Worcester Sharks",12,"Freddie Hamilton","C",52,9,21,30,-18,12,3,9,0,0,1,1,3,0,1,1,0,2,0,0,0.57999999999999996,0.23,98,9.1999999999999993]
["Worcester Sharks",13,"Evan Trupp","C",64,16,22,38,11,20,3,10,0,0,4,4,1,0,0,2,0,2,0,0,0.59,0.31,151,10.6]
["Worcester Sharks",14,"Taylor Fedun","D",63,6,27,33,10,37,2,12,0,0,0,0,1,0,0,0,0,0,0,0,0.52,0.59,117,5.0999999999999996]
["Worcester Sharks",15,"Melker Karlsson","C",20,5,5,10,-2,6,3,0,0,0,0,1,0,0,0,0,0,0,0,0,0.5,0.3,49,10.199999999999999]
["Worcester Sharks",15,"Matt Willows","RW",4,3,1,4,3,0,0,0,0,0,0,0,2,0,1,0,0,0,0,0,1,0,5,60]
["Worcester Sharks",16,"Vincent Arseneau","LW",2,0,0,0,0,2,0,0,0,0,0,0,0,0,0,0,0,0,0,0,0,1,0,0]
["Worcester Sharks",16,"Spencer Asuchak","F",3,0,0,0,-1,2,0,0,0,0,0,0,0,0,0,0,0,0,0,0,0,0.67,1,0]
["Worcester Sharks",17,"John McCarthy","LW",56,14,12,26,5,17,1,3,0,0,3,5,2,0,3,2,1,1,1,100,0.46,0.3,118,11.9]
["Worcester Sharks",18,"Micheal Haley","LW",59,18,10,28,-9,94,8,3,0,0,4,1,1,0,0,0,0,0,0,0,0.47,1.59,109,16.5]
["Worcester Sharks",19,"Daniil Tarasov","RW",46,12,16,28,-3,16,4,5,0,0,2,4,2,0,1,0,0,2,0,0,0.61,0.35,128,9.4]
["Worcester Sharks",20,"Matt Taormina","D",67,9,24,33,-3,18,4,13,0,0,2,2,1,2,1,0,0,0,0,0,0.49,0.27,129,7]
["Worcester Sharks",21,"Travis Oleksuk","C",60,9,15,24,-5,18,3,6,0,0,1,0,0,0,0,0,0,1,0,0,0.4,0.3,78,11.5]
["Worcester Sharks",22,"Ryan Carpenter","RW",65,10,22,32,8,38,0,1,1,0,3,1,1,0,0,0,0,0,0,0,0.49,0.57999999999999996,132,7.6]
["Worcester Sharks",23,"Barclay Goodrow","RW",2,0,0,0,0,9,0,0,0,0,0,0,0,0,0,0,0,0,0,0,0,4.5,2,0]
["Worcester Sharks",25,"Daniel Ciampini","LW",7,3,2,5,5,0,0,0,0,0,0,1,0,0,1,1,1,1,0,100,0.71,0,5,60]
["Worcester Sharks",25,"Nick Jones","D",14,0,2,2,4,2,0,0,0,0,0,0,0,0,0,0,0,0,0,0,0.14000000000000001,0.14000000000000001,13,0]
["Worcester Sharks",26,"Willie Coetzee","RW",40,9,16,25,10,20,3,6,0,0,1,1,0,0,0,1,0,1,0,0,0.63,0.5,110,8.1999999999999993]
["Worcester Sharks",27,"Rylan Schwartz","C",37,4,8,12,5,11,0,0,0,1,0,1,2,0,0,1,0,0,0,0,0.32,0.3,48,8.3000000000000007]
["Worcester Sharks",28,"Jeremy Langlois","RW",42,16,10,26,4,8,4,3,0,0,2,1,2,0,0,2,0,0,0,0,0.62,0.19,108,14.8]
["Worcester Sharks",33,"Chris Crane","RW",13,1,5,6,2,9,1,0,0,0,0,0,0,0,0,0,0,0,0,0,0.46,0.69,19,5.3]
["Worcester Sharks",37,"Karl Stollery","D",58,7,12,19,-10,63,1,2,0,0,2,1,2,0,1,0,0,0,0,0,0.33,1.0900000000000001,91,7.7]
["Worcester Sharks",37,"Adam Burish","RW",18,4,3,7,-6,14,0,0,0,0,0,0,0,0,0,0,0,0,0,0,0.39,0.78,30,13.3]
["Worcester Sharks",38,"Mirco Mueller","D",3,1,0,1,-2,4,1,0,0,0,0,0,0,0,0,0,0,0,0,0,0.33,1.33,6,16.7]
["Worcester Sharks",38,"Tyler Shattock","RW",3,0,0,0,0,10,0,0,0,0,0,0,0,0,0,0,0,0,0,0,0,3.33,2,0]
["Worcester Sharks",39,"Trevor Parkes","RW",20,3,6,9,8,14,0,0,0,0,2,0,0,0,0,0,0,0,0,0,0.45,0.7,30,10]
["Worcester Sharks",39,"Andrew Blazek","D",3,0,0,0,-2,0,0,0,0,0,0,0,0,0,0,0,0,0,0,0,0,0,0,0]
["Worcester Sharks",40,"Riley Brace","LW",6,1,2,3,0,0,0,0,0,0,0,1,0,0,0,0,0,0,0,0,0.5,0,7,14.3]
["Worcester Sharks",40,"James Sheppard","C",2,0,1,1,1,0,0,0,0,0,0,0,0,0,0,0,0,0,0,0,0.5,0,3,0]
["Worcester Sharks",41,"Petter Emanuelsson","RW",6,4,0,4,1,0,0,0,0,0,1,2,0,0,0,0,0,0,0,0,0.67,0,14,28.6]
["Worcester Sharks",43,"Jimmy Bonneau","LW",28,0,3,3,-5,80,0,0,0,0,0,0,0,0,0,0,0,0,0,0,0.11,2.86,16,0]
["Worcester Sharks",48,"Tomas Hertl","C",2,0,2,2,1,0,0,1,0,0,0,0,0,0,0,0,0,0,0,0,1,0,3,0]
["Worcester Sharks",50,"Chris Tierney","C",27,7,17,24,6,10,2,4,0,0,1,0,1,0,0,0,0,1,0,0,0.89,0.37,54,13]

{"sheet":"Workbook","index":2,"n_rows":5891,"n_cols":58,"rows_kept":2250,"cut":true,"hidden":false,"merged":[],"bounds":{"rows_first":1000,"rows_last":250,"rows_between":1000,"halvings":1}}
["GoalID","Hm","Rd","#","Per","Team","Time","Goals","A1","A2","Type","Vis","V1","V2","V3","V4","V5","V6","Hm","H1","H2","H3","H4","H5","H6","HmRd","Team","GameID","Utica","H1","H2","H3","H4","H5","H6","Tot",null,"#","Player","Pos","GP","GF","GA","ESGF","ESGA","PPG","SHGA","SHG","ENGF","ENGA","ENPPG","ENSHGA","ENSHG","PPGA",null,null,null,"Team"]
[36526,{"$f":"VLOOKUP(AB2,[1]AHLSOG!$O:$Q,2,FALSE)","v":"Grand Rapids"},{"$f":"VLOOKUP(AB2,[1]AHLSOG!$O:$Q,3,FALSE)","v":"Lake Erie"},1,"1st","LE",0.50555555555555554,"K. Stollery","P. Carey","M. Sgarbossa",null,"V",3,17,26,28,43,null,"H",3,12,16,26,29,null,"Rd","Lake Erie",1013460,null,{"$f":"COUNTIFS(Z:Z,\"Hm\",T:T,$AC$2,AA:AA,$AC$1)","v":0},{"$f":"COUNTIFS($Z:$Z,\"Hm\",U:U,$AC$2,$AA:$AA,$AC$1)","v":0},{"$f":"COUNTIFS($Z:$Z,\"Hm\",V:V,$AC$2,$AA:$AA,$AC$1)","v":0},{"$f":"COUNTIFS($Z:$Z,\"Hm\",W:W,$AC$2,$AA:$AA,$AC$1)","v":0},{"$f":"COUNTIFS($Z:$Z,\"Hm\",X:X,$AC$2,$AA:$AA,$AC$1)","v":0},{"$f":"COUNTIFS($Z:$Z,\"Hm\",Y:Y,$AC$2,$AA:$AA,$AC$1)","v":0},{"$f":"SUM(AD2:AI2)","v":0},null,2,"Travis Ehrhardt","D",37,29,38,23,32,2,0,1,3,1,0,0,0,5,null,null,"Adirondack","Adirondack Flames"]
[36557,{"$f":"VLOOKUP(AB3,[1]AHLSOG!$O:$Q,2,FALSE)","v":"Grand Rapids"},{"$f":"VLOOKUP(AB3,[1]AHLSOG!$O:$Q,3,FALSE)","v":"Lake Erie"},2,"1st","LE",0.71527777777777779,"K. Stollery","T. Bourke","S. Henley",null,"V",3,14,26,37,42,null,"H",7,23,32,44,55,null,"Rd","Lake Erie",1013460,null,"V1","V2","V3","V4","V5","V6","Tot","GF",3,"Alex Biega","D",54,50,59,36,39,6,3,2,5,2,0,0,1,14,null,null,"Albany","Albany Devils"]
[36586,{"$f":"VLOOKUP(AB4,[1]AHLSOG!$O:$Q,2,FALSE)","v":"Grand Rapids"},{"$f":"VLOOKUP(AB4,[1]AHLSOG!$O:$Q,3,FALSE)","v":"Lake Erie"},3,"2nd","LE",0.33749999999999997,"K. Ryan","M. Sgarbossa","P. Carey",null,"V",17,27,28,43,47,null,"H",3,10,16,23,27,null,"Rd","Lake Erie",1013460,null,{"$f":"COUNTIFS($Z:$Z,\"Rd\",M:M,$AC$2,$AA:$AA,$AC$1)","v":0},{"$f":"COUNTIFS($Z:$Z,\"Rd\",N:N,$AC$2,$AA:$AA,$AC$1)","v":0},{"$f":"COUNTIFS($Z:$Z,\"Rd\",O:O,$AC$2,$AA:$AA,$AC$1)","v":0},{"$f":"COUNTIFS($Z:$Z,\"Rd\",P:P,$AC$2,$AA:$AA,$AC$1)","v":0},{"$f":"COUNTIFS($Z:$Z,\"Rd\",Q:Q,$AC$2,$AA:$AA,$AC$1)","v":0},{"$f":"COUNTIFS($Z:$Z,\"Rd\",R:R,$AC$2,$AA:$AA,$AC$1)","v":0},{"$f":"SUM(AD4:AI4)","v":0},{"$f":"SUM(AJ2:AJ4)","v":0},4,"Kane Lafranchise","D",27,19,28,16,19,1,1,0,2,0,0,0,0,8,null,null,"Binghamton","Binghamton Senators"]
[36617,{"$f":"VLOOKUP(AB5,[1]AHLSOG!$O:$Q,2,FALSE)","v":"Grand Rapids"},{"$f":"VLOOKUP(AB5,[1]AHLSOG!$O:$Q,3,FALSE)","v":"Lake Erie"},4,"3rd","LE",0.7368055555555556,"M. Noreau","D. Maggio","A. Agozzino","EN","V",3,18,26,39,44,null,"H",6,7,10,19,26,44,"Rd","Lake Erie",1013460,"Team Roster",null,null,null,null,null,null,null,null,5,"Jeremie Blain","D",14,10,13,6,9,4,0,0,0,0,0,0,0,4,null,null,"Bridgeport","Bridgeport Sound Tigers"]
["0 - 1",{"$f":"VLOOKUP(AB6,[1]AHLSOG!$O:$Q,2,FALSE)","v":"Milwaukee"},{"$f":"VLOOKUP(AB6,[1]AHLSOG!$O:$Q,3,FALSE)","v":"Charlotte"},1,"1st","MIL",0.18194444444444444,"V. Arvidsson","B. Leipsic","T. Aronson","PP","V",2,7,12,29,null,null,"H",20,23,28,33,46,null,"Hm","Milwaukee",1013461,"Utica Comets",null,null,null,null,null,null,null,null,6,"Bobby Sanguinetti","D",56,80,40,49,24,25,1,4,2,4,0,2,0,9,null,null,"Charlotte","Charlotte Checkers"]
[42005,{"$f":"VLOOKUP(AB7,[1]AHLSOG!$O:$Q,2,FALSE)","v":"Milwaukee"},{"$f":"VLOOKUP(AB7,[1]AHLSOG!$O:$Q,3,FALSE)","v":"Charlotte"},2,"1st","CHA",0.33888888888888885,"P. DiGiuseppe","D. Robertson",null,"PP","V",2,7,19,20,28,null,"H",29,47,51,55,null,null,"Rd","Charlotte",1013461,null,"H1","H2","H3","H4","H5","H6","Tot",null,7,"Henrik Tommernes","D",23,21,19,13,14,8,2,0,0,0,0,0,0,2,null,null,"Chicago","Chicago Wolves"]
[42006,{"$f":"VLOOKUP(AB8,[1]AHLSOG!$O:$Q,2,FALSE)","v":"Milwaukee"},{"$f":"VLOOKUP(AB8,[1]AHLSOG!$O:$Q,3,FALSE)","v":"Charlotte"},3,"1st","MIL",0.50694444444444442,"P. Åberg","J. Alm",null,null,"V",5,10,20,26,59,null,"H",18,28,37,46,55,null,"Hm","Milwaukee",1013461,null,{"$f":"COUNTIFS($Z:$Z,\"Hm\",T:T,$AC$2,$K:$K,\"\",$AA:$AA,$AC$1)","v":0},{"$f":"COUNTIFS($Z:$Z,\"Hm\",U:U,$AC$2,$K:$K,\"\",$AA:$AA,$AC$1)","v":0},{"$f":"COUNTIFS($Z:$Z,\"Hm\",V:V,$AC$2,$K:$K,\"\",$AA:$AA,$AC$1)","v":0},{"$f":"COUNTIFS($Z:$Z,\"Hm\",W:W,$AC$2,$K:$K,\"\",$AA:$AA,$AC$1)","v":0},{"$f":"COUNTIFS($Z:$Z,\"Hm\",X:X,$AC$2,$K:$K,\"\",$AA:$AA,$AC$1)","v":0},{"$f":"COUNTIFS($Z:$Z,\"Hm\",Y:Y,$AC$2,$K:$K,\"\",$AA:$AA,$AC$1)","v":0},{"$f":"SUM(AD8:AI8)","v":0},null,8,"Alex Friesen","C",52,41,24,26,15,9,2,1,4,1,0,1,1,5,null,null,"Grand Rapids","Grand Rapids Griffins"]
[42007,{"$f":"VLOOKUP(AB9,[1]AHLSOG!$O:$Q,2,FALSE)","v":"Milwaukee"},{"$f":"VLOOKUP(AB9,[1]AHLSOG!$O:$Q,3,FALSE)","v":"Charlotte"},4,"2nd","MIL",0.12083333333333333,"F. Gaudreau","Z. Budish","J. Piskula",null,"V",4,7,9,10,59,null,"H",2,7,22,24,89,null,"Hm","Milwaukee",1013461,null,"V1","V2","V3","V4","V5","V6","Tot","ESGF",9,"Hunter Shinkaruk","LW",66,45,34,34,27,11,3,0,0,2,0,1,0,0,null,null,"Hamilton","Hamilton Bulldogs"]
[42038,{"$f":"VLOOKUP(AB10,[1]AHLSOG!$O:$Q,2,FALSE)","v":"Milwaukee"},{"$f":"VLOOKUP(AB10,[1]AHLSOG!$O:$Q,3,FALSE)","v":"Charlotte"},5,"2nd","CHA",0.29166666666666669,"J. Shugg","G. Nemisz",null,null,"V",5,14,19,20,28,null,"H",20,23,28,33,46,null,"Rd","Charlotte",1013461,null,{"$f":"COUNTIFS($Z:$Z,\"Rd\",M:M,$AC$2,$K:$K,\"\",$AA:$AA,$AC$1)","v":0},{"$f":"COUNTIFS($Z:$Z,\"Rd\",N:N,$AC$2,$K:$K,\"\",$AA:$AA,$AC$1)","v":0},{"$f":"COUNTIFS($Z:$Z,\"Rd\",O:O,$AC$2,$K:$K,\"\",$AA:$AA,$AC$1)","v":0},{"$f":"COUNTIFS($Z:$Z,\"Rd\",P:P,$AC$2,$K:$K,\"\",$AA:$AA,$AC$1)","v":0},{"$f":"COUNTIFS($Z:$Z,\"Rd\",Q:Q,$AC$2,$K:$K,\"\",$AA:$AA,$AC$1)","v":0},{"$f":"COUNTIFS($Z:$Z,\"Rd\",R:R,$AC$2,$K:$K,\"\",$AA:$AA,$AC$1)","v":0},{"$f":"SUM(AD10:AI10)","v":0},{"$f":"SUM(AJ8:AJ10)","v":0},10,"Brendan Gaunce","LW",67,39,30,32,30,6,0,0,1,0,0,0,0,0,null,null,"Hartford","Hartford Wolf Pack"]
[42066,{"$f":"VLOOKUP(AB11,[1]AHLSOG!$O:$Q,2,FALSE)","v":"Milwaukee"},{"$f":"VLOOKUP(AB11,[1]AHLSOG!$O:$Q,3,FALSE)","v":"Charlotte"},6,"2nd","CHA",0.62569444444444444,"Z. Boychuk","T. Carrick","D. Robertson",null,"V",5,11,19,20,28,null,"H",2,18,21,37,51,null,"Rd","Charlotte",1013461,null,null,null,null,null,null,null,null,null,11,"John Negrin","D",30,16,13,14,13,1,0,0,1,0,0,0,0,0,null,null,"Hershey","Hershey Bears"]
[42067,{"$f":"VLOOKUP(AB12,[1]AHLSOG!$O:$Q,2,FALSE)","v":"Milwaukee"},{"$f":"VLOOKUP(AB12,[1]AHLSOG!$O:$Q,3,FALSE)","v":"Charlotte"},7,"3rd","MIL",1.5277777777777777E-2,"A. Watson","M. Salomaki","J. Piskula",null,"V",2,7,18,29,59,null,"H",2,7,20,29,51,null,"Hm","Milwaukee",1013461,null,null,null,null,null,null,null,null,null,14,"Mike Zalewski","C",47,18,26,17,24,1,0,0,0,0,0,0,0,2,null,null,"Iowa","Iowa Wild"]
[42068,{"$f":"VLOOKUP(AB13,[1]AHLSOG!$O:$Q,2,FALSE)","v":"Milwaukee"},{"$f":"VLOOKUP(AB13,[1]AHLSOG!$O:$Q,3,FALSE)","v":"Charlotte"},8,"3rd","MIL",0.7090277777777777,"Z. Budish","F. Gaudreau",null,null,"V",2,12,14,18,29,null,"H",22,24,37,55,89,null,"Hm","Milwaukee",1013461,null,null,null,null,null,null,null,null,null,15,"Ronalds Kenins","LW",36,20,10,15,10,4,0,0,1,0,0,0,0,0,null,null,"Lake Erie","Lake Erie Monsters"]
[42069,{"$f":"VLOOKUP(AB14,[1]AHLSOG!$O:$Q,2,FALSE)","v":"Milwaukee"},{"$f":"VLOOKUP(AB14,[1]AHLSOG!$O:$Q,3,FALSE)","v":"Charlotte"},9,"3rd","MIL",0.76666666666666661,"F. Girard","P. Åberg","B. Leipsic","EN","V",5,7,11,12,14,29,"H",2,7,16,28,46,null,"Hm","Milwaukee",1013461,null,"Even STRENGTH",null,null,null,null,null,null,null,16,"Cal O'Reilly","C",68,82,64,43,32,33,6,3,3,5,0,2,0,19,null,null,"Lehigh","Lehigh Valley Phantoms"]
[36526,{"$f":"VLOOKUP(AB15,[1]AHLSOG!$O:$Q,2,FALSE)","v":"Providence"},{"$f":"VLOOKUP(AB15,[1]AHLSOG!$O:$Q,3,FALSE)","v":"St. John's"},1,"1st","STJ",0.36249999999999999,"W. O'Neill","K. Ellerby",null,null,"V",4,18,19,26,27,null,"H",5,11,20,32,37,null,"Rd","St. John's",1013462,null,"H1","H2","H3","H4","H5","H6","Tot",null,17,"Nicklas Jensen","RW",53,40,42,20,33,16,3,2,2,1,0,2,0,3,null,null,"Manchester","Manchester Monarchs"]
[42005,{"$f":"VLOOKUP(AB16,[1]AHLSOG!$O:$Q,2,FALSE)","v":"Providence"},{"$f":"VLOOKUP(AB16,[1]AHLSOG!$O:$Q,3,FALSE)","v":"St. John's"},2,"2nd","PRO",7.8472222222222221E-2,"S. Griffith","D. Pastrnak",null,null,"V",19,25,26,27,49,null,"H",6,8,9,17,32,null,"Hm","Providence",1013462,null,{"$f":"COUNTIFS($Z:$Z,\"Rd\",T:T,$AC$2,$B:$B,$AC$1)","v":0},{"$f":"COUNTIFS($Z:$Z,\"Rd\",U:U,$AC$2,$B:$B,$AC$1)","v":0},{"$f":"COUNTIFS($Z:$Z,\"Rd\",V:V,$AC$2,$B:$B,$AC$1)","v":0},{"$f":"COUNTIFS($Z:$Z,\"Rd\",W:W,$AC$2,$B:$B,$AC$1)","v":0},{"$f":"COUNTIFS($Z:$Z,\"Rd\",X:X,$AC$2,$B:$B,$AC$1)","v":0},{"$f":"COUNTIFS($Z:$Z,\"Rd\",Y:Y,$AC$2,$B:$B,$AC$1)","v":0},{"$f":"SUM(AD16:AI16)","v":0},null,18,"Ryan Jones","LW",5,0,3,0,3,0,0,0,0,0,0,0,0,0,null,null,"Milwaukee","Milwaukee Admirals"]
[42006,{"$f":"VLOOKUP(AB17,[1]AHLSOG!$O:$Q,2,FALSE)","v":"Providence"},{"$f":"VLOOKUP(AB17,[1]AHLSOG!$O:$Q,3,FALSE)","v":"St. John's"},3,"OT","PRO",3.888888888888889E-2,"J. Morrow","D. Pastrnak",null,null,"V",8,16,18,34,null,null,"H",7,17,32,44,null,null,"Hm","Providence",1013462,null,"V1","V2","V3","V4","V5","V6","Tot","GA",18,"Patrick Kennedy","RW",5,0,3,0,3,0,0,0,0,0,0,0,0,0,null,null,"Norfolk","Norfolk Admirals"]
["0 - 1",{"$f":"VLOOKUP(AB18,[1]AHLSOG!$O:$Q,2,FALSE)","v":"Rochester"},{"$f":"VLOOKUP(AB18,[1]AHLSOG!$O:$Q,3,FALSE)","v":"Adirondack"},1,"2nd","RCH",0.16319444444444445,"T. Schaller","C. Ruhwedel","W. Carrier",null,"V",2,9,14,16,24,null,"H",4,5,11,28,37,null,"Hm","Rochester",1013463,null,{"$f":"COUNTIFS($Z:$Z,\"Hm\",M:M,$AC$2,$C:$C,$AC$1)","v":0},{"$f":"COUNTIFS($Z:$Z,\"Hm\",N:N,$AC$2,$C:$C,$AC$1)","v":0},{"$f":"COUNTIFS($Z:$Z,\"Hm\",O:O,$AC$2,$C:$C,$AC$1)","v":0},{"$f":"COUNTIFS($Z:$Z,\"Hm\",P:P,$AC$2,$C:$C,$AC$1)","v":0},{"$f":"COUNTIFS($Z:$Z,\"Hm\",Q:Q,$AC$2,$C:$C,$AC$1)","v":0},{"$f":"COUNTIFS($Z:$Z,\"Hm\",R:R,$AC$2,$C:$C,$AC$1)","v":0},{"$f":"SUM(AD18:AI18)","v":0},{"$f":"SUM(AJ16:AJ18)","v":0},19,"Kellan Lain","C",10,3,3,2,3,0,0,0,1,0,0,0,0,0,null,null,"Oklahoma City","Oklahoma City Barons"]
[42005,{"$f":"VLOOKUP(AB19,[1]AHLSOG!$O:$Q,2,FALSE)","v":"Rochester"},{"$f":"VLOOKUP(AB19,[1]AHLSOG!$O:$Q,3,FALSE)","v":"Adirondack"},2,"2nd","ADK",0.47291666666666665,"K. Agostino","B. Hanowski",null,null,"V",14,15,28,32,46,null,"H",5,18,25,33,52,null,"Rd","Adirondack",1013463,null,null,null,null,null,null,null,null,null,20,"Ben Hutton","D",1,2,0,2,0,0,0,0,0,0,0,0,0,0,null,null,"Portland","Portland Pirates"]
[42006,{"$f":"VLOOKUP(AB20,[1]AHLSOG!$O:$Q,2,FALSE)","v":"Rochester"},{"$f":"VLOOKUP(AB20,[1]AHLSOG!$O:$Q,3,FALSE)","v":"Adirondack"},3,"2nd","RCH",0.67986111111111114,"M. Grigorenko","J. Armia",null,null,"V",2,14,15,28,46,null,"H",18,25,33,47,52,null,"Hm","Rochester",1013463,null,null,null,null,null,null,null,null,null,21,"Dustin Jeffrey","C",49,56,39,31,25,21,2,2,2,2,0,2,0,7,null,null,"Providence","Providence Bruins"]
[42007,{"$f":"VLOOKUP(AB21,[1]AHLSOG!$O:$Q,2,FALSE)","v":"Rochester"},{"$f":"VLOOKUP(AB21,[1]AHLSOG!$O:$Q,3,FALSE)","v":"Adirondack"},4,"2nd","RCH",0.75347222222222221,"C. Ruhwedel","J. Larsson","P. Varone","PP","V",32,38,46,null,null,null,"H",5,21,22,26,null,null,"Hm","Rochester",1013463,null,"H1","H2","H3","H4","H5","H6","Tot",null,22,"Bo Horvat","C",5,0,0,0,0,0,0,0,0,0,0,0,0,0,null,null,"Rochester","Rochester Americans"]
[42008,{"$f":"VLOOKUP(AB22,[1]AHLSOG!$O:$Q,2,FALSE)","v":"Rochester"},{"$f":"VLOOKUP(AB22,[1]AHLSOG!$O:$Q,3,FALSE)","v":"Adirondack"},5,"3rd","RCH",0.13194444444444445,"M. Ellis","D. Bagnall","W. Carrier",null,"V",3,4,11,26,27,null,"H",4,5,11,28,37,null,"Hm","Rochester",1013463,null,{"$f":"COUNTIFS($Z:$Z,\"Rd\",T:T,$AC$2,$B:$B,$AC$1,$K:$K,\"\")","v":0},{"$f":"COUNTIFS($Z:$Z,\"Rd\",U:U,$AC$2,$B:$B,$AC$1,$K:$K,\"\")","v":0},{"$f":"COUNTIFS($Z:$Z,\"Rd\",V:V,$AC$2,$B:$B,$AC$1,$K:$K,\"\")","v":0},{"$f":"COUNTIFS($Z:$Z,\"Rd\",W:W,$AC$2,$B:$B,$AC$1,$K:$K,\"\")","v":0},{"$f":"COUNTIFS($Z:$Z,\"Rd\",X:X,$AC$2,$B:$B,$AC$1,$K:$K,\"\")","v":0},{"$f":"COUNTIFS($Z:$Z,\"Rd\",Y:Y,$AC$2,$B:$B,$AC$1,$K:$K,\"\")","v":0},{"$f":"SUM(AD22:AI22)","v":0},null,24,"Brandon DeFazio","RW",67,57,51,35,38,11,3,4,6,4,0,0,1,5,null,null,"Rockford","Rockford IceHogs"]
[42009,{"$f":"VLOOKUP(AB23,[1]AHLSOG!$O:$Q,2,FALSE)","v":"Rochester"},{"$f":"VLOOKUP(AB23,[1]AHLSOG!$O:$Q,3,FALSE)","v":"Adirondack"},6,"3rd","RCH",0.45347222222222222,"J. Armia",null,null,"PS","V",null,null,null,null,null,null,"H",null,null,null,null,null,null,"Hm","Rochester",1013463,null,"V1","V2","V3","V4","V5","V6","Tot","ESGA",25,"Darren Archibald","LW",62,36,29,30,29,1,0,0,5,0,0,0,0,0,null,null,"San Antonio","San Antonio Rampage"]
[42010,{"$f":"VLOOKUP(AB24,[1]AHLSOG!$O:$Q,2,FALSE)","v":"Rochester"},{"$f":"VLOOKUP(AB24,[1]AHLSOG!$O:$Q,3,FALSE)","v":"Adirondack"},7,"3rd","RCH",0.75138888888888899,"P. Varone","C. Ruhwedel","J. Larsson","PP","V",4,14,46,null,null,null,"H",2,19,22,25,26,null,"Hm","Rochester",1013463,null,{"$f":"COUNTIFS($Z:$Z,\"Hm\",M:M,$AC$2,$C:$C,$AC$1,$K:$K,\"\")","v":0},{"$f":"COUNTIFS($Z:$Z,\"Hm\",N:N,$AC$2,$C:$C,$AC$1,$K:$K,\"\")","v":0},{"$f":"COUNTIFS($Z:$Z,\"Hm\",O:O,$AC$2,$C:$C,$AC$1,$K:$K,\"\")","v":0},{"$f":"COUNTIFS($Z:$Z,\"Hm\",P:P,$AC$2,$C:$C,$AC$1,$K:$K,\"\")","v":0},{"$f":"COUNTIFS($Z:$Z,\"Hm\",Q:Q,$AC$2,$C:$C,$AC$1,$K:$K,\"\")","v":0},{"$f":"COUNTIFS($Z:$Z,\"Hm\",R:R,$AC$2,$C:$C,$AC$1,$K:$K,\"\")","v":0},{"$f":"SUM(AD24:AI24)","v":0},{"$f":"SUM(AJ22:AJ24)","v":0},26,"Frank Corrado","D",27,29,25,21,16,6,0,0,2,0,0,0,0,9,null,null,"Springfield","Springfield Falcons"]
["0 - 1",{"$f":"VLOOKUP(AB25,[1]AHLSOG!$O:$Q,2,FALSE)","v":"San Antonio"},{"$f":"VLOOKUP(AB25,[1]AHLSOG!$O:$Q,3,FALSE)","v":"Iowa"},1,"2nd","SA",0.24791666666666667,"G. Wilson","V. Trocheck","B. Butler",null,"V",2,4,10,36,44,null,"H",3,5,14,16,19,null,"Hm","San Antonio",1013464,null,null,null,null,null,null,null,null,null,27,"Tom Sestito","LW",10,2,4,2,4,0,0,0,0,0,0,0,0,0,null,null,"St. John's","St. John's IceCaps"]
[42005,{"$f":"VLOOKUP(AB26,[1]AHLSOG!$O:$Q,2,FALSE)","v":"San Antonio"},{"$f":"VLOOKUP(AB26,[1]AHLSOG!$O:$Q,3,FALSE)","v":"Iowa"},2,"2nd","IA",0.3576388888888889,"M. Keranen","J. Schroeder","T. Graovac","PP","V",2,4,7,10,36,null,"H",6,8,9,15,null,null,"Rd","Iowa",1013464,null,null,null,null,null,null,null,null,null,28,"Alexandre Grenier","RW",59,71,31,40,21,30,3,0,1,4,0,2,0,1,null,null,"Syracuse","Syracuse Crunch"]
[42036,{"$f":"VLOOKUP(AB27,[1]AHLSOG!$O:$Q,2,FALSE)","v":"San Antonio"},{"$f":"VLOOKUP(AB27,[1]AHLSOG!$O:$Q,3,FALSE)","v":"Iowa"},3,"2nd","IA",0.49444444444444446,"J. Blum","J. Schroeder","T. Graovac","PP","V",2,4,7,10,36,null,"H",3,5,15,23,null,null,"Rd","Iowa",1013464,null,"H1","H2","H3","H4","H5","H6","Tot",null,29,"Kent Huskins","D",43,27,30,18,21,1,0,2,4,0,0,0,2,9,null,null,"Texas","Texas Stars"]
[42037,{"$f":"VLOOKUP(AB28,[1]AHLSOG!$O:$Q,2,FALSE)","v":"San Antonio"},{"$f":"VLOOKUP(AB28,[1]AHLSOG!$O:$Q,3,FALSE)","v":"Iowa"},4,"2nd","SA",0.82777777777777783,"B. Butler","M. Mancari","R. Grimaldi","PP","V",7,18,23,27,null,null,"H",8,9,16,19,26,null,"Hm","San Antonio",1013464,null,{"$f":"COUNTIFS($Z:$Z,\"Hm\",T:T,$AC$2,$K:$K,\"PP\",$AA:$AA,$AC$1)","v":0},{"$f":"COUNTIFS($Z:$Z,\"Hm\",U:U,$AC$2,$K:$K,\"PP\",$AA:$AA,$AC$1)","v":0},{"$f":"COUNTIFS($Z:$Z,\"Hm\",V:V,$AC$2,$K:$K,\"PP\",$AA:$AA,$AC$1)","v":0},{"$f":"COUNTIFS($Z:$Z,\"Hm\",W:W,$AC$2,$K:$K,\"PP\",$AA:$AA,$AC$1)","v":0},{"$f":"COUNTIFS($Z:$Z,\"Hm\",X:X,$AC$2,$K:$K,\"PP\",$AA:$AA,$AC$1)","v":0},{"$f":"COUNTIFS($Z:$Z,\"Hm\",Y:Y,$AC$2,$K:$K,\"PP\",$AA:$AA,$AC$1)","v":0},{"$f":"SUM(AD28:AI28)","v":0},null,34,"Carter Bancks","RW",51,28,28,23,20,1,0,1,2,0,0,0,1,8,null,null,"Toronto","Toronto Marlies"]
[42038,{"$f":"VLOOKUP(AB29,[1]AHLSOG!$O:$Q,2,FALSE)","v":"San Antonio"},{"$f":"VLOOKUP(AB29,[1]AHLSOG!$O:$Q,3,FALSE)","v":"Iowa"},5,"3rd","SA",0.38819444444444445,"M. Mancari","J. McFarland","A. Petrovic",null,"V",2,12,18,44,51,null,"H",3,6,15,18,26,null,"Hm","San Antonio",1013464,null,"V1","V2","V3","V4","V5","V6","Tot","PPG",36,"Wacey Hamilton","C",33,20,19,19,11,1,0,0,0,0,0,0,0,8,null,null,"Utica","Utica Comets"]
[36526,{"$f":"VLOOKUP(AB30,[1]AHLSOG!$O:$Q,2,FALSE)","v":"Adirondack"},{"$f":"VLOOKUP(AB30,[1]AHLSOG!$O:$Q,3,FALSE)","v":"Albany"},1,"1st","ALB",0.30624999999999997,"P. Thompson","J. Whitney","S. Timmins",null,"V",2,9,15,17,33,null,"H",3,15,16,38,46,null,"Rd","Albany",1013465,null,{"$f":"COUNTIFS($Z:$Z,\"Rd\",M:M,$AC$2,$K:$K,\"PP\",$AA:$AA,$AC$1)","v":0},{"$f":"COUNTIFS($Z:$Z,\"Rd\",N:N,$AC$2,$K:$K,\"PP\",$AA:$AA,$AC$1)","v":0},{"$f":"COUNTIFS($Z:$Z,\"Rd\",O:O,$AC$2,$K:$K,\"PP\",$AA:$AA,$AC$1)","v":0},{"$f":"COUNTIFS($Z:$Z,\"Rd\",P:P,$AC$2,$K:$K,\"PP\",$AA:$AA,$AC$1)","v":0},{"$f":"COUNTIFS($Z:$Z,\"Rd\",Q:Q,$AC$2,$K:$K,\"PP\",$AA:$AA,$AC$1)","v":0},{"$f":"COUNTIFS($Z:$Z,\"Rd\",R:R,$AC$2,$K:$K,\"PP\",$AA:$AA,$AC$1)","v":0},{"$f":"SUM(AD30:AI30)","v":0},{"$f":"SUM(AJ28:AJ30)","v":0},37,"Andrey Pedan","D",48,35,39,30,28,1,0,1,2,3,0,0,1,8,null,null,"W-B/Scranton","Wilkes-Barre/Scranton Penguins"]
[36557,{"$f":"VLOOKUP(AB31,[1]AHLSOG!$O:$Q,2,FALSE)","v":"Adirondack"},{"$f":"VLOOKUP(AB31,[1]AHLSOG!$O:$Q,3,FALSE)","v":"Albany"},2,"2nd","ALB",4.9305555555555554E-2,"P. Thompson","B. Burlon","J. Whitney","PP","V",7,9,15,17,28,null,"H",2,14,16,25,null,null,"Rd","Albany",1013465,null,null,null,null,null,null,null,null,null,37,"Nick Tuzzolino","D",1,35,39,30,28,1,0,1,2,3,0,0,1,8,null,null,"Worcester","Worcester Sharks"]
[42036,{"$f":"VLOOKUP(AB32,[1]AHLSOG!$O:$Q,2,FALSE)","v":"Adirondack"},{"$f":"VLOOKUP(AB32,[1]AHLSOG!$O:$Q,3,FALSE)","v":"Albany"},3,"2nd","ADK",0.51527777777777783,"B. Kulak","T. Elson","R. Culkin","PP","V",2,12,19,33,null,null,"H",2,3,13,25,27,null,"Hm","Adirondack",1013465,null,"H1","H2","H3","H4","H5","H6","Tot",null,38,"Curtis Valk","C",1,0,0,0,0,0,0,0,0,0,0,0,0,0]
[42064,{"$f":"VLOOKUP(AB33,[1]AHLSOG!$O:$Q,2,FALSE)","v":"Adirondack"},{"$f":"VLOOKUP(AB33,[1]AHLSOG!$O:$Q,3,FALSE)","v":"Albany"},4,"3rd","ALB",0.42083333333333334,"P. Thompson","S. Matteau",null,null,"V",5,7,10,15,18,null,"H",6,25,27,38,48,null,"Rd","Albany",1013465,null,{"$f":"COUNTIFS($Z:$Z,\"Rd\",T:T,$AC$2,$B:$B,$AC$1,$K:$K,\"SH\")","v":0},{"$f":"COUNTIFS($Z:$Z,\"Rd\",U:U,$AC$2,$B:$B,$AC$1,$K:$K,\"SH\")","v":0},{"$f":"COUNTIFS($Z:$Z,\"Rd\",V:V,$AC$2,$B:$B,$AC$1,$K:$K,\"SH\")","v":0},{"$f":"COUNTIFS($Z:$Z,\"Rd\",W:W,$AC$2,$B:$B,$AC$1,$K:$K,\"SH\")","v":0},{"$f":"COUNTIFS($Z:$Z,\"Rd\",X:X,$AC$2,$B:$B,$AC$1,$K:$K,\"SH\")","v":0},{"$f":"COUNTIFS($Z:$Z,\"Rd\",Y:Y,$AC$2,$B:$B,$AC$1,$K:$K,\"SH\")","v":0},{"$f":"SUM(AD33:AI33)","v":0},null,40,"Peter Andersson","D",51,47,34,37,28,3,1,6,1,0,0,0,0,5]
[42095,{"$f":"VLOOKUP(AB34,[1]AHLSOG!$O:$Q,2,FALSE)","v":"Adirondack"},{"$f":"VLOOKUP(AB34,[1]AHLSOG!$O:$Q,3,FALSE)","v":"Albany"},5,"3rd","ALB",0.57847222222222217,"P. Thompson","J. Whitney","D. Kelly",null,"V",8,9,15,21,29,null,"H",2,14,15,16,46,null,"Rd","Albany",1013465,null,"V1","V2","V3","V4","V5","V6","Tot","SHGA",41,"Will Acton","C",51,25,36,19,27,0,0,3,2,1,0,0,1,8]
[42125,{"$f":"VLOOKUP(AB35,[1]AHLSOG!$O:$Q,2,FALSE)","v":"Adirondack"},{"$f":"VLOOKUP(AB35,[1]AHLSOG!$O:$Q,3,FALSE)","v":"Albany"},6,"3rd","ALB",0.65763888888888888,"S. Matteau","S. Bernier",null,null,"V",2,10,18,28,33,null,"H",2,14,25,27,48,null,"Rd","Albany",1013465,null,{"$f":"COUNTIFS($Z:$Z,\"Hm\",M:M,$AC$2,$C:$C,$AC$1,$K:$K,\"SH\")","v":0},{"$f":"COUNTIFS($Z:$Z,\"Hm\",N:N,$AC$2,$C:$C,$AC$1,$K:$K,\"SH\")","v":0},{"$f":"COUNTIFS($Z:$Z,\"Hm\",O:O,$AC$2,$C:$C,$AC$1,$K:$K,\"SH\")","v":0},{"$f":"COUNTIFS($Z:$Z,\"Hm\",P:P,$AC$2,$C:$C,$AC$1,$K:$K,\"SH\")","v":0},{"$f":"COUNTIFS($Z:$Z,\"Hm\",Q:Q,$AC$2,$C:$C,$AC$1,$K:$K,\"SH\")","v":0},{"$f":"COUNTIFS($Z:$Z,\"Hm\",R:R,$AC$2,$C:$C,$AC$1,$K:$K,\"SH\")","v":0},{"$f":"SUM(AD35:AI35)","v":0},{"$f":"SUM(AJ33:AJ35)","v":0},44,"Adam Clendening","D",41,5,1,4,1,1,0,0,0,0,0,0,0,0]
[36526,{"$f":"VLOOKUP(AB36,[1]AHLSOG!$O:$Q,2,FALSE)","v":"Binghamton"},{"$f":"VLOOKUP(AB36,[1]AHLSOG!$O:$Q,3,FALSE)","v":"Worcester"},1,"1st","WOR",0.34375,"R. Carpenter","E. Hayes","T. Fedun",null,"V",2,7,14,18,22,null,"H",3,11,14,15,18,null,"Rd","Worcester",1013466,null,null,null,null,null,null,null,null,null,47,"Sven Baertschi","LW",48,17,3,7,3,8,0,0,2,0,0,0,0,0]
[42005,{"$f":"VLOOKUP(AB37,[1]AHLSOG!$O:$Q,2,FALSE)","v":"Binghamton"},{"$f":"VLOOKUP(AB37,[1]AHLSOG!$O:$Q,3,FALSE)","v":"Worcester"},2,"1st","BNG",0.6069444444444444,"R. Dzingel","G. Thompson","M. McCormick",null,"V",5,20,27,41,43,null,"H",16,17,20,43,72,null,"Hm","Binghamton",1013466,null,"H1","H2","H3","H4","H5","H6","Tot",null,89,"Cory Conacher","LW",40,12,2,6,2,5,0,0,1,0,0,0,0,0]
[42036,{"$f":"VLOOKUP(AB38,[1]AHLSOG!$O:$Q,2,FALSE)","v":"Binghamton"},{"$f":"VLOOKUP(AB38,[1]AHLSOG!$O:$Q,3,FALSE)","v":"Worcester"},3,"1st","WOR",0.75416666666666676,"M. Haley","T. Doherty","E. Hayes",null,"V",4,7,10,18,22,null,"H",14,16,17,20,43,null,"Rd","Worcester",1013466,null,{"$f":"COUNTIFS($Z:$Z,\"Hm\",T:T,$AC$2,$K:$K,\"SH\",$AA:$AA,$AC$1)","v":0},{"$f":"COUNTIFS($Z:$Z,\"Hm\",U:U,$AC$2,$K:$K,\"SH\",$AA:$AA,$AC$1)","v":0},{"$f":"COUNTIFS($Z:$Z,\"Hm\",V:V,$AC$2,$K:$K,\"SH\",$AA:$AA,$AC$1)","v":0},{"$f":"COUNTIFS($Z:$Z,\"Hm\",W:W,$AC$2,$K:$K,\"SH\",$AA:$AA,$AC$1)","v":0},{"$f":"COUNTIFS($Z:$Z,\"Hm\",X:X,$AC$2,$K:$K,\"SH\",$AA:$AA,$AC$1)","v":0},{"$f":"COUNTIFS($Z:$Z,\"Hm\",Y:Y,$AC$2,$K:$K,\"SH\",$AA:$AA,$AC$1)","v":0},{"$f":"SUM(AD38:AI38)","v":0},null,null,null,null,null,0,0,0,0,0,0,0,0,0,0,0,0,0]
[42037,{"$f":"VLOOKUP(AB39,[1]AHLSOG!$O:$Q,2,FALSE)","v":"Binghamton"},{"$f":"VLOOKUP(AB39,[1]AHLSOG!$O:$Q,3,FALSE)","v":"Worcester"},4,"2nd","BNG",0.69236111111111109,"R. Dzingel","A. Grant",null,null,"V",2,4,7,18,22,null,"H",16,17,20,43,72,null,"Hm","Binghamton",1013466,null,"V1","V2","V3","V4","V5","V6","Tot","SHG",null,null,null,null,0,0,0,0,0,0,0,0,0,0,0,0,0]
[42065,{"$f":"VLOOKUP(AB40,[1]AHLSOG!$O:$Q,2,FALSE)","v":"Binghamton"},{"$f":"VLOOKUP(AB40,[1]AHLSOG!$O:$Q,3,FALSE)","v":"Worcester"},5,"OT","WOR",0.27361111111111108,"M. Taormina","E. Trupp","T. Fedun",null,"V",11,13,20,null,null,null,"H",11,14,18,null,null,null,"Rd","Worcester",1013466,null,{"$f":"COUNTIFS($Z:$Z,\"Rd\",M:M,$AC$2,$K:$K,\"SH\",$AA:$AA,$AC$1)","v":0},{"$f":"COUNTIFS($Z:$Z,\"Rd\",N:N,$AC$2,$K:$K,\"SH\",$AA:$AA,$AC$1)","v":0},{"$f":"COUNTIFS($Z:$Z,\"Rd\",O:O,$AC$2,$K:$K,\"SH\",$AA:$AA,$AC$1)","v":0},{"$f":"COUNTIFS($Z:$Z,\"Rd\",P:P,$AC$2,$K:$K,\"SH\",$AA:$AA,$AC$1)","v":0},{"$f":"COUNTIFS($Z:$Z,\"Rd\",Q:Q,$AC$2,$K:$K,\"SH\",$AA:$AA,$AC$1)","v":0},{"$f":"COUNTIFS($Z:$Z,\"Rd\",R:R,$AC$2,$K:$K,\"SH\",$AA:$AA,$AC$1)","v":0},{"$f":"SUM(AD40:AI40)","v":0},{"$f":"SUM(AJ38:AJ40)","v":0},null,null,null,null,0,0,0,0,0,0,0,0,0,0,0,0,0]
["0 - 1",{"$f":"VLOOKUP(AB41,[1]AHLSOG!$O:$Q,2,FALSE)","v":"Bridgeport"},{"$f":"VLOOKUP(AB41,[1]AHLSOG!$O:$Q,3,FALSE)","v":"St. John's"},1,"1st","BRI",0.22361111111111109,"K. Mouillierat","A. Lee",null,null,"V",4,16,24,41,44,null,"H",2,9,21,27,49,null,"Hm","Bridgeport",1013467,null,null,null,null,null,null,null,null,null,null,null,null,null,0,0,0,0,0,0,0,0,0,0,0,0,0]
["0 - 2",{"$f":"VLOOKUP(AB42,[1]AHLSOG!$O:$Q,2,FALSE)","v":"Bridgeport"},{"$f":"VLOOKUP(AB42,[1]AHLSOG!$O:$Q,3,FALSE)","v":"St. John's"},2,"1st","BRI",0.4777777777777778,"K. Mouillierat","A. Lee","J. Graham",null,"V",14,27,34,48,49,null,"H",2,4,9,21,49,null,"Hm","Bridgeport",1013467,null,"H1","H2","H3","H4","H5","H6","Tot",null,null,null,null,null,0,0,0,0,0,0,0,0,0,0,0,0,0]
[42006,{"$f":"VLOOKUP(AB43,[1]AHLSOG!$O:$Q,2,FALSE)","v":"Bridgeport"},{"$f":"VLOOKUP(AB43,[1]AHLSOG!$O:$Q,3,FALSE)","v":"St. John's"},3,"1st","STJ",0.77916666666666667,"B. Chiarot","K. MacKinnon","B. Riley",null,"V",18,19,25,26,49,null,"H",6,22,23,26,27,null,"Rd","St. John's",1013467,null,{"$f":"COUNTIFS($Z:$Z,\"Hm\",T:T,$AC$2,$K:$K,\"EN\",$AA:$AA,$AC$1)","v":0},{"$f":"COUNTIFS($Z:$Z,\"Hm\",U:U,$AC$2,$K:$K,\"EN\",$AA:$AA,$AC$1)","v":0},{"$f":"COUNTIFS($Z:$Z,\"Hm\",V:V,$AC$2,$K:$K,\"EN\",$AA:$AA,$AC$1)","v":0},{"$f":"COUNTIFS($Z:$Z,\"Hm\",W:W,$AC$2,$K:$K,\"EN\",$AA:$AA,$AC$1)","v":0},{"$f":"COUNTIFS($Z:$Z,\"Hm\",X:X,$AC$2,$K:$K,\"EN\",$AA:$AA,$AC$1)","v":0},{"$f":"COUNTIFS($Z:$Z,\"Hm\",Y:Y,$AC$2,$K:$K,\"EN\",$AA:$AA,$AC$1)","v":0},{"$f":"SUM(AD43:AI43)","v":0},null,null,null,null,null,0,0,0,0,0,0,0,0,0,0,0,0,0]
[42037,{"$f":"VLOOKUP(AB44,[1]AHLSOG!$O:$Q,2,FALSE)","v":"Bridgeport"},{"$f":"VLOOKUP(AB44,[1]AHLSOG!$O:$Q,3,FALSE)","v":"St. John's"},4,"2nd","STJ",0.34652777777777777,"S. Kosmachuk","J. Albert","K. Ellerby",null,"V",4,16,24,44,50,null,"H",2,22,23,24,26,null,"Rd","St. John's",1013467,null,"V1","V2","V3","V4","V5","V6","Tot","ENGF",null,null,null,null,0,0,0,0,0,0,0,0,0,0,0,0,0]
[42065,{"$f":"VLOOKUP(AB45,[1]AHLSOG!$O:$Q,2,FALSE)","v":"Bridgeport"},{"$f":"VLOOKUP(AB45,[1]AHLSOG!$O:$Q,3,FALSE)","v":"St. John's"},5,"3rd","STJ",0.18402777777777779,"J. Brouillette","B. Kichton","E. O'Dell",null,"V",8,14,34,48,49,null,"H",2,6,16,21,26,null,"Rd","St. John's",1013467,null,{"$f":"COUNTIFS($Z:$Z,\"Rd\",M:M,$AC$2,$K:$K,\"EN\",$AA:$AA,$AC$1)","v":0},{"$f":"COUNTIFS($Z:$Z,\"Rd\",N:N,$AC$2,$K:$K,\"EN\",$AA:$AA,$AC$1)","v":0},{"$f":"COUNTIFS($Z:$Z,\"Rd\",O:O,$AC$2,$K:$K,\"EN\",$AA:$AA,$AC$1)","v":0},{"$f":"COUNTIFS($Z:$Z,\"Rd\",P:P,$AC$2,$K:$K,\"EN\",$AA:$AA,$AC$1)","v":0},{"$f":"COUNTIFS($Z:$Z,\"Rd\",Q:Q,$AC$2,$K:$K,\"EN\",$AA:$AA,$AC$1)","v":0},{"$f":"COUNTIFS($Z:$Z,\"Rd\",R:R,$AC$2,$K:$K,\"EN\",$AA:$AA,$AC$1)","v":0},{"$f":"SUM(AD45:AI45)","v":0},{"$f":"SUM(AJ43:AJ45)","v":0},null,null,null,null,0,0,0,0,0,0,0,0,0,0,0,0,0]
["0 - 1",{"$f":"VLOOKUP(AB46,[1]AHLSOG!$O:$Q,2,FALSE)","v":"Chicago"},{"$f":"VLOOKUP(AB46,[1]AHLSOG!$O:$Q,3,FALSE)","v":"Charlotte"},1,"2nd","CHI",0.15416666666666667,"C. Fraser","C. Beach","T. Broadhurst",null,"V",4,18,19,22,29,null,"H",20,24,25,37,55,null,"Hm","Chicago",1013468,null,null,null,null,null,null,null,null,null,null,null,null,null,0,0,0,0,0,0,0,0,0,0,0,0,0]
[42005,{"$f":"VLOOKUP(AB47,[1]AHLSOG!$O:$Q,2,FALSE)","v":"Chicago"},{"$f":"VLOOKUP(AB47,[1]AHLSOG!$O:$Q,3,FALSE)","v":"Charlotte"},2,"2nd","CHA",0.34027777777777773,"J. Staal","B. Woods","B. Holmstrom",null,"V",5,18,21,22,36,null,"H",7,8,12,17,25,null,"Rd","Charlotte",1013468,null,"H1","H2","H3","H4","H5","H6","Tot",null,null,null,null,null,0,0,0,0,0,0,0,0,0,0,0,0,0]
[42006,{"$f":"VLOOKUP(AB48,[1]AHLSOG!$O:$Q,2,FALSE)","v":"Chicago"},{"$f":"VLOOKUP(AB48,[1]AHLSOG!$O:$Q,3,FALSE)","v":"Charlotte"},3,"2nd","CHI",0.59444444444444444,"J. Welsh","R. Bordson","C. Butler",null,"V",4,5,18,19,28,null,"H",15,25,27,37,55,null,"Hm","Chicago",1013468,null,{"$f":"COUNTIFS($Z:$Z,\"Rd\",T:T,$AC$2,$B:$B,$AC$1,$K:$K,\"EN\")","v":0},{"$f":"COUNTIFS($Z:$Z,\"Rd\",U:U,$AC$2,$B:$B,$AC$1,$K:$K,\"EN\")","v":0},{"$f":"COUNTIFS($Z:$Z,\"Rd\",V:V,$AC$2,$B:$B,$AC$1,$K:$K,\"EN\")","v":0},{"$f":"COUNTIFS($Z:$Z,\"Rd\",W:W,$AC$2,$B:$B,$AC$1,$K:$K,\"EN\")","v":0},{"$f":"COUNTIFS($Z:$Z,\"Rd\",X:X,$AC$2,$B:$B,$AC$1,$K:$K,\"EN\")","v":0},{"$f":"COUNTIFS($Z:$Z,\"Rd\",Y:Y,$AC$2,$B:$B,$AC$1,$K:$K,\"EN\")","v":0},{"$f":"SUM(AD48:AI48)","v":0},null,null,null,null,null,0,0,0,0,0,0,0,0,0,0,0,0,0]
["0 - 1",{"$f":"VLOOKUP(AB49,[1]AHLSOG!$O:$Q,2,FALSE)","v":"Lake Erie"},{"$f":"VLOOKUP(AB49,[1]AHLSOG!$O:$Q,3,FALSE)","v":"Grand Rapids"},1,"1st","LE",0.18472222222222223,"P. Carey","M. Sgarbossa","K. Ryan",null,"V",4,6,14,15,19,null,"H",17,27,28,43,47,null,"Hm","Lake Erie",1013469,null,"V1","V2","V3","V4","V5","V6","Tot","ENGA"]
[42005,{"$f":"VLOOKUP(AB50,[1]AHLSOG!$O:$Q,2,FALSE)","v":"Lake Erie"},{"$f":"VLOOKUP(AB50,[1]AHLSOG!$O:$Q,3,FALSE)","v":"Grand Rapids"},2,"1st","GR",0.28472222222222221,"M. Callahan","N. Paetsch","T. Pulkkinen","PP","V",4,6,14,15,19,null,"H",27,37,42,47,null,null,"Rd","Grand Rapids",1013469,null,{"$f":"COUNTIFS($Z:$Z,\"Hm\",M:M,$AC$2,$C:$C,$AC$1,$K:$K,\"EN\")","v":0},{"$f":"COUNTIFS($Z:$Z,\"Hm\",N:N,$AC$2,$C:$C,$AC$1,$K:$K,\"EN\")","v":0},{"$f":"COUNTIFS($Z:$Z,\"Hm\",O:O,$AC$2,$C:$C,$AC$1,$K:$K,\"EN\")","v":0},{"$f":"COUNTIFS($Z:$Z,\"Hm\",P:P,$AC$2,$C:$C,$AC$1,$K:$K,\"EN\")","v":0},{"$f":"COUNTIFS($Z:$Z,\"Hm\",Q:Q,$AC$2,$C:$C,$AC$1,$K:$K,\"EN\")","v":0},{"$f":"COUNTIFS($Z:$Z,\"Hm\",R:R,$AC$2,$C:$C,$AC$1,$K:$K,\"EN\")","v":0},{"$f":"SUM(AD50:AI50)","v":0},{"$f":"SUM(AJ48:AJ50)","v":0}]
[42036,{"$f":"VLOOKUP(AB51,[1]AHLSOG!$O:$Q,2,FALSE)","v":"Lake Erie"},{"$f":"VLOOKUP(AB51,[1]AHLSOG!$O:$Q,3,FALSE)","v":"Grand Rapids"},3,"1st","GR",0.6958333333333333,"K. Porter","A. Athanasiou",null,null,"V",3,12,16,23,29,null,"H",16,18,24,46,71,null,"Rd","Grand Rapids",1013469]
[42064,{"$f":"VLOOKUP(AB52,[1]AHLSOG!$O:$Q,2,FALSE)","v":"Lake Erie"},{"$f":"VLOOKUP(AB52,[1]AHLSOG!$O:$Q,3,FALSE)","v":"Grand Rapids"},4,"2nd","GR",4.3750000000000004E-2,"T. Pulkkinen","M. Callahan","A. Marchenko",null,"V",3,6,15,16,19,null,"H",3,17,26,28,43,null,"Rd","Grand Rapids",1013469,null,"H1","H2","H3","H4","H5","H6","Tot"]
[42065,{"$f":"VLOOKUP(AB53,[1]AHLSOG!$O:$Q,2,FALSE)","v":"Lake Erie"},{"$f":"VLOOKUP(AB53,[1]AHLSOG!$O:$Q,3,FALSE)","v":"Grand Rapids"},5,"3rd","LE",0.24583333333333335,"B. Rendulic","C. Smith","A. Agozzino","PP","V",3,15,16,19,null,null,"H",3,18,26,37,71,null,"Hm","Lake Erie",1013469,null,{"$f":"COUNTIFS($Z:$Z,\"Hm\",T:T,$AC$2,$K:$K,\"EN.PP\",$AA:$AA,$AC$1)","v":0},{"$f":"COUNTIFS($Z:$Z,\"Hm\",U:U,$AC$2,$K:$K,\"EN.PP\",$AA:$AA,$AC$1)","v":0},{"$f":"COUNTIFS($Z:$Z,\"Hm\",V:V,$AC$2,$K:$K,\"EN.PP\",$AA:$AA,$AC$1)","v":0},{"$f":"COUNTIFS($Z:$Z,\"Hm\",W:W,$AC$2,$K:$K,\"EN.PP\",$AA:$AA,$AC$1)","v":0},{"$f":"COUNTIFS($Z:$Z,\"Hm\",X:X,$AC$2,$K:$K,\"EN.PP\",$AA:$AA,$AC$1)","v":0},{"$f":"COUNTIFS($Z:$Z,\"Hm\",Y:Y,$AC$2,$K:$K,\"EN.PP\",$AA:$AA,$AC$1)","v":0},{"$f":"SUM(AD53:AI53)","v":0}]
[36526,{"$f":"VLOOKUP(AB54,[1]AHLSOG!$O:$Q,2,FALSE)","v":"Norfolk"},{"$f":"VLOOKUP(AB54,[1]AHLSOG!$O:$Q,3,FALSE)","v":"Hershey"},1,"1st","HER",0.14097222222222222,"K. Newbury","T. Kundratek","D. Byers",null,"V",6,11,22,34,38,null,"H",2,5,18,28,39,null,"Rd","Hershey",1013470,null,"V1","V2","V3","V4","V5","V6","Tot","ENPPG"]
[42005,{"$f":"VLOOKUP(AB55,[1]AHLSOG!$O:$Q,2,FALSE)","v":"Norfolk"},{"$f":"VLOOKUP(AB55,[1]AHLSOG!$O:$Q,3,FALSE)","v":"Hershey"},2,"1st","NOR",0.1875,"C. Wagner",null,null,"SH","V",13,21,22,23,25,null,"H",2,5,15,21,null,null,"Hm","Norfolk",1013470,null,{"$f":"COUNTIFS($Z:$Z,\"Rd\",M:M,$AC$2,$K:$K,\"EN.PP\",$AA:$AA,$AC$1)","v":0},{"$f":"COUNTIFS($Z:$Z,\"Rd\",N:N,$AC$2,$K:$K,\"EN.PP\",$AA:$AA,$AC$1)","v":0},{"$f":"COUNTIFS($Z:$Z,\"Rd\",O:O,$AC$2,$K:$K,\"EN.PP\",$AA:$AA,$AC$1)","v":0},{"$f":"COUNTIFS($Z:$Z,\"Rd\",P:P,$AC$2,$K:$K,\"EN.PP\",$AA:$AA,$AC$1)","v":0},{"$f":"COUNTIFS($Z:$Z,\"Rd\",Q:Q,$AC$2,$K:$K,\"EN.PP\",$AA:$AA,$AC$1)","v":0},{"$f":"COUNTIFS($Z:$Z,\"Rd\",R:R,$AC$2,$K:$K,\"EN.PP\",$AA:$AA,$AC$1)","v":0},{"$f":"SUM(AD55:AI55)","v":0},{"$f":"SUM(AJ53:AJ55)","v":0}]
[42036,{"$f":"VLOOKUP(AB56,[1]AHLSOG!$O:$Q,2,FALSE)","v":"Norfolk"},{"$f":"VLOOKUP(AB56,[1]AHLSOG!$O:$Q,3,FALSE)","v":"Hershey"},3,"1st","HER",0.22361111111111109,"P. Cornet","C. Schilling","K. Newbury","PP","V",5,11,18,34,38,null,"H",2,5,8,39,null,null,"Rd","Hershey",1013470]
[42037,{"$f":"VLOOKUP(AB57,[1]AHLSOG!$O:$Q,2,FALSE)","v":"Norfolk"},{"$f":"VLOOKUP(AB57,[1]AHLSOG!$O:$Q,3,FALSE)","v":"Hershey"},4,"1st","NOR",0.37986111111111115,"C. Wagner","B. Winchester",null,"SH","V",13,21,22,23,25,null,"H",3,9,15,21,null,null,"Hm","Norfolk",1013470,null,"H1","H2","H3","H4","H5","H6","Tot"]
[42065,{"$f":"VLOOKUP(AB58,[1]AHLSOG!$O:$Q,2,FALSE)","v":"Norfolk"},{"$f":"VLOOKUP(AB58,[1]AHLSOG!$O:$Q,3,FALSE)","v":"Hershey"},5,"1st","HER",0.3979166666666667,"D. Byers","P. Cornet","K. Newbury","PP","V",5,11,18,34,38,null,"H",3,8,9,10,null,null,"Rd","Hershey",1013470,null,{"$f":"COUNTIFS($Z:$Z,\"Rd\",T:T,$AC$2,$B:$B,$AC$1,$K:$K,\"EN.SH\")","v":0},{"$f":"COUNTIFS($Z:$Z,\"Rd\",U:U,$AC$2,$B:$B,$AC$1,$K:$K,\"EN.SH\")","v":0},{"$f":"COUNTIFS($Z:$Z,\"Rd\",V:V,$AC$2,$B:$B,$AC$1,$K:$K,\"EN.SH\")","v":0},{"$f":"COUNTIFS($Z:$Z,\"Rd\",W:W,$AC$2,$B:$B,$AC$1,$K:$K,\"EN.SH\")","v":0},{"$f":"COUNTIFS($Z:$Z,\"Rd\",X:X,$AC$2,$B:$B,$AC$1,$K:$K,\"EN.SH\")","v":0},{"$f":"COUNTIFS($Z:$Z,\"Rd\",Y:Y,$AC$2,$B:$B,$AC$1,$K:$K,\"EN.SH\")","v":0},{"$f":"SUM(AD58:AI58)","v":0}]
[42066,{"$f":"VLOOKUP(AB59,[1]AHLSOG!$O:$Q,2,FALSE)","v":"Norfolk"},{"$f":"VLOOKUP(AB59,[1]AHLSOG!$O:$Q,3,FALSE)","v":"Hershey"},6,"1st","NOR",0.69097222222222221,"N. McIver","L. Leblanc","B. Yip",null,"V",6,13,21,23,25,null,"H",6,8,18,20,25,null,"Hm","Norfolk",1013470,null,"V1","V2","V3","V4","V5","V6","Tot","ENSHA"]
[42067,{"$f":"VLOOKUP(AB60,[1]AHLSOG!$O:$Q,2,FALSE)","v":"Norfolk"},{"$f":"VLOOKUP(AB60,[1]AHLSOG!$O:$Q,3,FALSE)","v":"Hershey"},7,"2nd","NOR",0.19444444444444445,"L. Leblanc","S. Noesen","N. Kerdiles","PP","V",5,10,34,38,null,null,"H",5,8,11,20,28,null,"Hm","Norfolk",1013470,null,{"$f":"COUNTIFS($Z:$Z,\"Hm\",M:M,$AC$2,$C:$C,$AC$1,$K:$K,\"EN.SH\")","v":0},{"$f":"COUNTIFS($Z:$Z,\"Hm\",N:N,$AC$2,$C:$C,$AC$1,$K:$K,\"EN.SH\")","v":0},{"$f":"COUNTIFS($Z:$Z,\"Hm\",O:O,$AC$2,$C:$C,$AC$1,$K:$K,\"EN.SH\")","v":0},{"$f":"COUNTIFS($Z:$Z,\"Hm\",P:P,$AC$2,$C:$C,$AC$1,$K:$K,\"EN.SH\")","v":0},{"$f":"COUNTIFS($Z:$Z,\"Hm\",Q:Q,$AC$2,$C:$C,$AC$1,$K:$K,\"EN.SH\")","v":0},{"$f":"COUNTIFS($Z:$Z,\"Hm\",R:R,$AC$2,$C:$C,$AC$1,$K:$K,\"EN.SH\")","v":0},{"$f":"SUM(AD60:AI60)","v":0},{"$f":"SUM(AJ58:AJ60)","v":0}]
[42098,{"$f":"VLOOKUP(AB61,[1]AHLSOG!$O:$Q,2,FALSE)","v":"Norfolk"},{"$f":"VLOOKUP(AB61,[1]AHLSOG!$O:$Q,3,FALSE)","v":"Hershey"},8,"2nd","HER",0.37013888888888885,"S. Oleksy","C. Schilling",null,null,"V",5,7,12,21,36,null,"H",2,5,8,11,20,null,"Rd","Hershey",1013470]
[42099,{"$f":"VLOOKUP(AB62,[1]AHLSOG!$O:$Q,2,FALSE)","v":"Norfolk"},{"$f":"VLOOKUP(AB62,[1]AHLSOG!$O:$Q,3,FALSE)","v":"Hershey"},9,"3rd","NOR",0.44375000000000003,"C. Wagner","M. Clark","B. Winchester",null,"V",6,11,22,34,38,null,"H",2,5,15,21,39,null,"Hm","Norfolk",1013470,null,"H1","H2","H3","H4","H5","H6","Tot"]
[36526,{"$f":"VLOOKUP(AB63,[1]AHLSOG!$O:$Q,2,FALSE)","v":"Portland"},{"$f":"VLOOKUP(AB63,[1]AHLSOG!$O:$Q,3,FALSE)","v":"Providence"},1,"2nd","PRO",0.45763888888888887,"A. Fallstrom","J. Morrow","S. Eminger",null,"V",7,10,16,38,44,null,"H",15,17,25,27,43,null,"Rd","Providence",1013471,null,{"$f":"COUNTIFS($Z:$Z,\"Hm\",T:T,$AC$2,$K:$K,\"EN.SH\",$AA:$AA,$AC$1)","v":0},{"$f":"COUNTIFS($Z:$Z,\"Hm\",U:U,$AC$2,$K:$K,\"EN.SH\",$AA:$AA,$AC$1)","v":0},{"$f":"COUNTIFS($Z:$Z,\"Hm\",V:V,$AC$2,$K:$K,\"EN.SH\",$AA:$AA,$AC$1)","v":0},{"$f":"COUNTIFS($Z:$Z,\"Hm\",W:W,$AC$2,$K:$K,\"EN.SH\",$AA:$AA,$AC$1)","v":0},{"$f":"COUNTIFS($Z:$Z,\"Hm\",X:X,$AC$2,$K:$K,\"EN.SH\",$AA:$AA,$AC$1)","v":0},{"$f":"COUNTIFS($Z:$Z,\"Hm\",Y:Y,$AC$2,$K:$K,\"EN.SH\",$AA:$AA,$AC$1)","v":0},{"$f":"SUM(AD63:AI63)","v":0}]
[42005,{"$f":"VLOOKUP(AB64,[1]AHLSOG!$O:$Q,2,FALSE)","v":"Portland"},{"$f":"VLOOKUP(AB64,[1]AHLSOG!$O:$Q,3,FALSE)","v":"Providence"},2,"3rd","POR",5.2083333333333336E-2,"L. Lessio","P. McNeill",null,"PP","V",6,8,10,38,null,null,"H",2,17,19,20,38,null,"Hm","Portland",1013471,null,"V1","V2","V3","V4","V5","V6","Tot","ENSHG"]
[42006,{"$f":"VLOOKUP(AB65,[1]AHLSOG!$O:$Q,2,FALSE)","v":"Portland"},{"$f":"VLOOKUP(AB65,[1]AHLSOG!$O:$Q,3,FALSE)","v":"Providence"},3,"3rd","POR",9.7222222222222224E-2,"D. Dziurzynski","D. Reese","A. Campbell",null,"V",5,6,13,18,22,null,"H",2,4,22,26,32,null,"Hm","Portland",1013471,null,{"$f":"COUNTIFS($Z:$Z,\"Rd\",M:M,$AC$2,$K:$K,\"EN.SH\",$AA:$AA,$AC$1)","v":0},{"$f":"COUNTIFS($Z:$Z,\"Rd\",N:N,$AC$2,$K:$K,\"EN.SH\",$AA:$AA,$AC$1)","v":0},{"$f":"COUNTIFS($Z:$Z,\"Rd\",O:O,$AC$2,$K:$K,\"EN.SH\",$AA:$AA,$AC$1)","v":0},{"$f":"COUNTIFS($Z:$Z,\"Rd\",P:P,$AC$2,$K:$K,\"EN.SH\",$AA:$AA,$AC$1)","v":0},{"$f":"COUNTIFS($Z:$Z,\"Rd\",Q:Q,$AC$2,$K:$K,\"EN.SH\",$AA:$AA,$AC$1)","v":0},{"$f":"COUNTIFS($Z:$Z,\"Rd\",R:R,$AC$2,$K:$K,\"EN.SH\",$AA:$AA,$AC$1)","v":0},{"$f":"SUM(AD65:AI65)","v":0},{"$f":"SUM(AJ63:AJ65)","v":0}]
[42007,{"$f":"VLOOKUP(AB66,[1]AHLSOG!$O:$Q,2,FALSE)","v":"Portland"},{"$f":"VLOOKUP(AB66,[1]AHLSOG!$O:$Q,3,FALSE)","v":"Providence"},4,"3rd","POR",0.29236111111111113,"B. Shinnimin","D. Reese","A. Bolduc","PP","V",5,18,37,null,null,null,"H",2,19,20,24,49,null,"Hm","Portland",1013471]
[42038,{"$f":"VLOOKUP(AB67,[1]AHLSOG!$O:$Q,2,FALSE)","v":"Portland"},{"$f":"VLOOKUP(AB67,[1]AHLSOG!$O:$Q,3,FALSE)","v":"Providence"},5,"3rd","PRO",0.6972222222222223,"D. Pastrnak","S. Griffith",null,null,"V",6,9,17,32,37,null,"H",9,10,20,38,43,null,"Rd","Providence",1013471]
["0 - 1",{"$f":"VLOOKUP(AB68,[1]AHLSOG!$O:$Q,2,FALSE)","v":"Rochester"},{"$f":"VLOOKUP(AB68,[1]AHLSOG!$O:$Q,3,FALSE)","v":"Hamilton"},1,"1st","RCH",0.1423611111111111,"W. Carrier","C. Ruhwedel","T. Schaller",null,"V",9,12,18,32,40,null,"H",4,5,11,28,37,null,"Hm","Rochester",1013472,null,"H1","H2","H3","H4","H5","H6","Tot"]
["0 - 2",{"$f":"VLOOKUP(AB69,[1]AHLSOG!$O:$Q,2,FALSE)","v":"Rochester"},{"$f":"VLOOKUP(AB69,[1]AHLSOG!$O:$Q,3,FALSE)","v":"Hamilton"},2,"2nd","RCH",0.41944444444444445,"J. Larsson","M. MacKenzie","L. Adam",null,"V",7,10,11,20,26,null,"H",19,21,26,44,47,null,"Hm","Rochester",1013472,null,{"$f":"COUNTIFS($Z:$Z,\"Rd\",T:T,$AC$2,$B:$B,$AC$1,$K:$K,\"PP\")","v":0},{"$f":"COUNTIFS($Z:$Z,\"Rd\",U:U,$AC$2,$B:$B,$AC$1,$K:$K,\"PP\")","v":0},0,0,0,0,{"$f":"SUM(AD69:AI69)","v":0}]
[42006,{"$f":"VLOOKUP(AB70,[1]AHLSOG!$O:$Q,2,FALSE)","v":"Rochester"},{"$f":"VLOOKUP(AB70,[1]AHLSOG!$O:$Q,3,FALSE)","v":"Hamilton"},3,"2nd","HAM",0.44930555555555557,"M. Macenauer","G. Dumont","J. Dowell",null,"V",2,4,12,18,40,null,"H",4,5,16,22,43,null,"Rd","Hamilton",1013472,null,"V1","V2","V3","V4","V5","V6","Tot","PPGA"]
[42037,{"$f":"VLOOKUP(AB71,[1]AHLSOG!$O:$Q,2,FALSE)","v":"Rochester"},{"$f":"VLOOKUP(AB71,[1]AHLSOG!$O:$Q,3,FALSE)","v":"Hamilton"},4,"2nd","HAM",0.5131944444444444,"N. Sorkin","T. Hensick","D. Dietz",null,"V",2,7,17,19,21,null,"H",18,25,33,44,47,null,"Rd","Hamilton",1013472,null,{"$f":"COUNTIFS($Z:$Z,\"Hm\",M:M,$AC$2,$C:$C,$AC$1,$K:$K,\"PP\")","v":0},{"$f":"COUNTIFS($Z:$Z,\"Hm\",N:N,$AC$2,$C:$C,$AC$1,$K:$K,\"PP\")","v":0},0,0,0,0,{"$f":"SUM(AD71:AI71)","v":0},{"$f":"SUM(AJ69:AJ71)","v":0}]
[42038,{"$f":"VLOOKUP(AB72,[1]AHLSOG!$O:$Q,2,FALSE)","v":"Rochester"},{"$f":"VLOOKUP(AB72,[1]AHLSOG!$O:$Q,3,FALSE)","v":"Hamilton"},5,"2nd","RCH",0.65,"A. Aliu","L. Adam","J. Larsson",null,"V",2,17,19,21,32,null,"H",16,19,26,34,52,null,"Hm","Rochester",1013472]
[42066,{"$f":"VLOOKUP(AB73,[1]AHLSOG!$O:$Q,2,FALSE)","v":"Rochester"},{"$f":"VLOOKUP(AB73,[1]AHLSOG!$O:$Q,3,FALSE)","v":"Hamilton"},6,"2nd","HAM",0.71111111111111114,"C. Hudon","M. Nygren","D. Carr",null,"V",7,10,11,20,32,null,"H",25,28,33,34,52,null,"Rd","Hamilton",1013472]
[42067,{"$f":"VLOOKUP(AB74,[1]AHLSOG!$O:$Q,2,FALSE)","v":"Rochester"},{"$f":"VLOOKUP(AB74,[1]AHLSOG!$O:$Q,3,FALSE)","v":"Hamilton"},7,"3rd","RCH",0.18194444444444444,"A. Aliu","P. Varone",null,null,"V",7,12,18,26,40,null,"H",16,19,22,34,52,null,"Hm","Rochester",1013472]
[42098,{"$f":"VLOOKUP(AB75,[1]AHLSOG!$O:$Q,2,FALSE)","v":"Rochester"},{"$f":"VLOOKUP(AB75,[1]AHLSOG!$O:$Q,3,FALSE)","v":"Hamilton"},8,"3rd","HAM",0.71944444444444444,"G. Dumont","M. Macenauer","J. Dowell",null,"V",4,7,12,18,40,null,"H",4,5,11,37,43,null,"Rd","Hamilton",1013472]
[42128,{"$f":"VLOOKUP(AB76,[1]AHLSOG!$O:$Q,2,FALSE)","v":"Rochester"},{"$f":"VLOOKUP(AB76,[1]AHLSOG!$O:$Q,3,FALSE)","v":"Hamilton"},9,"3rd","HAM",0.73125000000000007,"D. Carr","C. Hudon","M. Nygren",null,"V",4,10,11,27,32,null,"H",16,19,22,34,52,null,"Rd","Hamilton",1013472]
[42159,{"$f":"VLOOKUP(AB77,[1]AHLSOG!$O:$Q,2,FALSE)","v":"Rochester"},{"$f":"VLOOKUP(AB77,[1]AHLSOG!$O:$Q,3,FALSE)","v":"Hamilton"},10,"3rd","HAM",0.82152777777777775,"D. Bowman","E. Tangradi","J. De La Rose","EN","V",2,4,15,20,25,null,"H",5,19,21,22,25,26,"Rd","Hamilton",1013472]
["0 - 1",{"$f":"VLOOKUP(AB78,[1]AHLSOG!$O:$Q,2,FALSE)","v":"Rockford"},{"$f":"VLOOKUP(AB78,[1]AHLSOG!$O:$Q,3,FALSE)","v":"Milwaukee"},1,"1st","RFD",0.7729166666666667,"R. Hartman","M. Carey","P. Danault",null,"V",7,18,28,37,46,null,"H",3,8,10,24,27,null,"Hm","Rockford",1013473]
[42005,{"$f":"VLOOKUP(AB79,[1]AHLSOG!$O:$Q,2,FALSE)","v":"Rockford"},{"$f":"VLOOKUP(AB79,[1]AHLSOG!$O:$Q,3,FALSE)","v":"Milwaukee"},2,"2nd","MIL",1.4583333333333332E-2,"A. Watson","M. Van Guilder",null,null,"V",2,7,20,29,51,null,"H",2,10,12,23,24,null,"Rd","Milwaukee",1013473]
[42036,{"$f":"VLOOKUP(AB80,[1]AHLSOG!$O:$Q,2,FALSE)","v":"Rockford"},{"$f":"VLOOKUP(AB80,[1]AHLSOG!$O:$Q,3,FALSE)","v":"Milwaukee"},3,"2nd","MIL",0.24930555555555556,"M. Van Guilder","A. Bitetto","A. Watson",null,"V",2,7,20,29,51,null,"H",4,8,11,21,25,null,"Rd","Milwaukee",1013473]
[42037,{"$f":"VLOOKUP(AB81,[1]AHLSOG!$O:$Q,2,FALSE)","v":"Rockford"},{"$f":"VLOOKUP(AB81,[1]AHLSOG!$O:$Q,3,FALSE)","v":"Milwaukee"},4,"2nd","RFD",0.67499999999999993,"Z. Miskovic","R. Hartman","T. Teravainen",null,"V",22,23,24,37,89,null,"H",3,7,12,21,24,null,"Hm","Rockford",1013473]
[42065,{"$f":"VLOOKUP(AB82,[1]AHLSOG!$O:$Q,2,FALSE)","v":"Rockford"},{"$f":"VLOOKUP(AB82,[1]AHLSOG!$O:$Q,3,FALSE)","v":"Milwaukee"},5,"3rd","MIL",0.30138888888888887,"J. Pendenza","F. Gaudreau",null,null,"V",2,7,22,24,89,null,"H",2,8,11,21,28,null,"Rd","Milwaukee",1013473]
["0 - 1",{"$f":"VLOOKUP(AB83,[1]AHLSOG!$O:$Q,2,FALSE)","v":"San Antonio"},{"$f":"VLOOKUP(AB83,[1]AHLSOG!$O:$Q,3,FALSE)","v":"Oklahoma City"},1,"1st","SA",0.34166666666666662,"B. Olson","B. Parlett","M. Mancari",null,"V",5,6,9,12,19,null,"H",5,7,15,18,26,null,"Hm","San Antonio",1013474]
[42005,{"$f":"VLOOKUP(AB84,[1]AHLSOG!$O:$Q,2,FALSE)","v":"San Antonio"},{"$f":"VLOOKUP(AB84,[1]AHLSOG!$O:$Q,3,FALSE)","v":"Oklahoma City"},2,"1st","OKC",0.57847222222222217,"R. Hamilton","I. Pakarinen","S. Pinizzotto","PP","V",12,13,25,28,40,null,"H",6,7,15,16,null,null,"Rd","Oklahoma City",1013474]
[42006,{"$f":"VLOOKUP(AB85,[1]AHLSOG!$O:$Q,2,FALSE)","v":"San Antonio"},{"$f":"VLOOKUP(AB85,[1]AHLSOG!$O:$Q,3,FALSE)","v":"Oklahoma City"},3,"2nd","SA",0.37222222222222223,"V. Trocheck","B. Parlett","B. Butler",null,"V",7,11,22,28,40,null,"H",6,7,14,16,19,null,"Hm","San Antonio",1013474]
[42037,{"$f":"VLOOKUP(AB86,[1]AHLSOG!$O:$Q,2,FALSE)","v":"San Antonio"},{"$f":"VLOOKUP(AB86,[1]AHLSOG!$O:$Q,3,FALSE)","v":"Oklahoma City"},4,"2nd","OKC",0.4770833333333333,"I. Pakarinen","A. Miller","M. Marincin",null,"V",16,17,25,28,40,null,"H",6,8,15,17,26,null,"Rd","Oklahoma City",1013474]
[42038,{"$f":"VLOOKUP(AB87,[1]AHLSOG!$O:$Q,2,FALSE)","v":"San Antonio"},{"$f":"VLOOKUP(AB87,[1]AHLSOG!$O:$Q,3,FALSE)","v":"Oklahoma City"},5,"OT","SA",0.1388888888888889,"R. Grimaldi","D. Shore","S. O'Brien",null,"V",7,11,18,22,null,null,"H",3,9,32,44,null,null,"Hm","San Antonio",1013474]
[36526,{"$f":"VLOOKUP(AB88,[1]AHLSOG!$O:$Q,2,FALSE)","v":"Syracuse"},{"$f":"VLOOKUP(AB88,[1]AHLSOG!$O:$Q,3,FALSE)","v":"Springfield"},1,"1st","SPR",0.74305555555555547,"M. Hoeffel","D. Urban",null,null,"V",4,7,11,22,40,null,"H",3,6,10,11,63,null,"Rd","Springfield",1013475]
[36557,{"$f":"VLOOKUP(AB89,[1]AHLSOG!$O:$Q,2,FALSE)","v":"Syracuse"},{"$f":"VLOOKUP(AB89,[1]AHLSOG!$O:$Q,3,FALSE)","v":"Springfield"},2,"2nd","SPR",9.6527777777777768E-2,"D. Urban","D. Tyrell","S. Collins","PP","V",5,7,14,17,29,null,"H",3,4,21,37,null,null,"Rd","Springfield",1013475]
[42036,{"$f":"VLOOKUP(AB90,[1]AHLSOG!$O:$Q,2,FALSE)","v":"Syracuse"},{"$f":"VLOOKUP(AB90,[1]AHLSOG!$O:$Q,3,FALSE)","v":"Springfield"},3,"2nd","SYR",0.15833333333333333,"M. Blunden","L. Witkowski","N. Nesterov",null,"V",4,13,19,26,36,null,"H",18,21,37,82,89,null,"Hm","Syracuse",1013475]
[42064,{"$f":"VLOOKUP(AB91,[1]AHLSOG!$O:$Q,2,FALSE)","v":"Syracuse"},{"$f":"VLOOKUP(AB91,[1]AHLSOG!$O:$Q,3,FALSE)","v":"Springfield"},4,"3rd","SPR",0.83263888888888893,"R. Craig","L. Sedlak",null,"EN.SH","V",4,12,22,26,null,null,"H",10,17,18,21,89,92,"Rd","Springfield",1013475]
[36526,{"$f":"VLOOKUP(AB92,[1]AHLSOG!$O:$Q,2,FALSE)","v":"Texas"},{"$f":"VLOOKUP(AB92,[1]AHLSOG!$O:$Q,3,FALSE)","v":"Iowa"},1,"1st","IA",0.42986111111111108,"T. Graovac","J. Schroeder","J. Blum","PP","V",2,4,7,10,36,null,"H",8,9,16,24,null,null,"Rd","Iowa",1013476]
[42005,{"$f":"VLOOKUP(AB93,[1]AHLSOG!$O:$Q,2,FALSE)","v":"Texas"},{"$f":"VLOOKUP(AB93,[1]AHLSOG!$O:$Q,3,FALSE)","v":"Iowa"},2,"2nd","TEX",0.30972222222222223,"C. McKenzie","B. Ritchie","T. Morin",null,"V",14,19,21,27,44,null,"H",4,16,20,23,24,null,"Hm","Texas",1013476]
[42006,{"$f":"VLOOKUP(AB94,[1]AHLSOG!$O:$Q,2,FALSE)","v":"Texas"},{"$f":"VLOOKUP(AB94,[1]AHLSOG!$O:$Q,3,FALSE)","v":"Iowa"},3,"2nd","TEX",0.45069444444444445,"J. Dowling","M. Fortunus","S. Glennie",null,"V",7,11,17,18,19,null,"H",3,10,15,18,19,null,"Hm","Texas",1013476]
[42007,{"$f":"VLOOKUP(AB95,[1]AHLSOG!$O:$Q,2,FALSE)","v":"Texas"},{"$f":"VLOOKUP(AB95,[1]AHLSOG!$O:$Q,3,FALSE)","v":"Iowa"},4,"2nd","TEX",0.8027777777777777,"J. Honka","J. Dowling","B. Ranford","PP","V",7,14,17,27,null,null,"H",4,7,10,19,27,null,"Hm","Texas",1013476]
[42038,{"$f":"VLOOKUP(AB96,[1]AHLSOG!$O:$Q,2,FALSE)","v":"Texas"},{"$f":"VLOOKUP(AB96,[1]AHLSOG!$O:$Q,3,FALSE)","v":"Iowa"},5,"3rd","IA",0.23194444444444443,"B. Brassart","M. Keranen","J. Blum",null,"V",4,7,11,27,36,39,"H",3,11,18,25,27,null,"Rd","Iowa",1013476]
[42039,{"$f":"VLOOKUP(AB97,[1]AHLSOG!$O:$Q,2,FALSE)","v":"Texas"},{"$f":"VLOOKUP(AB97,[1]AHLSOG!$O:$Q,3,FALSE)","v":"Iowa"},6,"3rd","TEX",0.68958333333333333,"J. Klingberg","T. Morin","M. Fortunus","PP","V",7,14,18,27,null,null,"H",4,16,18,20,23,null,"Hm","Texas",1013476]
["0 - 1",{"$f":"VLOOKUP(AB98,[1]AHLSOG!$O:$Q,2,FALSE)","v":"Toronto"},{"$f":"VLOOKUP(AB98,[1]AHLSOG!$O:$Q,3,FALSE)","v":"Utica"},1,"1st","TOR",0.31041666666666667,"T. Smith","C. Brown",null,null,"V",6,9,16,24,40,null,"H",5,12,23,29,50,null,"Hm","Toronto",1013477]
[42005,{"$f":"VLOOKUP(AB99,[1]AHLSOG!$O:$Q,2,FALSE)","v":"Toronto"},{"$f":"VLOOKUP(AB99,[1]AHLSOG!$O:$Q,3,FALSE)","v":"Utica"},2,"1st","UTI",0.38680555555555557,"A. Grenier","C. O'Reilly","B. Sanguinetti","PP","V",6,16,17,21,28,null,"H",5,22,23,null,null,null,"Rd","Utica",1013477]
[42036,{"$f":"VLOOKUP(AB100,[1]AHLSOG!$O:$Q,2,FALSE)","v":"Toronto"},{"$f":"VLOOKUP(AB100,[1]AHLSOG!$O:$Q,3,FALSE)","v":"Utica"},3,"2nd","UTI",0.26874999999999999,"D. Jeffrey","A. Grenier","C. O'Reilly","PP","V",6,17,21,26,28,null,"H",8,16,23,null,null,null,"Rd","Utica",1013477]
[36526,{"$f":"VLOOKUP(AB101,[1]AHLSOG!$O:$Q,2,FALSE)","v":"W-B/Scranton"},{"$f":"VLOOKUP(AB101,[1]AHLSOG!$O:$Q,3,FALSE)","v":"Lehigh Valley"},1,"1st","LV",0.78472222222222221,"C. VandeVelde","P. Straka","R. Hagg","PP","V",2,4,19,24,26,null,"H",5,8,16,26,null,null,"Rd","Lehigh",1013478]
[36557,{"$f":"VLOOKUP(AB102,[1]AHLSOG!$O:$Q,2,FALSE)","v":"W-B/Scranton"},{"$f":"VLOOKUP(AB102,[1]AHLSOG!$O:$Q,3,FALSE)","v":"Lehigh Valley"},2,"2nd","LV",0.3263888888888889,"B. Alderson",null,null,null,"V",14,19,26,28,36,null,"H",4,29,34,41,43,null,"Rd","Lehigh",1013478]
[36586,{"$f":"VLOOKUP(AB103,[1]AHLSOG!$O:$Q,2,FALSE)","v":"W-B/Scranton"},{"$f":"VLOOKUP(AB103,[1]AHLSOG!$O:$Q,3,FALSE)","v":"Lehigh Valley"},3,"2nd","LV",0.38263888888888892,"M. Alt","N. Cousins","R. Hagg",null,"V",2,4,24,25,45,null,"H",2,3,16,19,24,null,"Rd","Lehigh",1013478]
[42064,{"$f":"VLOOKUP(AB104,[1]AHLSOG!$O:$Q,2,FALSE)","v":"W-B/Scranton"},{"$f":"VLOOKUP(AB104,[1]AHLSOG!$O:$Q,3,FALSE)","v":"Lehigh Valley"},4,"2nd","WBS",0.83263888888888893,"B. Rust","B. Goers","D. Uher",null,"V",2,7,10,26,36,null,"H",4,12,16,26,41,null,"Hm","W-B/Scranton",1013478]
[42095,{"$f":"VLOOKUP(AB105,[1]AHLSOG!$O:$Q,2,FALSE)","v":"W-B/Scranton"},{"$f":"VLOOKUP(AB105,[1]AHLSOG!$O:$Q,3,FALSE)","v":"Lehigh Valley"},5,"3rd","LV",0.71250000000000002,"N. Cousins","B. Manning","Z. Stortini","PP","V",14,24,25,28,45,null,"H",3,5,16,24,null,null,"Rd","Lehigh",1013478]
[42125,{"$f":"VLOOKUP(AB106,[1]AHLSOG!$O:$Q,2,FALSE)","v":"W-B/Scranton"},{"$f":"VLOOKUP(AB106,[1]AHLSOG!$O:$Q,3,FALSE)","v":"Lehigh Valley"},6,"3rd","LV",0.75486111111111109,"C. VandeVelde","B. Alderson","D. Powe","PP","V",2,4,19,26,36,null,"H",3,16,26,41,null,null,"Rd","Lehigh",1013478]
[42126,{"$f":"VLOOKUP(AB107,[1]AHLSOG!$O:$Q,2,FALSE)","v":"W-B/Scranton"},{"$f":"VLOOKUP(AB107,[1]AHLSOG!$O:$Q,3,FALSE)","v":"Lehigh Valley"},7,"3rd","WBS",0.79305555555555562,"C. Sheary","D. Uher","B. Dumoulin",null,"V",7,14,16,17,37,null,"H",2,8,26,34,43,null,"Hm","W-B/Scranton",1013478]
[36526,{"$f":"VLOOKUP(AB108,[1]AHLSOG!$O:$Q,2,FALSE)","v":"Bridgeport"},{"$f":"VLOOKUP(AB108,[1]AHLSOG!$O:$Q,3,FALSE)","v":"St. John's"},1,"1st","STJ",3.3333333333333333E-2,"E. O'Dell","J. Lipon",null,null,"V",14,29,34,44,48,null,"H",4,10,22,28,49,null,"Rd","St. John's",1013479]
[42005,{"$f":"VLOOKUP(AB109,[1]AHLSOG!$O:$Q,2,FALSE)","v":"Bridgeport"},{"$f":"VLOOKUP(AB109,[1]AHLSOG!$O:$Q,3,FALSE)","v":"St. John's"},2,"1st","BRI",0.18819444444444444,"A. Quine","H. Zolnierczyk","M. Halmo","PP","V",19,27,29,34,null,null,"H",2,6,16,22,26,null,"Hm","Bridgeport",1013479]
[42036,{"$f":"VLOOKUP(AB110,[1]AHLSOG!$O:$Q,2,FALSE)","v":"Bridgeport"},{"$f":"VLOOKUP(AB110,[1]AHLSOG!$O:$Q,3,FALSE)","v":"St. John's"},3,"1st","STJ",0.23472222222222219,"E. O'Dell","C. Klingberg","B. Chiarot",null,"V",14,18,27,34,48,null,"H",4,10,22,28,49,null,"Rd","St. John's",1013479]
[42037,{"$f":"VLOOKUP(AB111,[1]AHLSOG!$O:$Q,2,FALSE)","v":"Bridgeport"},{"$f":"VLOOKUP(AB111,[1]AHLSOG!$O:$Q,3,FALSE)","v":"St. John's"},4,"1st","BRI",0.58333333333333337,"S. Vaughan","C. Langkow","A. Pedan",null,"V",7,19,25,26,27,null,"H",3,7,11,17,24,null,"Hm","Bridgeport",1013479]
[42038,{"$f":"VLOOKUP(AB112,[1]AHLSOG!$O:$Q,2,FALSE)","v":"Bridgeport"},{"$f":"VLOOKUP(AB112,[1]AHLSOG!$O:$Q,3,FALSE)","v":"St. John's"},5,"2nd","BRI",5.486111111111111E-2,"H. Zolnierczyk","J. Persson","C. Stretch",null,"V",14,29,34,44,48,null,"H",4,10,12,16,23,null,"Hm","Bridgeport",1013479]
[42039,{"$f":"VLOOKUP(AB113,[1]AHLSOG!$O:$Q,2,FALSE)","v":"Bridgeport"},{"$f":"VLOOKUP(AB113,[1]AHLSOG!$O:$Q,3,FALSE)","v":"St. John's"},6,"2nd","BRI",0.39861111111111108,"S. Collberg","K. Czuczman","J. Sundstrom",null,"V",7,14,27,34,48,null,"H",2,22,24,28,49,null,"Hm","Bridgeport",1013479]
[42040,{"$f":"VLOOKUP(AB114,[1]AHLSOG!$O:$Q,2,FALSE)","v":"Bridgeport"},{"$f":"VLOOKUP(AB114,[1]AHLSOG!$O:$Q,3,FALSE)","v":"St. John's"},7,"3rd","BRI",0.4597222222222222,"K. Czuczman","A. Pedan","C. Stretch",null,"V",8,14,24,27,null,null,"H",3,12,24,49,null,null,"Hm","Bridgeport",1013479]
[42041,{"$f":"VLOOKUP(AB115,[1]AHLSOG!$O:$Q,2,FALSE)","v":"Bridgeport"},{"$f":"VLOOKUP(AB115,[1]AHLSOG!$O:$Q,3,FALSE)","v":"St. John's"},8,"3rd","BRI",0.52083333333333337,"H. Zolnierczyk","C. Stretch","A. Quine","PP","V",25,26,29,44,null,null,"H",2,6,12,16,22,null,"Hm","Bridgeport",1013479]
[42069,{"$f":"VLOOKUP(AB116,[1]AHLSOG!$O:$Q,2,FALSE)","v":"Bridgeport"},{"$f":"VLOOKUP(AB116,[1]AHLSOG!$O:$Q,3,FALSE)","v":"St. John's"},9,"3rd","STJ",0.7402777777777777,"W. O'Neill","E. O'Dell","J. Lipon","PP","V",8,14,27,34,48,null,"H",4,10,17,28,null,null,"Rd","St. John's",1013479]
["0 - 1",{"$f":"VLOOKUP(AB117,[1]AHLSOG!$O:$Q,2,FALSE)","v":"Chicago"},{"$f":"VLOOKUP(AB117,[1]AHLSOG!$O:$Q,3,FALSE)","v":"Charlotte"},1,"2nd","CHI",0.28680555555555554,"P. Lindbohm","T. Rattie","J. McCarthy",null,"V",4,10,21,22,36,null,"H",4,7,8,12,17,null,"Hm","Chicago",1013480]
[42005,{"$f":"VLOOKUP(AB118,[1]AHLSOG!$O:$Q,2,FALSE)","v":"Chicago"},{"$f":"VLOOKUP(AB118,[1]AHLSOG!$O:$Q,3,FALSE)","v":"Charlotte"},2,"2nd","CHA",0.63611111111111118,"A. Aleardi","K. Lowe","B. McGinn","PP","V",4,7,12,17,21,null,"H",5,17,24,28,null,null,"Rd","Charlotte",1013480]
[42036,{"$f":"VLOOKUP(AB119,[1]AHLSOG!$O:$Q,2,FALSE)","v":"Chicago"},{"$f":"VLOOKUP(AB119,[1]AHLSOG!$O:$Q,3,FALSE)","v":"Charlotte"},3,"OT","CHA",6.3888888888888884E-2,"B. Holmstrom","R. Rissanen","B. Woods",null,"V",2,10,21,29,null,null,"H",4,7,15,27,null,null,"Rd","Charlotte",1013480]
["0 - 1",{"$f":"VLOOKUP(AB120,[1]AHLSOG!$O:$Q,2,FALSE)","v":"Syracuse"},{"$f":"VLOOKUP(AB120,[1]AHLSOG!$O:$Q,3,FALSE)","v":"Hartford"},1,"2nd","SYR",6.5972222222222224E-2,"T. Richard","Y. Gourde","J. Marchessault","PP","V",5,8,15,22,null,null,"H",6,11,18,37,71,null,"Hm","Syracuse",1013481]
[42005,{"$f":"VLOOKUP(AB121,[1]AHLSOG!$O:$Q,2,FALSE)","v":"Syracuse"},{"$f":"VLOOKUP(AB121,[1]AHLSOG!$O:$Q,3,FALSE)","v":"Hartford"},2,"2nd","HFD",0.10069444444444443,"O. Lindberg","C. Bourque","R. Haggerty","PP","V",4,17,19,24,39,null,"H",4,17,24,92,null,null,"Rd","Hartford",1013481]
[42006,{"$f":"VLOOKUP(AB122,[1]AHLSOG!$O:$Q,2,FALSE)","v":"Syracuse"},{"$f":"VLOOKUP(AB122,[1]AHLSOG!$O:$Q,3,FALSE)","v":"Hartford"},3,"2nd","SYR",0.19236111111111112,"C. Paquette","J. Samson","S. Koekkoek",null,"V",2,8,17,24,39,null,"H",11,17,65,82,92,null,"Hm","Syracuse",1013481]
[42037,{"$f":"VLOOKUP(AB123,[1]AHLSOG!$O:$Q,2,FALSE)","v":"Syracuse"},{"$f":"VLOOKUP(AB123,[1]AHLSOG!$O:$Q,3,FALSE)","v":"Hartford"},4,"2nd","HFD",0.39999999999999997,"C. Mueller","M. Bodie","R. Bourque",null,"V",2,8,9,19,29,null,"H",10,57,63,65,82,null,"Rd","Hartford",1013481]
[42038,{"$f":"VLOOKUP(AB124,[1]AHLSOG!$O:$Q,2,FALSE)","v":"Syracuse"},{"$f":"VLOOKUP(AB124,[1]AHLSOG!$O:$Q,3,FALSE)","v":"Hartford"},5,"2nd","SYR",0.4597222222222222,"C. Paquette","J. Marchessault","J. Vermin",null,"V",4,6,17,24,39,null,"H",6,17,18,24,92,null,"Hm","Syracuse",1013481]
[42066,{"$f":"VLOOKUP(AB125,[1]AHLSOG!$O:$Q,2,FALSE)","v":"Syracuse"},{"$f":"VLOOKUP(AB125,[1]AHLSOG!$O:$Q,3,FALSE)","v":"Hartford"},6,"3rd","HFD",0.27430555555555552,"M. Hrivik","D. Kristo","M. Bodie",null,"V",2,9,15,22,29,null,"H",10,21,24,65,92,null,"Rd","Hartford",1013481]
[42097,{"$f":"VLOOKUP(AB126,[1]AHLSOG!$O:$Q,2,FALSE)","v":"Syracuse"},{"$f":"VLOOKUP(AB126,[1]AHLSOG!$O:$Q,3,FALSE)","v":"Hartford"},7,"OT","HFD",0.20347222222222219,"O. Lindberg","C. Bourque","C. Allen",null,"V",4,17,24,null,null,null,"H",21,37,82,null,null,null,"Rd","Hartford",1013481]
["0 - 1",{"$f":"VLOOKUP(AB127,[1]AHLSOG!$O:$Q,2,FALSE)","v":"Toronto"},{"$f":"VLOOKUP(AB127,[1]AHLSOG!$O:$Q,3,FALSE)","v":"Utica"},1,"2nd","TOR",6.3888888888888884E-2,"T. Bodie","G. McKegg",null,"SH","V",7,9,16,17,24,null,"H",5,9,19,50,null,null,"Hm","Toronto",1013482]
[42005,{"$f":"VLOOKUP(AB128,[1]AHLSOG!$O:$Q,2,FALSE)","v":"Toronto"},{"$f":"VLOOKUP(AB128,[1]AHLSOG!$O:$Q,3,FALSE)","v":"Utica"},2,"2nd","UTI",0.60763888888888895,"D. Jeffrey","A. Grenier","H. Shinkaruk",null,"V",6,9,21,28,40,null,"H",8,14,23,26,29,null,"Rd","Utica",1013482]
[42036,{"$f":"VLOOKUP(AB129,[1]AHLSOG!$O:$Q,2,FALSE)","v":"Toronto"},{"$f":"VLOOKUP(AB129,[1]AHLSOG!$O:$Q,3,FALSE)","v":"Utica"},3,"3rd","UTI",9.930555555555555E-2,"B. DeFazio","B. Gaunce",null,null,"V",6,10,14,24,40,null,"H",2,19,24,25,36,null,"Rd","Utica",1013482]
[42037,{"$f":"VLOOKUP(AB130,[1]AHLSOG!$O:$Q,2,FALSE)","v":"Toronto"},{"$f":"VLOOKUP(AB130,[1]AHLSOG!$O:$Q,3,FALSE)","v":"Utica"},4,"3rd","TOR",0.56458333333333333,"V. Loov","C. Brown","K. Holzer",null,"V",7,21,24,26,29,null,"H",5,12,14,26,50,null,"Hm","Toronto",1013482]
[42038,{"$f":"VLOOKUP(AB131,[1]AHLSOG!$O:$Q,2,FALSE)","v":"Toronto"},{"$f":"VLOOKUP(AB131,[1]AHLSOG!$O:$Q,3,FALSE)","v":"Utica"},5,"OT","TOR",0.24652777777777779,"V. Loov","G. McKegg","S. Abbott",null,"V",3,17,21,null,null,null,"H",9,13,50,null,null,null,"Hm","Toronto",1013482]
[36526,{"$f":"VLOOKUP(AB132,[1]AHLSOG!$O:$Q,2,FALSE)","v":"W-B/Scranton"},{"$f":"VLOOKUP(AB132,[1]AHLSOG!$O:$Q,3,FALSE)","v":"Manchester"},1,"1st","MCH",1.8749999999999999E-2,"J. Schultz","B. O'Neill","S. Backman",null,"V",5,16,19,22,55,null,"H",5,8,19,26,28,null,"Rd","Manchester",1013483]
[36557,{"$f":"VLOOKUP(AB133,[1]AHLSOG!$O:$Q,2,FALSE)","v":"W-B/Scranton"},{"$f":"VLOOKUP(AB133,[1]AHLSOG!$O:$Q,3,FALSE)","v":"Manchester"},2,"1st","MCH",0.52430555555555558,"B. O'Neill","J. Weal","K. Raine",null,"V",5,16,19,22,55,null,"H",5,8,12,18,19,null,"Rd","Manchester",1013483]
[42036,{"$f":"VLOOKUP(AB134,[1]AHLSOG!$O:$Q,2,FALSE)","v":"W-B/Scranton"},{"$f":"VLOOKUP(AB134,[1]AHLSOG!$O:$Q,3,FALSE)","v":"Manchester"},3,"2nd","WBS",0.35902777777777778,"J. Dea","D. Uher","P. Samuelsson",null,"V",5,6,16,19,22,null,"H",5,9,21,26,28,29,"Hm","W-B/Scranton",1013483]
[42064,{"$f":"VLOOKUP(AB135,[1]AHLSOG!$O:$Q,2,FALSE)","v":"W-B/Scranton"},{"$f":"VLOOKUP(AB135,[1]AHLSOG!$O:$Q,3,FALSE)","v":"Manchester"},4,"2nd","MCH",0.4291666666666667,"V. LoVerde","J. Weal","R. Horvat",null,"V",5,10,19,24,33,null,"H",5,8,12,18,19,null,"Rd","Manchester",1013483]
[42095,{"$f":"VLOOKUP(AB136,[1]AHLSOG!$O:$Q,2,FALSE)","v":"W-B/Scranton"},{"$f":"VLOOKUP(AB136,[1]AHLSOG!$O:$Q,3,FALSE)","v":"Manchester"},5,"2nd","MCH",0.5229166666666667,"K. Raine","N. Dowd","S. Sabourin",null,"V",5,14,25,26,33,null,"H",14,21,29,41,43,null,"Rd","Manchester",1013483]
[36526,{"$f":"VLOOKUP(AB137,[1]AHLSOG!$O:$Q,2,FALSE)","v":"Norfolk"},{"$f":"VLOOKUP(AB137,[1]AHLSOG!$O:$Q,3,FALSE)","v":"Hershey"},1,"1st","HER",0.3576388888888889,"S. Galiev","J. Landry","T. Kundratek",null,"V",4,12,17,22,34,null,"H",4,18,25,28,39,null,"Rd","Hershey",1013484]
[36557,{"$f":"VLOOKUP(AB138,[1]AHLSOG!$O:$Q,2,FALSE)","v":"Norfolk"},{"$f":"VLOOKUP(AB138,[1]AHLSOG!$O:$Q,3,FALSE)","v":"Hershey"},2,"1st","HER",0.42152777777777778,"C. Conner","T. Kennedy","C. Schilling",null,"V",5,7,13,21,23,null,"H",2,5,8,11,17,null,"Rd","Hershey",1013484]
[36586,{"$f":"VLOOKUP(AB139,[1]AHLSOG!$O:$Q,2,FALSE)","v":"Norfolk"},{"$f":"VLOOKUP(AB139,[1]AHLSOG!$O:$Q,3,FALSE)","v":"Hershey"},3,"2nd","HER",9.5833333333333326E-2,"K. Newbury",null,null,null,"V",4,11,23,34,38,null,"H",2,5,8,11,17,null,"Rd","Hershey",1013484]
[42064,{"$f":"VLOOKUP(AB140,[1]AHLSOG!$O:$Q,2,FALSE)","v":"Norfolk"},{"$f":"VLOOKUP(AB140,[1]AHLSOG!$O:$Q,3,FALSE)","v":"Hershey"},4,"2nd","NOR",0.14861111111111111,"C. Wagner","B. Winchester",null,null,"V",5,7,10,18,19,null,"H",3,9,15,20,21,null,"Hm","Norfolk",1013484]
[42095,{"$f":"VLOOKUP(AB141,[1]AHLSOG!$O:$Q,2,FALSE)","v":"Norfolk"},{"$f":"VLOOKUP(AB141,[1]AHLSOG!$O:$Q,3,FALSE)","v":"Hershey"},5,"2nd","HER",0.81041666666666667,"J. Broda","S. Oleksy",null,null,"V",5,7,10,18,19,null,"H",2,4,18,28,39,null,"Rd","Hershey",1013484]
[42096,{"$f":"VLOOKUP(AB142,[1]AHLSOG!$O:$Q,2,FALSE)","v":"Norfolk"},{"$f":"VLOOKUP(AB142,[1]AHLSOG!$O:$Q,3,FALSE)","v":"Hershey"},6,"3rd","NOR",0.10416666666666667,"M. Bailey","L. Leblanc","A. O'Brien",null,"V",6,7,11,18,21,null,"H",9,10,12,20,25,null,"Hm","Norfolk",1013484]
[42126,{"$f":"VLOOKUP(AB143,[1]AHLSOG!$O:$Q,2,FALSE)","v":"Norfolk"},{"$f":"VLOOKUP(AB143,[1]AHLSOG!$O:$Q,3,FALSE)","v":"Hershey"},7,"3rd","HER",0.55972222222222223,"K. Newbury","D. Gazley","J. Landry",null,"V",4,10,11,25,34,null,"H",3,4,11,15,21,null,"Rd","Hershey",1013484]
["0 - 1",{"$f":"VLOOKUP(AB144,[1]AHLSOG!$O:$Q,2,FALSE)","v":"Adirondack"},{"$f":"VLOOKUP(AB144,[1]AHLSOG!$O:$Q,3,FALSE)","v":"Rockford"},1,"1st","ADK",0.22361111111111109,"M. Ferland",null,null,null,"V",2,10,14,18,22,null,"H",6,15,19,26,38,null,"Hm","Adirondack",1013485]
[42005,{"$f":"VLOOKUP(AB145,[1]AHLSOG!$O:$Q,2,FALSE)","v":"Adirondack"},{"$f":"VLOOKUP(AB145,[1]AHLSOG!$O:$Q,3,FALSE)","v":"Rockford"},2,"2nd","RFD",8.5416666666666655E-2,"T. Brennan","P. Regin","T. Teravainen",null,"V",3,7,11,21,24,null,"H",6,9,16,38,48,null,"Rd","Rockford",1013485]
[42006,{"$f":"VLOOKUP(AB146,[1]AHLSOG!$O:$Q,2,FALSE)","v":"Adirondack"},{"$f":"VLOOKUP(AB146,[1]AHLSOG!$O:$Q,3,FALSE)","v":"Rockford"},3,"3rd","ADK",0.20555555555555557,"C. Knight",null,null,null,"V",3,7,12,23,28,null,"H",2,11,13,14,28,null,"Hm","Adirondack",1013485]
[42037,{"$f":"VLOOKUP(AB147,[1]AHLSOG!$O:$Q,2,FALSE)","v":"Adirondack"},{"$f":"VLOOKUP(AB147,[1]AHLSOG!$O:$Q,3,FALSE)","v":"Rockford"},4,"3rd","RFD",0.4201388888888889,"V. Svedberg","G. Ross",null,null,"V",7,8,22,26,null,null,"H",7,14,25,28,null,null,"Rd","Rockford",1013485]
[42065,{"$f":"VLOOKUP(AB148,[1]AHLSOG!$O:$Q,2,FALSE)","v":"Adirondack"},{"$f":"VLOOKUP(AB148,[1]AHLSOG!$O:$Q,3,FALSE)","v":"Rockford"},5,"3rd","RFD",0.65416666666666667,"K. Dahlbeck","P. Regin","S. Johns","PP","V",4,10,11,12,27,null,"H",6,16,38,46,null,null,"Rd","Rockford",1013485]
[42096,{"$f":"VLOOKUP(AB149,[1]AHLSOG!$O:$Q,2,FALSE)","v":"Adirondack"},{"$f":"VLOOKUP(AB149,[1]AHLSOG!$O:$Q,3,FALSE)","v":"Rockford"},6,"3rd","RFD",0.82638888888888884,"P. Regin","P. Labrie",null,"EN.PP","V",4,10,11,18,22,null,"H",2,5,25,26,27,null,"Rd","Rockford",1013485]
["0 - 1",{"$f":"VLOOKUP(AB150,[1]AHLSOG!$O:$Q,2,FALSE)","v":"Binghamton"},{"$f":"VLOOKUP(AB150,[1]AHLSOG!$O:$Q,3,FALSE)","v":"Portland"},1,"1st","BNG",0.47222222222222227,"B. Robinson","J. Pageau",null,"SH","V",2,9,19,24,49,null,"H",10,20,44,72,null,null,"Hm","Binghamton",1013486]
["0 - 2",{"$f":"VLOOKUP(AB151,[1]AHLSOG!$O:$Q,2,FALSE)","v":"Binghamton"},{"$f":"VLOOKUP(AB151,[1]AHLSOG!$O:$Q,3,FALSE)","v":"Portland"},2,"1st","BNG",0.66111111111111109,"S. Prince","C. Wideman","M. Sdao",null,"V",9,17,22,27,43,null,"H",4,6,11,17,18,44,"Hm","Binghamton",1013486]
[42006,{"$f":"VLOOKUP(AB152,[1]AHLSOG!$O:$Q,2,FALSE)","v":"Binghamton"},{"$f":"VLOOKUP(AB152,[1]AHLSOG!$O:$Q,3,FALSE)","v":"Portland"},3,"2nd","POR",0.12847222222222224,"J. Szwarz",null,null,"SH","V",9,10,27,33,null,null,"H",9,20,43,44,72,null,"Rd","Portland",1013486]
[42007,{"$f":"VLOOKUP(AB153,[1]AHLSOG!$O:$Q,2,FALSE)","v":"Binghamton"},{"$f":"VLOOKUP(AB153,[1]AHLSOG!$O:$Q,3,FALSE)","v":"Portland"},4,"2nd","BNG",0.67638888888888893,"A. Johnson","A. Grant",null,null,"V",4,9,10,12,38,null,"H",6,20,22,57,72,null,"Hm","Binghamton",1013486]
[42038,{"$f":"VLOOKUP(AB154,[1]AHLSOG!$O:$Q,2,FALSE)","v":"Binghamton"},{"$f":"VLOOKUP(AB154,[1]AHLSOG!$O:$Q,3,FALSE)","v":"Portland"},5,"3rd","POR",0.25069444444444444,"H. Samuelsson","D. Reese","B. Shinnimin","PP","V",2,19,24,28,49,null,"H",3,14,22,57,null,null,"Rd","Portland",1013486]
[36526,{"$f":"VLOOKUP(AB155,[1]AHLSOG!$O:$Q,2,FALSE)","v":"Bridgeport"},{"$f":"VLOOKUP(AB155,[1]AHLSOG!$O:$Q,3,FALSE)","v":"Albany"},1,"1st","ALB",1.4583333333333332E-2,"S. Bernier","T. Sestito",null,null,"V",2,12,18,28,33,null,"H",2,12,16,23,24,null,"Rd","Albany",1013487]
[42005,{"$f":"VLOOKUP(AB156,[1]AHLSOG!$O:$Q,2,FALSE)","v":"Bridgeport"},{"$f":"VLOOKUP(AB156,[1]AHLSOG!$O:$Q,3,FALSE)","v":"Albany"},2,"1st","BRI",0.83194444444444438,"J. Sundstrom","S. Collberg","C. Gillies",null,"V",2,9,15,17,29,null,"H",10,17,24,28,49,null,"Hm","Bridgeport",1013487]
[42036,{"$f":"VLOOKUP(AB157,[1]AHLSOG!$O:$Q,2,FALSE)","v":"Bridgeport"},{"$f":"VLOOKUP(AB157,[1]AHLSOG!$O:$Q,3,FALSE)","v":"Albany"},3,"2nd","ALB",6.5277777777777782E-2,"S. Timmins","P. Thompson","R. Hrabarenka",null,"V",2,9,15,17,29,null,"H",8,9,10,21,26,null,"Rd","Albany",1013487]
[42037,{"$f":"VLOOKUP(AB158,[1]AHLSOG!$O:$Q,2,FALSE)","v":"Bridgeport"},{"$f":"VLOOKUP(AB158,[1]AHLSOG!$O:$Q,3,FALSE)","v":"Albany"},4,"2nd","BRI",8.8888888888888892E-2,"A. Lee","K. Mouillierat","J. Graham","PP","V",5,7,12,28,null,null,"H",2,6,9,21,49,null,"Hm","Bridgeport",1013487]
[42065,{"$f":"VLOOKUP(AB159,[1]AHLSOG!$O:$Q,2,FALSE)","v":"Bridgeport"},{"$f":"VLOOKUP(AB159,[1]AHLSOG!$O:$Q,3,FALSE)","v":"Albany"},5,"2nd","ALB",9.930555555555555E-2,"R. Hrabarenka","B. Thomson",null,null,"V",2,22,23,26,29,null,"H",6,11,17,24,44,null,"Rd","Albany",1013487]
[42066,{"$f":"VLOOKUP(AB160,[1]AHLSOG!$O:$Q,2,FALSE)","v":"Bridgeport"},{"$f":"VLOOKUP(AB160,[1]AHLSOG!$O:$Q,3,FALSE)","v":"Albany"},6,"2nd","BRI",0.35625000000000001,"C. Stretch","J. Persson",null,null,"V",2,9,22,23,33,null,"H",2,6,12,16,23,null,"Hm","Bridgeport",1013487]
[42097,{"$f":"VLOOKUP(AB161,[1]AHLSOG!$O:$Q,2,FALSE)","v":"Bridgeport"},{"$f":"VLOOKUP(AB161,[1]AHLSOG!$O:$Q,3,FALSE)","v":"Albany"},7,"2nd","ALB",0.69374999999999998,"R. Hrabarenka","K. Zajac","B. Burlon","PP","V",7,11,15,17,29,null,"H",8,10,11,16,null,null,"Rd","Albany",1013487]
[42098,{"$f":"VLOOKUP(AB162,[1]AHLSOG!$O:$Q,2,FALSE)","v":"Bridgeport"},{"$f":"VLOOKUP(AB162,[1]AHLSOG!$O:$Q,3,FALSE)","v":"Albany"},8,"3rd","BRI",0.52361111111111114,"G. Reinhart",null,null,null,"V",8,9,15,17,29,null,"H",2,8,9,16,49,null,"Hm","Bridgeport",1013487]
[36526,{"$f":"VLOOKUP(AB163,[1]AHLSOG!$O:$Q,2,FALSE)","v":"Charlotte"},{"$f":"VLOOKUP(AB163,[1]AHLSOG!$O:$Q,3,FALSE)","v":"Grand Rapids"},1,"1st","GR",0.3034722222222222,"X. Ouellet","M. Zengerle","J. Hoggan",null,"V",3,9,10,16,27,null,"H",4,7,9,10,22,null,"Rd","Grand Rapids",1013488]
[42005,{"$f":"VLOOKUP(AB164,[1]AHLSOG!$O:$Q,2,FALSE)","v":"Charlotte"},{"$f":"VLOOKUP(AB164,[1]AHLSOG!$O:$Q,3,FALSE)","v":"Grand Rapids"},2,"2nd","CHA",1.5972222222222224E-2,"B. Sutter","B. Schmitz","A. Aleardi",null,"V",4,12,14,29,44,null,"H",5,12,17,28,36,null,"Hm","Charlotte",1013488]
[42036,{"$f":"VLOOKUP(AB165,[1]AHLSOG!$O:$Q,2,FALSE)","v":"Charlotte"},{"$f":"VLOOKUP(AB165,[1]AHLSOG!$O:$Q,3,FALSE)","v":"Grand Rapids"},3,"3rd","GR",3.1944444444444449E-2,"T. Pulkkinen","N. Paetsch","T. Nosek","PP","V",4,6,15,19,44,null,"H",2,21,22,29,null,null,"Rd","Grand Rapids",1013488]
["0 - 1",{"$f":"VLOOKUP(AB166,[1]AHLSOG!$O:$Q,2,FALSE)","v":"Chicago"},{"$f":"VLOOKUP(AB166,[1]AHLSOG!$O:$Q,3,FALSE)","v":"Lake Erie"},1,"1st","CHI",0.15625,"Y. Veilleux","C. Fraser","P. Lindbohm",null,"V",11,18,27,38,71,null,"H",4,7,18,20,24,null,"Hm","Chicago",1013489]
["0 - 2",{"$f":"VLOOKUP(AB167,[1]AHLSOG!$O:$Q,2,FALSE)","v":"Chicago"},{"$f":"VLOOKUP(AB167,[1]AHLSOG!$O:$Q,3,FALSE)","v":"Lake Erie"},2,"2nd","CHI",0.40069444444444446,"T. Rattie","D. Jaskin","C. Butler","PP","V",3,18,27,45,null,null,"H",8,10,22,25,55,null,"Hm","Chicago",1013489]
["0 - 3",{"$f":"VLOOKUP(AB168,[1]AHLSOG!$O:$Q,2,FALSE)","v":"Chicago"},{"$f":"VLOOKUP(AB168,[1]AHLSOG!$O:$Q,3,FALSE)","v":"Lake Erie"},3,"3rd","CHI",0.48888888888888887,"R. Bordson","T. Rattie","D. Shields",null,"V",16,17,28,45,46,null,"H",4,7,8,22,27,null,"Hm","Chicago",1013489]
["0 - 4",{"$f":"VLOOKUP(AB169,[1]AHLSOG!$O:$Q,2,FALSE)","v":"Chicago"},{"$f":"VLOOKUP(AB169,[1]AHLSOG!$O:$Q,3,FALSE)","v":"Lake Erie"},4,"3rd","CHI",0.78402777777777777,"P. Cannone","C. Beach","Y. Veilleux",null,"V",11,26,28,43,45,null,"H",4,7,12,18,20,null,"Hm","Chicago",1013489]
["0 - 1",{"$f":"VLOOKUP(AB170,[1]AHLSOG!$O:$Q,2,FALSE)","v":"Hamilton"},{"$f":"VLOOKUP(AB170,[1]AHLSOG!$O:$Q,3,FALSE)","v":"Toronto"},1,"1st","HAM",0.25069444444444444,"M. Bournival","D. Drewiske","C. Hudon",null,"V",4,8,12,16,17,null,"H",4,10,27,28,32,null,"Hm","Hamilton",1013490]
[42005,{"$f":"VLOOKUP(AB171,[1]AHLSOG!$O:$Q,2,FALSE)","v":"Hamilton"},{"$f":"VLOOKUP(AB171,[1]AHLSOG!$O:$Q,3,FALSE)","v":"Toronto"},2,"2nd","TOR",0.3576388888888889,"P. Watling","S. Abbott","P. Granberg",null,"V",4,8,9,13,21,null,"H",4,17,19,21,32,null,"Rd","Toronto",1013490]
[42006,{"$f":"VLOOKUP(AB172,[1]AHLSOG!$O:$Q,2,FALSE)","v":"Hamilton"},{"$f":"VLOOKUP(AB172,[1]AHLSOG!$O:$Q,3,FALSE)","v":"Toronto"},3,"2nd","HAM",0.52708333333333335,"S. Andrighetto","D. Bowman","C. Hudon","PP","V",2,9,21,25,null,null,"H",2,10,15,25,27,null,"Hm","Hamilton",1013490]
[42037,{"$f":"VLOOKUP(AB173,[1]AHLSOG!$O:$Q,2,FALSE)","v":"Hamilton"},{"$f":"VLOOKUP(AB173,[1]AHLSOG!$O:$Q,3,FALSE)","v":"Toronto"},4,"3rd","TOR",0.1277777777777778,"J. Leivo","T. Smith",null,null,"V",2,14,23,25,29,null,"H",4,17,19,21,32,null,"Rd","Toronto",1013490]
[42065,{"$f":"VLOOKUP(AB174,[1]AHLSOG!$O:$Q,2,FALSE)","v":"Hamilton"},{"$f":"VLOOKUP(AB174,[1]AHLSOG!$O:$Q,3,FALSE)","v":"Toronto"},5,"OT","TOR",0.2298611111111111,"S. Abbott","T. Nilsson",null,null,"V",13,23,25,null,null,null,"H",20,32,40,null,null,null,"Rd","Toronto",1013490]
[36526,{"$f":"VLOOKUP(AB175,[1]AHLSOG!$O:$Q,2,FALSE)","v":"Iowa"},{"$f":"VLOOKUP(AB175,[1]AHLSOG!$O:$Q,3,FALSE)","v":"Milwaukee"},1,"1st","MIL",0.22708333333333333,"P. Åberg","B. Leipsic","J. Piskula","PP","V",7,18,20,28,46,null,"H",4,7,17,44,null,null,"Rd","Milwaukee",1013491]
[42005,{"$f":"VLOOKUP(AB176,[1]AHLSOG!$O:$Q,2,FALSE)","v":"Iowa"},{"$f":"VLOOKUP(AB176,[1]AHLSOG!$O:$Q,3,FALSE)","v":"Milwaukee"},2,"1st","IA",0.60347222222222219,"Z. Mitchell","M. Keranen","T. Graovac",null,"V",3,28,29,47,51,null,"H",4,18,25,36,41,null,"Hm","Iowa",1013491]
[42036,{"$f":"VLOOKUP(AB177,[1]AHLSOG!$O:$Q,2,FALSE)","v":"Iowa"},{"$f":"VLOOKUP(AB177,[1]AHLSOG!$O:$Q,3,FALSE)","v":"Milwaukee"},3,"1st","MIL",0.7583333333333333,"P. Åberg","B. Leipsic","A. Bitetto",null,"V",7,28,37,46,47,null,"H",4,7,18,25,36,null,"Rd","Milwaukee",1013491]
[42064,{"$f":"VLOOKUP(AB178,[1]AHLSOG!$O:$Q,2,FALSE)","v":"Iowa"},{"$f":"VLOOKUP(AB178,[1]AHLSOG!$O:$Q,3,FALSE)","v":"Milwaukee"},4,"2nd","MIL",2.7083333333333334E-2,"C. Sissons","J. Piskula",null,"PP","V",7,18,20,28,46,null,"H",19,27,41,44,null,null,"Rd","Milwaukee",1013491]
[42095,{"$f":"VLOOKUP(AB179,[1]AHLSOG!$O:$Q,2,FALSE)","v":"Iowa"},{"$f":"VLOOKUP(AB179,[1]AHLSOG!$O:$Q,3,FALSE)","v":"Milwaukee"},5,"2nd","MIL",7.6388888888888895E-2,"A. Watson","B. Leipsic",null,null,"V",3,28,29,47,51,null,"H",10,12,41,44,51,null,"Rd","Milwaukee",1013491]
[42096,{"$f":"VLOOKUP(AB180,[1]AHLSOG!$O:$Q,2,FALSE)","v":"Iowa"},{"$f":"VLOOKUP(AB180,[1]AHLSOG!$O:$Q,3,FALSE)","v":"Milwaukee"},6,"2nd","IA",0.40625,"C. Gogol","Z. Phillips","J. Schroeder","PP","V",2,7,29,46,null,null,"H",10,12,13,25,51,null,"Hm","Iowa",1013491]
[42097,{"$f":"VLOOKUP(AB181,[1]AHLSOG!$O:$Q,2,FALSE)","v":"Iowa"},{"$f":"VLOOKUP(AB181,[1]AHLSOG!$O:$Q,3,FALSE)","v":"Milwaukee"},7,"3rd","IA",0.80069444444444438,"B. Sutter","J. Schroeder","D. Syvret",null,"V",2,7,29,51,null,null,"H",4,7,10,25,27,null,"Hm","Iowa",1013491]
["0 - 1",{"$f":"VLOOKUP(AB182,[1]AHLSOG!$O:$Q,2,FALSE)","v":"Lehigh Valley"},{"$f":"VLOOKUP(AB182,[1]AHLSOG!$O:$Q,3,FALSE)","v":"Adirondack"},1,"1st","LV",0.4993055555555555,"S. Laughton","A. Gordon","T. Leier","PP","V",6,13,38,46,null,null,"H",10,14,21,23,28,null,"Rd","Lehigh",1013492]
[42005,{"$f":"VLOOKUP(AB183,[1]AHLSOG!$O:$Q,2,FALSE)","v":"Lehigh Valley"},{"$f":"VLOOKUP(AB183,[1]AHLSOG!$O:$Q,3,FALSE)","v":"Adirondack"},2,"2nd","ADK",0.25486111111111109,"S. Acolatse","M. Granlund",null,"PP","V",4,25,26,45,46,null,"H",2,14,21,null,null,null,"Rd","Adirondack",1013492]
[42036,{"$f":"VLOOKUP(AB184,[1]AHLSOG!$O:$Q,2,FALSE)","v":"Lehigh Valley"},{"$f":"VLOOKUP(AB184,[1]AHLSOG!$O:$Q,3,FALSE)","v":"Adirondack"},3,"2nd","ADK",0.44722222222222219,"D. Wolf","M. Tousignant","J. Ramage","PP","V",7,11,16,27,45,null,"H",4,14,16,23,null,null,"Rd","Adirondack",1013492]
[42037,{"$f":"VLOOKUP(AB185,[1]AHLSOG!$O:$Q,2,FALSE)","v":"Lehigh Valley"},{"$f":"VLOOKUP(AB185,[1]AHLSOG!$O:$Q,3,FALSE)","v":"Adirondack"},4,"2nd","LV",0.80208333333333337,"S. Laughton","A. Gordon","S. Gostisbehere","PP","V",11,25,48,null,null,null,"H",10,14,21,23,28,null,"Rd","Lehigh",1013492]
[42038,{"$f":"VLOOKUP(AB186,[1]AHLSOG!$O:$Q,2,FALSE)","v":"Lehigh Valley"},{"$f":"VLOOKUP(AB186,[1]AHLSOG!$O:$Q,3,FALSE)","v":"Adirondack"},5,"3rd","LV",0.1013888888888889,"P. Straka","N. Cousins","Z. Stortini",null,"V",5,7,16,45,48,null,"H",7,24,25,28,45,null,"Rd","Lehigh",1013492]
[42066,{"$f":"VLOOKUP(AB187,[1]AHLSOG!$O:$Q,2,FALSE)","v":"Lehigh Valley"},{"$f":"VLOOKUP(AB187,[1]AHLSOG!$O:$Q,3,FALSE)","v":"Adirondack"},6,"3rd","ADK",0.19722222222222222,"D. Stevenson","M. Granlund",null,null,"V",6,19,25,26,38,null,"H",14,24,25,28,45,null,"Rd","Adirondack",1013492]
[42067,{"$f":"VLOOKUP(AB188,[1]AHLSOG!$O:$Q,2,FALSE)","v":"Lehigh Valley"},{"$f":"VLOOKUP(AB188,[1]AHLSOG!$O:$Q,3,FALSE)","v":"Adirondack"},7,"OT","LV",5.8333333333333327E-2,"B. Manning","S. Gostisbehere","N. Cousins",null,"V",5,7,19,46,null,null,"H",14,24,25,28,null,null,"Rd","Lehigh",1013492]
[36526,{"$f":"VLOOKUP(AB189,[1]AHLSOG!$O:$Q,2,FALSE)","v":"Norfolk"},{"$f":"VLOOKUP(AB189,[1]AHLSOG!$O:$Q,3,FALSE)","v":"Manchester"},1,"1st","MCH",0.67222222222222217,"D. Van der Gulik","N. Dowd","C. Miller","SH","V",6,14,26,55,null,null,"H",9,11,15,17,20,null,"Rd","Manchester",1013493]
[42005,{"$f":"VLOOKUP(AB190,[1]AHLSOG!$O:$Q,2,FALSE)","v":"Norfolk"},{"$f":"VLOOKUP(AB190,[1]AHLSOG!$O:$Q,3,FALSE)","v":"Manchester"},2,"2nd","NOR",0.13263888888888889,"A. Laganiere","N. Kerdiles",null,null,"V",3,10,19,23,27,null,"H",2,5,8,11,28,null,"Hm","Norfolk",1013493]
[42006,{"$f":"VLOOKUP(AB191,[1]AHLSOG!$O:$Q,2,FALSE)","v":"Norfolk"},{"$f":"VLOOKUP(AB191,[1]AHLSOG!$O:$Q,3,FALSE)","v":"Manchester"},3,"2nd","NOR",0.22847222222222222,"M. Bailey","J. Manson",null,null,"V",4,5,19,22,25,null,"H",3,10,12,18,25,null,"Hm","Norfolk",1013493]
[42037,{"$f":"VLOOKUP(AB192,[1]AHLSOG!$O:$Q,2,FALSE)","v":"Norfolk"},{"$f":"VLOOKUP(AB192,[1]AHLSOG!$O:$Q,3,FALSE)","v":"Manchester"},4,"2nd","MCH",0.83263888888888893,"N. Shore","M. Mersch","J. Auger","PP","V",6,27,37,39,55,null,"H",6,9,12,18,null,null,"Rd","Manchester",1013493]
[42038,{"$f":"VLOOKUP(AB193,[1]AHLSOG!$O:$Q,2,FALSE)","v":"Norfolk"},{"$f":"VLOOKUP(AB193,[1]AHLSOG!$O:$Q,3,FALSE)","v":"Manchester"},5,"3rd","NOR",0.17291666666666669,"S. Noesen","B. Winchester","B. Bell",null,"V",3,5,16,19,22,null,"H",3,8,9,11,15,null,"Hm","Norfolk",1013493]
[36526,{"$f":"VLOOKUP(AB194,[1]AHLSOG!$O:$Q,2,FALSE)","v":"Oklahoma City"},{"$f":"VLOOKUP(AB194,[1]AHLSOG!$O:$Q,3,FALSE)","v":"Texas"},1,"1st","TEX",7.2916666666666671E-2,"D. Meech","K. Henderson","J. Honka",null,"V",7,8,9,28,29,null,"H",5,6,10,11,39,null,"Rd","Texas",1013494]
[36557,{"$f":"VLOOKUP(AB195,[1]AHLSOG!$O:$Q,2,FALSE)","v":"Oklahoma City"},{"$f":"VLOOKUP(AB195,[1]AHLSOG!$O:$Q,3,FALSE)","v":"Texas"},2,"1st","TEX",9.1666666666666674E-2,"D. Hulak","B. Troock","T. Peters",null,"V",3,11,18,25,39,null,"H",7,8,21,22,40,null,"Rd","Texas",1013494]
[42036,{"$f":"VLOOKUP(AB196,[1]AHLSOG!$O:$Q,2,FALSE)","v":"Oklahoma City"},{"$f":"VLOOKUP(AB196,[1]AHLSOG!$O:$Q,3,FALSE)","v":"Texas"},3,"2nd","OKC",0.375,"J. Oesterle","A. Miller","R. Hamilton","PP","V",3,4,23,25,null,null,"H",12,15,17,39,40,null,"Hm","Oklahoma City",1013494]
[42037,{"$f":"VLOOKUP(AB197,[1]AHLSOG!$O:$Q,2,FALSE)","v":"Oklahoma City"},{"$f":"VLOOKUP(AB197,[1]AHLSOG!$O:$Q,3,FALSE)","v":"Texas"},4,"2nd","OKC",0.45763888888888887,"J. Williams","R. Hamilton",null,null,"V",3,7,19,23,28,null,"H",8,9,12,19,40,null,"Hm","Oklahoma City",1013494]
[42065,{"$f":"VLOOKUP(AB198,[1]AHLSOG!$O:$Q,2,FALSE)","v":"Oklahoma City"},{"$f":"VLOOKUP(AB198,[1]AHLSOG!$O:$Q,3,FALSE)","v":"Texas"},5,"2nd","TEX",0.67638888888888893,"J. Jokipakka","G. Smith","J. Dowling","PP","V",3,7,10,14,15,null,"H",15,16,21,22,null,null,"Rd","Texas",1013494]
[36526,{"$f":"VLOOKUP(AB199,[1]AHLSOG!$O:$Q,2,FALSE)","v":"Providence"},{"$f":"VLOOKUP(AB199,[1]AHLSOG!$O:$Q,3,FALSE)","v":"Worcester"},1,"1st","WOR",0.15972222222222224,"P. Emanuelsson","J. Sheppard","R. Schwartz",null,"V",2,14,27,40,41,null,"H",5,11,20,21,37,null,"Rd","Worcester",1013495]
[42005,{"$f":"VLOOKUP(AB200,[1]AHLSOG!$O:$Q,2,FALSE)","v":"Providence"},{"$f":"VLOOKUP(AB200,[1]AHLSOG!$O:$Q,3,FALSE)","v":"Worcester"},2,"1st","PRO",0.40347222222222223,"J. Florek","B. Ferlin",null,null,"V",2,14,27,40,41,null,"H",6,8,14,18,19,null,"Hm","Providence",1013495]
[42036,{"$f":"VLOOKUP(AB201,[1]AHLSOG!$O:$Q,2,FALSE)","v":"Providence"},{"$f":"VLOOKUP(AB201,[1]AHLSOG!$O:$Q,3,FALSE)","v":"Worcester"},3,"1st","WOR",0.71805555555555556,"P. Emanuelsson","R. Schwartz",null,null,"V",2,14,27,40,41,null,"H",5,13,27,32,37,null,"Rd","Worcester",1013495]
[36526,{"$f":"VLOOKUP(AB202,[1]AHLSOG!$O:$Q,2,FALSE)","v":"San Antonio"},{"$f":"VLOOKUP(AB202,[1]AHLSOG!$O:$Q,3,FALSE)","v":"Utica"},1,"1st","UTI",0.40208333333333335,"B. Gaunce","W. Hamilton","C. Bancks",null,"V",6,10,34,36,40,null,"H",3,5,9,20,32,null,"Rd","Utica",1013496]
[36557,{"$f":"VLOOKUP(AB203,[1]AHLSOG!$O:$Q,2,FALSE)","v":"San Antonio"},{"$f":"VLOOKUP(AB203,[1]AHLSOG!$O:$Q,3,FALSE)","v":"Utica"},2,"2nd","UTI",0.43888888888888888,"A. Biega","H. Shinkaruk","D. Jeffrey",null,"V",2,3,9,21,28,null,"H",3,5,9,20,32,null,"Rd","Utica",1013496]
[36586,{"$f":"VLOOKUP(AB204,[1]AHLSOG!$O:$Q,2,FALSE)","v":"San Antonio"},{"$f":"VLOOKUP(AB204,[1]AHLSOG!$O:$Q,3,FALSE)","v":"Utica"},3,"2nd","UTI",0.63263888888888886,"C. Bancks","B. Gaunce","W. Hamilton",null,"V",2,3,10,34,36,null,"H",8,11,22,23,44,null,"Rd","Utica",1013496]
["0 - 1",{"$f":"VLOOKUP(AB205,[1]AHLSOG!$O:$Q,2,FALSE)","v":"St. John's"},{"$f":"VLOOKUP(AB205,[1]AHLSOG!$O:$Q,3,FALSE)","v":"W-B/Scranton"},1,"2nd","STJ",0.7104166666666667,"S. Kosmachuk","K. Fredheim","J. Albert",null,"V",5,9,12,14,41,null,"H",7,16,24,27,28,null,"Hm","St. John's",1013497]
[42005,{"$f":"VLOOKUP(AB206,[1]AHLSOG!$O:$Q,2,FALSE)","v":"St. John's"},{"$f":"VLOOKUP(AB206,[1]AHLSOG!$O:$Q,3,FALSE)","v":"W-B/Scranton"},2,"3rd","WBS",0.37083333333333335,"J. Megna",null,null,null,"V",3,7,14,16,19,null,"H",7,14,27,34,48,null,"Rd","W-B/Scranton",1013497]
[42036,{"$f":"VLOOKUP(AB207,[1]AHLSOG!$O:$Q,2,FALSE)","v":"St. John's"},{"$f":"VLOOKUP(AB207,[1]AHLSOG!$O:$Q,3,FALSE)","v":"W-B/Scranton"},3,"OT","WBS",0.12222222222222223,"R. McNeill","J. Dea",null,null,"V",3,9,24,26,null,null,"H",4,16,28,44,null,null,"Rd","W-B/Scranton",1013497]
["0 - 1",{"$f":"VLOOKUP(AB208,[1]AHLSOG!$O:$Q,2,FALSE)","v":"Syracuse"},{"$f":"VLOOKUP(AB208,[1]AHLSOG!$O:$Q,3,FALSE)","v":"Springfield"},1,"1st","SYR",0.36388888888888887,"J. Marchessault","J. Cote","D. Blujus",null,"V",4,7,13,28,29,null,"H",6,17,18,24,27,null,"Hm","Syracuse",1013498]
[42005,{"$f":"VLOOKUP(AB209,[1]AHLSOG!$O:$Q,2,FALSE)","v":"Syracuse"},{"$f":"VLOOKUP(AB209,[1]AHLSOG!$O:$Q,3,FALSE)","v":"Springfield"},2,"1st","SPR",0.65625,"D. Tyrell","A. Madaisky","L. Sedlak",null,"V",5,12,14,22,37,null,"H",20,21,65,82,92,null,"Rd","Springfield",1013498]
[42036,{"$f":"VLOOKUP(AB210,[1]AHLSOG!$O:$Q,2,FALSE)","v":"Syracuse"},{"$f":"VLOOKUP(AB210,[1]AHLSOG!$O:$Q,3,FALSE)","v":"Springfield"},3,"2nd","SPR",0.16180555555555556,"D. Monardo","L. Sedlak","A. Madaisky",null,"V",5,13,22,26,40,null,"H",6,11,20,37,89,null,"Rd","Springfield",1013498]
[42037,{"$f":"VLOOKUP(AB211,[1]AHLSOG!$O:$Q,2,FALSE)","v":"Syracuse"},{"$f":"VLOOKUP(AB211,[1]AHLSOG!$O:$Q,3,FALSE)","v":"Springfield"},4,"2nd","SYR",0.78541666666666676,"C. Paquette","J. Marchessault","C. Kunyk",null,"V",14,22,26,28,32,null,"H",17,18,20,27,89,null,"Hm","Syracuse",1013498]
[42038,{"$f":"VLOOKUP(AB212,[1]AHLSOG!$O:$Q,2,FALSE)","v":"Syracuse"},{"$f":"VLOOKUP(AB212,[1]AHLSOG!$O:$Q,3,FALSE)","v":"Springfield"},5,"3rd","SYR",0.30416666666666664,"J. Drouin",null,null,null,"V",5,7,13,28,40,null,"H",6,17,18,27,71,null,"Hm","Syracuse",1013498]
["0 - 1",{"$f":"VLOOKUP(AB213,[1]AHLSOG!$O:$Q,2,FALSE)","v":"Adirondack"},{"$f":"VLOOKUP(AB213,[1]AHLSOG!$O:$Q,3,FALSE)","v":"Lehigh Valley"},1,"1st","ADK",0.28541666666666665,"M. Ferland","D. Stevenson","N. Yonkman",null,"V",4,10,14,21,23,null,"H",6,19,25,26,38,null,"Hm","Adirondack",1013499]
["0 - 2",{"$f":"VLOOKUP(AB214,[1]AHLSOG!$O:$Q,2,FALSE)","v":"Adirondack"},{"$f":"VLOOKUP(AB214,[1]AHLSOG!$O:$Q,3,FALSE)","v":"Lehigh Valley"},2,"1st","ADK",0.4368055555555555,"M. Granlund","T. Wotherspoon",null,"PP","V",7,11,14,16,null,null,"H",5,11,19,25,26,null,"Hm","Adirondack",1013499]
[42006,{"$f":"VLOOKUP(AB215,[1]AHLSOG!$O:$Q,2,FALSE)","v":"Adirondack"},{"$f":"VLOOKUP(AB215,[1]AHLSOG!$O:$Q,3,FALSE)","v":"Lehigh Valley"},3,"1st","LV",0.64583333333333337,"S. Laughton","O. Lauridsen",null,"SH","V",7,21,28,null,null,null,"H",4,5,11,27,null,null,"Rd","Lehigh",1013499]
[42037,{"$f":"VLOOKUP(AB216,[1]AHLSOG!$O:$Q,2,FALSE)","v":"Adirondack"},{"$f":"VLOOKUP(AB216,[1]AHLSOG!$O:$Q,3,FALSE)","v":"Lehigh Valley"},4,"2nd","LV",0.82361111111111107,"S. Laughton","T. Leier",null,null,"V",2,4,21,23,null,null,"H",6,11,19,38,null,null,"Rd","Lehigh",1013499]
[42038,{"$f":"VLOOKUP(AB217,[1]AHLSOG!$O:$Q,2,FALSE)","v":"Adirondack"},{"$f":"VLOOKUP(AB217,[1]AHLSOG!$O:$Q,3,FALSE)","v":"Lehigh Valley"},5,"3rd","ADK",0.68888888888888899,"M. Granlund","D. Stevenson","M. Ferland",null,"V",7,8,16,17,37,null,"H",6,19,25,26,38,null,"Hm","Adirondack",1013499]
[42039,{"$f":"VLOOKUP(AB218,[1]AHLSOG!$O:$Q,2,FALSE)","v":"Adirondack"},{"$f":"VLOOKUP(AB218,[1]AHLSOG!$O:$Q,3,FALSE)","v":"Lehigh Valley"},6,"3rd","ADK",0.80486111111111114,"D. Stevenson",null,null,"EN.PP","V",4,10,14,21,23,null,"H",6,11,38,45,46,null,"Hm","Adirondack",1013499]
[36526,{"$f":"VLOOKUP(AB219,[1]AHLSOG!$O:$Q,2,FALSE)","v":"Albany"},{"$f":"VLOOKUP(AB219,[1]AHLSOG!$O:$Q,3,FALSE)","v":"Bridgeport"},1,"1st","BRI",0.59861111111111109,"S. Vaughan","R. Pulock","A. Quine",null,"V",6,7,14,22,27,null,"H",8,11,14,19,29,null,"Rd","Bridgeport",1013500]
[42005,{"$f":"VLOOKUP(AB220,[1]AHLSOG!$O:$Q,2,FALSE)","v":"Albany"},{"$f":"VLOOKUP(AB220,[1]AHLSOG!$O:$Q,3,FALSE)","v":"Bridgeport"},2,"1st","ALB",0.68958333333333333,"P. Thompson","R. Hrabarenka","J. Whitney",null,"V",3,7,8,14,22,null,"H",9,15,17,24,29,null,"Hm","Albany",1013500]
[42036,{"$f":"VLOOKUP(AB221,[1]AHLSOG!$O:$Q,2,FALSE)","v":"Albany"},{"$f":"VLOOKUP(AB221,[1]AHLSOG!$O:$Q,3,FALSE)","v":"Bridgeport"},3,"3rd","BRI",0.17986111111111111,"J. Persson","J. Graham","H. Zolnierczyk",null,"V",2,12,16,23,24,null,"H",5,9,15,17,24,null,"Rd","Bridgeport",1013500]
[42037,{"$f":"VLOOKUP(AB222,[1]AHLSOG!$O:$Q,2,FALSE)","v":"Albany"},{"$f":"VLOOKUP(AB222,[1]AHLSOG!$O:$Q,3,FALSE)","v":"Bridgeport"},4,"3rd","ALB",0.25833333333333336,"C. Janssen","B. Thomson","D. Zajac",null,"V",3,8,17,28,49,null,"H",5,22,23,24,26,null,"Hm","Albany",1013500]
[42038,{"$f":"VLOOKUP(AB223,[1]AHLSOG!$O:$Q,2,FALSE)","v":"Albany"},{"$f":"VLOOKUP(AB223,[1]AHLSOG!$O:$Q,3,FALSE)","v":"Bridgeport"},5,"3rd","ALB",0.8027777777777777,"P. Thompson","S. Timmins",null,"SH","V",6,9,21,26,27,null,"H",2,15,17,33,null,null,"Hm","Albany",1013500]
["0 - 1",{"$f":"VLOOKUP(AB224,[1]AHLSOG!$O:$Q,2,FALSE)","v":"Charlotte"},{"$f":"VLOOKUP(AB224,[1]AHLSOG!$O:$Q,3,FALSE)","v":"Grand Rapids"},1,"1st","CHA",0.25972222222222224,"J. Staal","P. Di Giuseppe","B. Woods",null,"V",3,4,9,17,55,null,"H",2,21,22,28,36,null,"Hm","Charlotte",1013501]
[42005,{"$f":"VLOOKUP(AB225,[1]AHLSOG!$O:$Q,2,FALSE)","v":"Charlotte"},{"$f":"VLOOKUP(AB225,[1]AHLSOG!$O:$Q,3,FALSE)","v":"Grand Rapids"},2,"2nd","GR",0.17708333333333334,"T. Pulkkinen","N. Paetsch","T. Nosek","PP","V",4,6,14,15,19,null,"H",2,12,19,21,null,null,"Rd","Grand Rapids",1013501]
[42036,{"$f":"VLOOKUP(AB226,[1]AHLSOG!$O:$Q,2,FALSE)","v":"Charlotte"},{"$f":"VLOOKUP(AB226,[1]AHLSOG!$O:$Q,3,FALSE)","v":"Grand Rapids"},3,"2nd","GR",0.34930555555555554,"K. Porter","L. Ferraro","X. Ouellet","PP","V",7,12,16,21,29,null,"H",2,7,10,29,null,null,"Rd","Grand Rapids",1013501]
[42064,{"$f":"VLOOKUP(AB227,[1]AHLSOG!$O:$Q,2,FALSE)","v":"Charlotte"},{"$f":"VLOOKUP(AB227,[1]AHLSOG!$O:$Q,3,FALSE)","v":"Grand Rapids"},4,"3rd","GR",0.32291666666666669,"J. Hoggan","L. Ferraro","A. Miele",null,"V",5,7,10,21,29,null,"H",4,22,24,28,36,null,"Rd","Grand Rapids",1013501]
[42095,{"$f":"VLOOKUP(AB228,[1]AHLSOG!$O:$Q,2,FALSE)","v":"Charlotte"},{"$f":"VLOOKUP(AB228,[1]AHLSOG!$O:$Q,3,FALSE)","v":"Grand Rapids"},5,"3rd","GR",0.4909722222222222,"A. Miele",null,null,"PP","V",7,12,16,21,29,null,"H",4,9,24,59,null,null,"Rd","Grand Rapids",1013501]
["0 - 1",{"$f":"VLOOKUP(AB229,[1]AHLSOG!$O:$Q,2,FALSE)","v":"Chicago"},{"$f":"VLOOKUP(AB229,[1]AHLSOG!$O:$Q,3,FALSE)","v":"Lake Erie"},1,"1st","CHI",0.4916666666666667,"D. Jaskin","C. Butler","P. Cannone","PP","V",16,18,27,46,null,null,"H",8,12,17,22,25,null,"Hm","Chicago",1013502]
["0 - 2",{"$f":"VLOOKUP(AB230,[1]AHLSOG!$O:$Q,2,FALSE)","v":"Chicago"},{"$f":"VLOOKUP(AB230,[1]AHLSOG!$O:$Q,3,FALSE)","v":"Lake Erie"},2,"2nd","CHI",0.16250000000000001,"S. Harper","J. Chelios","P. Cannone","PP","V",3,17,42,46,null,null,"H",9,12,17,28,42,null,"Hm","Chicago",1013502]
["0 - 3",{"$f":"VLOOKUP(AB231,[1]AHLSOG!$O:$Q,2,FALSE)","v":"Chicago"},{"$f":"VLOOKUP(AB231,[1]AHLSOG!$O:$Q,3,FALSE)","v":"Lake Erie"},3,"2nd","CHI",0.25,"T. Rattie","D. Jaskin","M. Climie",null,"V",16,27,39,42,44,null,"H",7,8,22,42,49,null,"Hm","Chicago",1013502]
["0 - 4",{"$f":"VLOOKUP(AB232,[1]AHLSOG!$O:$Q,2,FALSE)","v":"Chicago"},{"$f":"VLOOKUP(AB232,[1]AHLSOG!$O:$Q,3,FALSE)","v":"Lake Erie"},4,"2nd","CHI",0.44722222222222219,"R. Bordson","B. Regner","J. Welsh",null,"V",16,18,27,38,null,null,"H",5,15,27,28,null,null,"Hm","Chicago",1013502]
[42008,{"$f":"VLOOKUP(AB233,[1]AHLSOG!$O:$Q,2,FALSE)","v":"Chicago"},{"$f":"VLOOKUP(AB233,[1]AHLSOG!$O:$Q,3,FALSE)","v":"Lake Erie"},5,"2nd","LE",0.50138888888888888,"D. Everberg","M. Noreau","B. Rendulic",null,"V",26,45,46,71,null,null,"H",17,28,49,null,null,null,"Rd","Lake Erie",1013502]
[42039,{"$f":"VLOOKUP(AB234,[1]AHLSOG!$O:$Q,2,FALSE)","v":"Chicago"},{"$f":"VLOOKUP(AB234,[1]AHLSOG!$O:$Q,3,FALSE)","v":"Lake Erie"},6,"3rd","LE",0.24791666666666667,"S. Elliott","M. Sgarbossa","M. Schumacher","PP","V",24,26,43,45,46,null,"H",24,25,38,55,null,null,"Rd","Lake Erie",1013502]
[42040,{"$f":"VLOOKUP(AB235,[1]AHLSOG!$O:$Q,2,FALSE)","v":"Chicago"},{"$f":"VLOOKUP(AB235,[1]AHLSOG!$O:$Q,3,FALSE)","v":"Lake Erie"},7,"3rd","CHI",0.33749999999999997,"P. Cannone","D. Jaskin","J. Welsh",null,"V",3,27,37,42,71,null,"H",5,12,15,22,55,null,"Hm","Chicago",1013502]
[42041,{"$f":"VLOOKUP(AB236,[1]AHLSOG!$O:$Q,2,FALSE)","v":"Chicago"},{"$f":"VLOOKUP(AB236,[1]AHLSOG!$O:$Q,3,FALSE)","v":"Lake Erie"},8,"3rd","CHI",0.55972222222222223,"C. Fraser","S. Wannstrom",null,"SH","V",18,27,38,46,71,null,"H",5,24,28,38,null,null,"Hm","Chicago",1013502]
[42042,{"$f":"VLOOKUP(AB237,[1]AHLSOG!$O:$Q,2,FALSE)","v":"Chicago"},{"$f":"VLOOKUP(AB237,[1]AHLSOG!$O:$Q,3,FALSE)","v":"Lake Erie"},9,"3rd","CHI",0.69930555555555562,"Y. Veilleux","C. Fraser","G. Nagy","PP","V",3,28,42,47,null,null,"H",18,24,28,42,49,null,"Hm","Chicago",1013502]
["0 - 1",{"$f":"VLOOKUP(AB238,[1]AHLSOG!$O:$Q,2,FALSE)","v":"Hamilton"},{"$f":"VLOOKUP(AB238,[1]AHLSOG!$O:$Q,3,FALSE)","v":"Rockford"},1,"1st","HAM",0.11805555555555557,"C. Thomas","N. Sorkin","T. Hensick",null,"V",3,7,14,27,38,null,"H",7,17,19,21,26,null,"Hm","Hamilton",1013503]
[42005,{"$f":"VLOOKUP(AB239,[1]AHLSOG!$O:$Q,2,FALSE)","v":"Hamilton"},{"$f":"VLOOKUP(AB239,[1]AHLSOG!$O:$Q,3,FALSE)","v":"Rockford"},2,"2nd","RFD",0.1125,"J. Nordstrom","K. Dahlbeck","M. McNeill",null,"V",2,10,12,23,28,null,"H",2,9,10,27,28,null,"Rd","Rockford",1013503]
[42036,{"$f":"VLOOKUP(AB240,[1]AHLSOG!$O:$Q,2,FALSE)","v":"Hamilton"},{"$f":"VLOOKUP(AB240,[1]AHLSOG!$O:$Q,3,FALSE)","v":"Rockford"},3,"OT","RFD",0.22569444444444445,"P. Regin","A. Broadhurst","K. Cumiskey",null,"V",11,15,25,null,null,null,"H",4,20,28,null,null,null,"Rd","Rockford",1013503]
["0 - 1",{"$f":"VLOOKUP(AB241,[1]AHLSOG!$O:$Q,2,FALSE)","v":"Hartford"},{"$f":"VLOOKUP(AB241,[1]AHLSOG!$O:$Q,3,FALSE)","v":"Portland"},1,"3rd","HFD",0.28125,"R. Haggerty","O. Lindberg","R. Potulny","PP","V",10,17,33,43,null,null,"H",2,9,22,24,39,null,"Hm","Hartford",1013504]
["0 - 2",{"$f":"VLOOKUP(AB242,[1]AHLSOG!$O:$Q,2,FALSE)","v":"Hartford"},{"$f":"VLOOKUP(AB242,[1]AHLSOG!$O:$Q,3,FALSE)","v":"Portland"},2,"3rd","HFD",0.53333333333333333,"J. Miller","C. Bourque",null,null,"V",19,27,38,43,49,null,"H",4,8,10,17,27,null,"Hm","Hartford",1013504]
[42006,{"$f":"VLOOKUP(AB243,[1]AHLSOG!$O:$Q,2,FALSE)","v":"Hartford"},{"$f":"VLOOKUP(AB243,[1]AHLSOG!$O:$Q,3,FALSE)","v":"Portland"},3,"3rd","POR",0.61875000000000002,"A. Bolduc","L. Lessio","M. Louis",null,"V",19,27,33,38,49,null,"H",4,8,10,17,27,null,"Rd","Portland",1013504]
[36526,{"$f":"VLOOKUP(AB244,[1]AHLSOG!$O:$Q,2,FALSE)","v":"Iowa"},{"$f":"VLOOKUP(AB244,[1]AHLSOG!$O:$Q,3,FALSE)","v":"Milwaukee"},1,"1st","MIL",0.12708333333333333,"J. Pendenza","Z. Budish","T. Aronson",null,"V",22,23,24,55,89,null,"H",2,21,28,29,44,null,"Rd","Milwaukee",1013505]
[36557,{"$f":"VLOOKUP(AB245,[1]AHLSOG!$O:$Q,2,FALSE)","v":"Iowa"},{"$f":"VLOOKUP(AB245,[1]AHLSOG!$O:$Q,3,FALSE)","v":"Milwaukee"},2,"1st","MIL",0.72291666666666676,"V. Arvidsson","G. Noonan","B. Leipsic","PP","V",2,33,37,51,89,null,"H",7,12,17,25,null,null,"Rd","Milwaukee",1013505]
[36586,{"$f":"VLOOKUP(AB246,[1]AHLSOG!$O:$Q,2,FALSE)","v":"Iowa"},{"$f":"VLOOKUP(AB246,[1]AHLSOG!$O:$Q,3,FALSE)","v":"Milwaukee"},3,"2nd","MIL",0.11666666666666665,"V. Arvidsson","G. Noonan",null,null,"V",2,16,21,33,37,null,"H",2,12,24,36,51,null,"Rd","Milwaukee",1013505]
[36617,{"$f":"VLOOKUP(AB247,[1]AHLSOG!$O:$Q,2,FALSE)","v":"Iowa"},{"$f":"VLOOKUP(AB247,[1]AHLSOG!$O:$Q,3,FALSE)","v":"Milwaukee"},4,"2nd","MIL",0.23750000000000002,"V. Arvidsson","A. Bitetto","A. Watson","PP","V",2,28,33,51,89,null,"H",7,12,19,41,null,null,"Rd","Milwaukee",1013505]
[36526,{"$f":"VLOOKUP(AB248,[1]AHLSOG!$O:$Q,2,FALSE)","v":"Norfolk"},{"$f":"VLOOKUP(AB248,[1]AHLSOG!$O:$Q,3,FALSE)","v":"Manchester"},1,"1st","MCH",0.24027777777777778,"D. Van der Gulik","S. Sabourin","N. Dowd",null,"V",3,14,23,25,26,null,"H",2,4,5,8,33,null,"Rd","Manchester",1013506]
[36557,{"$f":"VLOOKUP(AB249,[1]AHLSOG!$O:$Q,2,FALSE)","v":"Norfolk"},{"$f":"VLOOKUP(AB249,[1]AHLSOG!$O:$Q,3,FALSE)","v":"Manchester"},2,"1st","MCH",0.50624999999999998,"S. Sabourin","N. Dowd",null,null,"V",3,14,23,25,26,null,"H",4,10,12,18,25,null,"Rd","Manchester",1013506]
[42036,{"$f":"VLOOKUP(AB250,[1]AHLSOG!$O:$Q,2,FALSE)","v":"Norfolk"},{"$f":"VLOOKUP(AB250,[1]AHLSOG!$O:$Q,3,FALSE)","v":"Manchester"},3,"2nd","NOR",0.60416666666666663,"B. Winchester","S. Noesen","N. Kerdiles",null,"V",6,14,25,26,55,null,"H",6,8,11,15,25,null,"Hm","Norfolk",1013506]
[42037,{"$f":"VLOOKUP(AB251,[1]AHLSOG!$O:$Q,2,FALSE)","v":"Norfolk"},{"$f":"VLOOKUP(AB251,[1]AHLSOG!$O:$Q,3,FALSE)","v":"Manchester"},4,"3rd","NOR",0.24652777777777779,"A. Laganiere","N. Kerdiles","B. Bell","PP","V",3,5,14,25,null,null,"H",5,8,18,28,39,null,"Hm","Norfolk",1013506]
[42065,{"$f":"VLOOKUP(AB252,[1]AHLSOG!$O:$Q,2,FALSE)","v":"Norfolk"},{"$f":"VLOOKUP(AB252,[1]AHLSOG!$O:$Q,3,FALSE)","v":"Manchester"},5,"3rd","MCH",0.41875000000000001,"B. O'Neill","V. LoVerde",null,null,"V",5,16,19,22,33,null,"H",2,4,5,17,20,null,"Rd","Manchester",1013506]
[42096,{"$f":"VLOOKUP(AB253,[1]AHLSOG!$O:$Q,2,FALSE)","v":"Norfolk"},{"$f":"VLOOKUP(AB253,[1]AHLSOG!$O:$Q,3,FALSE)","v":"Manchester"},6,"3rd","MCH",0.59583333333333333,"J. Weal",null,null,"PP","V",3,5,16,19,22,null,"H",2,6,15,39,null,null,"Rd","Manchester",1013506]
["0 - 1",{"$f":"VLOOKUP(AB254,[1]AHLSOG!$O:$Q,2,FALSE)","v":"Oklahoma City"},{"$f":"VLOOKUP(AB254,[1]AHLSOG!$O:$Q,3,FALSE)","v":"San Antonio"},1,"1st","OKC",0.11527777777777777,"J. Williams","A. Miller","T. Pitlick","PP","V",3,5,15,23,null,null,"H",9,11,16,17,19,null,"Hm","Oklahoma City",1013507]
["0 - 2",{"$f":"VLOOKUP(AB255,[1]AHLSOG!$O:$Q,2,FALSE)","v":"Oklahoma City"},{"$f":"VLOOKUP(AB255,[1]AHLSOG!$O:$Q,3,FALSE)","v":"San Antonio"},2,"2nd","OKC",0.27777777777777779,"J. Williams","A. Lander","A. Miller","PP","V",5,23,32,null,null,null,"H",15,16,17,19,null,null,"Hm","Oklahoma City",1013507]
["0 - 3",{"$f":"VLOOKUP(AB256,[1]AHLSOG!$O:$Q,2,FALSE)","v":"Oklahoma City"},{"$f":"VLOOKUP(AB256,[1]AHLSOG!$O:$Q,3,FALSE)","v":"San Antonio"},3,"2nd","OKC",0.28680555555555554,"O. Klefbom","J. Oesterle","S. Pinizzotto","PP","V",8,16,19,null,null,null,"H",8,13,15,27,null,null,"Hm","Oklahoma City",1013507]
[42007,{"$f":"VLOOKUP(AB257,[1]AHLSOG!$O:$Q,2,FALSE)","v":"Oklahoma City"},{"$f":"VLOOKUP(AB257,[1]AHLSOG!$O:$Q,3,FALSE)","v":"San Antonio"},4,"2nd","SA",0.3659722222222222,"S. O'Brien","V. Trocheck",null,null,"V",7,8,14,16,44,null,"H",6,13,19,25,39,null,"Rd","San Antonio",1013507]
[42038,{"$f":"VLOOKUP(AB258,[1]AHLSOG!$O:$Q,2,FALSE)","v":"Oklahoma City"},{"$f":"VLOOKUP(AB258,[1]AHLSOG!$O:$Q,3,FALSE)","v":"San Antonio"},5,"2nd","SA",0.37847222222222227,"V. Trocheck","B. Butler",null,null,"V",7,8,14,16,19,null,"H",5,6,21,22,27,null,"Rd","San Antonio",1013507]
[42039,{"$f":"VLOOKUP(AB259,[1]AHLSOG!$O:$Q,2,FALSE)","v":"Oklahoma City"},{"$f":"VLOOKUP(AB259,[1]AHLSOG!$O:$Q,3,FALSE)","v":"San Antonio"},6,"2nd","OKC",0.5756944444444444,"I. Pakarinen","O. Klefbom",null,null,"V",3,7,15,26,null,null,"H",8,19,25,40,null,null,"Hm","Oklahoma City",1013507]
[42067,{"$f":"VLOOKUP(AB260,[1]AHLSOG!$O:$Q,2,FALSE)","v":"Oklahoma City"},{"$f":"VLOOKUP(AB260,[1]AHLSOG!$O:$Q,3,FALSE)","v":"San Antonio"},7,"2nd","SA",0.83194444444444438,"C. Brickley","L. Shaw","V. Trocheck",null,"V",3,5,14,22,23,null,"H",5,6,16,17,22,null,"Rd","San Antonio",1013507]
[42098,{"$f":"VLOOKUP(AB261,[1]AHLSOG!$O:$Q,2,FALSE)","v":"Oklahoma City"},{"$f":"VLOOKUP(AB261,[1]AHLSOG!$O:$Q,3,FALSE)","v":"San Antonio"},8,"3rd","SA",0.22500000000000001,"R. Martindale","S. O'Brien","D. Shore","PP","V",8,17,18,32,44,null,"H",8,11,16,40,null,null,"Rd","San Antonio",1013507]
[42128,{"$f":"VLOOKUP(AB262,[1]AHLSOG!$O:$Q,2,FALSE)","v":"Oklahoma City"},{"$f":"VLOOKUP(AB262,[1]AHLSOG!$O:$Q,3,FALSE)","v":"San Antonio"},9,"3rd","SA",0.65,"J. McFarland","D. Shore","S. Kampfer","PP","V",8,17,18,32,44,null,"H",5,6,11,16,null,null,"Rd","San Antonio",1013507]
[36526,{"$f":"VLOOKUP(AB263,[1]AHLSOG!$O:$Q,2,FALSE)","v":"Springfield"},{"$f":"VLOOKUP(AB263,[1]AHLSOG!$O:$Q,3,FALSE)","v":"Hershey"},1,"1st","HER",0.14861111111111111,"C. Wellman","T. Kennedy","K. Newbury","PP","V",12,13,21,25,34,null,"H",4,7,29,37,null,null,"Rd","Hershey",1013508]
[36557,{"$f":"VLOOKUP(AB264,[1]AHLSOG!$O:$Q,2,FALSE)","v":"Springfield"},{"$f":"VLOOKUP(AB264,[1]AHLSOG!$O:$Q,3,FALSE)","v":"Hershey"},2,"2nd","HER",0.40069444444444446,"C. Wellman","K. Newbury",null,null,"V",4,11,12,21,34,null,"H",8,18,26,29,32,null,"Rd","Hershey",1013508]
[42036,{"$f":"VLOOKUP(AB265,[1]AHLSOG!$O:$Q,2,FALSE)","v":"Springfield"},{"$f":"VLOOKUP(AB265,[1]AHLSOG!$O:$Q,3,FALSE)","v":"Hershey"},3,"3rd","SPR",0.15,"D. Monardo","D. Urban","S. Collins","PP","V",4,7,10,19,null,null,"H",7,9,12,17,40,null,"Hm","Springfield",1013508]
[42064,{"$f":"VLOOKUP(AB266,[1]AHLSOG!$O:$Q,2,FALSE)","v":"Springfield"},{"$f":"VLOOKUP(AB266,[1]AHLSOG!$O:$Q,3,FALSE)","v":"Hershey"},4,"3rd","HER",0.57708333333333328,"P. Cornet","C. Herbert","T. Kennedy",null,"V",5,7,18,19,40,null,"H",5,15,18,29,37,null,"Rd","Hershey",1013508]
[42095,{"$f":"VLOOKUP(AB267,[1]AHLSOG!$O:$Q,2,FALSE)","v":"Springfield"},{"$f":"VLOOKUP(AB267,[1]AHLSOG!$O:$Q,3,FALSE)","v":"Hershey"},5,"3rd","HER",0.81944444444444453,"D. Gazley","C. Herbert","S. Oleksy","EN","V",5,7,10,13,40,null,"H",7,9,12,15,17,40,"Rd","Hershey",1013508]
[36526,{"$f":"VLOOKUP(AB268,[1]AHLSOG!$O:$Q,2,FALSE)","v":"St. John's"},{"$f":"VLOOKUP(AB268,[1]AHLSOG!$O:$Q,3,FALSE)","v":"W-B/Scranton"},1,"1st","WBS",0.12430555555555556,"S. Wilson","P. Samuelsson","B. Goers",null,"V",5,23,28,41,42,null,"H",4,13,19,25,44,null,"Rd","W-B/Scranton",1013509]
[36557,{"$f":"VLOOKUP(AB269,[1]AHLSOG!$O:$Q,2,FALSE)","v":"St. John's"},{"$f":"VLOOKUP(AB269,[1]AHLSOG!$O:$Q,3,FALSE)","v":"W-B/Scranton"},2,"1st","WBS",0.20902777777777778,"N. Drazenovic","J. Megna","T. Kostopoulos",null,"V",4,8,10,19,29,null,"H",14,24,27,29,48,null,"Rd","W-B/Scranton",1013509]
[42036,{"$f":"VLOOKUP(AB270,[1]AHLSOG!$O:$Q,2,FALSE)","v":"St. John's"},{"$f":"VLOOKUP(AB270,[1]AHLSOG!$O:$Q,3,FALSE)","v":"W-B/Scranton"},3,"2nd","STJ",0.17291666666666669,"J. Lipon","J. Hill","W. O'Neill",null,"V",5,23,28,41,42,null,"H",14,27,29,34,48,null,"Hm","St. John's",1013509]
[42064,{"$f":"VLOOKUP(AB271,[1]AHLSOG!$O:$Q,2,FALSE)","v":"St. John's"},{"$f":"VLOOKUP(AB271,[1]AHLSOG!$O:$Q,3,FALSE)","v":"W-B/Scranton"},4,"3rd","WBS",0.29166666666666669,"B. Rust","T. Kuhnhackl","M. Marcantuoni",null,"V",5,8,23,28,42,null,"H",4,14,29,34,48,null,"Rd","W-B/Scranton",1013509]
[42095,{"$f":"VLOOKUP(AB272,[1]AHLSOG!$O:$Q,2,FALSE)","v":"St. John's"},{"$f":"VLOOKUP(AB272,[1]AHLSOG!$O:$Q,3,FALSE)","v":"W-B/Scranton"},5,"3rd","WBS",0.75208333333333333,"Z. Torquato","A. Payerl","S. Wilson","EN","V",4,8,23,28,42,null,"H",8,14,18,28,34,48,"Rd","W-B/Scranton",1013509]
[36526,{"$f":"VLOOKUP(AB273,[1]AHLSOG!$O:$Q,2,FALSE)","v":"Syracuse"},{"$f":"VLOOKUP(AB273,[1]AHLSOG!$O:$Q,3,FALSE)","v":"Binghamton"},1,"1st","BNG",0.16527777777777777,"C. Schneider","S. Prince","C. Wideman",null,"V",4,6,11,15,18,null,"H",17,18,27,82,89,null,"Rd","Binghamton",1013510]
[42005,{"$f":"VLOOKUP(AB274,[1]AHLSOG!$O:$Q,2,FALSE)","v":"Syracuse"},{"$f":"VLOOKUP(AB274,[1]AHLSOG!$O:$Q,3,FALSE)","v":"Binghamton"},2,"2nd","SYR",0.22152777777777777,"J. Marchessault","C. Paquette","J. Drouin",null,"V",3,11,14,15,18,null,"H",3,17,18,27,89,null,"Hm","Syracuse",1013510]
[42006,{"$f":"VLOOKUP(AB275,[1]AHLSOG!$O:$Q,2,FALSE)","v":"Syracuse"},{"$f":"VLOOKUP(AB275,[1]AHLSOG!$O:$Q,3,FALSE)","v":"Binghamton"},3,"2nd","SYR",0.2388888888888889,"J. Vermin","M. Blunden",null,null,"V",16,17,20,27,72,null,"H",13,21,24,82,92,null,"Hm","Syracuse",1013510]
[42037,{"$f":"VLOOKUP(AB276,[1]AHLSOG!$O:$Q,2,FALSE)","v":"Syracuse"},{"$f":"VLOOKUP(AB276,[1]AHLSOG!$O:$Q,3,FALSE)","v":"Binghamton"},4,"2nd","BNG",0.36874999999999997,"M. Puempel","A. Johnson","C. Schneider","PP","V",9,15,20,44,72,null,"H",3,17,65,92,null,null,"Rd","Binghamton",1013510]
[42038,{"$f":"VLOOKUP(AB277,[1]AHLSOG!$O:$Q,2,FALSE)","v":"Syracuse"},{"$f":"VLOOKUP(AB277,[1]AHLSOG!$O:$Q,3,FALSE)","v":"Binghamton"},5,"3rd","SYR",0.55555555555555558,"M. Blunden","J. Vermin","C. Kunyk",null,"V",3,6,22,37,57,null,"H",20,21,24,89,92,null,"Hm","Syracuse",1013510]
[42039,{"$f":"VLOOKUP(AB278,[1]AHLSOG!$O:$Q,2,FALSE)","v":"Syracuse"},{"$f":"VLOOKUP(AB278,[1]AHLSOG!$O:$Q,3,FALSE)","v":"Binghamton"},6,"3rd","SYR",0.60416666666666663,"M. Corrente","C. Paquette","J. Drouin",null,"V",11,15,18,20,72,null,"H",13,17,18,24,27,null,"Hm","Syracuse",1013510]
[36526,{"$f":"VLOOKUP(AB279,[1]AHLSOG!$O:$Q,2,FALSE)","v":"Toronto"},{"$f":"VLOOKUP(AB279,[1]AHLSOG!$O:$Q,3,FALSE)","v":"Rochester"},1,"1st","RCH",0.21875,"D. Catenacci","M. Ellis","M. Pysyk",null,"V",3,37,43,52,92,null,"H",5,14,16,29,50,null,"Rd","Rochester",1013512]
[36557,{"$f":"VLOOKUP(AB280,[1]AHLSOG!$O:$Q,2,FALSE)","v":"Toronto"},{"$f":"VLOOKUP(AB280,[1]AHLSOG!$O:$Q,3,FALSE)","v":"Rochester"},2,"2nd","RCH",1.6666666666666666E-2,"A. Aliu","L. Adam","P. Varone",null,"V",3,4,16,19,22,null,"H",2,5,17,19,36,null,"Rd","Rochester",1013512]
[36586,{"$f":"VLOOKUP(AB281,[1]AHLSOG!$O:$Q,2,FALSE)","v":"Toronto"},{"$f":"VLOOKUP(AB281,[1]AHLSOG!$O:$Q,3,FALSE)","v":"Rochester"},3,"2nd","RCH",0.17152777777777775,"P. Varone","C. Ruhwedel",null,null,"V",5,16,19,22,34,null,"H",8,17,19,26,36,null,"Rd","Rochester",1013512]
[36617,{"$f":"VLOOKUP(AB282,[1]AHLSOG!$O:$Q,2,FALSE)","v":"Toronto"},{"$f":"VLOOKUP(AB282,[1]AHLSOG!$O:$Q,3,FALSE)","v":"Rochester"},4,"2nd","RCH",0.40763888888888888,"M. Grigorenko","W. Carrier",null,null,"V",3,4,25,28,33,null,"H",8,24,26,38,79,null,"Rd","Rochester",1013512]
[42095,{"$f":"VLOOKUP(AB283,[1]AHLSOG!$O:$Q,2,FALSE)","v":"Toronto"},{"$f":"VLOOKUP(AB283,[1]AHLSOG!$O:$Q,3,FALSE)","v":"Rochester"},5,"3rd","TOR",1.7361111111111112E-2,"C. Brown","S. Carrick","J. Leivo",null,"V",3,4,16,19,22,null,"H",2,5,14,16,29,null,"Hm","Toronto",1013512]
["0 - 1",{"$f":"VLOOKUP(AB284,[1]AHLSOG!$O:$Q,2,FALSE)","v":"Worcester"},{"$f":"VLOOKUP(AB284,[1]AHLSOG!$O:$Q,3,FALSE)","v":"Providence"},1,"1st","WOR",0.13055555555555556,"T. Doherty","D. Tarasov","T. Oleksuk",null,"V",5,10,18,21,37,null,"H",4,10,12,19,21,null,"Hm","Worcester",1013513]
["0 - 2",{"$f":"VLOOKUP(AB285,[1]AHLSOG!$O:$Q,2,FALSE)","v":"Worcester"},{"$f":"VLOOKUP(AB285,[1]AHLSOG!$O:$Q,3,FALSE)","v":"Providence"},2,"1st","WOR",0.38472222222222219,"M. Karlsson","R. Carpenter","K. Abeltshauser",null,"V",5,14,18,19,37,null,"H",4,5,10,15,22,null,"Hm","Worcester",1013513]
[42006,{"$f":"VLOOKUP(AB286,[1]AHLSOG!$O:$Q,2,FALSE)","v":"Worcester"},{"$f":"VLOOKUP(AB286,[1]AHLSOG!$O:$Q,3,FALSE)","v":"Providence"},3,"1st","PRO",0.65486111111111112,"D. Pastrnak","A. Khokhlachev","B. Youds",null,"V",2,7,13,27,32,null,"H",4,10,13,22,28,null,"Rd","Providence",1013513]
[42037,{"$f":"VLOOKUP(AB287,[1]AHLSOG!$O:$Q,2,FALSE)","v":"Worcester"},{"$f":"VLOOKUP(AB287,[1]AHLSOG!$O:$Q,3,FALSE)","v":"Providence"},4,"2nd","PRO",0.20555555555555557,"J. Caron","D. Pastrnak","A. Khokhlachev",null,"V",2,7,13,27,32,null,"H",4,12,19,20,21,null,"Rd","Providence",1013513]
[42038,{"$f":"VLOOKUP(AB288,[1]AHLSOG!$O:$Q,2,FALSE)","v":"Worcester"},{"$f":"VLOOKUP(AB288,[1]AHLSOG!$O:$Q,3,FALSE)","v":"Providence"},5,"2nd","WOR",0.55347222222222225,"M. Haley","F. Hamilton","T. Doherty",null,"V",8,14,18,19,37,null,"H",4,10,12,15,18,null,"Hm","Worcester",1013513]
[42066,{"$f":"VLOOKUP(AB289,[1]AHLSOG!$O:$Q,2,FALSE)","v":"Worcester"},{"$f":"VLOOKUP(AB289,[1]AHLSOG!$O:$Q,3,FALSE)","v":"Providence"},6,"3rd","PRO",0.82986111111111116,"A. Khokhlachev","D. Pastrnak","J. Caron",null,"V",7,13,14,27,32,37,"H",2,10,12,15,18,null,"Rd","Providence",1013513]
[42067,{"$f":"VLOOKUP(AB290,[1]AHLSOG!$O:$Q,2,FALSE)","v":"Worcester"},{"$f":"VLOOKUP(AB290,[1]AHLSOG!$O:$Q,3,FALSE)","v":"Providence"},7,"OT","WOR",0.27291666666666664,"D. DeMelo","T. Fedun","J. Langlois",null,"V",7,13,14,null,null,null,"H",2,14,28,null,null,null,"Hm","Worcester",1013513]
[36526,{"$f":"VLOOKUP(AB291,[1]AHLSOG!$O:$Q,2,FALSE)","v":"Bridgeport"},{"$f":"VLOOKUP(AB291,[1]AHLSOG!$O:$Q,3,FALSE)","v":"Springfield"},1,"1st","SPR",0.34166666666666662,"R. Craig","T. Tynan","S. Collins",null,"V",4,12,17,18,37,null,"H",4,9,10,21,49,null,"Rd","Springfield",1013514]
[36557,{"$f":"VLOOKUP(AB292,[1]AHLSOG!$O:$Q,2,FALSE)","v":"Bridgeport"},{"$f":"VLOOKUP(AB292,[1]AHLSOG!$O:$Q,3,FALSE)","v":"Springfield"},2,"2nd","SPR",0.47222222222222227,"D. Monardo","A. Madaisky",null,null,"V",5,7,9,29,40,null,"H",2,8,12,22,26,null,"Rd","Springfield",1013514]
[42036,{"$f":"VLOOKUP(AB293,[1]AHLSOG!$O:$Q,2,FALSE)","v":"Bridgeport"},{"$f":"VLOOKUP(AB293,[1]AHLSOG!$O:$Q,3,FALSE)","v":"Springfield"},3,"2nd","BRI",0.81874999999999998,"J. Graham","H. Zolnierczyk","C. Stretch","PP","V",12,17,26,37,null,null,"H",2,8,12,16,21,null,"Hm","Bridgeport",1013514]
[42037,{"$f":"VLOOKUP(AB294,[1]AHLSOG!$O:$Q,2,FALSE)","v":"Bridgeport"},{"$f":"VLOOKUP(AB294,[1]AHLSOG!$O:$Q,3,FALSE)","v":"Springfield"},4,"3rd","BRI",0.33055555555555555,"A. Lee","C. Stretch","R. Pulock","PP","V",5,8,13,26,null,null,"H",6,9,12,21,27,null,"Hm","Bridgeport",1013514]
[42065,{"$f":"VLOOKUP(AB295,[1]AHLSOG!$O:$Q,2,FALSE)","v":"Bridgeport"},{"$f":"VLOOKUP(AB295,[1]AHLSOG!$O:$Q,3,FALSE)","v":"Springfield"},5,"3rd","SPR",0.6958333333333333,"A. Cherniwchan","T. Vogelhuber",null,null,"V",13,28,36,37,38,null,"H",2,7,8,9,11,null,"Rd","Springfield",1013514]
[42066,{"$f":"VLOOKUP(AB296,[1]AHLSOG!$O:$Q,2,FALSE)","v":"Bridgeport"},{"$f":"VLOOKUP(AB296,[1]AHLSOG!$O:$Q,3,FALSE)","v":"Springfield"},6,"3rd","BRI",0.82430555555555562,"H. Zolnierczyk","K. Mouillierat","G. Reinhart","PP","V",17,22,26,37,null,null,"H",6,8,9,12,16,21,"Hm","Bridgeport",1013514]
[42067,{"$f":"VLOOKUP(AB297,[1]AHLSOG!$O:$Q,2,FALSE)","v":"Bridgeport"},{"$f":"VLOOKUP(AB297,[1]AHLSOG!$O:$Q,3,FALSE)","v":"Springfield"},7,"OT","BRI",2.8472222222222222E-2,"A. Lee","A. Ness",null,null,"V",5,9,17,26,null,null,"H",6,9,12,27,null,null,"Hm","Bridgeport",1013514]
["0 - 1",{"$f":"VLOOKUP(AB298,[1]AHLSOG!$O:$Q,2,FALSE)","v":"Providence"},{"$f":"VLOOKUP(AB298,[1]AHLSOG!$O:$Q,3,FALSE)","v":"Portland"},1,"1st","PRO",0.28541666666666665,"T. Randell","A. Camara",null,null,"V",2,12,22,25,32,null,"H",3,5,9,11,15,null,"Hm","Providence",1013516]
["0 - 2",{"$f":"VLOOKUP(AB299,[1]AHLSOG!$O:$Q,2,FALSE)","v":"Providence"},{"$f":"VLOOKUP(AB299,[1]AHLSOG!$O:$Q,3,FALSE)","v":"Portland"},2,"1st","PRO",0.77222222222222225,"A. Khokhlachev","C. Cunningham","Z. Trotman","PP","V",9,27,33,49,null,null,"H",13,14,17,24,37,null,"Hm","Providence",1013516]
[42006,{"$f":"VLOOKUP(AB300,[1]AHLSOG!$O:$Q,2,FALSE)","v":"Providence"},{"$f":"VLOOKUP(AB300,[1]AHLSOG!$O:$Q,3,FALSE)","v":"Portland"},3,"2nd","POR",0.28611111111111115,"A. Bolduc","J. Martinook","H. Samuelsson",null,"V",2,17,19,28,49,null,"H",6,8,14,22,24,null,"Rd","Portland",1013516]
[42007,{"$f":"VLOOKUP(AB301,[1]AHLSOG!$O:$Q,2,FALSE)","v":"Providence"},{"$f":"VLOOKUP(AB301,[1]AHLSOG!$O:$Q,3,FALSE)","v":"Portland"},4,"3rd","PRO",0.82500000000000007,"S. Griffith","M. Lindblad",null,"EN.PP","V",2,9,19,28,32,null,"H",3,7,9,17,24,null,"Hm","Providence",1013516]
["0 - 1",{"$f":"VLOOKUP(AB302,[1]AHLSOG!$O:$Q,2,FALSE)","v":"Albany"},{"$f":"VLOOKUP(AB302,[1]AHLSOG!$O:$Q,3,FALSE)","v":"W-B/Scranton"},1,"2nd","ALB",8.9583333333333334E-2,"M. Sislo","B. Burlon","R. Boucher","PP","V",3,5,24,26,null,null,"H",7,11,14,19,28,null,"Hm","Albany",1013518]
["0 - 2",{"$f":"VLOOKUP(AB303,[1]AHLSOG!$O:$Q,2,FALSE)","v":"Albany"},{"$f":"VLOOKUP(AB303,[1]AHLSOG!$O:$Q,3,FALSE)","v":"W-B/Scranton"},2,"2nd","ALB",0.56458333333333333,"M. Sislo","J. Whitney","S. Timmins","PP","V",3,5,12,25,null,null,"H",5,9,17,19,28,null,"Hm","Albany",1013518]
["0 - 3",{"$f":"VLOOKUP(AB304,[1]AHLSOG!$O:$Q,2,FALSE)","v":"Albany"},{"$f":"VLOOKUP(AB304,[1]AHLSOG!$O:$Q,3,FALSE)","v":"W-B/Scranton"},3,"3rd","ALB",0.78611111111111109,"T. Sestito",null,null,"EN","V",4,6,19,23,25,42,"H",8,10,12,28,29,null,"Hm","Albany",1013518]
["0 - 4",{"$f":"VLOOKUP(AB305,[1]AHLSOG!$O:$Q,2,FALSE)","v":"Albany"},{"$f":"VLOOKUP(AB305,[1]AHLSOG!$O:$Q,3,FALSE)","v":"W-B/Scranton"},4,"3rd","ALB",0.79305555555555562,"R. Boucher","D. Zajac",null,null,"V",3,10,12,29,51,null,"H",7,14,19,23,33,null,"Hm","Albany",1013518]
["0 - 1",{"$f":"VLOOKUP(AB306,[1]AHLSOG!$O:$Q,2,FALSE)","v":"St. John's"},{"$f":"VLOOKUP(AB306,[1]AHLSOG!$O:$Q,3,FALSE)","v":"Binghamton"},1,"1st","STJ",5.8333333333333327E-2,"C. Klingberg","J. Albert","K. Ellerby",null,"V",3,9,10,14,44,null,"H",4,13,16,18,48,null,"Hm","St. John's",1013519]
["0 - 2",{"$f":"VLOOKUP(AB307,[1]AHLSOG!$O:$Q,2,FALSE)","v":"St. John's"},{"$f":"VLOOKUP(AB307,[1]AHLSOG!$O:$Q,3,FALSE)","v":"Binghamton"},2,"1st","STJ",0.22569444444444445,"P. Cormier","C. Balisy","K. Fredheim","SH","V",9,20,43,44,72,null,"H",4,7,13,28,null,null,"Hm","St. John's",1013519]
[42006,{"$f":"VLOOKUP(AB308,[1]AHLSOG!$O:$Q,2,FALSE)","v":"St. John's"},{"$f":"VLOOKUP(AB308,[1]AHLSOG!$O:$Q,3,FALSE)","v":"Binghamton"},3,"2nd","BNG",0.16041666666666668,"C. Wideman",null,null,null,"V",4,6,8,16,43,null,"H",4,9,18,21,50,null,"Rd","Binghamton",1013519]
[42007,{"$f":"VLOOKUP(AB309,[1]AHLSOG!$O:$Q,2,FALSE)","v":"St. John's"},{"$f":"VLOOKUP(AB309,[1]AHLSOG!$O:$Q,3,FALSE)","v":"Binghamton"},4,"2nd","STJ",0.19652777777777777,"C. Balisy","B. Riley",null,null,"V",11,15,18,20,72,null,"H",13,19,25,27,44,null,"Hm","St. John's",1013519]
[42038,{"$f":"VLOOKUP(AB310,[1]AHLSOG!$O:$Q,2,FALSE)","v":"St. John's"},{"$f":"VLOOKUP(AB310,[1]AHLSOG!$O:$Q,3,FALSE)","v":"Binghamton"},5,"2nd","BNG",0.23055555555555554,"D. Grant","P. Mullen","F. Claesson",null,"V",3,14,16,37,57,null,"H",8,19,25,28,44,null,"Rd","Binghamton",1013519]
[42066,{"$f":"VLOOKUP(AB311,[1]AHLSOG!$O:$Q,2,FALSE)","v":"St. John's"},{"$f":"VLOOKUP(AB311,[1]AHLSOG!$O:$Q,3,FALSE)","v":"Binghamton"},6,"2nd","BNG",0.37152777777777773,"G. Thompson","D. New","C. Wideman",null,"V",6,8,16,43,72,null,"H",7,9,21,27,50,null,"Rd","Binghamton",1013519]
[42067,{"$f":"VLOOKUP(AB312,[1]AHLSOG!$O:$Q,2,FALSE)","v":"St. John's"},{"$f":"VLOOKUP(AB312,[1]AHLSOG!$O:$Q,3,FALSE)","v":"Binghamton"},7,"2nd","STJ",0.52430555555555558,"K. Fredheim","E. O'Dell","J. Lipon",null,"V",3,11,14,18,null,null,"H",7,14,27,34,null,null,"Hm","St. John's",1013519]
[42068,{"$f":"VLOOKUP(AB313,[1]AHLSOG!$O:$Q,2,FALSE)","v":"St. John's"},{"$f":"VLOOKUP(AB313,[1]AHLSOG!$O:$Q,3,FALSE)","v":"Binghamton"},8,"2nd","STJ",0.68680555555555556,"J. Albert","C. Balisy","C. Klingberg",null,"V",4,6,11,15,18,null,"H",4,13,16,18,48,null,"Hm","St. John's",1013519]
[42069,{"$f":"VLOOKUP(AB314,[1]AHLSOG!$O:$Q,2,FALSE)","v":"St. John's"},{"$f":"VLOOKUP(AB314,[1]AHLSOG!$O:$Q,3,FALSE)","v":"Binghamton"},9,"3rd","STJ",0.13402777777777777,"B. Kichton","J. Albert","C. Klingberg",null,"V",3,14,17,37,57,null,"H",8,16,25,28,44,null,"Hm","St. John's",1013519]
[42100,{"$f":"VLOOKUP(AB315,[1]AHLSOG!$O:$Q,2,FALSE)","v":"St. John's"},{"$f":"VLOOKUP(AB315,[1]AHLSOG!$O:$Q,3,FALSE)","v":"Binghamton"},10,"3rd","BNG",0.65069444444444446,"B. Robinson","F. Claesson",null,null,"V",3,9,10,14,44,null,"H",8,13,16,44,48,null,"Rd","Binghamton",1013519]
[42130,{"$f":"VLOOKUP(AB316,[1]AHLSOG!$O:$Q,2,FALSE)","v":"St. John's"},{"$f":"VLOOKUP(AB316,[1]AHLSOG!$O:$Q,3,FALSE)","v":"Binghamton"},11,"3rd","BNG",0.80208333333333337,"C. Schneider","A. Johnson","D. Grant",null,"V",4,6,15,18,57,72,"H",4,9,13,28,44,null,"Rd","Binghamton",1013519]
["0 - 1",{"$f":"VLOOKUP(AB317,[1]AHLSOG!$O:$Q,2,FALSE)","v":"Worcester"},{"$f":"VLOOKUP(AB317,[1]AHLSOG!$O:$Q,3,FALSE)","v":"Hartford"},1,"1st","WOR",8.6805555555555566E-2,"P. Emanuelsson","T. Oleksuk",null,null,"V",4,6,23,24,39,null,"H",4,10,11,21,41,null,"Hm","Worcester",1013520]
[42005,{"$f":"VLOOKUP(AB318,[1]AHLSOG!$O:$Q,2,FALSE)","v":"Worcester"},{"$f":"VLOOKUP(AB318,[1]AHLSOG!$O:$Q,3,FALSE)","v":"Hartford"},2,"1st","HFD",0.47916666666666669,"C. Allen","D. Kristo",null,null,"V",4,5,17,22,29,null,"H",4,10,12,13,28,null,"Rd","Hartford",1013520]
[42036,{"$f":"VLOOKUP(AB319,[1]AHLSOG!$O:$Q,2,FALSE)","v":"Worcester"},{"$f":"VLOOKUP(AB319,[1]AHLSOG!$O:$Q,3,FALSE)","v":"Hartford"},3,"1st","HFD",0.80208333333333337,"O. Lindberg","R. Haggerty","J. Vaive",null,"V",4,23,24,39,44,null,"H",5,11,20,27,33,null,"Rd","Hartford",1013520]
[42037,{"$f":"VLOOKUP(AB320,[1]AHLSOG!$O:$Q,2,FALSE)","v":"Worcester"},{"$f":"VLOOKUP(AB320,[1]AHLSOG!$O:$Q,3,FALSE)","v":"Hartford"},4,"2nd","WOR",0.32916666666666666,"M. Karlsson","M. Tennyson","J. Langlois","PP","V",4,8,14,24,null,null,"H",5,13,15,20,28,null,"Hm","Worcester",1013520]
[42065,{"$f":"VLOOKUP(AB321,[1]AHLSOG!$O:$Q,2,FALSE)","v":"Worcester"},{"$f":"VLOOKUP(AB321,[1]AHLSOG!$O:$Q,3,FALSE)","v":"Hartford"},5,"2nd","HFD",0.48541666666666666,"D. Kristo","N. Tarnasky",null,null,"V",6,8,22,29,74,null,"H",2,12,13,14,28,null,"Rd","Hartford",1013520]
[42096,{"$f":"VLOOKUP(AB322,[1]AHLSOG!$O:$Q,2,FALSE)","v":"Worcester"},{"$f":"VLOOKUP(AB322,[1]AHLSOG!$O:$Q,3,FALSE)","v":"Hartford"},6,"3rd","HFD",7.7777777777777779E-2,"R. Bourque","J. Miller","R. Haggerty","PP","V",2,9,10,27,39,null,"H",4,10,21,27,null,null,"Rd","Hartford",1013520]
[42097,{"$f":"VLOOKUP(AB323,[1]AHLSOG!$O:$Q,2,FALSE)","v":"Worcester"},{"$f":"VLOOKUP(AB323,[1]AHLSOG!$O:$Q,3,FALSE)","v":"Hartford"},7,"3rd","WOR",0.10416666666666667,"M. Haley","M. Karlsson","R. Carpenter",null,"V",8,15,29,44,74,null,"H",2,14,15,18,22,null,"Hm","Worcester",1013520]
[42098,{"$f":"VLOOKUP(AB324,[1]AHLSOG!$O:$Q,2,FALSE)","v":"Worcester"},{"$f":"VLOOKUP(AB324,[1]AHLSOG!$O:$Q,3,FALSE)","v":"Hartford"},8,"3rd","WOR",0.18402777777777779,"T. Fedun","M. Haley","M. Karlsson",null,"V",4,8,9,10,27,null,"H",2,14,15,18,22,null,"Hm","Worcester",1013520]
[42128,{"$f":"VLOOKUP(AB325,[1]AHLSOG!$O:$Q,2,FALSE)","v":"Worcester"},{"$f":"VLOOKUP(AB325,[1]AHLSOG!$O:$Q,3,FALSE)","v":"Hartford"},9,"3rd","HFD",0.8208333333333333,"M. Bodie","T. Hughes","D. Kristo",null,"V",2,5,24,29,39,null,"H",5,15,18,20,22,null,"Rd","Hartford",1013520]
[36526,{"$f":"VLOOKUP(AB326,[1]AHLSOG!$O:$Q,2,FALSE)","v":"Rochester"},{"$f":"VLOOKUP(AB326,[1]AHLSOG!$O:$Q,3,FALSE)","v":"Rockford"},1,"2nd","RFD",0.23263888888888887,"T. Teravainen","J. Nordstrom","A. Clendening","PP","V",2,7,21,23,26,null,"H",3,4,37,43,null,null,"Rd","Rockford",1013521]
[42005,{"$f":"VLOOKUP(AB327,[1]AHLSOG!$O:$Q,2,FALSE)","v":"Rochester"},{"$f":"VLOOKUP(AB327,[1]AHLSOG!$O:$Q,3,FALSE)","v":"Rockford"},2,"2nd","RCH",0.71250000000000002,"T. Schaller","J. Armia",null,"PP","V",4,10,18,22,null,null,"H",3,11,25,33,34,null,"Hm","Rochester",1013521]
[42036,{"$f":"VLOOKUP(AB328,[1]AHLSOG!$O:$Q,2,FALSE)","v":"Rochester"},{"$f":"VLOOKUP(AB328,[1]AHLSOG!$O:$Q,3,FALSE)","v":"Rockford"},3,"3rd","RFD",0.62361111111111112,"M. McNeill","P. Danault","S. Johns","SH","V",4,10,18,28,null,null,"H",5,19,21,22,26,null,"Rd","Rockford",1013521]
[42037,{"$f":"VLOOKUP(AB329,[1]AHLSOG!$O:$Q,2,FALSE)","v":"Rochester"},{"$f":"VLOOKUP(AB329,[1]AHLSOG!$O:$Q,3,FALSE)","v":"Rockford"},4,"3rd","RCH",0.7368055555555556,"T. Schaller","M. Pysyk","D. Bagnall",null,"V",4,7,18,21,53,null,"H",3,4,11,16,22,26,"Hm","Rochester",1013521]
[42038,{"$f":"VLOOKUP(AB330,[1]AHLSOG!$O:$Q,2,FALSE)","v":"Rochester"},{"$f":"VLOOKUP(AB330,[1]AHLSOG!$O:$Q,3,FALSE)","v":"Rockford"},5,"3rd","RCH",0.77777777777777779,"Z. Dalpe","P. Varone","C. Ruhwedel","PP","V",4,10,23,28,null,null,"H",5,19,21,22,26,null,"Hm","Rochester",1013521]
["0 - 1",{"$f":"VLOOKUP(AB331,[1]AHLSOG!$O:$Q,2,FALSE)","v":"St. John's"},{"$f":"VLOOKUP(AB331,[1]AHLSOG!$O:$Q,3,FALSE)","v":"Binghamton"},1,"3rd","STJ",8.1944444444444445E-2,"P. Cormier","C. Balisy","K. Fredheim",null,"V",6,9,11,14,15,null,"H",4,7,13,18,28,null,"Hm","St. John's",1013522]
[42005,{"$f":"VLOOKUP(AB332,[1]AHLSOG!$O:$Q,2,FALSE)","v":"St. John's"},{"$f":"VLOOKUP(AB332,[1]AHLSOG!$O:$Q,3,FALSE)","v":"Binghamton"},2,"3rd","BNG",0.24166666666666667,"C. Camper","A. Grant","F. Claesson",null,"V",3,9,11,15,20,null,"H",7,13,16,27,48,null,"Rd","Binghamton",1013522]
[42036,{"$f":"VLOOKUP(AB333,[1]AHLSOG!$O:$Q,2,FALSE)","v":"St. John's"},{"$f":"VLOOKUP(AB333,[1]AHLSOG!$O:$Q,3,FALSE)","v":"Binghamton"},3,"3rd","BNG",0.40486111111111112,"P. Mullen","D. Kramer",null,null,"V",14,17,37,57,72,null,"H",8,13,16,44,48,null,"Rd","Binghamton",1013522]
[42037,{"$f":"VLOOKUP(AB334,[1]AHLSOG!$O:$Q,2,FALSE)","v":"St. John's"},{"$f":"VLOOKUP(AB334,[1]AHLSOG!$O:$Q,3,FALSE)","v":"Binghamton"},4,"3rd","STJ",0.625,"C. Klingberg","C. Balisy","J. Albert",null,"V",3,17,20,37,57,null,"H",8,13,16,44,48,null,"Hm","St. John's",1013522]
[42065,{"$f":"VLOOKUP(AB335,[1]AHLSOG!$O:$Q,2,FALSE)","v":"St. John's"},{"$f":"VLOOKUP(AB335,[1]AHLSOG!$O:$Q,3,FALSE)","v":"Binghamton"},5,"OT","BNG",0.26319444444444445,"C. Wideman","M. Puempel","A. Hammond",null,"V",6,9,72,null,null,null,"H",27,28,48,null,null,null,"Rd","Binghamton",1013522]
["0 - 1",{"$f":"VLOOKUP(AB336,[1]AHLSOG!$O:$Q,2,FALSE)","v":"Utica"},{"$f":"VLOOKUP(AB336,[1]AHLSOG!$O:$Q,3,FALSE)","v":"Adirondack"},1,"1st","UTI",0.71736111111111101,"H. Shinkaruk","D. Jeffrey","T. Ehrhardt","PP","V",5,25,26,32,null,null,"H",2,3,9,21,25,null,"Hm","Utica",1013523]
["0 - 2",{"$f":"VLOOKUP(AB337,[1]AHLSOG!$O:$Q,2,FALSE)","v":"Utica"},{"$f":"VLOOKUP(AB337,[1]AHLSOG!$O:$Q,3,FALSE)","v":"Adirondack"},2,"3rd","UTI",5.2777777777777778E-2,"N. Jensen","C. O'Reilly","R. Jones",null,"V",4,25,26,27,32,null,"H",6,15,16,17,40,null,"Hm","Utica",1013523]
["0 - 3",{"$f":"VLOOKUP(AB338,[1]AHLSOG!$O:$Q,2,FALSE)","v":"Utica"},{"$f":"VLOOKUP(AB338,[1]AHLSOG!$O:$Q,3,FALSE)","v":"Adirondack"},3,"3rd","UTI",0.63611111111111118,"B. DeFazio","C. O'Reilly",null,"SH","V",2,11,27,45,46,null,"H",16,24,29,40,null,null,"Hm","Utica",1013523]
[36526,{"$f":"VLOOKUP(AB339,[1]AHLSOG!$O:$Q,2,FALSE)","v":"Chicago"},{"$f":"VLOOKUP(AB339,[1]AHLSOG!$O:$Q,3,FALSE)","v":"Milwaukee"},1,"1st","MIL",0.24444444444444446,"P. Åberg","M. Salomaki",null,"PP","V",18,20,23,28,46,null,"H",15,25,27,55,null,null,"Rd","Milwaukee",1013524]
[42005,{"$f":"VLOOKUP(AB340,[1]AHLSOG!$O:$Q,2,FALSE)","v":"Chicago"},{"$f":"VLOOKUP(AB340,[1]AHLSOG!$O:$Q,3,FALSE)","v":"Milwaukee"},2,"2nd","CHI",0.10972222222222222,"T. Rattie","T. Broadhurst","B. Regner",null,"V",2,7,20,24,89,null,"H",4,8,28,37,49,null,"Hm","Chicago",1013524]
[42036,{"$f":"VLOOKUP(AB341,[1]AHLSOG!$O:$Q,2,FALSE)","v":"Chicago"},{"$f":"VLOOKUP(AB341,[1]AHLSOG!$O:$Q,3,FALSE)","v":"Milwaukee"},3,"3rd","MIL",0.15486111111111112,"A. Watson","B. Leipsic","J. Piskula",null,"V",2,7,28,29,51,null,"H",5,12,15,28,38,null,"Rd","Milwaukee",1013524]
[42037,{"$f":"VLOOKUP(AB342,[1]AHLSOG!$O:$Q,2,FALSE)","v":"Chicago"},{"$f":"VLOOKUP(AB342,[1]AHLSOG!$O:$Q,3,FALSE)","v":"Milwaukee"},4,"3rd","CHI",0.28680555555555554,"J. Welsh","S. Wannstrom","R. Bordson",null,"V",3,7,28,29,51,null,"H",15,25,27,38,55,null,"Hm","Chicago",1013524]
[42065,{"$f":"VLOOKUP(AB343,[1]AHLSOG!$O:$Q,2,FALSE)","v":"Chicago"},{"$f":"VLOOKUP(AB343,[1]AHLSOG!$O:$Q,3,FALSE)","v":"Milwaukee"},5,"OT","MIL",0.27152777777777776,"A. Bitetto","V. Arvidsson",null,null,"V",2,33,51,null,null,null,"H",25,27,37,null,null,null,"Rd","Milwaukee",1013524]
[36526,{"$f":"VLOOKUP(AB344,[1]AHLSOG!$O:$Q,2,FALSE)","v":"Grand Rapids"},{"$f":"VLOOKUP(AB344,[1]AHLSOG!$O:$Q,3,FALSE)","v":"Lake Erie"},1,"1st","LE",0.23611111111111113,"M. Lauridsen","C. Smith","S. Elliott",null,"V",11,17,28,37,46,null,"H",4,7,9,10,27,null,"Rd","Lake Erie",1013525]
[36557,{"$f":"VLOOKUP(AB345,[1]AHLSOG!$O:$Q,2,FALSE)","v":"Grand Rapids"},{"$f":"VLOOKUP(AB345,[1]AHLSOG!$O:$Q,3,FALSE)","v":"Lake Erie"},2,"1st","LE",0.33263888888888887,"M. Schumacher","M. Sgarbossa","S. Elliott",null,"V",11,24,43,45,46,null,"H",4,7,12,21,29,null,"Rd","Lake Erie",1013525]
[42036,{"$f":"VLOOKUP(AB346,[1]AHLSOG!$O:$Q,2,FALSE)","v":"Grand Rapids"},{"$f":"VLOOKUP(AB346,[1]AHLSOG!$O:$Q,3,FALSE)","v":"Lake Erie"},3,"1st","GR",0.39583333333333331,"C. Bruton","X. Ouellet","A. Hirschfeld",null,"V",11,14,42,44,46,null,"H",3,16,17,32,55,null,"Hm","Grand Rapids",1013525]
[42037,{"$f":"VLOOKUP(AB347,[1]AHLSOG!$O:$Q,2,FALSE)","v":"Grand Rapids"},{"$f":"VLOOKUP(AB347,[1]AHLSOG!$O:$Q,3,FALSE)","v":"Lake Erie"},4,"1st","GR",0.76180555555555562,"T. Pulkkinen","A. Miele","X. Ouellet","PP","V",16,18,27,null,null,null,"H",6,7,15,16,21,null,"Hm","Grand Rapids",1013525]
[42065,{"$f":"VLOOKUP(AB348,[1]AHLSOG!$O:$Q,2,FALSE)","v":"Grand Rapids"},{"$f":"VLOOKUP(AB348,[1]AHLSOG!$O:$Q,3,FALSE)","v":"Lake Erie"},5,"2nd","LE",0.74930555555555556,"K. Ryan","C. Smith","M. Lauridsen",null,"V",11,17,28,37,46,null,"H",4,7,9,10,27,null,"Rd","Lake Erie",1013525]
[42066,{"$f":"VLOOKUP(AB349,[1]AHLSOG!$O:$Q,2,FALSE)","v":"Grand Rapids"},{"$f":"VLOOKUP(AB349,[1]AHLSOG!$O:$Q,3,FALSE)","v":"Lake Erie"},6,"3rd","GR",0.25416666666666665,"A. Marchenko",null,null,null,"V",16,18,27,38,44,null,"H",3,9,15,16,29,null,"Hm","Grand Rapids",1013525]
[42097,{"$f":"VLOOKUP(AB350,[1]AHLSOG!$O:$Q,2,FALSE)","v":"Grand Rapids"},{"$f":"VLOOKUP(AB350,[1]AHLSOG!$O:$Q,3,FALSE)","v":"Lake Erie"},7,"3rd","LE",0.40763888888888888,"A. Agozzino","D. Siemens","K. Ryan",null,"V",16,17,18,27,28,null,"H",3,6,10,16,21,null,"Rd","Lake Erie",1013525]
[42127,{"$f":"VLOOKUP(AB351,[1]AHLSOG!$O:$Q,2,FALSE)","v":"Grand Rapids"},{"$f":"VLOOKUP(AB351,[1]AHLSOG!$O:$Q,3,FALSE)","v":"Lake Erie"},8,"3rd","LE",0.5854166666666667,"D. Everberg","S. Elliott","M. Sgarbossa",null,"V",11,43,45,46,null,null,"H",4,6,7,23,null,null,"Rd","Lake Erie",1013525]
[42128,{"$f":"VLOOKUP(AB352,[1]AHLSOG!$O:$Q,2,FALSE)","v":"Grand Rapids"},{"$f":"VLOOKUP(AB352,[1]AHLSOG!$O:$Q,3,FALSE)","v":"Lake Erie"},9,"3rd","GR",0.64861111111111114,"N. Paetsch","K. Porter","A. Athanasiou",null,"V",11,28,38,45,46,null,"H",4,7,12,15,23,null,"Hm","Grand Rapids",1013525]
[36526,{"$f":"VLOOKUP(AB353,[1]AHLSOG!$O:$Q,2,FALSE)","v":"Hartford"},{"$f":"VLOOKUP(AB353,[1]AHLSOG!$O:$Q,3,FALSE)","v":"Albany"},1,"1st","ALB",0.1763888888888889,"B. Thomson","D. Kelly","R. Hrabarenka",null,"V",8,10,25,26,29,null,"H",5,15,29,44,74,null,"Rd","Albany",1013526]
[42005,{"$f":"VLOOKUP(AB354,[1]AHLSOG!$O:$Q,2,FALSE)","v":"Hartford"},{"$f":"VLOOKUP(AB354,[1]AHLSOG!$O:$Q,3,FALSE)","v":"Albany"},2,"1st","HFD",0.24513888888888888,"M. Hrivik","J. Crabb",null,"SH","V",7,11,14,19,28,null,"H",4,14,15,25,null,null,"Hm","Hartford",1013526]
[42036,{"$f":"VLOOKUP(AB355,[1]AHLSOG!$O:$Q,2,FALSE)","v":"Hartford"},{"$f":"VLOOKUP(AB355,[1]AHLSOG!$O:$Q,3,FALSE)","v":"Albany"},3,"1st","ALB",0.47013888888888888,"P. Thompson","D. Kelly","J. Whitney",null,"V",8,9,15,17,29,null,"H",4,23,24,25,39,null,"Rd","Albany",1013526]
[42037,{"$f":"VLOOKUP(AB356,[1]AHLSOG!$O:$Q,2,FALSE)","v":"Hartford"},{"$f":"VLOOKUP(AB356,[1]AHLSOG!$O:$Q,3,FALSE)","v":"Albany"},4,"1st","HFD",0.51041666666666663,"C. Bourque","J. Fast",null,null,"V",7,12,20,28,33,null,"H",5,10,17,27,44,null,"Hm","Hartford",1013526]
[42065,{"$f":"VLOOKUP(AB357,[1]AHLSOG!$O:$Q,2,FALSE)","v":"Hartford"},{"$f":"VLOOKUP(AB357,[1]AHLSOG!$O:$Q,3,FALSE)","v":"Albany"},5,"2nd","ALB",0.45902777777777781,"J. Whitney","T. Sestito","S. Timmins","PP","V",9,12,15,17,29,null,"H",5,24,27,44,null,null,"Rd","Albany",1013526]
[42096,{"$f":"VLOOKUP(AB358,[1]AHLSOG!$O:$Q,2,FALSE)","v":"Hartford"},{"$f":"VLOOKUP(AB358,[1]AHLSOG!$O:$Q,3,FALSE)","v":"Albany"},6,"3rd","ALB",0.11805555555555557,"B. Thomson",null,null,null,"V",2,5,10,15,26,null,"H",5,23,24,39,44,null,"Rd","Albany",1013526]
[42126,{"$f":"VLOOKUP(AB359,[1]AHLSOG!$O:$Q,2,FALSE)","v":"Hartford"},{"$f":"VLOOKUP(AB359,[1]AHLSOG!$O:$Q,3,FALSE)","v":"Albany"},7,"3rd","ALB",0.2951388888888889,"S. Timmins","R. Hrabarenka","P. Harrold",null,"V",5,9,15,17,29,null,"H",4,8,9,24,27,null,"Rd","Albany",1013526]
[42127,{"$f":"VLOOKUP(AB360,[1]AHLSOG!$O:$Q,2,FALSE)","v":"Hartford"},{"$f":"VLOOKUP(AB360,[1]AHLSOG!$O:$Q,3,FALSE)","v":"Albany"},8,"3rd","HFD",0.36041666666666666,"J. Miller","M. Bodie","J. Fast","PP","V",5,8,17,20,null,null,"H",2,9,10,22,27,null,"Hm","Hartford",1013526]
[42158,{"$f":"VLOOKUP(AB361,[1]AHLSOG!$O:$Q,2,FALSE)","v":"Hartford"},{"$f":"VLOOKUP(AB361,[1]AHLSOG!$O:$Q,3,FALSE)","v":"Albany"},9,"3rd","ALB",0.4236111111111111,"M. Sislo","K. Zajac",null,"SH","V",5,8,11,19,null,null,"H",2,9,10,27,39,null,"Rd","Albany",1013526]
[42188,{"$f":"VLOOKUP(AB362,[1]AHLSOG!$O:$Q,2,FALSE)","v":"Hartford"},{"$f":"VLOOKUP(AB362,[1]AHLSOG!$O:$Q,3,FALSE)","v":"Albany"},10,"3rd","ALB",0.81111111111111101,"M. Sislo","R. Boucher","D. Kelly","EN","V",8,14,17,19,29,null,"H",4,14,15,22,24,29,"Rd","Albany",1013526]
[36526,{"$f":"VLOOKUP(AB363,[1]AHLSOG!$O:$Q,2,FALSE)","v":"Iowa"},{"$f":"VLOOKUP(AB363,[1]AHLSOG!$O:$Q,3,FALSE)","v":"Charlotte"},1,"1st","CHA",5.8333333333333327E-2,"P. Di Giuseppe","C. LaRose","G. Nemisz",null,"V",4,16,20,28,59,null,"H",4,10,41,44,51,null,"Rd","Charlotte",1013527]
[36557,{"$f":"VLOOKUP(AB364,[1]AHLSOG!$O:$Q,2,FALSE)","v":"Iowa"},{"$f":"VLOOKUP(AB364,[1]AHLSOG!$O:$Q,3,FALSE)","v":"Charlotte"},2,"1st","CHA",0.54027777777777775,"C. Sandlak","A. Jenks","B. Woods",null,"V",2,15,19,21,26,null,"H",7,12,19,25,39,null,"Rd","Charlotte",1013527]
[36586,{"$f":"VLOOKUP(AB365,[1]AHLSOG!$O:$Q,2,FALSE)","v":"Iowa"},{"$f":"VLOOKUP(AB365,[1]AHLSOG!$O:$Q,3,FALSE)","v":"Charlotte"},3,"1st","CHA",0.68680555555555556,"G. Nemisz","M. Jordan","K. Lowe",null,"V",2,19,28,29,59,null,"H",11,21,36,39,41,null,"Rd","Charlotte",1013527]
[42064,{"$f":"VLOOKUP(AB366,[1]AHLSOG!$O:$Q,2,FALSE)","v":"Iowa"},{"$f":"VLOOKUP(AB366,[1]AHLSOG!$O:$Q,3,FALSE)","v":"Charlotte"},4,"2nd","IA",5.2083333333333336E-2,"J. Schroeder","Z. Phillips","A. Gudbranson",null,"V",5,9,19,28,59,null,"H",10,17,24,44,51,null,"Hm","Iowa",1013527]
[42095,{"$f":"VLOOKUP(AB367,[1]AHLSOG!$O:$Q,2,FALSE)","v":"Iowa"},{"$f":"VLOOKUP(AB367,[1]AHLSOG!$O:$Q,3,FALSE)","v":"Charlotte"},5,"3rd","CHA",2.361111111111111E-2,"B. McGinn","A. Aleardi",null,null,"V",5,7,9,10,17,null,"H",4,7,10,25,51,null,"Rd","Charlotte",1013527]
[42125,{"$f":"VLOOKUP(AB368,[1]AHLSOG!$O:$Q,2,FALSE)","v":"Iowa"},{"$f":"VLOOKUP(AB368,[1]AHLSOG!$O:$Q,3,FALSE)","v":"Charlotte"},6,"3rd","CHA",0.31875000000000003,"C. LaRose","P. Di Giuseppe","M. Jordan","PP","V",2,19,28,29,59,null,"H",7,10,12,41,null,null,"Rd","Charlotte",1013527]
[36526,{"$f":"VLOOKUP(AB369,[1]AHLSOG!$O:$Q,2,FALSE)","v":"Lehigh Valley"},{"$f":"VLOOKUP(AB369,[1]AHLSOG!$O:$Q,3,FALSE)","v":"Hershey"},1,"1st","HER",0.56041666666666667,"K. Newbury","C. Wellman",null,null,"V",5,7,11,12,21,null,"H",5,10,21,23,28,null,"Rd","Hershey",1013528]
[42005,{"$f":"VLOOKUP(AB370,[1]AHLSOG!$O:$Q,2,FALSE)","v":"Lehigh Valley"},{"$f":"VLOOKUP(AB370,[1]AHLSOG!$O:$Q,3,FALSE)","v":"Hershey"},2,"2nd","LV",0.46597222222222223,"D. Powe","R. Hagg","B. Manning","PP","V",4,10,11,34,null,null,"H",4,12,19,28,36,null,"Rd","Lehigh",1013528]
[42036,{"$f":"VLOOKUP(AB371,[1]AHLSOG!$O:$Q,2,FALSE)","v":"Lehigh Valley"},{"$f":"VLOOKUP(AB371,[1]AHLSOG!$O:$Q,3,FALSE)","v":"Hershey"},3,"2nd","HER",0.59305555555555556,"C. Wellman","T. Kundratek","C. Carrick","PP","V",11,13,21,25,34,null,"H",7,19,28,36,null,null,"Rd","Hershey",1013528]
[42037,{"$f":"VLOOKUP(AB372,[1]AHLSOG!$O:$Q,2,FALSE)","v":"Lehigh Valley"},{"$f":"VLOOKUP(AB372,[1]AHLSOG!$O:$Q,3,FALSE)","v":"Hershey"},4,"3rd","LV",0.58402777777777781,"T. Leier","M. Alt","N. Cousins",null,"V",4,17,25,27,36,null,"H",2,23,25,28,45,null,"Rd","Lehigh",1013528]
[42038,{"$f":"VLOOKUP(AB373,[1]AHLSOG!$O:$Q,2,FALSE)","v":"Lehigh Valley"},{"$f":"VLOOKUP(AB373,[1]AHLSOG!$O:$Q,3,FALSE)","v":"Hershey"},5,"3rd","LV",0.62361111111111112,"D. Powe","A. Gordon","S. Laughton",null,"V",5,7,11,12,21,null,"H",4,5,10,21,36,null,"Rd","Lehigh",1013528]
[42039,{"$f":"VLOOKUP(AB374,[1]AHLSOG!$O:$Q,2,FALSE)","v":"Lehigh Valley"},{"$f":"VLOOKUP(AB374,[1]AHLSOG!$O:$Q,3,FALSE)","v":"Hershey"},6,"3rd","LV",0.66249999999999998,"P. Straka","N. Cousins","Z. Stortini",null,"V",7,13,14,18,25,null,"H",2,7,24,25,45,null,"Rd","Lehigh",1013528]
["0 - 1",{"$f":"VLOOKUP(AB375,[1]AHLSOG!$O:$Q,2,FALSE)","v":"Manchester"},{"$f":"VLOOKUP(AB375,[1]AHLSOG!$O:$Q,3,FALSE)","v":"Portland"},1,"1st","MCH",0.19652777777777777,"B. O'Neill","J. Weal","S. Backman","PP","V",4,26,32,36,null,null,"H",3,5,16,19,22,null,"Hm","Manchester",1013529]
["0 - 2",{"$f":"VLOOKUP(AB376,[1]AHLSOG!$O:$Q,2,FALSE)","v":"Manchester"},{"$f":"VLOOKUP(AB376,[1]AHLSOG!$O:$Q,3,FALSE)","v":"Portland"},2,"1st","MCH",0.5756944444444444,"N. Ebert","J. Weal","B. O'Neill",null,"V",17,25,26,27,36,null,"H",3,19,22,23,39,null,"Hm","Manchester",1013529]
["0 - 3",{"$f":"VLOOKUP(AB377,[1]AHLSOG!$O:$Q,2,FALSE)","v":"Manchester"},{"$f":"VLOOKUP(AB377,[1]AHLSOG!$O:$Q,3,FALSE)","v":"Portland"},3,"2nd","MCH",4.9999999999999996E-2,"J. Auger","N. Shore","M. Mersch",null,"V",2,16,19,28,49,null,"H",5,27,33,37,39,null,"Hm","Manchester",1013529]
["0 - 4",{"$f":"VLOOKUP(AB378,[1]AHLSOG!$O:$Q,2,FALSE)","v":"Manchester"},{"$f":"VLOOKUP(AB378,[1]AHLSOG!$O:$Q,3,FALSE)","v":"Portland"},4,"2nd","MCH",0.56805555555555554,"J. Schultz","N. Shore","S. Backman",null,"V",2,22,28,38,49,null,"H",6,13,16,37,55,null,"Hm","Manchester",1013529]
[42008,{"$f":"VLOOKUP(AB379,[1]AHLSOG!$O:$Q,2,FALSE)","v":"Manchester"},{"$f":"VLOOKUP(AB379,[1]AHLSOG!$O:$Q,3,FALSE)","v":"Portland"},5,"2nd","POR",0.70416666666666661,"A. Bolduc","D. Reese","M. McKenna","PP","V",2,16,19,36,49,null,"H",3,5,16,22,null,null,"Rd","Portland",1013529]
[42009,{"$f":"VLOOKUP(AB380,[1]AHLSOG!$O:$Q,2,FALSE)","v":"Manchester"},{"$f":"VLOOKUP(AB380,[1]AHLSOG!$O:$Q,3,FALSE)","v":"Portland"},6,"3rd","MCH",0.46736111111111112,"S. Backman","J. Weal","D. Forbort","PP","V",4,22,28,32,null,null,"H",3,5,16,19,22,null,"Hm","Manchester",1013529]
[42040,{"$f":"VLOOKUP(AB381,[1]AHLSOG!$O:$Q,2,FALSE)","v":"Manchester"},{"$f":"VLOOKUP(AB381,[1]AHLSOG!$O:$Q,3,FALSE)","v":"Portland"},7,"3rd","POR",0.48888888888888887,"L. Lessio","A. Bolduc","T. Rieder",null,"V",2,9,28,38,49,null,"H",5,10,13,21,33,null,"Rd","Portland",1013529]
["0 - 1",{"$f":"VLOOKUP(AB382,[1]AHLSOG!$O:$Q,2,FALSE)","v":"Oklahoma City"},{"$f":"VLOOKUP(AB382,[1]AHLSOG!$O:$Q,3,FALSE)","v":"Texas"},1,"1st","OKC",0.53125,"J. Williams","K. Aulie","T. Pitlick",null,"V",4,9,10,27,28,null,"H",5,9,12,19,24,null,"Hm","Oklahoma City",1013530]
[42005,{"$f":"VLOOKUP(AB383,[1]AHLSOG!$O:$Q,2,FALSE)","v":"Oklahoma City"},{"$f":"VLOOKUP(AB383,[1]AHLSOG!$O:$Q,3,FALSE)","v":"Texas"},2,"1st","TEX",0.78472222222222221,"C. Gaunce","T. Morin",null,null,"V",7,15,19,23,24,null,"H",8,19,22,39,40,null,"Rd","Texas",1013530]
[42006,{"$f":"VLOOKUP(AB384,[1]AHLSOG!$O:$Q,2,FALSE)","v":"Oklahoma City"},{"$f":"VLOOKUP(AB384,[1]AHLSOG!$O:$Q,3,FALSE)","v":"Texas"},3,"2nd","OKC",0.28680555555555554,"I. Pakarinen","J. Williams","T. Pitlick","PP","V",8,18,24,28,null,null,"H",9,12,16,19,25,null,"Hm","Oklahoma City",1013530]
[42007,{"$f":"VLOOKUP(AB385,[1]AHLSOG!$O:$Q,2,FALSE)","v":"Oklahoma City"},{"$f":"VLOOKUP(AB385,[1]AHLSOG!$O:$Q,3,FALSE)","v":"Texas"},4,"2nd","OKC",0.30624999999999997,"C. Hamilton","S. Pinizzotto","B. Yakimov",null,"V",2,11,14,18,25,null,"H",8,10,13,39,40,null,"Hm","Oklahoma City",1013530]
[42008,{"$f":"VLOOKUP(AB386,[1]AHLSOG!$O:$Q,2,FALSE)","v":"Oklahoma City"},{"$f":"VLOOKUP(AB386,[1]AHLSOG!$O:$Q,3,FALSE)","v":"Texas"},5,"2nd","OKC",0.47222222222222227,"T. Pitlick","J. Williams","M. Gernat",null,"V",4,15,19,23,24,null,"H",8,9,12,19,40,null,"Hm","Oklahoma City",1013530]
[42039,{"$f":"VLOOKUP(AB387,[1]AHLSOG!$O:$Q,2,FALSE)","v":"Oklahoma City"},{"$f":"VLOOKUP(AB387,[1]AHLSOG!$O:$Q,3,FALSE)","v":"Texas"},6,"2nd","TEX",0.7680555555555556,"J. Klingberg","J. Dowling","B. Ritchie",null,"V",4,9,10,20,27,null,"H",5,9,10,19,24,null,"Rd","Texas",1013530]
[42040,{"$f":"VLOOKUP(AB388,[1]AHLSOG!$O:$Q,2,FALSE)","v":"Oklahoma City"},{"$f":"VLOOKUP(AB388,[1]AHLSOG!$O:$Q,3,FALSE)","v":"Texas"},7,"3rd","OKC",0.25763888888888892,"I. Pakarinen","A. Lander",null,"PP","V",10,18,23,24,null,null,"H",9,12,16,19,25,null,"Hm","Oklahoma City",1013530]
[42068,{"$f":"VLOOKUP(AB389,[1]AHLSOG!$O:$Q,2,FALSE)","v":"Oklahoma City"},{"$f":"VLOOKUP(AB389,[1]AHLSOG!$O:$Q,3,FALSE)","v":"Texas"},8,"3rd","TEX",0.6645833333333333,"T. Morin","M. Fortunus","J. Honka","PP","V",9,18,19,20,23,null,"H",10,15,16,18,null,null,"Rd","Texas",1013530]
["0 - 1",{"$f":"VLOOKUP(AB390,[1]AHLSOG!$O:$Q,2,FALSE)","v":"Providence"},{"$f":"VLOOKUP(AB390,[1]AHLSOG!$O:$Q,3,FALSE)","v":"Norfolk"},1,"1st","PRO",0.39861111111111108,"J. Caron","B. Youds","T. Cross","PP","V",2,9,19,34,null,null,"H",2,3,19,20,27,null,"Hm","Providence",1013531]
["0 - 2",{"$f":"VLOOKUP(AB391,[1]AHLSOG!$O:$Q,2,FALSE)","v":"Providence"},{"$f":"VLOOKUP(AB391,[1]AHLSOG!$O:$Q,3,FALSE)","v":"Norfolk"},2,"2nd","PRO",0.24027777777777778,"B. Ferlin","R. Spooner","C. Cunningham",null,"V",5,6,17,19,26,null,"H",3,5,14,19,24,null,"Hm","Providence",1013531]
["0 - 3",{"$f":"VLOOKUP(AB392,[1]AHLSOG!$O:$Q,2,FALSE)","v":"Providence"},{"$f":"VLOOKUP(AB392,[1]AHLSOG!$O:$Q,3,FALSE)","v":"Norfolk"},3,"2nd","PRO",0.52569444444444446,"M. Lindblad","J. Florek","B. Youds","SH","V",8,9,15,20,39,null,"H",2,3,9,18,null,null,"Hm","Providence",1013531]
["0 - 4",{"$f":"VLOOKUP(AB393,[1]AHLSOG!$O:$Q,2,FALSE)","v":"Providence"},{"$f":"VLOOKUP(AB393,[1]AHLSOG!$O:$Q,3,FALSE)","v":"Norfolk"},4,"3rd","PRO",0.18541666666666667,"J. Caron","C. Breen","A. Khokhlachev",null,"V",2,8,15,25,39,null,"H",2,8,13,27,32,null,"Hm","Providence",1013531]
[36526,{"$f":"VLOOKUP(AB394,[1]AHLSOG!$O:$Q,2,FALSE)","v":"Rochester"},{"$f":"VLOOKUP(AB394,[1]AHLSOG!$O:$Q,3,FALSE)","v":"Adirondack"},1,"1st","ADK",0.11805555555555557,"M. Granlund","M. Ferland","C. Knight","PP","V",5,11,19,25,26,null,"H",3,4,11,21,null,null,"Rd","Adirondack",1013532]
[42005,{"$f":"VLOOKUP(AB395,[1]AHLSOG!$O:$Q,2,FALSE)","v":"Rochester"},{"$f":"VLOOKUP(AB395,[1]AHLSOG!$O:$Q,3,FALSE)","v":"Adirondack"},2,"1st","RCH",0.52638888888888891,"P. Varone","Z. Dalpe","C. Ruhwedel","PP","V",6,11,13,38,null,null,"H",5,19,21,22,26,null,"Hm","Rochester",1013532]
[42006,{"$f":"VLOOKUP(AB396,[1]AHLSOG!$O:$Q,2,FALSE)","v":"Rochester"},{"$f":"VLOOKUP(AB396,[1]AHLSOG!$O:$Q,3,FALSE)","v":"Adirondack"},3,"1st","RCH",0.5493055555555556,"M. Grigorenko","J. Armia","M. Pysyk",null,"V",2,5,13,27,46,null,"H",3,4,25,28,33,null,"Hm","Rochester",1013532]
[42007,{"$f":"VLOOKUP(AB397,[1]AHLSOG!$O:$Q,2,FALSE)","v":"Rochester"},{"$f":"VLOOKUP(AB397,[1]AHLSOG!$O:$Q,3,FALSE)","v":"Adirondack"},4,"3rd","RCH",0.42638888888888887,"J. Armia","M. Grigorenko",null,null,"V",2,5,11,45,48,null,"H",5,25,28,29,33,null,"Hm","Rochester",1013532]
[42008,{"$f":"VLOOKUP(AB398,[1]AHLSOG!$O:$Q,2,FALSE)","v":"Rochester"},{"$f":"VLOOKUP(AB398,[1]AHLSOG!$O:$Q,3,FALSE)","v":"Adirondack"},5,"3rd","RCH",0.7597222222222223,"J. Larsson","J. McCabe","T. Schaller","EN","V",5,11,25,26,27,null,"H",3,11,26,29,null,null,"Hm","Rochester",1013532]
[36526,{"$f":"VLOOKUP(AB399,[1]AHLSOG!$O:$Q,2,FALSE)","v":"Toronto"},{"$f":"VLOOKUP(AB399,[1]AHLSOG!$O:$Q,3,FALSE)","v":"Hamilton"},1,"1st","HAM",0.42499999999999999,"N. Beaulieu","M. Bournival","S. Andrighetto",null,"V",2,8,10,27,28,null,"H",9,13,23,25,26,null,"Rd","Hamilton",1013533]
[36557,{"$f":"VLOOKUP(AB400,[1]AHLSOG!$O:$Q,2,FALSE)","v":"Toronto"},{"$f":"VLOOKUP(AB400,[1]AHLSOG!$O:$Q,3,FALSE)","v":"Hamilton"},2,"2nd","HAM",7.7083333333333337E-2,"S. Andrighetto","D. Drewiske","C. Hudon",null,"V",4,10,27,28,32,null,"H",13,16,23,26,50,null,"Rd","Hamilton",1013533]
[36586,{"$f":"VLOOKUP(AB401,[1]AHLSOG!$O:$Q,2,FALSE)","v":"Toronto"},{"$f":"VLOOKUP(AB401,[1]AHLSOG!$O:$Q,3,FALSE)","v":"Hamilton"},3,"2nd","HAM",0.79999999999999993,"E. Tangradi","D. Bowman",null,"PP","V",2,8,15,25,27,null,"H",8,9,16,50,null,null,"Rd","Hamilton",1013533]
[42064,{"$f":"VLOOKUP(AB402,[1]AHLSOG!$O:$Q,2,FALSE)","v":"Toronto"},{"$f":"VLOOKUP(AB402,[1]AHLSOG!$O:$Q,3,FALSE)","v":"Hamilton"},4,"3rd","TOR",0.30972222222222223,"G. McKegg","C. Brown","S. Abbott","PP","V",4,18,26,40,null,null,"H",7,9,13,23,29,null,"Hm","Toronto",1013533]
[42095,{"$f":"VLOOKUP(AB403,[1]AHLSOG!$O:$Q,2,FALSE)","v":"Toronto"},{"$f":"VLOOKUP(AB403,[1]AHLSOG!$O:$Q,3,FALSE)","v":"Hamilton"},5,"3rd","HAM",0.75347222222222221,"E. Tangradi","D. Bowman",null,"EN","V",8,10,15,25,32,null,"H",9,13,23,25,29,50,"Rd","Hamilton",1013533]
["0 - 1",{"$f":"VLOOKUP(AB404,[1]AHLSOG!$O:$Q,2,FALSE)","v":"Utica"},{"$f":"VLOOKUP(AB404,[1]AHLSOG!$O:$Q,3,FALSE)","v":"San Antonio"},1,"1st","UTI",0.18124999999999999,"B. DeFazio","D. Jeffrey",null,"SH","V",8,14,16,19,44,null,"H",2,3,21,24,null,null,"Hm","Utica",1013534]
["0 - 2",{"$f":"VLOOKUP(AB405,[1]AHLSOG!$O:$Q,2,FALSE)","v":"Utica"},{"$f":"VLOOKUP(AB405,[1]AHLSOG!$O:$Q,3,FALSE)","v":"San Antonio"},2,"1st","UTI",0.56458333333333333,"R. Kenins","P. Andersson",null,null,"V",8,9,18,32,44,null,"H",6,15,16,17,40,null,"Hm","Utica",1013534]
["0 - 3",{"$f":"VLOOKUP(AB406,[1]AHLSOG!$O:$Q,2,FALSE)","v":"Utica"},{"$f":"VLOOKUP(AB406,[1]AHLSOG!$O:$Q,3,FALSE)","v":"San Antonio"},3,"2nd","UTI",0.69097222222222221,"R. Kenins","B. Sanguinetti","C. O'Reilly","PP","V",3,5,17,22,null,null,"H",6,7,15,16,17,null,"Hm","Utica",1013534]
[42007,{"$f":"VLOOKUP(AB407,[1]AHLSOG!$O:$Q,2,FALSE)","v":"Utica"},{"$f":"VLOOKUP(AB407,[1]AHLSOG!$O:$Q,3,FALSE)","v":"San Antonio"},4,"2nd","SA",0.80555555555555547,"L. Shaw","A. Petrovic","G. Zanon",null,"V",3,5,15,22,23,null,"H",2,3,10,16,17,null,"Rd","San Antonio",1013534]
[42038,{"$f":"VLOOKUP(AB408,[1]AHLSOG!$O:$Q,2,FALSE)","v":"Utica"},{"$f":"VLOOKUP(AB408,[1]AHLSOG!$O:$Q,3,FALSE)","v":"San Antonio"},5,"3rd","SA",0.68263888888888891,"S. Kampfer","S. O'Brien",null,"PP","V",8,14,16,19,44,null,"H",3,21,24,29,null,null,"Rd","San Antonio",1013534]
[42039,{"$f":"VLOOKUP(AB409,[1]AHLSOG!$O:$Q,2,FALSE)","v":"Utica"},{"$f":"VLOOKUP(AB409,[1]AHLSOG!$O:$Q,3,FALSE)","v":"San Antonio"},6,"3rd","UTI",0.77569444444444446,"N. Jensen","T. Ehrhardt","C. O'Reilly","EN","V",5,8,14,16,19,44,"H",2,15,16,17,29,null,"Hm","Utica",1013534]
[42040,{"$f":"VLOOKUP(AB410,[1]AHLSOG!$O:$Q,2,FALSE)","v":"Utica"},{"$f":"VLOOKUP(AB410,[1]AHLSOG!$O:$Q,3,FALSE)","v":"San Antonio"},7,"3rd","UTI",0.82500000000000007,"D. Jeffrey","B. DeFazio","D. Archibald","EN","V",8,14,16,19,32,44,"H",2,3,21,24,25,null,"Hm","Utica",1013534]
["0 - 1",{"$f":"VLOOKUP(AB411,[1]AHLSOG!$O:$Q,2,FALSE)","v":"W-B/Scranton"},{"$f":"VLOOKUP(AB411,[1]AHLSOG!$O:$Q,3,FALSE)","v":"Springfield"},1,"1st","WBS",0.27430555555555552,"B. Rust","J. Dea","S. Harrington",null,"V",7,13,24,28,36,null,"H",6,8,9,12,14,null,"Hm","W-B/Scranton",1013535]
["0 - 2",{"$f":"VLOOKUP(AB412,[1]AHLSOG!$O:$Q,2,FALSE)","v":"W-B/Scranton"},{"$f":"VLOOKUP(AB412,[1]AHLSOG!$O:$Q,3,FALSE)","v":"Springfield"},2,"1st","WBS",0.55833333333333335,"N. Drazenovic","T. Kostopoulos",null,null,"V",7,8,15,22,24,null,"H",4,8,10,23,29,null,"Hm","W-B/Scranton",1013535]
["0 - 3",{"$f":"VLOOKUP(AB413,[1]AHLSOG!$O:$Q,2,FALSE)","v":"W-B/Scranton"},{"$f":"VLOOKUP(AB413,[1]AHLSOG!$O:$Q,3,FALSE)","v":"Springfield"},3,"1st","WBS",0.72222222222222221,"N. Drazenovic","S. Wilson","A. Ebbett","PP","V",4,5,12,18,null,null,"H",8,10,23,25,42,null,"Hm","W-B/Scranton",1013535]
["0 - 4",{"$f":"VLOOKUP(AB414,[1]AHLSOG!$O:$Q,2,FALSE)","v":"W-B/Scranton"},{"$f":"VLOOKUP(AB414,[1]AHLSOG!$O:$Q,3,FALSE)","v":"Springfield"},4,"3rd","WBS",0.5625,"B. Rust","T. Kuhnhackl",null,null,"V",7,22,24,28,40,null,"H",4,8,9,12,14,null,"Hm","W-B/Scranton",1013535]
["0 - 5",{"$f":"VLOOKUP(AB415,[1]AHLSOG!$O:$Q,2,FALSE)","v":"W-B/Scranton"},{"$f":"VLOOKUP(AB415,[1]AHLSOG!$O:$Q,3,FALSE)","v":"Springfield"},5,"3rd","WBS",0.65347222222222223,"J. Dea","D. Pouliot","B. Rust","PP","V",4,12,17,37,null,null,"H",5,9,12,29,51,null,"Hm","W-B/Scranton",1013535]
["0 - 1",{"$f":"VLOOKUP(AB416,[1]AHLSOG!$O:$Q,2,FALSE)","v":"Worcester"},{"$f":"VLOOKUP(AB416,[1]AHLSOG!$O:$Q,3,FALSE)","v":"Syracuse"},1,"1st","WOR",0.32916666666666666,"K. Abeltshauser","F. Hamilton","E. Trupp","PP","V",13,21,24,92,null,null,"H",10,12,13,14,15,null,"Hm","Worcester",1013536]
[42005,{"$f":"VLOOKUP(AB417,[1]AHLSOG!$O:$Q,2,FALSE)","v":"Worcester"},{"$f":"VLOOKUP(AB417,[1]AHLSOG!$O:$Q,3,FALSE)","v":"Syracuse"},2,"1st","SYR",0.3520833333333333,"D. Smith","J. Samson",null,null,"V",4,11,33,71,89,null,"H",2,4,19,27,43,null,"Rd","Syracuse",1013536]
[42036,{"$f":"VLOOKUP(AB418,[1]AHLSOG!$O:$Q,2,FALSE)","v":"Worcester"},{"$f":"VLOOKUP(AB418,[1]AHLSOG!$O:$Q,3,FALSE)","v":"Syracuse"},3,"2nd","SYR",0.41250000000000003,"M. Angelidis","H. Ikonen","S. Koekkoek",null,"V",10,13,57,63,65,null,"H",4,10,11,19,41,null,"Rd","Syracuse",1013536]
[42037,{"$f":"VLOOKUP(AB419,[1]AHLSOG!$O:$Q,2,FALSE)","v":"Worcester"},{"$f":"VLOOKUP(AB419,[1]AHLSOG!$O:$Q,3,FALSE)","v":"Syracuse"},4,"3rd","WOR",0.78402777777777777,"P. Emanuelsson","R. Carpenter","M. Haley",null,"V",10,13,20,37,89,null,"H",5,15,18,20,22,41,"Hm","Worcester",1013536]
[42065,{"$f":"VLOOKUP(AB420,[1]AHLSOG!$O:$Q,2,FALSE)","v":"Worcester"},{"$f":"VLOOKUP(AB420,[1]AHLSOG!$O:$Q,3,FALSE)","v":"Syracuse"},5,"OT","SYR",0.21388888888888891,"N. Nesterov","J. Marchessault",null,"PP","V",11,18,21,89,null,null,"H",2,4,15,null,null,null,"Rd","Syracuse",1013536]
["0 - 1",{"$f":"VLOOKUP(AB421,[1]AHLSOG!$O:$Q,2,FALSE)","v":"Adirondack"},{"$f":"VLOOKUP(AB421,[1]AHLSOG!$O:$Q,3,FALSE)","v":"Rochester"},1,"1st","ADK",0.76388888888888884,"G. Hathaway","R. Culkin","S. Baertschi","PP","V",4,5,11,21,null,null,"H",3,9,11,26,27,null,"Hm","Adirondack",1013537]
[42005,{"$f":"VLOOKUP(AB422,[1]AHLSOG!$O:$Q,2,FALSE)","v":"Adirondack"},{"$f":"VLOOKUP(AB422,[1]AHLSOG!$O:$Q,3,FALSE)","v":"Rochester"},2,"2nd","RCH",0.1763888888888889,"J. Larsson","T. Schaller","L. Adam",null,"V",3,11,19,26,29,null,"H",5,9,26,27,32,null,"Rd","Rochester",1013537]
[42006,{"$f":"VLOOKUP(AB423,[1]AHLSOG!$O:$Q,2,FALSE)","v":"Adirondack"},{"$f":"VLOOKUP(AB423,[1]AHLSOG!$O:$Q,3,FALSE)","v":"Rochester"},3,"2nd","ADK",0.20208333333333331,"M. Tousignant","B. Van Brabant",null,null,"V",3,19,22,29,92,null,"H",6,16,19,38,48,null,"Hm","Adirondack",1013537]
[42007,{"$f":"VLOOKUP(AB424,[1]AHLSOG!$O:$Q,2,FALSE)","v":"Adirondack"},{"$f":"VLOOKUP(AB424,[1]AHLSOG!$O:$Q,3,FALSE)","v":"Rochester"},4,"2nd","ADK",0.34166666666666662,"B. Van Brabant","M. Ferland",null,null,"V",19,22,34,52,92,null,"H",6,16,19,38,48,null,"Hm","Adirondack",1013537]
[42008,{"$f":"VLOOKUP(AB425,[1]AHLSOG!$O:$Q,2,FALSE)","v":"Adirondack"},{"$f":"VLOOKUP(AB425,[1]AHLSOG!$O:$Q,3,FALSE)","v":"Rochester"},5,"2nd","ADK",0.45069444444444445,"T. Wotherspoon","M. Reinhart","J. Ramage","PP","V",4,5,22,26,null,null,"H",5,7,19,25,48,null,"Hm","Adirondack",1013537]
[42009,{"$f":"VLOOKUP(AB426,[1]AHLSOG!$O:$Q,2,FALSE)","v":"Adirondack"},{"$f":"VLOOKUP(AB426,[1]AHLSOG!$O:$Q,3,FALSE)","v":"Rochester"},6,"2nd","ADK",0.47916666666666669,"M. Ferland","R. Culkin","T. Wotherspoon",null,"V",18,34,37,43,52,null,"H",3,5,15,19,46,null,"Hm","Adirondack",1013537]
[42040,{"$f":"VLOOKUP(AB427,[1]AHLSOG!$O:$Q,2,FALSE)","v":"Adirondack"},{"$f":"VLOOKUP(AB427,[1]AHLSOG!$O:$Q,3,FALSE)","v":"Rochester"},7,"2nd","RCH",0.51250000000000007,"C. Ruhwedel","J. Larsson","L. Adam","PP","V",5,19,21,22,26,null,"H",6,11,13,38,null,null,"Rd","Rochester",1013537]
[42041,{"$f":"VLOOKUP(AB428,[1]AHLSOG!$O:$Q,2,FALSE)","v":"Adirondack"},{"$f":"VLOOKUP(AB428,[1]AHLSOG!$O:$Q,3,FALSE)","v":"Rochester"},8,"3rd","ADK",0.15347222222222223,"K. Agostino","B. Arnold","M. Ferland",null,"V",18,34,37,43,52,null,"H",7,15,19,32,46,null,"Hm","Adirondack",1013537]
[42042,{"$f":"VLOOKUP(AB429,[1]AHLSOG!$O:$Q,2,FALSE)","v":"Adirondack"},{"$f":"VLOOKUP(AB429,[1]AHLSOG!$O:$Q,3,FALSE)","v":"Rochester"},9,"3rd","ADK",0.30694444444444441,"R. Culkin",null,null,"PP","V",3,22,26,29,null,null,"H",3,9,11,26,27,null,"Hm","Adirondack",1013537]
[42070,{"$f":"VLOOKUP(AB430,[1]AHLSOG!$O:$Q,2,FALSE)","v":"Adirondack"},{"$f":"VLOOKUP(AB430,[1]AHLSOG!$O:$Q,3,FALSE)","v":"Rochester"},10,"3rd","RCH",0.3444444444444445,"Z. Dalpe","T. Schaller","J. Larsson",null,"V",3,11,21,26,29,null,"H",6,15,16,38,45,null,"Rd","Rochester",1013537]
[36526,{"$f":"VLOOKUP(AB431,[1]AHLSOG!$O:$Q,2,FALSE)","v":"Albany"},{"$f":"VLOOKUP(AB431,[1]AHLSOG!$O:$Q,3,FALSE)","v":"Hartford"},1,"1st","HFD",0.33749999999999997,"R. Bourque","C. Allen","J. Miller",null,"V",4,9,10,25,39,null,"H",7,10,12,28,33,null,"Rd","Hartford",1013538]
[42005,{"$f":"VLOOKUP(AB432,[1]AHLSOG!$O:$Q,2,FALSE)","v":"Albany"},{"$f":"VLOOKUP(AB432,[1]AHLSOG!$O:$Q,3,FALSE)","v":"Hartford"},2,"1st","ALB",0.73888888888888893,"J. Whitney","S. Timmins",null,null,"V",2,8,17,24,27,null,"H",8,9,15,17,29,null,"Hm","Albany",1013538]
[42036,{"$f":"VLOOKUP(AB433,[1]AHLSOG!$O:$Q,2,FALSE)","v":"Albany"},{"$f":"VLOOKUP(AB433,[1]AHLSOG!$O:$Q,3,FALSE)","v":"Hartford"},3,"1st","HFD",0.77083333333333337,"C. Allen","J. Miller","R. Haggerty",null,"V",4,10,17,25,39,null,"H",2,5,10,12,28,null,"Rd","Hartford",1013538]
[42037,{"$f":"VLOOKUP(AB434,[1]AHLSOG!$O:$Q,2,FALSE)","v":"Albany"},{"$f":"VLOOKUP(AB434,[1]AHLSOG!$O:$Q,3,FALSE)","v":"Hartford"},4,"2nd","ALB",0.17916666666666667,"D. Zajac",null,null,"SH","V",4,9,10,15,29,null,"H",8,19,23,29,null,null,"Hm","Albany",1013538]
[42038,{"$f":"VLOOKUP(AB435,[1]AHLSOG!$O:$Q,2,FALSE)","v":"Albany"},{"$f":"VLOOKUP(AB435,[1]AHLSOG!$O:$Q,3,FALSE)","v":"Hartford"},5,"2nd","ALB",0.23333333333333331,"S. Timmins","S. Bernier","T. Sestito",null,"V",5,14,22,23,44,null,"H",5,7,12,17,28,null,"Hm","Albany",1013538]
[42039,{"$f":"VLOOKUP(AB436,[1]AHLSOG!$O:$Q,2,FALSE)","v":"Albany"},{"$f":"VLOOKUP(AB436,[1]AHLSOG!$O:$Q,3,FALSE)","v":"Hartford"},6,"3rd","ALB",0.13125000000000001,"R. Hrabarenka","B. Burlon","R. Boucher","PP","V",4,8,9,10,null,null,"H",7,11,14,28,29,null,"Hm","Albany",1013538]
[42040,{"$f":"VLOOKUP(AB437,[1]AHLSOG!$O:$Q,2,FALSE)","v":"Albany"},{"$f":"VLOOKUP(AB437,[1]AHLSOG!$O:$Q,3,FALSE)","v":"Hartford"},7,"3rd","ALB",0.82638888888888884,"R. Pelley","T. Sestito",null,"EN","V",4,15,17,24,27,29,"H",2,5,10,12,28,null,"Hm","Albany",1013538]
["0 - 1",{"$f":"VLOOKUP(AB438,[1]AHLSOG!$O:$Q,2,FALSE)","v":"Binghamton"},{"$f":"VLOOKUP(AB438,[1]AHLSOG!$O:$Q,3,FALSE)","v":"Lehigh Valley"},1,"1st","BNG",0.3527777777777778,"S. Prince","B. Robinson","A. Johnson",null,"V",4,5,12,19,37,null,"H",6,10,18,44,72,null,"Hm","Binghamton",1013539]
[42005,{"$f":"VLOOKUP(AB439,[1]AHLSOG!$O:$Q,2,FALSE)","v":"Binghamton"},{"$f":"VLOOKUP(AB439,[1]AHLSOG!$O:$Q,3,FALSE)","v":"Lehigh Valley"},2,"1st","LV",0.75624999999999998,"N. Cousins","D. Powe","R. Hagg","PP","V",4,8,19,25,36,null,"H",14,15,20,57,null,null,"Rd","Lehigh",1013539]
[42006,{"$f":"VLOOKUP(AB440,[1]AHLSOG!$O:$Q,2,FALSE)","v":"Binghamton"},{"$f":"VLOOKUP(AB440,[1]AHLSOG!$O:$Q,3,FALSE)","v":"Lehigh Valley"},3,"1st","BNG",0.80902777777777779,"J. Pageau","C. Wideman","B. Robinson",null,"V",4,5,10,21,23,null,"H",6,10,14,18,44,null,"Hm","Binghamton",1013539]
[42037,{"$f":"VLOOKUP(AB441,[1]AHLSOG!$O:$Q,2,FALSE)","v":"Binghamton"},{"$f":"VLOOKUP(AB441,[1]AHLSOG!$O:$Q,3,FALSE)","v":"Lehigh Valley"},4,"2nd","LV",0.3923611111111111,"R. Hagg","J. Pettersson","N. Cousins","PP","V",4,8,19,25,36,null,"H",14,16,57,72,null,null,"Rd","Lehigh",1013539]
[42065,{"$f":"VLOOKUP(AB442,[1]AHLSOG!$O:$Q,2,FALSE)","v":"Binghamton"},{"$f":"VLOOKUP(AB442,[1]AHLSOG!$O:$Q,3,FALSE)","v":"Lehigh Valley"},5,"2nd","LV",0.50069444444444444,"A. Gordon","S. Laughton","S. Delisle",null,"V",4,5,10,21,23,null,"H",3,10,18,20,44,null,"Rd","Lehigh",1013539]
[42096,{"$f":"VLOOKUP(AB443,[1]AHLSOG!$O:$Q,2,FALSE)","v":"Binghamton"},{"$f":"VLOOKUP(AB443,[1]AHLSOG!$O:$Q,3,FALSE)","v":"Lehigh Valley"},6,"2nd","LV",0.6777777777777777,"A. Fyten","J. Rosehill","B. Manning",null,"V",7,11,25,28,37,null,"H",14,16,37,57,72,null,"Rd","Lehigh",1013539]
[42097,{"$f":"VLOOKUP(AB444,[1]AHLSOG!$O:$Q,2,FALSE)","v":"Binghamton"},{"$f":"VLOOKUP(AB444,[1]AHLSOG!$O:$Q,3,FALSE)","v":"Lehigh Valley"},7,"3rd","BNG",0.82291666666666663,"D. Grant","M. Puempel","S. Prince",null,"V",8,19,21,23,28,null,"H",9,14,15,18,57,72,"Hm","Binghamton",1013539]
[42098,{"$f":"VLOOKUP(AB445,[1]AHLSOG!$O:$Q,2,FALSE)","v":"Binghamton"},{"$f":"VLOOKUP(AB445,[1]AHLSOG!$O:$Q,3,FALSE)","v":"Lehigh Valley"},8,"3rd","BNG",0.82916666666666661,"D. Grant","J. Pageau","S. Prince",null,"V",4,10,21,23,28,null,"H",9,14,18,44,57,72,"Hm","Binghamton",1013539]
[42128,{"$f":"VLOOKUP(AB446,[1]AHLSOG!$O:$Q,2,FALSE)","v":"Binghamton"},{"$f":"VLOOKUP(AB446,[1]AHLSOG!$O:$Q,3,FALSE)","v":"Lehigh Valley"},9,"OT","LV",0.23611111111111113,"S. Laughton","B. Manning","D. Powe",null,"V",21,28,36,null,null,null,"H",6,20,57,null,null,null,"Rd","Lehigh",1013539]
[36526,{"$f":"VLOOKUP(AB447,[1]AHLSOG!$O:$Q,2,FALSE)","v":"Hamilton"},{"$f":"VLOOKUP(AB447,[1]AHLSOG!$O:$Q,3,FALSE)","v":"San Antonio"},1,"1st","SA",0.26944444444444443,"J. McFarland","B. Olson","M. Mancari",null,"V",2,7,15,18,26,null,"H",2,8,11,17,19,null,"Rd","San Antonio",1013540]
[42005,{"$f":"VLOOKUP(AB448,[1]AHLSOG!$O:$Q,2,FALSE)","v":"Hamilton"},{"$f":"VLOOKUP(AB448,[1]AHLSOG!$O:$Q,3,FALSE)","v":"San Antonio"},2,"1st","HAM",0.33333333333333331,"S. Andrighetto","M. Bournival","D. Dietz",null,"V",8,11,17,22,44,null,"H",7,10,26,27,28,null,"Hm","Hamilton",1013540]
[42006,{"$f":"VLOOKUP(AB449,[1]AHLSOG!$O:$Q,2,FALSE)","v":"Hamilton"},{"$f":"VLOOKUP(AB449,[1]AHLSOG!$O:$Q,3,FALSE)","v":"San Antonio"},3,"1st","HAM",0.49861111111111112,"C. Hudon","M. Bournival","G. Pateryn",null,"V",2,7,17,22,23,null,"H",2,8,10,27,28,null,"Hm","Hamilton",1013540]
[42037,{"$f":"VLOOKUP(AB450,[1]AHLSOG!$O:$Q,2,FALSE)","v":"Hamilton"},{"$f":"VLOOKUP(AB450,[1]AHLSOG!$O:$Q,3,FALSE)","v":"San Antonio"},4,"1st","SA",0.66666666666666663,"B. Olson",null,null,"SH","V",5,8,15,23,null,null,"H",8,11,17,19,32,null,"Rd","San Antonio",1013540]
[42065,{"$f":"VLOOKUP(AB451,[1]AHLSOG!$O:$Q,2,FALSE)","v":"Hamilton"},{"$f":"VLOOKUP(AB451,[1]AHLSOG!$O:$Q,3,FALSE)","v":"San Antonio"},5,"2nd","SA",0.1111111111111111,"S. Kampfer","M. Houser",null,"PP","V",3,8,16,18,32,null,"H",7,15,20,26,null,null,"Rd","San Antonio",1013540]
[42096,{"$f":"VLOOKUP(AB452,[1]AHLSOG!$O:$Q,2,FALSE)","v":"Hamilton"},{"$f":"VLOOKUP(AB452,[1]AHLSOG!$O:$Q,3,FALSE)","v":"San Antonio"},6,"2nd","SA",0.21944444444444444,"B. Butler","M. Weegar","G. Wilson",null,"V",2,7,14,16,19,null,"H",7,18,21,26,40,null,"Rd","San Antonio",1013540]
["0 - 1",{"$f":"VLOOKUP(AB453,[1]AHLSOG!$O:$Q,2,FALSE)","v":"Hershey"},{"$f":"VLOOKUP(AB453,[1]AHLSOG!$O:$Q,3,FALSE)","v":"W-B/Scranton"},1,"1st","HER",0.51041666666666663,"T. Kennedy","K. Newbury","T. Kundratek","PP","V",3,5,26,42,null,null,"H",11,13,21,25,34,null,"Hm","Hershey",1013541]
["0 - 2",{"$f":"VLOOKUP(AB454,[1]AHLSOG!$O:$Q,2,FALSE)","v":"Hershey"},{"$f":"VLOOKUP(AB454,[1]AHLSOG!$O:$Q,3,FALSE)","v":"W-B/Scranton"},2,"1st","HER",0.53819444444444442,"D. Byers","J. Landry","T. Kundratek",null,"V",4,8,16,24,34,null,"H",4,7,17,38,40,null,"Hm","Hershey",1013541]
[42006,{"$f":"VLOOKUP(AB455,[1]AHLSOG!$O:$Q,2,FALSE)","v":"Hershey"},{"$f":"VLOOKUP(AB455,[1]AHLSOG!$O:$Q,3,FALSE)","v":"W-B/Scranton"},3,"2nd","WBS",1.6666666666666666E-2,"J. Megna","T. Kuhnhackl","A. Ebbett",null,"V",4,8,14,19,25,null,"H",5,7,11,12,21,null,"Rd","W-B/Scranton",1013541]
[42007,{"$f":"VLOOKUP(AB456,[1]AHLSOG!$O:$Q,2,FALSE)","v":"Hershey"},{"$f":"VLOOKUP(AB456,[1]AHLSOG!$O:$Q,3,FALSE)","v":"W-B/Scranton"},4,"2nd","HER",0.64652777777777781,"C. Wellman","T. Kundratek","K. Newbury","PP","V",5,6,14,25,null,null,"H",11,13,21,25,34,null,"Hm","Hershey",1013541]
[42008,{"$f":"VLOOKUP(AB457,[1]AHLSOG!$O:$Q,2,FALSE)","v":"Hershey"},{"$f":"VLOOKUP(AB457,[1]AHLSOG!$O:$Q,3,FALSE)","v":"W-B/Scranton"},5,"2nd","HER",0.7680555555555556,"D. Gazley",null,null,"PP.PS","V",null,null,null,null,null,null,"H",null,null,null,null,null,null,"Hm","Hershey",1013541]
["0 - 1",{"$f":"VLOOKUP(AB458,[1]AHLSOG!$O:$Q,2,FALSE)","v":"Iowa"},{"$f":"VLOOKUP(AB458,[1]AHLSOG!$O:$Q,3,FALSE)","v":"Charlotte"},1,"1st","IA",0.20833333333333334,"J. Schroeder","Z. Mitchell","T. Graovac",null,"V",2,10,17,26,29,null,"H",2,4,10,18,24,null,"Hm","Iowa",1013542]
["0 - 2",{"$f":"VLOOKUP(AB459,[1]AHLSOG!$O:$Q,2,FALSE)","v":"Iowa"},{"$f":"VLOOKUP(AB459,[1]AHLSOG!$O:$Q,3,FALSE)","v":"Charlotte"},2,"1st","IA",0.24583333333333335,"Z. Phillips","M. Keranen","D. Syvret",null,"V",16,18,20,22,36,null,"H",2,12,25,36,51,null,"Hm","Iowa",1013542]
["0 - 3",{"$f":"VLOOKUP(AB460,[1]AHLSOG!$O:$Q,2,FALSE)","v":"Iowa"},{"$f":"VLOOKUP(AB460,[1]AHLSOG!$O:$Q,3,FALSE)","v":"Charlotte"},3,"1st","IA",0.72916666666666663,"J. Schroeder","T. Graovac","G. Gelinas",null,"V",9,15,21,22,29,null,"H",2,4,10,18,25,null,"Hm","Iowa",1013542]
[42007,{"$f":"VLOOKUP(AB461,[1]AHLSOG!$O:$Q,2,FALSE)","v":"Iowa"},{"$f":"VLOOKUP(AB461,[1]AHLSOG!$O:$Q,3,FALSE)","v":"Charlotte"},4,"3rd","CHA",0.18541666666666667,"G. Nemisz","D. Biega","T. Carrick",null,"V",5,9,19,28,59,null,"H",19,24,25,27,39,null,"Rd","Charlotte",1013542]
[42008,{"$f":"VLOOKUP(AB462,[1]AHLSOG!$O:$Q,2,FALSE)","v":"Iowa"},{"$f":"VLOOKUP(AB462,[1]AHLSOG!$O:$Q,3,FALSE)","v":"Charlotte"},5,"3rd","IA",0.82847222222222217,"K. Gabriel","B. Sutter","J. Blum","EN.PP","V",18,19,29,36,59,null,"H",2,7,19,27,39,null,"Hm","Iowa",1013542]
[36526,{"$f":"VLOOKUP(AB463,[1]AHLSOG!$O:$Q,2,FALSE)","v":"Manchester"},{"$f":"VLOOKUP(AB463,[1]AHLSOG!$O:$Q,3,FALSE)","v":"Providence"},1,"1st","PRO",7.2916666666666671E-2,"A. Khokhlachev","D. Pastrnak","C. Breen",null,"V",2,8,13,27,32,null,"H",6,14,25,26,33,null,"Rd","Providence",1013543]
[36557,{"$f":"VLOOKUP(AB464,[1]AHLSOG!$O:$Q,2,FALSE)","v":"Manchester"},{"$f":"VLOOKUP(AB464,[1]AHLSOG!$O:$Q,3,FALSE)","v":"Providence"},2,"1st","PRO",0.81111111111111101,"C. Cunningham","D. Pastrnak","J. Knight",null,"V",2,3,14,22,32,null,"H",5,10,22,26,33,null,"Rd","Providence",1013543]
[36586,{"$f":"VLOOKUP(AB465,[1]AHLSOG!$O:$Q,2,FALSE)","v":"Manchester"},{"$f":"VLOOKUP(AB465,[1]AHLSOG!$O:$Q,3,FALSE)","v":"Providence"},3,"2nd","PRO",0.16388888888888889,"A. Khokhlachev","D. Pastrnak",null,null,"V",2,5,13,27,32,null,"H",6,16,19,22,55,null,"Rd","Providence",1013543]
[36617,{"$f":"VLOOKUP(AB466,[1]AHLSOG!$O:$Q,2,FALSE)","v":"Manchester"},{"$f":"VLOOKUP(AB466,[1]AHLSOG!$O:$Q,3,FALSE)","v":"Providence"},4,"2nd","PRO",0.40416666666666662,"C. Cunningham","R. Spooner","M. Lindblad",null,"V",6,8,9,14,24,null,"H",5,23,25,26,27,null,"Rd","Providence",1013543]
[36647,{"$f":"VLOOKUP(AB467,[1]AHLSOG!$O:$Q,2,FALSE)","v":"Manchester"},{"$f":"VLOOKUP(AB467,[1]AHLSOG!$O:$Q,3,FALSE)","v":"Providence"},5,"2nd","PRO",0.57152777777777775,"C. Cunningham","R. Spooner",null,null,"V",2,8,14,22,24,null,"H",6,27,37,39,55,null,"Rd","Providence",1013543]
[36526,{"$f":"VLOOKUP(AB468,[1]AHLSOG!$O:$Q,2,FALSE)","v":"Milwaukee"},{"$f":"VLOOKUP(AB468,[1]AHLSOG!$O:$Q,3,FALSE)","v":"Lake Erie"},1,"2nd","LE",0.61805555555555558,"P. Carey","C. Smith","D. Everberg",null,"V",3,26,28,37,45,null,"H",22,24,37,55,89,null,"Rd","Lake Erie",1013544]
[42005,{"$f":"VLOOKUP(AB469,[1]AHLSOG!$O:$Q,2,FALSE)","v":"Milwaukee"},{"$f":"VLOOKUP(AB469,[1]AHLSOG!$O:$Q,3,FALSE)","v":"Lake Erie"},2,"3rd","MIL",0.52708333333333335,"G. Noonan","F. Gaudreau",null,null,"V",16,17,27,28,37,null,"H",22,24,37,47,89,null,"Hm","Milwaukee",1013544]
["0 - 1",{"$f":"VLOOKUP(AB470,[1]AHLSOG!$O:$Q,2,FALSE)","v":"Portland"},{"$f":"VLOOKUP(AB470,[1]AHLSOG!$O:$Q,3,FALSE)","v":"Syracuse"},1,"1st","POR",0.30763888888888891,"T. Rieder","J. Martinook",null,"SH","V",11,20,37,78,89,null,"H",2,4,9,17,null,null,"Hm","Portland",1013545]
["0 - 2",{"$f":"VLOOKUP(AB471,[1]AHLSOG!$O:$Q,2,FALSE)","v":"Portland"},{"$f":"VLOOKUP(AB471,[1]AHLSOG!$O:$Q,3,FALSE)","v":"Syracuse"},2,"2nd","POR",0.28680555555555554,"T. Rieder","A. Bolduc",null,"SH","V",11,20,37,78,89,null,"H",2,9,27,49,null,null,"Hm","Portland",1013545]
[42006,{"$f":"VLOOKUP(AB472,[1]AHLSOG!$O:$Q,2,FALSE)","v":"Portland"},{"$f":"VLOOKUP(AB472,[1]AHLSOG!$O:$Q,3,FALSE)","v":"Syracuse"},3,"3rd","SYR",0.35972222222222222,"C. Kunyk","J. Samson","J. Dotchin",null,"V",4,11,20,24,37,null,"H",4,17,22,32,36,null,"Rd","Syracuse",1013545]
[36526,{"$f":"VLOOKUP(AB473,[1]AHLSOG!$O:$Q,2,FALSE)","v":"Rockford"},{"$f":"VLOOKUP(AB473,[1]AHLSOG!$O:$Q,3,FALSE)","v":"Chicago"},1,"1st","CHI",3.8194444444444441E-2,"P. McRae","S. Harper","P. Cannone",null,"V",5,9,10,12,28,null,"H",2,15,21,23,26,null,"Rd","Chicago",1013546]
[42005,{"$f":"VLOOKUP(AB474,[1]AHLSOG!$O:$Q,2,FALSE)","v":"Rockford"},{"$f":"VLOOKUP(AB474,[1]AHLSOG!$O:$Q,3,FALSE)","v":"Chicago"},2,"1st","RFD",0.14375000000000002,"D. Rasmussen",null,null,null,"V",5,15,27,28,38,null,"H",4,7,12,24,53,null,"Hm","Rockford",1013546]
[42006,{"$f":"VLOOKUP(AB475,[1]AHLSOG!$O:$Q,2,FALSE)","v":"Rockford"},{"$f":"VLOOKUP(AB475,[1]AHLSOG!$O:$Q,3,FALSE)","v":"Chicago"},3,"1st","RFD",0.40138888888888885,"P. Danault","P. Regin","M. McNeill",null,"V",4,18,20,24,55,null,"H",4,7,11,18,28,null,"Hm","Rockford",1013546]
[42037,{"$f":"VLOOKUP(AB476,[1]AHLSOG!$O:$Q,2,FALSE)","v":"Rockford"},{"$f":"VLOOKUP(AB476,[1]AHLSOG!$O:$Q,3,FALSE)","v":"Chicago"},4,"1st","CHI",0.53611111111111109,"S. Wannstrom","R. Bordson","M. Brodeur",null,"V",5,15,27,28,38,null,"H",2,15,21,24,26,null,"Rd","Chicago",1013546]
[42065,{"$f":"VLOOKUP(AB477,[1]AHLSOG!$O:$Q,2,FALSE)","v":"Rockford"},{"$f":"VLOOKUP(AB477,[1]AHLSOG!$O:$Q,3,FALSE)","v":"Chicago"},5,"2nd","CHI",0.70694444444444438,"C. Fraser","C. Beach","C. Butler",null,"V",18,20,24,25,55,null,"H",2,11,14,15,28,null,"Rd","Chicago",1013546]
[42066,{"$f":"VLOOKUP(AB478,[1]AHLSOG!$O:$Q,2,FALSE)","v":"Rockford"},{"$f":"VLOOKUP(AB478,[1]AHLSOG!$O:$Q,3,FALSE)","v":"Chicago"},6,"2nd","RFD",0.80833333333333324,"K. Dahlbeck","R. Hartman","B. Mashinter",null,"V",15,27,28,38,42,null,"H",8,10,12,24,53,null,"Hm","Rockford",1013546]
[42067,{"$f":"VLOOKUP(AB479,[1]AHLSOG!$O:$Q,2,FALSE)","v":"Rockford"},{"$f":"VLOOKUP(AB479,[1]AHLSOG!$O:$Q,3,FALSE)","v":"Chicago"},7,"3rd","RFD",0.37013888888888885,"B. Mashinter","A. Clendening","M. McNeill",null,"V",18,20,24,25,55,null,"H",2,8,14,28,53,null,"Hm","Rockford",1013546]
["0 - 1",{"$f":"VLOOKUP(AB480,[1]AHLSOG!$O:$Q,2,FALSE)","v":"Springfield"},{"$f":"VLOOKUP(AB480,[1]AHLSOG!$O:$Q,3,FALSE)","v":"Norfolk"},1,"1st","SPR",0.23402777777777781,"C. Cowick","T. Larkin",null,null,"V",3,5,9,15,39,null,"H",3,7,12,36,37,null,"Hm","Springfield",1013547]
["0 - 2",{"$f":"VLOOKUP(AB481,[1]AHLSOG!$O:$Q,2,FALSE)","v":"Springfield"},{"$f":"VLOOKUP(AB481,[1]AHLSOG!$O:$Q,3,FALSE)","v":"Norfolk"},2,"1st","SPR",0.31458333333333333,"B. Gibbons",null,null,null,"V",2,5,19,25,34,null,"H",4,8,9,12,26,null,"Hm","Springfield",1013547]
["0 - 3",{"$f":"VLOOKUP(AB482,[1]AHLSOG!$O:$Q,2,FALSE)","v":"Springfield"},{"$f":"VLOOKUP(AB482,[1]AHLSOG!$O:$Q,3,FALSE)","v":"Norfolk"},3,"1st","SPR",0.41111111111111115,"D. Monardo","B. Gibbons","A. Madaisky","PP","V",3,29,39,null,null,null,"H",5,7,9,12,40,null,"Hm","Springfield",1013547]
[42007,{"$f":"VLOOKUP(AB483,[1]AHLSOG!$O:$Q,2,FALSE)","v":"Springfield"},{"$f":"VLOOKUP(AB483,[1]AHLSOG!$O:$Q,3,FALSE)","v":"Norfolk"},4,"2nd","NOR",0.12986111111111112,"B. Yip","J. Cramarossa","A. O'Brien",null,"V",17,18,19,25,29,null,"H",5,7,8,15,18,null,"Rd","Norfolk",1013547]
[42008,{"$f":"VLOOKUP(AB484,[1]AHLSOG!$O:$Q,2,FALSE)","v":"Springfield"},{"$f":"VLOOKUP(AB484,[1]AHLSOG!$O:$Q,3,FALSE)","v":"Norfolk"},5,"2nd","SPR",0.71597222222222223,"T. Larkin","T. Tynan","A. Cherniwchan",null,"V",2,9,10,12,33,null,"H",5,18,28,36,37,null,"Hm","Springfield",1013547]
[42039,{"$f":"VLOOKUP(AB485,[1]AHLSOG!$O:$Q,2,FALSE)","v":"Springfield"},{"$f":"VLOOKUP(AB485,[1]AHLSOG!$O:$Q,3,FALSE)","v":"Norfolk"},6,"3rd","NOR",0.22569444444444445,"B. Winchester","N. Kerdiles","B. Bell","PP","V",3,8,9,15,39,null,"H",3,12,13,37,null,null,"Rd","Norfolk",1013547]
[42040,{"$f":"VLOOKUP(AB486,[1]AHLSOG!$O:$Q,2,FALSE)","v":"Springfield"},{"$f":"VLOOKUP(AB486,[1]AHLSOG!$O:$Q,3,FALSE)","v":"Norfolk"},7,"3rd","SPR",0.68611111111111101,"R. Craig","S. Collins",null,null,"V",3,9,18,28,34,null,"H",3,9,12,17,26,null,"Hm","Springfield",1013547]
[42068,{"$f":"VLOOKUP(AB487,[1]AHLSOG!$O:$Q,2,FALSE)","v":"Springfield"},{"$f":"VLOOKUP(AB487,[1]AHLSOG!$O:$Q,3,FALSE)","v":"Norfolk"},8,"3rd","NOR",0.75,"J. Cramarossa","M. Bailey",null,null,"V",6,10,12,19,29,null,"H",3,26,28,36,40,null,"Rd","Norfolk",1013547]
[42069,{"$f":"VLOOKUP(AB488,[1]AHLSOG!$O:$Q,2,FALSE)","v":"Springfield"},{"$f":"VLOOKUP(AB488,[1]AHLSOG!$O:$Q,3,FALSE)","v":"Norfolk"},9,"3rd","SPR",0.81319444444444444,"K. Rychel","T. Larkin","J. Sifers","EN","V",5,8,9,10,12,18,"H",15,17,22,26,37,null,"Hm","Springfield",1013547]
["0 - 1",{"$f":"VLOOKUP(AB489,[1]AHLSOG!$O:$Q,2,FALSE)","v":"St. John's"},{"$f":"VLOOKUP(AB489,[1]AHLSOG!$O:$Q,3,FALSE)","v":"Bridgeport"},1,"3rd","STJ",0.27986111111111112,"C. Balisy","J. Lipon","J. Albert",null,"V",8,10,12,16,23,null,"H",8,13,16,27,34,null,"Hm","St. John's",1013548]
[42005,{"$f":"VLOOKUP(AB490,[1]AHLSOG!$O:$Q,2,FALSE)","v":"St. John's"},{"$f":"VLOOKUP(AB490,[1]AHLSOG!$O:$Q,3,FALSE)","v":"Bridgeport"},2,"3rd","BRI",0.33402777777777781,"J. Graham","A. Quine","K. Mouillierat",null,"V",2,13,21,22,24,null,"H",4,7,9,48,50,null,"Rd","Bridgeport",1013548]
["0 - 1",{"$f":"VLOOKUP(AB491,[1]AHLSOG!$O:$Q,2,FALSE)","v":"Texas"},{"$f":"VLOOKUP(AB491,[1]AHLSOG!$O:$Q,3,FALSE)","v":"Oklahoma City"},1,"1st","TEX",0.34027777777777773,"T. Morin","S. Glennie","J. Honka",null,"V",8,17,27,39,40,null,"H",7,15,19,23,24,null,"Hm","Texas",1013549]
[42005,{"$f":"VLOOKUP(AB492,[1]AHLSOG!$O:$Q,2,FALSE)","v":"Texas"},{"$f":"VLOOKUP(AB492,[1]AHLSOG!$O:$Q,3,FALSE)","v":"Oklahoma City"},2,"1st","OKC",0.36527777777777781,"D. Simpson","T. Pitlick","J. Khaira",null,"V",5,7,9,10,18,null,"H",2,14,18,25,39,null,"Rd","Oklahoma City",1013549]
[42036,{"$f":"VLOOKUP(AB493,[1]AHLSOG!$O:$Q,2,FALSE)","v":"Texas"},{"$f":"VLOOKUP(AB493,[1]AHLSOG!$O:$Q,3,FALSE)","v":"Oklahoma City"},3,"1st","OKC",0.58680555555555558,"A. Miller","T. Pitlick","M. Ford","PP","V",9,11,16,17,25,null,"H",8,9,24,29,null,null,"Rd","Oklahoma City",1013549]
[42064,{"$f":"VLOOKUP(AB494,[1]AHLSOG!$O:$Q,2,FALSE)","v":"Texas"},{"$f":"VLOOKUP(AB494,[1]AHLSOG!$O:$Q,3,FALSE)","v":"Oklahoma City"},4,"1st","OKC",0.71319444444444446,"B. Yakimov",null,null,null,"V",5,8,17,27,39,null,"H",7,15,19,23,24,null,"Rd","Oklahoma City",1013549]
[42095,{"$f":"VLOOKUP(AB495,[1]AHLSOG!$O:$Q,2,FALSE)","v":"Texas"},{"$f":"VLOOKUP(AB495,[1]AHLSOG!$O:$Q,3,FALSE)","v":"Oklahoma City"},5,"2nd","OKC",9.7916666666666666E-2,"K. Kessy","O. Klefbom",null,null,"V",8,17,21,22,40,null,"H",7,24,27,28,29,null,"Rd","Oklahoma City",1013549]
[42096,{"$f":"VLOOKUP(AB496,[1]AHLSOG!$O:$Q,2,FALSE)","v":"Texas"},{"$f":"VLOOKUP(AB496,[1]AHLSOG!$O:$Q,3,FALSE)","v":"Oklahoma City"},6,"2nd","TEX",0.52500000000000002,"D. Meech","G. Rallo","S. Glennie",null,"V",15,18,21,22,24,null,"H",7,9,15,19,27,null,"Hm","Texas",1013549]
[42126,{"$f":"VLOOKUP(AB497,[1]AHLSOG!$O:$Q,2,FALSE)","v":"Texas"},{"$f":"VLOOKUP(AB497,[1]AHLSOG!$O:$Q,3,FALSE)","v":"Oklahoma City"},7,"2nd","OKC",0.53333333333333333,"A. Lander","O. Klefbom","M. Gernat",null,"V",8,12,16,25,40,null,"H",2,14,24,28,29,null,"Rd","Oklahoma City",1013549]
[42127,{"$f":"VLOOKUP(AB498,[1]AHLSOG!$O:$Q,2,FALSE)","v":"Texas"},{"$f":"VLOOKUP(AB498,[1]AHLSOG!$O:$Q,3,FALSE)","v":"Oklahoma City"},8,"3rd","TEX",4.027777777777778E-2,"T. Morin","D. Hulak","B. Ranford",null,"V",5,17,24,27,39,null,"H",4,9,19,23,39,null,"Hm","Texas",1013549]
[42128,{"$f":"VLOOKUP(AB499,[1]AHLSOG!$O:$Q,2,FALSE)","v":"Texas"},{"$f":"VLOOKUP(AB499,[1]AHLSOG!$O:$Q,3,FALSE)","v":"Oklahoma City"},9,"3rd","TEX",0.1986111111111111,"T. Morin","D. Hulak","J. Klingberg",null,"V",5,12,16,17,18,null,"H",4,7,19,23,39,null,"Hm","Texas",1013549]
[42129,{"$f":"VLOOKUP(AB500,[1]AHLSOG!$O:$Q,2,FALSE)","v":"Texas"},{"$f":"VLOOKUP(AB500,[1]AHLSOG!$O:$Q,3,FALSE)","v":"Oklahoma City"},10,"3rd","TEX",0.83194444444444438,"G. Rallo","T. Morin","J. Klingberg",null,"V",5,8,9,12,16,null,"H",4,18,19,23,27,29,"Hm","Texas",1013549]
[42160,{"$f":"VLOOKUP(AB501,[1]AHLSOG!$O:$Q,2,FALSE)","v":"Texas"},{"$f":"VLOOKUP(AB501,[1]AHLSOG!$O:$Q,3,FALSE)","v":"Oklahoma City"},11,"OT","OKC",0.1986111111111111,"M. Ford","R. Hamilton","O. Klefbom",null,"V",8,11,12,null,null,null,"H",10,18,23,null,null,null,"Rd","Oklahoma City",1013549]
["0 - 1",{"$f":"VLOOKUP(AB502,[1]AHLSOG!$O:$Q,2,FALSE)","v":"Utica"},{"$f":"VLOOKUP(AB502,[1]AHLSOG!$O:$Q,3,FALSE)","v":"Toronto"},1,"2nd","UTI",0.2722222222222222,"D. Jeffrey","D. Archibald",null,null,"V",8,16,24,26,28,null,"H",6,9,21,25,40,null,"Hm","Utica",1013550]
["0 - 2",{"$f":"VLOOKUP(AB503,[1]AHLSOG!$O:$Q,2,FALSE)","v":"Utica"},{"$f":"VLOOKUP(AB503,[1]AHLSOG!$O:$Q,3,FALSE)","v":"Toronto"},2,"2nd","UTI",0.63194444444444442,"H. Tommernes","C. O'Reilly","D. Jeffrey","PP","V",19,23,25,26,null,null,"H",7,16,17,21,28,null,"Hm","Utica",1013550]
["0 - 3",{"$f":"VLOOKUP(AB504,[1]AHLSOG!$O:$Q,2,FALSE)","v":"Utica"},{"$f":"VLOOKUP(AB504,[1]AHLSOG!$O:$Q,3,FALSE)","v":"Toronto"},3,"2nd","UTI",0.68263888888888891,"C. O'Reilly","N. Jensen","B. Sanguinetti","SH","V",4,16,17,19,50,null,"H",6,16,17,40,null,null,"Hm","Utica",1013550]
["0 - 4",{"$f":"VLOOKUP(AB505,[1]AHLSOG!$O:$Q,2,FALSE)","v":"Utica"},{"$f":"VLOOKUP(AB505,[1]AHLSOG!$O:$Q,3,FALSE)","v":"Toronto"},4,"2nd","UTI",0.74097222222222225,"A. Grenier","A. Biega","B. Gaunce",null,"V",16,19,25,50,79,null,"H",2,3,10,28,36,null,"Hm","Utica",1013550]
[36526,{"$f":"VLOOKUP(AB506,[1]AHLSOG!$O:$Q,2,FALSE)","v":"Hamilton"},{"$f":"VLOOKUP(AB506,[1]AHLSOG!$O:$Q,3,FALSE)","v":"San Antonio"},1,"1st","SA",0.71250000000000002,"C. Brickley","M. Mancari","B. Olson",null,"V",2,6,15,23,26,null,"H",7,18,19,26,27,null,"Rd","San Antonio",1013551]
[42005,{"$f":"VLOOKUP(AB507,[1]AHLSOG!$O:$Q,2,FALSE)","v":"Hamilton"},{"$f":"VLOOKUP(AB507,[1]AHLSOG!$O:$Q,3,FALSE)","v":"San Antonio"},2,"2nd","HAM",0.25833333333333336,"C. Thomas","C. Hudon","S. Andrighetto",null,"V",3,5,11,16,17,null,"H",7,10,19,26,27,null,"Hm","Hamilton",1013551]
[42036,{"$f":"VLOOKUP(AB508,[1]AHLSOG!$O:$Q,2,FALSE)","v":"Hamilton"},{"$f":"VLOOKUP(AB508,[1]AHLSOG!$O:$Q,3,FALSE)","v":"San Antonio"},3,"2nd","SA",0.39374999999999999,"R. Grimaldi","D. Shore","S. O'Brien",null,"V",8,9,32,44,null,null,"H",4,19,27,32,null,null,"Rd","San Antonio",1013551]
[42064,{"$f":"VLOOKUP(AB509,[1]AHLSOG!$O:$Q,2,FALSE)","v":"Hamilton"},{"$f":"VLOOKUP(AB509,[1]AHLSOG!$O:$Q,3,FALSE)","v":"San Antonio"},4,"2nd","SA",0.42777777777777781,"B. Butler",null,null,null,"V",8,14,16,44,null,null,"H",2,9,12,18,null,null,"Rd","San Antonio",1013551]
[42095,{"$f":"VLOOKUP(AB510,[1]AHLSOG!$O:$Q,2,FALSE)","v":"Hamilton"},{"$f":"VLOOKUP(AB510,[1]AHLSOG!$O:$Q,3,FALSE)","v":"San Antonio"},5,"2nd","SA",0.81458333333333333,"G. Wilson","A. Petrovic","G. Zanon",null,"V",3,5,14,16,19,null,"H",2,4,10,19,27,null,"Rd","San Antonio",1013551]
[42096,{"$f":"VLOOKUP(AB511,[1]AHLSOG!$O:$Q,2,FALSE)","v":"Hamilton"},{"$f":"VLOOKUP(AB511,[1]AHLSOG!$O:$Q,3,FALSE)","v":"San Antonio"},6,"3rd","HAM",0.17152777777777775,"G. Dumont","T. Hensick","D. Bowman",null,"V",2,5,14,16,19,null,"H",4,9,15,17,40,null,"Hm","Hamilton",1013551]
[42126,{"$f":"VLOOKUP(AB512,[1]AHLSOG!$O:$Q,2,FALSE)","v":"Hamilton"},{"$f":"VLOOKUP(AB512,[1]AHLSOG!$O:$Q,3,FALSE)","v":"San Antonio"},7,"3rd","SA",0.72916666666666663,"G. Wilson",null,null,"EN","V",2,8,15,19,26,null,"H",2,15,17,24,27,40,"Rd","San Antonio",1013551]
["0 - 1",{"$f":"VLOOKUP(AB513,[1]AHLSOG!$O:$Q,2,FALSE)","v":"Hartford"},{"$f":"VLOOKUP(AB513,[1]AHLSOG!$O:$Q,3,FALSE)","v":"Norfolk"},1,"1st","HFD",0.39027777777777778,"D. Kristo","C. Allen",null,null,"V",3,10,19,25,28,null,"H",4,15,25,29,74,null,"Hm","Hartford",1013552]
["0 - 2",{"$f":"VLOOKUP(AB514,[1]AHLSOG!$O:$Q,2,FALSE)","v":"Hartford"},{"$f":"VLOOKUP(AB514,[1]AHLSOG!$O:$Q,3,FALSE)","v":"Norfolk"},2,"2nd","HFD",0.14027777777777778,"R. Bourque","M. Bodie","D. McIlrath",null,"V",3,5,15,18,21,null,"H",2,8,9,10,39,null,"Hm","Hartford",1013552]
["0 - 3",{"$f":"VLOOKUP(AB515,[1]AHLSOG!$O:$Q,2,FALSE)","v":"Hartford"},{"$f":"VLOOKUP(AB515,[1]AHLSOG!$O:$Q,3,FALSE)","v":"Norfolk"},3,"3rd","HFD",0.45,"J. Vaive","D. Kristo","J. Fast","PP","V",3,4,8,15,null,null,"H",4,22,23,27,29,null,"Hm","Hartford",1013552]
["0 - 1",{"$f":"VLOOKUP(AB516,[1]AHLSOG!$O:$Q,2,FALSE)","v":"Hershey"},{"$f":"VLOOKUP(AB516,[1]AHLSOG!$O:$Q,3,FALSE)","v":"Lehigh Valley"},1,"2nd","HER",0.17222222222222225,"P. Cornet","T. Kennedy","C. Schilling",null,"V",3,7,19,25,36,null,"H",5,7,13,14,18,null,"Hm","Hershey",1013553]
["0 - 2",{"$f":"VLOOKUP(AB517,[1]AHLSOG!$O:$Q,2,FALSE)","v":"Hershey"},{"$f":"VLOOKUP(AB517,[1]AHLSOG!$O:$Q,3,FALSE)","v":"Lehigh Valley"},2,"2nd","HER",0.48194444444444445,"C. Stephenson","D. Byers","M. Moore","SH","V",4,8,11,12,45,null,"H",4,6,17,38,null,null,"Hm","Hershey",1013553]
["0 - 3",{"$f":"VLOOKUP(AB518,[1]AHLSOG!$O:$Q,2,FALSE)","v":"Hershey"},{"$f":"VLOOKUP(AB518,[1]AHLSOG!$O:$Q,3,FALSE)","v":"Lehigh Valley"},3,"3rd","HER",0.81874999999999998,"D. Gazley","K. Newbury","M. Moore","EN","V",4,10,21,23,28,45,"H",4,6,10,11,19,null,"Hm","Hershey",1013553]
["0 - 1",{"$f":"VLOOKUP(AB519,[1]AHLSOG!$O:$Q,2,FALSE)","v":"Rockford"},{"$f":"VLOOKUP(AB519,[1]AHLSOG!$O:$Q,3,FALSE)","v":"Lake Erie"},1,"1st","RFD",0.61805555555555558,"A. Clendening","K. Cumiskey",null,null,"V",16,43,45,46,71,null,"H",2,12,15,24,53,null,"Hm","Rockford",1013554]
["0 - 2",{"$f":"VLOOKUP(AB520,[1]AHLSOG!$O:$Q,2,FALSE)","v":"Rockford"},{"$f":"VLOOKUP(AB520,[1]AHLSOG!$O:$Q,3,FALSE)","v":"Lake Erie"},2,"2nd","RFD",0.3972222222222222,"D. Rasmussen","R. Hartman",null,null,"V",16,24,43,45,47,null,"H",10,12,18,24,29,null,"Hm","Rockford",1013554]
[42006,{"$f":"VLOOKUP(AB521,[1]AHLSOG!$O:$Q,2,FALSE)","v":"Rockford"},{"$f":"VLOOKUP(AB521,[1]AHLSOG!$O:$Q,3,FALSE)","v":"Lake Erie"},3,"2nd","LE",0.6118055555555556,"M. Noreau","T. Cheek","K. Stollery",null,"V",3,26,39,42,44,null,"H",10,14,25,27,29,null,"Rd","Lake Erie",1013554]
[42037,{"$f":"VLOOKUP(AB522,[1]AHLSOG!$O:$Q,2,FALSE)","v":"Rockford"},{"$f":"VLOOKUP(AB522,[1]AHLSOG!$O:$Q,3,FALSE)","v":"Lake Erie"},4,"2nd","LE",0.70000000000000007,"A. Agozzino",null,null,"SH","V",11,18,24,46,null,null,"H",11,15,26,28,null,null,"Rd","Lake Erie",1013554]
[42038,{"$f":"VLOOKUP(AB523,[1]AHLSOG!$O:$Q,2,FALSE)","v":"Rockford"},{"$f":"VLOOKUP(AB523,[1]AHLSOG!$O:$Q,3,FALSE)","v":"Lake Erie"},5,"3rd","RFD",0.11875000000000001,"M. Carey","K. Cumiskey",null,null,"V",11,26,39,42,45,null,"H",2,14,15,25,27,null,"Hm","Rockford",1013554]
[42039,{"$f":"VLOOKUP(AB524,[1]AHLSOG!$O:$Q,2,FALSE)","v":"Rockford"},{"$f":"VLOOKUP(AB524,[1]AHLSOG!$O:$Q,3,FALSE)","v":"Lake Erie"},6,"3rd","RFD",0.54166666666666663,"R. Hartman","G. Ross","K. Cumiskey",null,"V",17,26,28,38,46,null,"H",2,12,15,24,26,null,"Hm","Rockford",1013554]
[42040,{"$f":"VLOOKUP(AB525,[1]AHLSOG!$O:$Q,2,FALSE)","v":"Rockford"},{"$f":"VLOOKUP(AB525,[1]AHLSOG!$O:$Q,3,FALSE)","v":"Lake Erie"},7,"3rd","RFD",0.79513888888888884,"M. McNeill","M. Carey","P. Danault","EN","V",3,17,18,26,28,37,"H",4,7,18,27,28,null,"Hm","Rockford",1013554]
["0 - 1",{"$f":"VLOOKUP(AB526,[1]AHLSOG!$O:$Q,2,FALSE)","v":"Springfield"},{"$f":"VLOOKUP(AB526,[1]AHLSOG!$O:$Q,3,FALSE)","v":"Syracuse"},1,"1st","SPR",1.3194444444444444E-2,"A. Madaisky","B. Gibbons",null,null,"V",4,10,57,63,89,null,"H",5,9,12,13,37,null,"Hm","Springfield",1013555]
["0 - 2",{"$f":"VLOOKUP(AB527,[1]AHLSOG!$O:$Q,2,FALSE)","v":"Springfield"},{"$f":"VLOOKUP(AB527,[1]AHLSOG!$O:$Q,3,FALSE)","v":"Syracuse"},2,"1st","SPR",0.16666666666666666,"S. Collins","B. Gibbons","R. Craig","PP","V",10,13,24,57,null,null,"H",5,9,12,17,18,null,"Hm","Springfield",1013555]
["0 - 3",{"$f":"VLOOKUP(AB528,[1]AHLSOG!$O:$Q,2,FALSE)","v":"Springfield"},{"$f":"VLOOKUP(AB528,[1]AHLSOG!$O:$Q,3,FALSE)","v":"Syracuse"},3,"1st","SPR",0.35555555555555557,"K. Rychel","L. Sedlak","S. Collins",null,"V",13,18,21,24,92,null,"H",3,15,17,22,26,null,"Hm","Springfield",1013555]
["0 - 4",{"$f":"VLOOKUP(AB529,[1]AHLSOG!$O:$Q,2,FALSE)","v":"Springfield"},{"$f":"VLOOKUP(AB529,[1]AHLSOG!$O:$Q,3,FALSE)","v":"Syracuse"},4,"2nd","SPR",0.56388888888888888,"T. Tynan","H. Labrie","J. Anderson",null,"V",4,20,63,82,92,null,"H",3,8,18,25,29,null,"Hm","Springfield",1013555]
[42008,{"$f":"VLOOKUP(AB530,[1]AHLSOG!$O:$Q,2,FALSE)","v":"Springfield"},{"$f":"VLOOKUP(AB530,[1]AHLSOG!$O:$Q,3,FALSE)","v":"Syracuse"},5,"3rd","SYR",0.10555555555555556,"J. Vermin","M. Blunden","J. Marchessault",null,"V",18,21,65,82,92,null,"H",3,15,17,22,26,null,"Rd","Syracuse",1013555]
[42009,{"$f":"VLOOKUP(AB531,[1]AHLSOG!$O:$Q,2,FALSE)","v":"Springfield"},{"$f":"VLOOKUP(AB531,[1]AHLSOG!$O:$Q,3,FALSE)","v":"Syracuse"},6,"3rd","SPR",0.30486111111111108,"D. Monardo",null,null,null,"V",11,37,65,71,82,null,"H",24,26,28,36,40,null,"Hm","Springfield",1013555]
[36526,{"$f":"VLOOKUP(AB532,[1]AHLSOG!$O:$Q,2,FALSE)","v":"St. John's"},{"$f":"VLOOKUP(AB532,[1]AHLSOG!$O:$Q,3,FALSE)","v":"Bridgeport"},1,"1st","BRI",0.4826388888888889,"J. Sundstrom","M. Halmo","R. Pulock",null,"V",6,24,26,28,null,null,"H",7,9,27,50,null,null,"Rd","Bridgeport",1013556]
[42005,{"$f":"VLOOKUP(AB533,[1]AHLSOG!$O:$Q,2,FALSE)","v":"St. John's"},{"$f":"VLOOKUP(AB533,[1]AHLSOG!$O:$Q,3,FALSE)","v":"Bridgeport"},2,"1st","STJ",0.61319444444444449,"R. Olsen","B. Chiarot","C. Klingberg",null,"V",8,10,13,21,22,null,"H",4,9,18,48,50,null,"Hm","St. John's",1013556]
[42036,{"$f":"VLOOKUP(AB534,[1]AHLSOG!$O:$Q,2,FALSE)","v":"St. John's"},{"$f":"VLOOKUP(AB534,[1]AHLSOG!$O:$Q,3,FALSE)","v":"Bridgeport"},3,"1st","BRI",0.68541666666666667,"G. Reinhart","C. Stretch","H. Zolnierczyk",null,"V",8,10,12,16,23,null,"H",9,18,29,41,48,null,"Rd","Bridgeport",1013556]
[42064,{"$f":"VLOOKUP(AB535,[1]AHLSOG!$O:$Q,2,FALSE)","v":"St. John's"},{"$f":"VLOOKUP(AB535,[1]AHLSOG!$O:$Q,3,FALSE)","v":"Bridgeport"},4,"2nd","BRI",1.9444444444444445E-2,"R. Pulock","A. Quine","A. Ness","PP","V",6,13,21,22,27,null,"H",4,16,18,48,null,null,"Rd","Bridgeport",1013556]
[42095,{"$f":"VLOOKUP(AB536,[1]AHLSOG!$O:$Q,2,FALSE)","v":"St. John's"},{"$f":"VLOOKUP(AB536,[1]AHLSOG!$O:$Q,3,FALSE)","v":"Bridgeport"},5,"2nd","BRI",0.33194444444444443,"C. Langkow","G. Reinhart",null,null,"V",7,8,10,11,14,null,"H",8,13,16,34,44,null,"Rd","Bridgeport",1013556]
[42096,{"$f":"VLOOKUP(AB537,[1]AHLSOG!$O:$Q,2,FALSE)","v":"St. John's"},{"$f":"VLOOKUP(AB537,[1]AHLSOG!$O:$Q,3,FALSE)","v":"Bridgeport"},6,"2nd","STJ",0.56458333333333333,"C. Balisy","B. Kichton","C. Klingberg","PP","V",8,10,14,16,null,null,"H",7,8,13,16,48,null,"Hm","St. John's",1013556]
[42097,{"$f":"VLOOKUP(AB538,[1]AHLSOG!$O:$Q,2,FALSE)","v":"St. John's"},{"$f":"VLOOKUP(AB538,[1]AHLSOG!$O:$Q,3,FALSE)","v":"Bridgeport"},7,"3rd","STJ",0.14583333333333334,"B. Riley","B. Chiarot","B. Walker",null,"V",2,13,21,22,24,null,"H",4,18,21,25,48,null,"Hm","St. John's",1013556]
[42127,{"$f":"VLOOKUP(AB539,[1]AHLSOG!$O:$Q,2,FALSE)","v":"St. John's"},{"$f":"VLOOKUP(AB539,[1]AHLSOG!$O:$Q,3,FALSE)","v":"Bridgeport"},8,"3rd","BRI",0.75416666666666676,"M. Halmo",null,null,"EN","V",6,8,17,26,28,null,"H",4,9,18,21,25,48,"Rd","Bridgeport",1013556]
["0 - 1",{"$f":"VLOOKUP(AB540,[1]AHLSOG!$O:$Q,2,FALSE)","v":"W-B/Scranton"},{"$f":"VLOOKUP(AB540,[1]AHLSOG!$O:$Q,3,FALSE)","v":"Binghamton"},1,"1st","WBS",0.1673611111111111,"T. Kostopoulos","B. Rust","D. Pouliot",null,"V",4,6,10,18,44,null,"H",4,8,9,12,29,null,"Hm","W-B/Scranton",1013557]
["0 - 2",{"$f":"VLOOKUP(AB541,[1]AHLSOG!$O:$Q,2,FALSE)","v":"W-B/Scranton"},{"$f":"VLOOKUP(AB541,[1]AHLSOG!$O:$Q,3,FALSE)","v":"Binghamton"},2,"1st","WBS",0.30763888888888891,"D. Pouliot","J. Dea","A. Ebbett","PP","V",3,20,22,57,null,null,"H",9,12,23,25,51,null,"Hm","W-B/Scranton",1013557]
[42006,{"$f":"VLOOKUP(AB542,[1]AHLSOG!$O:$Q,2,FALSE)","v":"W-B/Scranton"},{"$f":"VLOOKUP(AB542,[1]AHLSOG!$O:$Q,3,FALSE)","v":"Binghamton"},3,"1st","BNG",0.64236111111111105,"C. Wideman","A. Johnson","D. Dziurzynski",null,"V",6,16,22,57,72,null,"H",4,8,9,12,29,null,"Rd","Binghamton",1013557]
[42037,{"$f":"VLOOKUP(AB543,[1]AHLSOG!$O:$Q,2,FALSE)","v":"W-B/Scranton"},{"$f":"VLOOKUP(AB543,[1]AHLSOG!$O:$Q,3,FALSE)","v":"Binghamton"},4,"2nd","BNG",0.57361111111111118,"C. Schneider","M. Puempel","C. Wideman","PP","V",6,9,11,15,72,null,"H",3,5,19,26,null,null,"Rd","Binghamton",1013557]
[42038,{"$f":"VLOOKUP(AB544,[1]AHLSOG!$O:$Q,2,FALSE)","v":"W-B/Scranton"},{"$f":"VLOOKUP(AB544,[1]AHLSOG!$O:$Q,3,FALSE)","v":"Binghamton"},5,"3rd","WBS",0.15972222222222224,"A. Ebbett","S. Wilson","T. Chorney",null,"V",4,6,27,37,43,null,"H",4,8,19,23,25,null,"Hm","W-B/Scranton",1013557]
[36526,{"$f":"VLOOKUP(AB545,[1]AHLSOG!$O:$Q,2,FALSE)","v":"Worcester"},{"$f":"VLOOKUP(AB545,[1]AHLSOG!$O:$Q,3,FALSE)","v":"Portland"},1,"1st","POR",0.17777777777777778,"E. Oberg","B. Shinnimin",null,null,"V",9,24,27,28,38,null,"H",2,14,15,18,22,null,"Rd","Portland",1013558]
[42005,{"$f":"VLOOKUP(AB546,[1]AHLSOG!$O:$Q,2,FALSE)","v":"Worcester"},{"$f":"VLOOKUP(AB546,[1]AHLSOG!$O:$Q,3,FALSE)","v":"Portland"},2,"3rd","WOR",0.11180555555555556,"F. Hamilton","D. Tarasov","E. Trupp",null,"V",4,22,26,32,43,null,"H",2,3,12,13,19,null,"Hm","Worcester",1013558]
[42006,{"$f":"VLOOKUP(AB547,[1]AHLSOG!$O:$Q,2,FALSE)","v":"Worcester"},{"$f":"VLOOKUP(AB547,[1]AHLSOG!$O:$Q,3,FALSE)","v":"Portland"},3,"3rd","WOR",0.28333333333333333,"F. Hamilton","D. Tarasov","E. Trupp","PP","V",4,17,24,27,null,null,"H",5,12,13,19,20,null,"Hm","Worcester",1013558]
[42007,{"$f":"VLOOKUP(AB548,[1]AHLSOG!$O:$Q,2,FALSE)","v":"Worcester"},{"$f":"VLOOKUP(AB548,[1]AHLSOG!$O:$Q,3,FALSE)","v":"Portland"},4,"3rd","WOR",0.32847222222222222,"F. Hamilton","K. Abeltshauser","D. Tarasov",null,"V",2,17,19,27,49,null,"H",4,7,10,12,19,null,"Hm","Worcester",1013558]
[42008,{"$f":"VLOOKUP(AB549,[1]AHLSOG!$O:$Q,2,FALSE)","v":"Worcester"},{"$f":"VLOOKUP(AB549,[1]AHLSOG!$O:$Q,3,FALSE)","v":"Portland"},5,"3rd","WOR",0.7729166666666667,"E. Trupp","R. Schwartz","B. Lerg","EN","V",19,24,27,32,36,38,"H",5,11,13,20,27,null,"Hm","Worcester",1013558]
[36526,{"$f":"VLOOKUP(AB550,[1]AHLSOG!$O:$Q,2,FALSE)","v":"Adirondack"},{"$f":"VLOOKUP(AB550,[1]AHLSOG!$O:$Q,3,FALSE)","v":"San Antonio"},1,"1st","SA",9.0972222222222218E-2,"S. Kampfer","B. Olson","M. Mancari",null,"V",7,8,15,23,26,null,"H",3,7,13,25,28,null,"Rd","San Antonio",1013559]
[42005,{"$f":"VLOOKUP(AB551,[1]AHLSOG!$O:$Q,2,FALSE)","v":"Adirondack"},{"$f":"VLOOKUP(AB551,[1]AHLSOG!$O:$Q,3,FALSE)","v":"San Antonio"},2,"1st","ADK",0.17708333333333334,"B. Hanowski","M. Ferland","R. Culkin","PP","V",6,7,17,19,null,null,"H",3,11,19,28,48,null,"Hm","Adirondack",1013559]
[42006,{"$f":"VLOOKUP(AB552,[1]AHLSOG!$O:$Q,2,FALSE)","v":"Adirondack"},{"$f":"VLOOKUP(AB552,[1]AHLSOG!$O:$Q,3,FALSE)","v":"San Antonio"},3,"1st","ADK",0.2951388888888889,"M. Ferland","K. Agostino","B. Arnold",null,"V",3,5,9,22,32,null,"H",6,15,19,38,46,null,"Hm","Adirondack",1013559]
[42007,{"$f":"VLOOKUP(AB553,[1]AHLSOG!$O:$Q,2,FALSE)","v":"Adirondack"},{"$f":"VLOOKUP(AB553,[1]AHLSOG!$O:$Q,3,FALSE)","v":"San Antonio"},4,"1st","ADK",0.51736111111111105,"G. Hathaway","M. Reinhart","J. Ramage","PP","V",3,8,19,22,null,null,"H",3,7,9,25,28,null,"Hm","Adirondack",1013559]
[42038,{"$f":"VLOOKUP(AB554,[1]AHLSOG!$O:$Q,2,FALSE)","v":"Adirondack"},{"$f":"VLOOKUP(AB554,[1]AHLSOG!$O:$Q,3,FALSE)","v":"San Antonio"},5,"2nd","SA",0.14791666666666667,"G. Wilson","B. Butler","L. Shaw",null,"V",3,14,16,19,44,null,"H",6,15,19,38,46,null,"Rd","San Antonio",1013559]
[42066,{"$f":"VLOOKUP(AB555,[1]AHLSOG!$O:$Q,2,FALSE)","v":"Adirondack"},{"$f":"VLOOKUP(AB555,[1]AHLSOG!$O:$Q,3,FALSE)","v":"San Antonio"},6,"2nd","SA",0.29097222222222224,"R. Grimaldi","B. Parlett","D. Shore","PP","V",3,7,9,26,32,null,"H",6,11,13,38,null,null,"Rd","San Antonio",1013559]
[42067,{"$f":"VLOOKUP(AB556,[1]AHLSOG!$O:$Q,2,FALSE)","v":"Adirondack"},{"$f":"VLOOKUP(AB556,[1]AHLSOG!$O:$Q,3,FALSE)","v":"San Antonio"},7,"2nd","ADK",0.32708333333333334,"B. Hanowski","D. Wolf","T. Wotherspoon",null,"V",6,7,14,16,19,null,"H",5,25,28,44,45,null,"Hm","Adirondack",1013559]
[42098,{"$f":"VLOOKUP(AB557,[1]AHLSOG!$O:$Q,2,FALSE)","v":"Adirondack"},{"$f":"VLOOKUP(AB557,[1]AHLSOG!$O:$Q,3,FALSE)","v":"San Antonio"},8,"2nd","SA",0.40208333333333335,"S. O'Brien","V. Trocheck","B. Butler","PP","V",8,14,16,19,44,null,"H",5,9,25,44,null,null,"Rd","San Antonio",1013559]
[42128,{"$f":"VLOOKUP(AB558,[1]AHLSOG!$O:$Q,2,FALSE)","v":"Adirondack"},{"$f":"VLOOKUP(AB558,[1]AHLSOG!$O:$Q,3,FALSE)","v":"San Antonio"},9,"2nd","SA",0.45833333333333331,"L. Shaw","D. Shore",null,null,"V",8,9,22,32,44,null,"H",6,25,28,38,45,null,"Rd","San Antonio",1013559]
[42129,{"$f":"VLOOKUP(AB559,[1]AHLSOG!$O:$Q,2,FALSE)","v":"Adirondack"},{"$f":"VLOOKUP(AB559,[1]AHLSOG!$O:$Q,3,FALSE)","v":"San Antonio"},10,"2nd","ADK",0.62916666666666665,"C. Knight","B. Hanowski","B. Van Brabant","PP","V",3,5,17,19,null,null,"H",3,11,19,28,48,null,"Hm","Adirondack",1013559]
[42130,{"$f":"VLOOKUP(AB560,[1]AHLSOG!$O:$Q,2,FALSE)","v":"Adirondack"},{"$f":"VLOOKUP(AB560,[1]AHLSOG!$O:$Q,3,FALSE)","v":"San Antonio"},11,"3rd","ADK",7.3611111111111113E-2,"M. Reinhart","B. Hanowski",null,null,"V",8,15,17,26,44,null,"H",3,7,25,28,45,null,"Hm","Adirondack",1013559]
[42161,{"$f":"VLOOKUP(AB561,[1]AHLSOG!$O:$Q,2,FALSE)","v":"Adirondack"},{"$f":"VLOOKUP(AB561,[1]AHLSOG!$O:$Q,3,FALSE)","v":"San Antonio"},12,"3rd","SA",0.17569444444444446,"B. Butler","S. O'Brien","B. Olson",null,"V",8,15,16,23,44,null,"H",3,7,11,27,28,null,"Rd","San Antonio",1013559]
[42162,{"$f":"VLOOKUP(AB562,[1]AHLSOG!$O:$Q,2,FALSE)","v":"Adirondack"},{"$f":"VLOOKUP(AB562,[1]AHLSOG!$O:$Q,3,FALSE)","v":"San Antonio"},13,"3rd","ADK",0.2951388888888889,"C. Knight","G. Hathaway","S. Baertschi",null,"V",6,7,14,16,19,null,"H",5,9,11,27,44,null,"Hm","Adirondack",1013559]
[36526,{"$f":"VLOOKUP(AB563,[1]AHLSOG!$O:$Q,2,FALSE)","v":"Binghamton"},{"$f":"VLOOKUP(AB563,[1]AHLSOG!$O:$Q,3,FALSE)","v":"Utica"},1,"1st","UTI",0.42499999999999999,"C. Bancks","W. Hamilton","A. Biega",null,"V",2,3,10,34,36,null,"H",4,6,9,11,15,null,"Rd","Utica",1013560]
[42005,{"$f":"VLOOKUP(AB564,[1]AHLSOG!$O:$Q,2,FALSE)","v":"Binghamton"},{"$f":"VLOOKUP(AB564,[1]AHLSOG!$O:$Q,3,FALSE)","v":"Utica"},2,"1st","BNG",0.47430555555555554,"J. Pageau","B. Robinson",null,null,"V",6,16,17,28,40,null,"H",3,10,18,20,44,null,"Hm","Binghamton",1013560]
[42036,{"$f":"VLOOKUP(AB565,[1]AHLSOG!$O:$Q,2,FALSE)","v":"Binghamton"},{"$f":"VLOOKUP(AB565,[1]AHLSOG!$O:$Q,3,FALSE)","v":"Utica"},3,"2nd","UTI",0.14027777777777778,"P. Andersson","B. Gaunce",null,null,"V",6,10,34,36,40,null,"H",3,9,11,15,20,null,"Rd","Utica",1013560]
[42064,{"$f":"VLOOKUP(AB566,[1]AHLSOG!$O:$Q,2,FALSE)","v":"Binghamton"},{"$f":"VLOOKUP(AB566,[1]AHLSOG!$O:$Q,3,FALSE)","v":"Utica"},4,"2nd","UTI",0.32083333333333336,"B. Sanguinetti","C. O'Reilly","H. Shinkaruk",null,"V",6,9,16,28,40,null,"H",3,16,18,20,44,null,"Rd","Utica",1013560]
[42065,{"$f":"VLOOKUP(AB567,[1]AHLSOG!$O:$Q,2,FALSE)","v":"Binghamton"},{"$f":"VLOOKUP(AB567,[1]AHLSOG!$O:$Q,3,FALSE)","v":"Utica"},5,"2nd","BNG",0.34791666666666665,"C. Wideman","D. Grant","G. Thompson",null,"V",4,7,18,19,24,null,"H",4,6,16,22,57,null,"Hm","Binghamton",1013560]
["0 - 1",{"$f":"VLOOKUP(AB568,[1]AHLSOG!$O:$Q,2,FALSE)","v":"Grand Rapids"},{"$f":"VLOOKUP(AB568,[1]AHLSOG!$O:$Q,3,FALSE)","v":"Rockford"},1,"1st","GR",6.9444444444444441E-3,"M. Callahan","T. Pulkkinen","X. Ouellet",null,"V",2,15,21,23,26,null,"H",3,6,15,16,90,null,"Hm","Grand Rapids",1013561]
[42005,{"$f":"VLOOKUP(AB569,[1]AHLSOG!$O:$Q,2,FALSE)","v":"Grand Rapids"},{"$f":"VLOOKUP(AB569,[1]AHLSOG!$O:$Q,3,FALSE)","v":"Rockford"},2,"1st","RFD",0.24027777777777778,"M. Carey","T. Teravainen","P. Regin",null,"V",2,7,11,21,27,null,"H",3,10,23,26,44,null,"Rd","Rockford",1013561]
[42036,{"$f":"VLOOKUP(AB570,[1]AHLSOG!$O:$Q,2,FALSE)","v":"Grand Rapids"},{"$f":"VLOOKUP(AB570,[1]AHLSOG!$O:$Q,3,FALSE)","v":"Rockford"},3,"3rd","RFD",0.78055555555555556,"J. Nordstrom","T. Teravainen",null,null,"V",4,7,21,23,26,null,"H",3,12,15,16,29,null,"Rd","Rockford",1013561]
[36526,{"$f":"VLOOKUP(AB571,[1]AHLSOG!$O:$Q,2,FALSE)","v":"Lehigh Valley"},{"$f":"VLOOKUP(AB571,[1]AHLSOG!$O:$Q,3,FALSE)","v":"W-B/Scranton"},1,"1st","WBS",0.47013888888888888,"A. Ebbett","D. Pouliot","J. Dea","PP","V",8,9,23,25,51,null,"H",4,7,36,null,null,null,"Rd","W-B/Scranton",1013562]
[42005,{"$f":"VLOOKUP(AB572,[1]AHLSOG!$O:$Q,2,FALSE)","v":"Lehigh Valley"},{"$f":"VLOOKUP(AB572,[1]AHLSOG!$O:$Q,3,FALSE)","v":"W-B/Scranton"},2,"2nd","LV",0.66597222222222219,"Z. Stortini","N. Cousins","P. Straka",null,"V",3,26,28,34,51,null,"H",3,7,24,25,45,null,"Rd","Lehigh",1013562]
[42036,{"$f":"VLOOKUP(AB573,[1]AHLSOG!$O:$Q,2,FALSE)","v":"Lehigh Valley"},{"$f":"VLOOKUP(AB573,[1]AHLSOG!$O:$Q,3,FALSE)","v":"W-B/Scranton"},3,"OT","WBS",0.20694444444444446,"J. Dea","A. Ebbett","B. Dumoulin","PP","V",4,8,9,25,null,null,"H",7,21,36,null,null,null,"Rd","W-B/Scranton",1013562]
[36526,{"$f":"VLOOKUP(AB574,[1]AHLSOG!$O:$Q,2,FALSE)","v":"Milwaukee"},{"$f":"VLOOKUP(AB574,[1]AHLSOG!$O:$Q,3,FALSE)","v":"Iowa"},1,"1st","IA",0.11944444444444445,"M. Keranen","J. Parenteau","B. Bulmer",null,"V",11,17,25,36,51,null,"H",21,23,28,29,47,null,"Rd","Iowa",1013563]
[42005,{"$f":"VLOOKUP(AB575,[1]AHLSOG!$O:$Q,2,FALSE)","v":"Milwaukee"},{"$f":"VLOOKUP(AB575,[1]AHLSOG!$O:$Q,3,FALSE)","v":"Iowa"},2,"1st","MIL",0.33888888888888885,"M. Salomaki","G. Noonan","F. Gaudreau",null,"V",4,10,18,24,25,null,"H",2,20,33,37,89,null,"Hm","Milwaukee",1013563]
[42036,{"$f":"VLOOKUP(AB576,[1]AHLSOG!$O:$Q,2,FALSE)","v":"Milwaukee"},{"$f":"VLOOKUP(AB576,[1]AHLSOG!$O:$Q,3,FALSE)","v":"Iowa"},3,"2nd","IA",0.56041666666666667,"M. Hagel","J. Blum","J. Schroeder","PP","V",2,7,10,21,29,null,"H",25,47,51,55,null,null,"Rd","Iowa",1013563]
[42064,{"$f":"VLOOKUP(AB577,[1]AHLSOG!$O:$Q,2,FALSE)","v":"Milwaukee"},{"$f":"VLOOKUP(AB577,[1]AHLSOG!$O:$Q,3,FALSE)","v":"Iowa"},4,"2nd","IA",0.6694444444444444,"Z. Mitchell","T. Graovac","J. Schroeder","PP","V",4,10,18,25,39,null,"H",18,20,47,55,null,null,"Rd","Iowa",1013563]
[42065,{"$f":"VLOOKUP(AB578,[1]AHLSOG!$O:$Q,2,FALSE)","v":"Milwaukee"},{"$f":"VLOOKUP(AB578,[1]AHLSOG!$O:$Q,3,FALSE)","v":"Iowa"},5,"3rd","MIL",0.3756944444444445,"A. Watson","A. Bitetto","T. Aronson",null,"V",10,17,24,25,51,null,"H",2,23,28,51,89,null,"Hm","Milwaukee",1013563]
[42096,{"$f":"VLOOKUP(AB579,[1]AHLSOG!$O:$Q,2,FALSE)","v":"Milwaukee"},{"$f":"VLOOKUP(AB579,[1]AHLSOG!$O:$Q,3,FALSE)","v":"Iowa"},6,"3rd","IA",0.81805555555555554,"D. Syvret","S. Veilleux",null,"EN","V",4,7,18,19,25,null,"H",2,18,25,28,29,51,"Rd","Iowa",1013563]
[36526,{"$f":"VLOOKUP(AB580,[1]AHLSOG!$O:$Q,2,FALSE)","v":"Rochester"},{"$f":"VLOOKUP(AB580,[1]AHLSOG!$O:$Q,3,FALSE)","v":"Hamilton"},1,"2nd","HAM",0.24444444444444446,"T. Hensick","G. Dumont",null,null,"V",7,9,11,17,40,null,"H",2,16,19,22,29,null,"Rd","Hamilton",1013564]
[36557,{"$f":"VLOOKUP(AB581,[1]AHLSOG!$O:$Q,2,FALSE)","v":"Rochester"},{"$f":"VLOOKUP(AB581,[1]AHLSOG!$O:$Q,3,FALSE)","v":"Hamilton"},2,"2nd","HAM",0.31597222222222221,"S. Andrighetto","C. Thomas",null,null,"V",4,7,10,19,27,null,"H",2,11,21,26,34,null,"Rd","Hamilton",1013564]
[42036,{"$f":"VLOOKUP(AB582,[1]AHLSOG!$O:$Q,2,FALSE)","v":"Rochester"},{"$f":"VLOOKUP(AB582,[1]AHLSOG!$O:$Q,3,FALSE)","v":"Hamilton"},3,"2nd","RCH",0.35694444444444445,"M. Grigorenko","J. Armia",null,null,"V",16,18,23,24,26,null,"H",5,25,28,29,33,null,"Hm","Rochester",1013564]
[42037,{"$f":"VLOOKUP(AB583,[1]AHLSOG!$O:$Q,2,FALSE)","v":"Rochester"},{"$f":"VLOOKUP(AB583,[1]AHLSOG!$O:$Q,3,FALSE)","v":"Hamilton"},4,"2nd","RCH",0.47847222222222219,"J. Armia","M. Grigorenko",null,null,"V",4,7,11,17,40,null,"H",2,25,28,33,34,null,"Hm","Rochester",1013564]
[42038,{"$f":"VLOOKUP(AB584,[1]AHLSOG!$O:$Q,2,FALSE)","v":"Rochester"},{"$f":"VLOOKUP(AB584,[1]AHLSOG!$O:$Q,3,FALSE)","v":"Hamilton"},5,"2nd","RCH",0.50416666666666665,"L. Adam","A. Aliu","C. Ruhwedel",null,"V",4,7,15,20,21,null,"H",4,5,16,19,22,null,"Hm","Rochester",1013564]
[36526,{"$f":"VLOOKUP(AB585,[1]AHLSOG!$O:$Q,2,FALSE)","v":"Texas"},{"$f":"VLOOKUP(AB585,[1]AHLSOG!$O:$Q,3,FALSE)","v":"Oklahoma City"},1,"1st","OKC",0.12708333333333333,"J. Oesterle","I. Pakarinen","A. Lander",null,"V",15,16,18,25,27,null,"H",2,15,16,18,23,null,"Rd","Oklahoma City",1013565]
[36557,{"$f":"VLOOKUP(AB586,[1]AHLSOG!$O:$Q,2,FALSE)","v":"Texas"},{"$f":"VLOOKUP(AB586,[1]AHLSOG!$O:$Q,3,FALSE)","v":"Oklahoma City"},2,"1st","OKC",0.4458333333333333,"I. Pakarinen","A. Miller","A. Lander","PP","V",11,16,17,19,25,null,"H",8,18,24,29,null,null,"Rd","Oklahoma City",1013565]
[42036,{"$f":"VLOOKUP(AB587,[1]AHLSOG!$O:$Q,2,FALSE)","v":"Texas"},{"$f":"VLOOKUP(AB587,[1]AHLSOG!$O:$Q,3,FALSE)","v":"Oklahoma City"},3,"1st","TEX",0.53819444444444442,"B. Ritchie","C. Gaunce","J. Honka",null,"V",5,12,19,40,null,null,"H",7,10,20,24,null,null,"Hm","Texas",1013565]
[42037,{"$f":"VLOOKUP(AB588,[1]AHLSOG!$O:$Q,2,FALSE)","v":"Texas"},{"$f":"VLOOKUP(AB588,[1]AHLSOG!$O:$Q,3,FALSE)","v":"Oklahoma City"},4,"2nd","TEX",0.11805555555555557,"M. Fortunus","J. Klingberg","T. Morin","PP","V",5,6,7,11,null,null,"H",4,16,18,20,23,null,"Hm","Texas",1013565]
[42065,{"$f":"VLOOKUP(AB589,[1]AHLSOG!$O:$Q,2,FALSE)","v":"Texas"},{"$f":"VLOOKUP(AB589,[1]AHLSOG!$O:$Q,3,FALSE)","v":"Oklahoma City"},5,"2nd","OKC",0.26111111111111113,"R. Hamilton","J. Williams","F. Tuohimaa","PP","V",8,12,13,19,39,null,"H",4,8,24,29,null,null,"Rd","Oklahoma City",1013565]
[42066,{"$f":"VLOOKUP(AB590,[1]AHLSOG!$O:$Q,2,FALSE)","v":"Texas"},{"$f":"VLOOKUP(AB590,[1]AHLSOG!$O:$Q,3,FALSE)","v":"Oklahoma City"},6,"2nd","TEX",0.6479166666666667,"B. Ranford","J. Dowling",null,null,"V",6,7,8,11,21,null,"H",2,10,18,19,20,null,"Hm","Texas",1013565]
[42097,{"$f":"VLOOKUP(AB591,[1]AHLSOG!$O:$Q,2,FALSE)","v":"Texas"},{"$f":"VLOOKUP(AB591,[1]AHLSOG!$O:$Q,3,FALSE)","v":"Oklahoma City"},7,"3rd","OKC",9.7222222222222224E-3,"A. Lander","I. Pakarinen","O. Klefbom",null,"V",6,8,16,25,27,null,"H",2,15,16,18,23,null,"Rd","Oklahoma City",1013565]
[42098,{"$f":"VLOOKUP(AB592,[1]AHLSOG!$O:$Q,2,FALSE)","v":"Texas"},{"$f":"VLOOKUP(AB592,[1]AHLSOG!$O:$Q,3,FALSE)","v":"Oklahoma City"},8,"3rd","TEX",0.63680555555555551,"C. McKenzie","T. Morin",null,"PP","V",5,8,10,13,null,null,"H",7,16,23,24,27,null,"Hm","Texas",1013565]
[42099,{"$f":"VLOOKUP(AB593,[1]AHLSOG!$O:$Q,2,FALSE)","v":"Texas"},{"$f":"VLOOKUP(AB593,[1]AHLSOG!$O:$Q,3,FALSE)","v":"Oklahoma City"},9,"OT","TEX",2.9166666666666664E-2,"J. Dowling","J. Klingberg","T. Morin","PP","V",6,8,16,null,null,null,"H",4,10,18,23,null,null,"Hm","Texas",1013565]
[36526,{"$f":"VLOOKUP(AB594,[1]AHLSOG!$O:$Q,2,FALSE)","v":"Worcester"},{"$f":"VLOOKUP(AB594,[1]AHLSOG!$O:$Q,3,FALSE)","v":"Portland"},1,"1st","POR",0.24444444444444446,"T. Rieder","A. Bolduc","J. Hache",null,"V",9,19,23,28,49,null,"H",4,10,14,15,27,null,"Rd","Portland",1013566]
[36557,{"$f":"VLOOKUP(AB595,[1]AHLSOG!$O:$Q,2,FALSE)","v":"Worcester"},{"$f":"VLOOKUP(AB595,[1]AHLSOG!$O:$Q,3,FALSE)","v":"Portland"},2,"1st","POR",0.65763888888888888,"J. Martinook","T. Gaudet",null,"SH","V",17,27,32,33,null,null,"H",5,7,12,19,20,null,"Rd","Portland",1013566]
[42036,{"$f":"VLOOKUP(AB596,[1]AHLSOG!$O:$Q,2,FALSE)","v":"Worcester"},{"$f":"VLOOKUP(AB596,[1]AHLSOG!$O:$Q,3,FALSE)","v":"Portland"},3,"1st","WOR",0.69236111111111109,"M. Tennyson","M. Taormina","E. Hayes","PP","V",10,27,33,49,null,null,"H",5,7,12,19,20,null,"Hm","Worcester",1013566]
[42037,{"$f":"VLOOKUP(AB597,[1]AHLSOG!$O:$Q,2,FALSE)","v":"Worcester"},{"$f":"VLOOKUP(AB597,[1]AHLSOG!$O:$Q,3,FALSE)","v":"Portland"},4,"1st","WOR",0.70347222222222217,"M. Haley","R. Carpenter","M. Karlsson",null,"V",9,19,27,28,49,null,"H",2,4,15,18,22,null,"Hm","Worcester",1013566]
[42065,{"$f":"VLOOKUP(AB598,[1]AHLSOG!$O:$Q,2,FALSE)","v":"Worcester"},{"$f":"VLOOKUP(AB598,[1]AHLSOG!$O:$Q,3,FALSE)","v":"Portland"},5,"1st","POR",0.77013888888888893,"L. Lessio","B. Shinnimin","J. Szwarz",null,"V",10,24,27,28,38,null,"H",2,4,7,12,19,null,"Rd","Portland",1013566]
[42096,{"$f":"VLOOKUP(AB599,[1]AHLSOG!$O:$Q,2,FALSE)","v":"Worcester"},{"$f":"VLOOKUP(AB599,[1]AHLSOG!$O:$Q,3,FALSE)","v":"Portland"},6,"2nd","POR",0.63541666666666663,"B. Shinnimin","P. Lane",null,"SH","V",22,24,36,43,null,null,"H",5,7,12,19,20,null,"Rd","Portland",1013566]
[42097,{"$f":"VLOOKUP(AB600,[1]AHLSOG!$O:$Q,2,FALSE)","v":"Worcester"},{"$f":"VLOOKUP(AB600,[1]AHLSOG!$O:$Q,3,FALSE)","v":"Portland"},7,"3rd","WOR",0.72569444444444453,"E. Hayes","D. Tarasov","F. Hamilton",null,"V",9,19,27,28,49,null,"H",5,7,10,12,19,null,"Hm","Worcester",1013566]
["0 - 1",{"$f":"VLOOKUP(AB601,[1]AHLSOG!$O:$Q,2,FALSE)","v":"Charlotte"},{"$f":"VLOOKUP(AB601,[1]AHLSOG!$O:$Q,3,FALSE)","v":"Hamilton"},1,"1st","CHA",0.82708333333333339,"C. LaRose","R. Rissanen","B. Sutter",null,"V",2,4,10,19,27,null,"H",2,12,28,29,59,null,"Hm","Charlotte",1013567]
[42005,{"$f":"VLOOKUP(AB602,[1]AHLSOG!$O:$Q,2,FALSE)","v":"Charlotte"},{"$f":"VLOOKUP(AB602,[1]AHLSOG!$O:$Q,3,FALSE)","v":"Hamilton"},2,"2nd","HAM",0.29375000000000001,"C. Thomas","J. Finley",null,null,"V",3,15,19,26,27,null,"H",5,6,15,21,22,null,"Rd","Hamilton",1013567]
[42036,{"$f":"VLOOKUP(AB603,[1]AHLSOG!$O:$Q,2,FALSE)","v":"Charlotte"},{"$f":"VLOOKUP(AB603,[1]AHLSOG!$O:$Q,3,FALSE)","v":"Hamilton"},3,"2nd","HAM",0.33124999999999999,"D. Dietz","N. Sorkin","M. Bennett",null,"V",7,9,18,20,21,null,"H",2,4,17,18,24,null,"Rd","Hamilton",1013567]
[42064,{"$f":"VLOOKUP(AB604,[1]AHLSOG!$O:$Q,2,FALSE)","v":"Charlotte"},{"$f":"VLOOKUP(AB604,[1]AHLSOG!$O:$Q,3,FALSE)","v":"Hamilton"},4,"3rd","HAM",0.81874999999999998,"G. Dumont",null,null,"EN","V",2,4,18,20,40,null,"H",6,7,12,19,24,29,"Rd","Hamilton",1013567]
["0 - 1",{"$f":"VLOOKUP(AB605,[1]AHLSOG!$O:$Q,2,FALSE)","v":"Grand Rapids"},{"$f":"VLOOKUP(AB605,[1]AHLSOG!$O:$Q,3,FALSE)","v":"Chicago"},1,"1st","GR",5.6944444444444443E-2,"A. Miele","T. Pulkkinen","M. Callahan",null,"V",9,12,28,37,55,null,"H",3,6,15,16,21,null,"Hm","Grand Rapids",1013568]
["0 - 2",{"$f":"VLOOKUP(AB606,[1]AHLSOG!$O:$Q,2,FALSE)","v":"Grand Rapids"},{"$f":"VLOOKUP(AB606,[1]AHLSOG!$O:$Q,3,FALSE)","v":"Chicago"},2,"1st","GR",0.24513888888888888,"A. Miele","J. Hoggan","T. Pulkkinen",null,"V",4,7,15,27,38,null,"H",6,7,10,21,44,null,"Hm","Grand Rapids",1013568]
["0 - 3",{"$f":"VLOOKUP(AB607,[1]AHLSOG!$O:$Q,2,FALSE)","v":"Grand Rapids"},{"$f":"VLOOKUP(AB607,[1]AHLSOG!$O:$Q,3,FALSE)","v":"Chicago"},3,"1st","GR",0.58124999999999993,"A. Athanasiou","R. Sproul","N. Jensen",null,"V",9,12,25,37,55,null,"H",7,23,26,27,44,null,"Hm","Grand Rapids",1013568]
[42007,{"$f":"VLOOKUP(AB608,[1]AHLSOG!$O:$Q,2,FALSE)","v":"Grand Rapids"},{"$f":"VLOOKUP(AB608,[1]AHLSOG!$O:$Q,3,FALSE)","v":"Chicago"},4,"1st","CHI",0.70208333333333339,"S. Harper","T. Broadhurst","P. Cannone",null,"V",9,12,25,37,55,null,"H",3,10,12,16,29,null,"Rd","Chicago",1013568]
[42038,{"$f":"VLOOKUP(AB609,[1]AHLSOG!$O:$Q,2,FALSE)","v":"Grand Rapids"},{"$f":"VLOOKUP(AB609,[1]AHLSOG!$O:$Q,3,FALSE)","v":"Chicago"},5,"2nd","CHI",0.11875000000000001,"P. McRae","C. Butler","J. McCarthy",null,"V",8,10,17,25,28,null,"H",6,7,12,26,44,null,"Rd","Chicago",1013568]
[42066,{"$f":"VLOOKUP(AB610,[1]AHLSOG!$O:$Q,2,FALSE)","v":"Grand Rapids"},{"$f":"VLOOKUP(AB610,[1]AHLSOG!$O:$Q,3,FALSE)","v":"Chicago"},6,"2nd","CHI",0.27291666666666664,"T. Rattie",null,null,null,"V",5,8,10,17,24,null,"H",3,10,12,16,29,null,"Rd","Chicago",1013568]
[42097,{"$f":"VLOOKUP(AB611,[1]AHLSOG!$O:$Q,2,FALSE)","v":"Grand Rapids"},{"$f":"VLOOKUP(AB611,[1]AHLSOG!$O:$Q,3,FALSE)","v":"Chicago"},7,"2nd","CHI",0.3125,"J. Welsh","R. Bordson","S. Wannstrom",null,"V",15,25,27,38,55,null,"H",7,23,26,27,44,null,"Rd","Chicago",1013568]
[42098,{"$f":"VLOOKUP(AB612,[1]AHLSOG!$O:$Q,2,FALSE)","v":"Grand Rapids"},{"$f":"VLOOKUP(AB612,[1]AHLSOG!$O:$Q,3,FALSE)","v":"Chicago"},8,"2nd","GR",0.45277777777777778,"M. Frk","A. Athanasiou",null,null,"V",5,15,27,28,38,null,"H",4,14,23,26,27,null,"Hm","Grand Rapids",1013568]
[42128,{"$f":"VLOOKUP(AB613,[1]AHLSOG!$O:$Q,2,FALSE)","v":"Grand Rapids"},{"$f":"VLOOKUP(AB613,[1]AHLSOG!$O:$Q,3,FALSE)","v":"Chicago"},9,"2nd","CHI",0.71944444444444444,"P. McRae","C. Butler","B. Sopel","PP","V",8,10,17,25,55,null,"H",3,15,23,44,null,null,"Rd","Chicago",1013568]
[42129,{"$f":"VLOOKUP(AB614,[1]AHLSOG!$O:$Q,2,FALSE)","v":"Grand Rapids"},{"$f":"VLOOKUP(AB614,[1]AHLSOG!$O:$Q,3,FALSE)","v":"Chicago"},10,"3rd","GR",0.3430555555555555,"L. Ferraro","J. Hoggan","A. Marchenko",null,"V",4,7,9,12,37,null,"H",3,4,10,12,29,null,"Hm","Grand Rapids",1013568]
[42160,{"$f":"VLOOKUP(AB615,[1]AHLSOG!$O:$Q,2,FALSE)","v":"Grand Rapids"},{"$f":"VLOOKUP(AB615,[1]AHLSOG!$O:$Q,3,FALSE)","v":"Chicago"},11,"OT","CHI",8.0555555555555561E-2,"S. Wannstrom","R. Bordson","C. Fraser","PP","V",4,24,27,38,null,null,"H",4,14,29,null,null,null,"Rd","Chicago",1013568]
["0 - 1",{"$f":"VLOOKUP(AB616,[1]AHLSOG!$O:$Q,2,FALSE)","v":"Lake Erie"},{"$f":"VLOOKUP(AB616,[1]AHLSOG!$O:$Q,3,FALSE)","v":"Texas"},1,"1st","LE",9.375E-2,"P. Carey","S. Elliott","C. Smith","PP","V",9,23,24,null,null,null,"H",26,28,37,43,46,null,"Hm","Lake Erie",1013569]
["0 - 2",{"$f":"VLOOKUP(AB617,[1]AHLSOG!$O:$Q,2,FALSE)","v":"Lake Erie"},{"$f":"VLOOKUP(AB617,[1]AHLSOG!$O:$Q,3,FALSE)","v":"Texas"},2,"1st","LE",0.82013888888888886,"T. Cheek","J. Hishon",null,null,"V",7,15,24,27,29,null,"H",3,26,38,39,71,null,"Hm","Lake Erie",1013569]
["0 - 3",{"$f":"VLOOKUP(AB618,[1]AHLSOG!$O:$Q,2,FALSE)","v":"Lake Erie"},{"$f":"VLOOKUP(AB618,[1]AHLSOG!$O:$Q,3,FALSE)","v":"Texas"},3,"2nd","LE",5.9027777777777783E-2,"S. Elliott","M. Schumacher",null,"SH","V",7,9,10,27,37,null,"H",16,24,37,46,null,null,"Hm","Lake Erie",1013569]
["0 - 4",{"$f":"VLOOKUP(AB619,[1]AHLSOG!$O:$Q,2,FALSE)","v":"Lake Erie"},{"$f":"VLOOKUP(AB619,[1]AHLSOG!$O:$Q,3,FALSE)","v":"Texas"},4,"2nd","LE",0.22430555555555556,"K. Stollery","P. Carey",null,null,"V",4,14,15,18,27,null,"H",3,17,18,26,28,null,"Hm","Lake Erie",1013569]
[42008,{"$f":"VLOOKUP(AB620,[1]AHLSOG!$O:$Q,2,FALSE)","v":"Lake Erie"},{"$f":"VLOOKUP(AB620,[1]AHLSOG!$O:$Q,3,FALSE)","v":"Texas"},5,"2nd","TEX",0.31944444444444448,"M. Fortunus","T. Morin","C. McKenzie","PP","V",4,16,18,20,23,null,"H",16,17,18,46,null,null,"Rd","Texas",1013569]
[42039,{"$f":"VLOOKUP(AB621,[1]AHLSOG!$O:$Q,2,FALSE)","v":"Lake Erie"},{"$f":"VLOOKUP(AB621,[1]AHLSOG!$O:$Q,3,FALSE)","v":"Texas"},6,"3rd","TEX",0.54652777777777783,"D. Meech","S. Glennie","J. Klingberg",null,"V",4,9,14,15,28,null,"H",11,24,37,43,46,null,"Rd","Texas",1013569]
[42040,{"$f":"VLOOKUP(AB622,[1]AHLSOG!$O:$Q,2,FALSE)","v":"Lake Erie"},{"$f":"VLOOKUP(AB622,[1]AHLSOG!$O:$Q,3,FALSE)","v":"Texas"},7,"3rd","LE",0.75902777777777775,"K. Ryan","S. Elliott",null,"EN","V",9,16,18,20,23,37,"H",11,17,18,28,46,null,"Hm","Lake Erie",1013569]
[36526,{"$f":"VLOOKUP(AB623,[1]AHLSOG!$O:$Q,2,FALSE)","v":"Manchester"},{"$f":"VLOOKUP(AB623,[1]AHLSOG!$O:$Q,3,FALSE)","v":"Hershey"},1,"2nd","HER",0.48402777777777778,"D. Byers","K. Newbury","C. Wellman",null,"V",5,7,11,21,38,null,"H",6,10,19,39,55,null,"Rd","Hershey",1013570]
[36557,{"$f":"VLOOKUP(AB624,[1]AHLSOG!$O:$Q,2,FALSE)","v":"Manchester"},{"$f":"VLOOKUP(AB624,[1]AHLSOG!$O:$Q,3,FALSE)","v":"Hershey"},2,"2nd","HER",0.64861111111111114,"C. Wellman","T. Kundratek","C. Carrick","PP","V",11,13,21,25,34,null,"H",3,10,26,44,null,null,"Rd","Hershey",1013570]
[36586,{"$f":"VLOOKUP(AB625,[1]AHLSOG!$O:$Q,2,FALSE)","v":"Manchester"},{"$f":"VLOOKUP(AB625,[1]AHLSOG!$O:$Q,3,FALSE)","v":"Hershey"},3,"2nd","HER",0.81736111111111109,"C. Brown","T. Kennedy","C. Wellman",null,"V",5,7,13,21,24,null,"H",6,27,37,39,55,null,"Rd","Hershey",1013570]
[36617,{"$f":"VLOOKUP(AB626,[1]AHLSOG!$O:$Q,2,FALSE)","v":"Manchester"},{"$f":"VLOOKUP(AB626,[1]AHLSOG!$O:$Q,3,FALSE)","v":"Hershey"},4,"3rd","HER",0.83124999999999993,"S. Oleksy","M. Moore",null,"EN","V",5,6,7,13,24,null,"H",10,26,33,37,39,55,"Rd","Hershey",1013570]
[36526,{"$f":"VLOOKUP(AB627,[1]AHLSOG!$O:$Q,2,FALSE)","v":"Norfolk"},{"$f":"VLOOKUP(AB627,[1]AHLSOG!$O:$Q,3,FALSE)","v":"W-B/Scranton"},1,"1st","WBS",0.20555555555555557,"D. Uher","B. Goers",null,null,"V",6,9,14,26,41,null,"H",9,15,18,21,25,null,"Rd","W-B/Scranton",1013571]
[42005,{"$f":"VLOOKUP(AB628,[1]AHLSOG!$O:$Q,2,FALSE)","v":"Norfolk"},{"$f":"VLOOKUP(AB628,[1]AHLSOG!$O:$Q,3,FALSE)","v":"W-B/Scranton"},2,"1st","NOR",0.69236111111111109,"B. Yip","C. Wagner","S. Theodore",null,"V",5,6,9,12,34,null,"H",7,15,18,21,32,null,"Hm","Norfolk",1013571]
[42036,{"$f":"VLOOKUP(AB629,[1]AHLSOG!$O:$Q,2,FALSE)","v":"Norfolk"},{"$f":"VLOOKUP(AB629,[1]AHLSOG!$O:$Q,3,FALSE)","v":"W-B/Scranton"},3,"3rd","WBS",0.16874999999999998,"T. Kostopoulos","S. Harrington","J. Dea",null,"V",5,6,9,29,null,null,"H",4,10,19,32,null,null,"Rd","W-B/Scranton",1013571]
[42037,{"$f":"VLOOKUP(AB630,[1]AHLSOG!$O:$Q,2,FALSE)","v":"Norfolk"},{"$f":"VLOOKUP(AB630,[1]AHLSOG!$O:$Q,3,FALSE)","v":"W-B/Scranton"},4,"3rd","NOR",0.19236111111111112,"C. Wagner","B. Yip",null,null,"V",5,6,18,34,42,null,"H",2,6,15,18,21,null,"Hm","Norfolk",1013571]
[42038,{"$f":"VLOOKUP(AB631,[1]AHLSOG!$O:$Q,2,FALSE)","v":"Norfolk"},{"$f":"VLOOKUP(AB631,[1]AHLSOG!$O:$Q,3,FALSE)","v":"W-B/Scranton"},5,"OT","NOR",5.1388888888888894E-2,"B. Yip","A. O'Brien","C. Wagner",null,"V",5,6,9,12,null,null,"H",4,18,21,25,null,null,"Hm","Norfolk",1013571]
[36526,{"$f":"VLOOKUP(AB632,[1]AHLSOG!$O:$Q,2,FALSE)","v":"Portland"},{"$f":"VLOOKUP(AB632,[1]AHLSOG!$O:$Q,3,FALSE)","v":"St. John's"},1,"1st","STJ",0.47430555555555554,"B. Chiarot","W. O'Neill","J. Albert","PP","V",13,16,18,27,48,null,"H",2,4,32,null,null,null,"Rd","St. John's",1013572]
[36557,{"$f":"VLOOKUP(AB633,[1]AHLSOG!$O:$Q,2,FALSE)","v":"Portland"},{"$f":"VLOOKUP(AB633,[1]AHLSOG!$O:$Q,3,FALSE)","v":"St. John's"},2,"1st","STJ",0.55208333333333337,"J. Albert","B. Kichton","N. Blanchard",null,"V",4,8,13,16,26,null,"H",10,24,27,33,38,null,"Rd","St. John's",1013572]
[42036,{"$f":"VLOOKUP(AB634,[1]AHLSOG!$O:$Q,2,FALSE)","v":"Portland"},{"$f":"VLOOKUP(AB634,[1]AHLSOG!$O:$Q,3,FALSE)","v":"St. John's"},3,"1st","POR",0.56527777777777777,"E. Oberg","H. Samuelsson","A. Bolduc",null,"V",4,21,25,26,44,null,"H",9,19,27,33,49,null,"Hm","Portland",1013572]
[42064,{"$f":"VLOOKUP(AB635,[1]AHLSOG!$O:$Q,2,FALSE)","v":"Portland"},{"$f":"VLOOKUP(AB635,[1]AHLSOG!$O:$Q,3,FALSE)","v":"St. John's"},4,"2nd","STJ",8.3333333333333332E-3,"C. Klingberg","J. Melchiori","J. Lipon",null,"V",16,27,34,44,48,null,"H",4,9,19,36,49,null,"Rd","St. John's",1013572]
[42065,{"$f":"VLOOKUP(AB636,[1]AHLSOG!$O:$Q,2,FALSE)","v":"Portland"},{"$f":"VLOOKUP(AB636,[1]AHLSOG!$O:$Q,3,FALSE)","v":"St. John's"},5,"2nd","POR",0.23611111111111113,"A. Campbell","L. Lessio","E. Oberg","PP","V",7,13,16,18,null,null,"H",4,10,24,27,38,null,"Hm","Portland",1013572]
[42066,{"$f":"VLOOKUP(AB637,[1]AHLSOG!$O:$Q,2,FALSE)","v":"Portland"},{"$f":"VLOOKUP(AB637,[1]AHLSOG!$O:$Q,3,FALSE)","v":"St. John's"},6,"3rd","POR",0.35000000000000003,"A. Campbell","B. Shinnimin","E. Oberg","PP","V",7,13,16,18,null,null,"H",4,10,24,27,38,null,"Hm","Portland",1013572]
[42067,{"$f":"VLOOKUP(AB638,[1]AHLSOG!$O:$Q,2,FALSE)","v":"Portland"},{"$f":"VLOOKUP(AB638,[1]AHLSOG!$O:$Q,3,FALSE)","v":"St. John's"},7,"3rd","POR",0.51736111111111105,"B. Gormley","A. Bolduc","H. Samuelsson",null,"V",7,16,18,25,26,null,"H",4,9,19,36,49,null,"Hm","Portland",1013572]
[42068,{"$f":"VLOOKUP(AB639,[1]AHLSOG!$O:$Q,2,FALSE)","v":"Portland"},{"$f":"VLOOKUP(AB639,[1]AHLSOG!$O:$Q,3,FALSE)","v":"St. John's"},8,"3rd","POR",0.72083333333333333,"T. Rieder","A. Bolduc","E. Oberg",null,"V",13,18,24,27,45,null,"H",2,9,19,27,49,null,"Hm","Portland",1013572]
[42069,{"$f":"VLOOKUP(AB640,[1]AHLSOG!$O:$Q,2,FALSE)","v":"Portland"},{"$f":"VLOOKUP(AB640,[1]AHLSOG!$O:$Q,3,FALSE)","v":"St. John's"},9,"3rd","POR",0.75694444444444453,"B. Shinnimin","B. Gormley",null,"EN","V",9,13,18,26,27,45,"H",4,10,24,36,38,null,"Hm","Portland",1013572]
[42070,{"$f":"VLOOKUP(AB641,[1]AHLSOG!$O:$Q,2,FALSE)","v":"Portland"},{"$f":"VLOOKUP(AB641,[1]AHLSOG!$O:$Q,3,FALSE)","v":"St. John's"},10,"3rd","POR",0.76736111111111116,"D. Dziurzynski","E. Selleck",null,null,"V",21,25,26,27,44,null,"H",17,25,26,28,33,null,"Hm","Portland",1013572]
[36526,{"$f":"VLOOKUP(AB642,[1]AHLSOG!$O:$Q,2,FALSE)","v":"San Antonio"},{"$f":"VLOOKUP(AB642,[1]AHLSOG!$O:$Q,3,FALSE)","v":"Rockford"},1,"1st","RFD",0.64513888888888882,"M. Carey","S. Johns",null,null,"V",4,14,15,24,27,null,"H",8,11,16,36,44,null,"Rd","Rockford",1013573]
[42005,{"$f":"VLOOKUP(AB643,[1]AHLSOG!$O:$Q,2,FALSE)","v":"San Antonio"},{"$f":"VLOOKUP(AB643,[1]AHLSOG!$O:$Q,3,FALSE)","v":"Rockford"},2,"1st","SA",0.67152777777777783,"B. Parlett","A. Petrovic","G. Zanon",null,"V",2,14,15,24,27,null,"H",3,5,7,11,36,null,"Hm","San Antonio",1013573]
[42036,{"$f":"VLOOKUP(AB644,[1]AHLSOG!$O:$Q,2,FALSE)","v":"San Antonio"},{"$f":"VLOOKUP(AB644,[1]AHLSOG!$O:$Q,3,FALSE)","v":"Rockford"},3,"2nd","RFD",0.19791666666666666,"J. Nordstrom","T. Teravainen","T. Brennan","PP","V",2,7,21,23,53,null,"H",8,17,19,null,null,null,"Rd","Rockford",1013573]
[42064,{"$f":"VLOOKUP(AB645,[1]AHLSOG!$O:$Q,2,FALSE)","v":"San Antonio"},{"$f":"VLOOKUP(AB645,[1]AHLSOG!$O:$Q,3,FALSE)","v":"Rockford"},4,"2nd","RFD",0.43055555555555558,"G. Ross","P. Danault","M. McNeill",null,"V",4,8,10,26,28,null,"H",3,15,16,17,19,null,"Rd","Rockford",1013573]
[42065,{"$f":"VLOOKUP(AB646,[1]AHLSOG!$O:$Q,2,FALSE)","v":"San Antonio"},{"$f":"VLOOKUP(AB646,[1]AHLSOG!$O:$Q,3,FALSE)","v":"Rockford"},5,"2nd","SA",0.52569444444444446,"R. Martindale","B. Butler","S. O'Brien","PP","V",10,23,26,29,null,null,"H",8,16,17,19,44,null,"Hm","San Antonio",1013573]
[42096,{"$f":"VLOOKUP(AB647,[1]AHLSOG!$O:$Q,2,FALSE)","v":"San Antonio"},{"$f":"VLOOKUP(AB647,[1]AHLSOG!$O:$Q,3,FALSE)","v":"Rockford"},6,"3rd","RFD",0.4770833333333333,"G. Ross","M. McNeill","P. Danault",null,"V",2,15,18,26,28,null,"H",3,5,16,17,19,null,"Rd","Rockford",1013573]
[42097,{"$f":"VLOOKUP(AB648,[1]AHLSOG!$O:$Q,2,FALSE)","v":"San Antonio"},{"$f":"VLOOKUP(AB648,[1]AHLSOG!$O:$Q,3,FALSE)","v":"Rockford"},7,"3rd","SA",0.54513888888888895,"C. Brickley","G. Zanon","J. McFarland",null,"V",10,21,24,27,29,null,"H",3,5,15,18,23,null,"Hm","San Antonio",1013573]
[42127,{"$f":"VLOOKUP(AB649,[1]AHLSOG!$O:$Q,2,FALSE)","v":"San Antonio"},{"$f":"VLOOKUP(AB649,[1]AHLSOG!$O:$Q,3,FALSE)","v":"Rockford"},8,"3rd","RFD",0.68402777777777779,"P. Danault","K. Dahlbeck","M. McNeill",null,"V",10,18,26,28,29,null,"H",3,5,15,18,23,null,"Rd","Rockford",1013573]
[42158,{"$f":"VLOOKUP(AB650,[1]AHLSOG!$O:$Q,2,FALSE)","v":"San Antonio"},{"$f":"VLOOKUP(AB650,[1]AHLSOG!$O:$Q,3,FALSE)","v":"Rockford"},9,"3rd","RFD",0.83263888888888893,"G. Ross","B. Mashinter",null,"EN","V",4,10,23,26,53,null,"H",8,16,17,19,32,44,"Rd","Rockford",1013573]
[36526,{"$f":"VLOOKUP(AB651,[1]AHLSOG!$O:$Q,2,FALSE)","v":"Syracuse"},{"$f":"VLOOKUP(AB651,[1]AHLSOG!$O:$Q,3,FALSE)","v":"Rochester"},1,"1st","RCH",0.12361111111111112,"J. Armia","J. Leduc","A. Makarov","SH","V",5,25,33,34,null,null,"H",4,6,11,20,71,null,"Rd","Rochester",1013574]
[36557,{"$f":"VLOOKUP(AB652,[1]AHLSOG!$O:$Q,2,FALSE)","v":"Syracuse"},{"$f":"VLOOKUP(AB652,[1]AHLSOG!$O:$Q,3,FALSE)","v":"Rochester"},2,"1st","RCH",0.79305555555555562,"J. Leduc","M. Pysyk","M. Grigorenko","PP","V",3,25,26,33,34,null,"H",21,57,65,82,null,null,"Rd","Rochester",1013574]
[36586,{"$f":"VLOOKUP(AB653,[1]AHLSOG!$O:$Q,2,FALSE)","v":"Syracuse"},{"$f":"VLOOKUP(AB653,[1]AHLSOG!$O:$Q,3,FALSE)","v":"Rochester"},3,"3rd","RCH",0.32083333333333336,"P. Varone","L. Adam","J. Samuels-Thomas",null,"V",2,18,19,22,34,null,"H",4,11,20,33,89,null,"Rd","Rochester",1013574]
[36526,{"$f":"VLOOKUP(AB654,[1]AHLSOG!$O:$Q,2,FALSE)","v":"Utica"},{"$f":"VLOOKUP(AB654,[1]AHLSOG!$O:$Q,3,FALSE)","v":"Binghamton"},1,"1st","BNG",0.24652777777777779,"A. Guptill","J. Pageau","B. Robinson",null,"V",10,14,27,44,72,null,"H",3,14,15,24,40,null,"Rd","Binghamton",1013575]
[36557,{"$f":"VLOOKUP(AB655,[1]AHLSOG!$O:$Q,2,FALSE)","v":"Utica"},{"$f":"VLOOKUP(AB655,[1]AHLSOG!$O:$Q,3,FALSE)","v":"Binghamton"},2,"1st","BNG",0.79791666666666661,"A. Grant","C. Camper","A. Johnson","PP","V",11,20,43,57,72,null,"H",2,3,34,36,null,null,"Rd","Binghamton",1013575]
[36586,{"$f":"VLOOKUP(AB656,[1]AHLSOG!$O:$Q,2,FALSE)","v":"Utica"},{"$f":"VLOOKUP(AB656,[1]AHLSOG!$O:$Q,3,FALSE)","v":"Binghamton"},3,"2nd","BNG",0.19305555555555554,"C. Wideman","M. Puempel","J. Pageau","PP","V",6,9,15,44,72,null,"H",2,3,16,17,null,null,"Rd","Binghamton",1013575]
[42064,{"$f":"VLOOKUP(AB657,[1]AHLSOG!$O:$Q,2,FALSE)","v":"Utica"},{"$f":"VLOOKUP(AB657,[1]AHLSOG!$O:$Q,3,FALSE)","v":"Binghamton"},4,"2nd","UTI",0.80486111111111114,"T. Ehrhardt","C. O'Reilly",null,null,"V",3,11,14,16,57,null,"H",2,3,16,17,28,null,"Hm","Utica",1013575]
[42065,{"$f":"VLOOKUP(AB658,[1]AHLSOG!$O:$Q,2,FALSE)","v":"Utica"},{"$f":"VLOOKUP(AB658,[1]AHLSOG!$O:$Q,3,FALSE)","v":"Binghamton"},5,"3rd","UTI",0.17152777777777775,"F. Corrado","H. Tommernes",null,null,"V",9,14,15,43,72,null,"H",7,16,17,26,28,null,"Hm","Utica",1013575]
[42066,{"$f":"VLOOKUP(AB659,[1]AHLSOG!$O:$Q,2,FALSE)","v":"Utica"},{"$f":"VLOOKUP(AB659,[1]AHLSOG!$O:$Q,3,FALSE)","v":"Binghamton"},6,"3rd","UTI",0.42708333333333331,"H. Tommernes","C. O'Reilly","R. Kenins","PP","V",3,16,57,72,null,null,"H",7,15,16,17,28,null,"Hm","Utica",1013575]
[42097,{"$f":"VLOOKUP(AB660,[1]AHLSOG!$O:$Q,2,FALSE)","v":"Utica"},{"$f":"VLOOKUP(AB660,[1]AHLSOG!$O:$Q,3,FALSE)","v":"Binghamton"},7,"OT","BNG",0.18124999999999999,"C. Wideman","A. Johnson","J. Pageau","PP","V",6,9,44,72,null,null,"H",2,3,16,null,null,null,"Rd","Binghamton",1013575]
[36526,{"$f":"VLOOKUP(AB661,[1]AHLSOG!$O:$Q,2,FALSE)","v":"Adirondack"},{"$f":"VLOOKUP(AB661,[1]AHLSOG!$O:$Q,3,FALSE)","v":"Utica"},1,"1st","UTI",2.5694444444444447E-2,"B. DeFazio","D. Archibald",null,null,"V",6,19,24,25,40,null,"H",25,28,32,38,45,null,"Rd","Utica",1013576]
[36557,{"$f":"VLOOKUP(AB662,[1]AHLSOG!$O:$Q,2,FALSE)","v":"Adirondack"},{"$f":"VLOOKUP(AB662,[1]AHLSOG!$O:$Q,3,FALSE)","v":"Utica"},2,"1st","UTI",8.4027777777777771E-2,"N. Jensen","A. Biega","C. O'Reilly",null,"V",3,7,16,17,28,null,"H",5,13,16,44,48,null,"Rd","Utica",1013576]
[42036,{"$f":"VLOOKUP(AB663,[1]AHLSOG!$O:$Q,2,FALSE)","v":"Adirondack"},{"$f":"VLOOKUP(AB663,[1]AHLSOG!$O:$Q,3,FALSE)","v":"Utica"},3,"1st","ADK",0.60972222222222217,"E. Poirier","B. Arnold","P. Sieloff",null,"V",7,16,17,26,28,null,"H",15,21,32,38,46,null,"Hm","Adirondack",1013576]
[42064,{"$f":"VLOOKUP(AB664,[1]AHLSOG!$O:$Q,2,FALSE)","v":"Adirondack"},{"$f":"VLOOKUP(AB664,[1]AHLSOG!$O:$Q,3,FALSE)","v":"Utica"},4,"1st","UTI",0.62847222222222221,"P. Andersson","B. Sanguinetti",null,null,"V",6,16,17,28,40,null,"H",5,13,16,44,48,null,"Rd","Utica",1013576]
[42095,{"$f":"VLOOKUP(AB665,[1]AHLSOG!$O:$Q,2,FALSE)","v":"Adirondack"},{"$f":"VLOOKUP(AB665,[1]AHLSOG!$O:$Q,3,FALSE)","v":"Utica"},5,"2nd","UTI",9.375E-2,"A. Grenier","C. O'Reilly","N. Jensen","PP","V",7,16,17,26,28,null,"H",11,13,32,38,null,null,"Rd","Utica",1013576]
[42096,{"$f":"VLOOKUP(AB666,[1]AHLSOG!$O:$Q,2,FALSE)","v":"Adirondack"},{"$f":"VLOOKUP(AB666,[1]AHLSOG!$O:$Q,3,FALSE)","v":"Utica"},6,"2nd","ADK",0.18680555555555556,"E. Poirier","B. Arnold","K. Agostino",null,"V",2,3,16,17,28,null,"H",2,6,15,21,46,null,"Hm","Adirondack",1013576]
[42126,{"$f":"VLOOKUP(AB667,[1]AHLSOG!$O:$Q,2,FALSE)","v":"Adirondack"},{"$f":"VLOOKUP(AB667,[1]AHLSOG!$O:$Q,3,FALSE)","v":"Utica"},7,"2nd","UTI",0.31736111111111115,"C. Bancks","W. Hamilton",null,null,"V",6,10,34,36,40,null,"H",2,6,15,21,46,null,"Rd","Utica",1013576]
[42127,{"$f":"VLOOKUP(AB668,[1]AHLSOG!$O:$Q,2,FALSE)","v":"Adirondack"},{"$f":"VLOOKUP(AB668,[1]AHLSOG!$O:$Q,3,FALSE)","v":"Utica"},8,"2nd","ADK",0.54375000000000007,"B. Van Brabant","M. Reinhart","B. Thiessen","PP","V",6,17,26,36,null,null,"H",5,25,27,44,48,null,"Hm","Adirondack",1013576]
[42128,{"$f":"VLOOKUP(AB669,[1]AHLSOG!$O:$Q,2,FALSE)","v":"Adirondack"},{"$f":"VLOOKUP(AB669,[1]AHLSOG!$O:$Q,3,FALSE)","v":"Utica"},9,"2nd","ADK",0.65972222222222221,"B. Hanowski","C. Knight","S. Baertschi",null,"V",2,16,17,25,26,null,"H",11,27,28,32,38,null,"Hm","Adirondack",1013576]
["0 - 1",{"$f":"VLOOKUP(AB670,[1]AHLSOG!$O:$Q,2,FALSE)","v":"Albany"},{"$f":"VLOOKUP(AB670,[1]AHLSOG!$O:$Q,3,FALSE)","v":"Bridgeport"},1,"1st","ALB",0.43333333333333335,"P. Thompson","S. Timmins","S. Bernier","PP","V",8,10,11,null,null,null,"H",5,9,15,17,28,null,"Hm","Albany",1013577]
[42005,{"$f":"VLOOKUP(AB671,[1]AHLSOG!$O:$Q,2,FALSE)","v":"Albany"},{"$f":"VLOOKUP(AB671,[1]AHLSOG!$O:$Q,3,FALSE)","v":"Bridgeport"},2,"2nd","BRI",0.37916666666666665,"C. Stretch","H. Zolnierczyk","A. Ness",null,"V",6,12,16,23,27,null,"H",8,10,12,16,33,null,"Rd","Bridgeport",1013577]
[42036,{"$f":"VLOOKUP(AB672,[1]AHLSOG!$O:$Q,2,FALSE)","v":"Albany"},{"$f":"VLOOKUP(AB672,[1]AHLSOG!$O:$Q,3,FALSE)","v":"Bridgeport"},3,"2nd","BRI",0.63611111111111118,"C. Gillies","A. Ness",null,null,"V",6,7,27,28,59,null,"H",5,10,12,28,33,null,"Rd","Bridgeport",1013577]
[42064,{"$f":"VLOOKUP(AB673,[1]AHLSOG!$O:$Q,2,FALSE)","v":"Albany"},{"$f":"VLOOKUP(AB673,[1]AHLSOG!$O:$Q,3,FALSE)","v":"Bridgeport"},4,"2nd","BRI",0.73888888888888893,"R. Pulock","G. Reinhart",null,"PP","V",6,8,12,16,23,null,"H",2,10,29,null,null,null,"Rd","Bridgeport",1013577]
[42095,{"$f":"VLOOKUP(AB674,[1]AHLSOG!$O:$Q,2,FALSE)","v":"Albany"},{"$f":"VLOOKUP(AB674,[1]AHLSOG!$O:$Q,3,FALSE)","v":"Bridgeport"},5,"3rd","BRI",0.74444444444444446,"P. Sivak","A. Quine",null,"EN.PP","V",6,21,22,27,59,null,"H",5,8,18,23,28,null,"Rd","Bridgeport",1013577]
[36526,{"$f":"VLOOKUP(AB675,[1]AHLSOG!$O:$Q,2,FALSE)","v":"Binghamton"},{"$f":"VLOOKUP(AB675,[1]AHLSOG!$O:$Q,3,FALSE)","v":"Syracuse"},1,"2nd","SYR",6.805555555555555E-2,"J. Marchessault","J. Dotchin","C. Paquette",null,"V",4,17,18,24,92,null,"H",4,6,10,27,44,null,"Rd","Syracuse",1013578]
[36557,{"$f":"VLOOKUP(AB676,[1]AHLSOG!$O:$Q,2,FALSE)","v":"Binghamton"},{"$f":"VLOOKUP(AB676,[1]AHLSOG!$O:$Q,3,FALSE)","v":"Syracuse"},2,"2nd","SYR",0.37847222222222227,"S. Koekkoek","D. Blujus","T. Richard","PP","V",6,20,37,65,71,null,"H",3,16,20,57,null,null,"Rd","Syracuse",1013578]
[42036,{"$f":"VLOOKUP(AB677,[1]AHLSOG!$O:$Q,2,FALSE)","v":"Binghamton"},{"$f":"VLOOKUP(AB677,[1]AHLSOG!$O:$Q,3,FALSE)","v":"Syracuse"},3,"2nd","BNG",0.43263888888888885,"J. Pageau","C. Wideman","B. Robinson",null,"V",4,20,33,37,89,null,"H",4,6,10,27,44,null,"Hm","Binghamton",1013578]
[42037,{"$f":"VLOOKUP(AB678,[1]AHLSOG!$O:$Q,2,FALSE)","v":"Binghamton"},{"$f":"VLOOKUP(AB678,[1]AHLSOG!$O:$Q,3,FALSE)","v":"Syracuse"},4,"2nd","BNG",0.5180555555555556,"M. Puempel","R. Dzingel",null,null,"V",10,13,21,57,89,null,"H",4,6,9,15,43,null,"Hm","Binghamton",1013578]
[42065,{"$f":"VLOOKUP(AB679,[1]AHLSOG!$O:$Q,2,FALSE)","v":"Binghamton"},{"$f":"VLOOKUP(AB679,[1]AHLSOG!$O:$Q,3,FALSE)","v":"Syracuse"},5,"3rd","SYR",0.12916666666666668,"C. Kunyk","P. Paradis","Y. Gourde",null,"V",20,37,63,82,89,null,"H",4,6,12,37,41,null,"Rd","Syracuse",1013578]
[42096,{"$f":"VLOOKUP(AB680,[1]AHLSOG!$O:$Q,2,FALSE)","v":"Binghamton"},{"$f":"VLOOKUP(AB680,[1]AHLSOG!$O:$Q,3,FALSE)","v":"Syracuse"},6,"3rd","SYR",0.19375000000000001,"J. Vermin",null,null,null,"V",17,18,24,89,92,null,"H",4,6,10,27,44,null,"Rd","Syracuse",1013578]
[42097,{"$f":"VLOOKUP(AB681,[1]AHLSOG!$O:$Q,2,FALSE)","v":"Binghamton"},{"$f":"VLOOKUP(AB681,[1]AHLSOG!$O:$Q,3,FALSE)","v":"Syracuse"},7,"3rd","BNG",0.28333333333333333,"C. Wideman","P. Mullen",null,"PP","V",10,13,24,57,null,null,"H",6,9,14,15,44,null,"Hm","Binghamton",1013578]
[42127,{"$f":"VLOOKUP(AB682,[1]AHLSOG!$O:$Q,2,FALSE)","v":"Binghamton"},{"$f":"VLOOKUP(AB682,[1]AHLSOG!$O:$Q,3,FALSE)","v":"Syracuse"},8,"3rd","SYR",0.50902777777777775,"D. Smith","J. Dotchin",null,null,"V",4,18,20,33,89,null,"H",6,9,15,20,43,null,"Rd","Syracuse",1013578]
[42158,{"$f":"VLOOKUP(AB683,[1]AHLSOG!$O:$Q,2,FALSE)","v":"Binghamton"},{"$f":"VLOOKUP(AB683,[1]AHLSOG!$O:$Q,3,FALSE)","v":"Syracuse"},9,"3rd","SYR",0.71180555555555547,"C. Paquette","J. Vermin",null,null,"V",4,17,18,65,92,null,"H",6,9,14,15,43,null,"Rd","Syracuse",1013578]
[36526,{"$f":"VLOOKUP(AB684,[1]AHLSOG!$O:$Q,2,FALSE)","v":"Chicago"},{"$f":"VLOOKUP(AB684,[1]AHLSOG!$O:$Q,3,FALSE)","v":"Milwaukee"},1,"1st","MIL",0.12638888888888888,"M. Van Guilder","A. Bitetto",null,null,"V",2,23,28,29,51,null,"H",4,9,12,37,42,null,"Rd","Milwaukee",1013579]
[42005,{"$f":"VLOOKUP(AB685,[1]AHLSOG!$O:$Q,2,FALSE)","v":"Chicago"},{"$f":"VLOOKUP(AB685,[1]AHLSOG!$O:$Q,3,FALSE)","v":"Milwaukee"},2,"1st","CHI",0.54027777777777775,"P. Lindbohm","J. Welsh","S. Wannstrom",null,"V",16,21,23,33,55,null,"H",4,15,27,38,42,null,"Hm","Chicago",1013579]
[42006,{"$f":"VLOOKUP(AB686,[1]AHLSOG!$O:$Q,2,FALSE)","v":"Chicago"},{"$f":"VLOOKUP(AB686,[1]AHLSOG!$O:$Q,3,FALSE)","v":"Milwaukee"},3,"1st","CHI",0.66875000000000007,"Y. Veilleux","J. Chelios","C. Beach",null,"V",23,28,29,51,55,null,"H",18,20,24,28,42,null,"Hm","Chicago",1013579]
[42007,{"$f":"VLOOKUP(AB687,[1]AHLSOG!$O:$Q,2,FALSE)","v":"Chicago"},{"$f":"VLOOKUP(AB687,[1]AHLSOG!$O:$Q,3,FALSE)","v":"Milwaukee"},4,"2nd","CHI",2.6388888888888889E-2,"J. Welsh","J. Chelios","S. Wannstrom",null,"V",16,21,23,33,55,null,"H",4,15,27,38,42,null,"Hm","Chicago",1013579]
[42008,{"$f":"VLOOKUP(AB688,[1]AHLSOG!$O:$Q,2,FALSE)","v":"Chicago"},{"$f":"VLOOKUP(AB688,[1]AHLSOG!$O:$Q,3,FALSE)","v":"Milwaukee"},5,"3rd","CHI",0.64861111111111114,"S. Harper","T. Broadhurst",null,"PP","V",3,7,25,33,null,null,"H",9,12,25,37,42,null,"Hm","Chicago",1013579]
[42009,{"$f":"VLOOKUP(AB689,[1]AHLSOG!$O:$Q,2,FALSE)","v":"Chicago"},{"$f":"VLOOKUP(AB689,[1]AHLSOG!$O:$Q,3,FALSE)","v":"Milwaukee"},6,"3rd","CHI",0.83263888888888893,"J. Welsh",null,null,"EN","V",2,16,21,22,23,89,"H",4,15,25,27,38,null,"Hm","Chicago",1013579]
["0 - 1",{"$f":"VLOOKUP(AB690,[1]AHLSOG!$O:$Q,2,FALSE)","v":"Lake Erie"},{"$f":"VLOOKUP(AB690,[1]AHLSOG!$O:$Q,3,FALSE)","v":"Texas"},1,"1st","LE",8.4722222222222213E-2,"J. Hishon","C. Corbett","D. Siemens",null,"V",4,8,9,15,25,null,"H",16,38,39,41,71,null,"Hm","Lake Erie",1013580]
["0 - 2",{"$f":"VLOOKUP(AB691,[1]AHLSOG!$O:$Q,2,FALSE)","v":"Lake Erie"},{"$f":"VLOOKUP(AB691,[1]AHLSOG!$O:$Q,3,FALSE)","v":"Texas"},2,"1st","LE",0.19027777777777777,"C. Smith","M. Schumacher","M. Sgarbossa",null,"V",2,7,19,20,29,null,"H",16,24,37,41,43,null,"Hm","Lake Erie",1013580]
[42006,{"$f":"VLOOKUP(AB692,[1]AHLSOG!$O:$Q,2,FALSE)","v":"Lake Erie"},{"$f":"VLOOKUP(AB692,[1]AHLSOG!$O:$Q,3,FALSE)","v":"Texas"},3,"1st","TEX",0.79861111111111116,"J. Klingberg","D. Meech",null,null,"V",4,9,16,23,null,null,"H",11,24,43,46,null,null,"Rd","Texas",1013580]
[42007,{"$f":"VLOOKUP(AB693,[1]AHLSOG!$O:$Q,2,FALSE)","v":"Lake Erie"},{"$f":"VLOOKUP(AB693,[1]AHLSOG!$O:$Q,3,FALSE)","v":"Texas"},4,"2nd","LE",0.25277777777777777,"J. Hishon","T. Cheek","A. Agozzino",null,"V",4,16,18,23,37,null,"H",16,18,38,39,41,71,"Hm","Lake Erie",1013580]
[42038,{"$f":"VLOOKUP(AB694,[1]AHLSOG!$O:$Q,2,FALSE)","v":"Lake Erie"},{"$f":"VLOOKUP(AB694,[1]AHLSOG!$O:$Q,3,FALSE)","v":"Texas"},5,"2nd","TEX",0.53819444444444442,"B. Ranford","V. Nichushkin","D. Meech","PP","V",7,9,15,19,37,null,"H",3,26,28,37,null,null,"Rd","Texas",1013580]
[42066,{"$f":"VLOOKUP(AB695,[1]AHLSOG!$O:$Q,2,FALSE)","v":"Lake Erie"},{"$f":"VLOOKUP(AB695,[1]AHLSOG!$O:$Q,3,FALSE)","v":"Texas"},6,"3rd","TEX",0.81874999999999998,"B. Ritchie","J. Klingberg","D. Meech","PP","V",4,9,16,20,23,37,"H",3,18,26,28,null,null,"Rd","Texas",1013580]
[42067,{"$f":"VLOOKUP(AB696,[1]AHLSOG!$O:$Q,2,FALSE)","v":"Lake Erie"},{"$f":"VLOOKUP(AB696,[1]AHLSOG!$O:$Q,3,FALSE)","v":"Texas"},7,"OT","LE",0.15763888888888888,"M. Schumacher",null,null,null,"V",7,9,20,37,null,null,"H",11,24,43,46,null,null,"Hm","Lake Erie",1013580]
["0 - 1",{"$f":"VLOOKUP(AB697,[1]AHLSOG!$O:$Q,2,FALSE)","v":"Lehigh Valley"},{"$f":"VLOOKUP(AB697,[1]AHLSOG!$O:$Q,3,FALSE)","v":"Hartford"},1,"1st","LV",1.9444444444444445E-2,"K. Goumas","D. Powe","B. Alderson",null,"V",5,14,22,23,44,null,"H",7,17,19,20,36,null,"Rd","Lehigh",1013581]
[42005,{"$f":"VLOOKUP(AB698,[1]AHLSOG!$O:$Q,2,FALSE)","v":"Lehigh Valley"},{"$f":"VLOOKUP(AB698,[1]AHLSOG!$O:$Q,3,FALSE)","v":"Hartford"},2,"2nd","HFD",0.19097222222222221,"O. Lindberg","C. Bourque","J. Fast",null,"V",5,17,24,27,44,null,"H",4,7,24,25,45,null,"Rd","Hartford",1013581]
[42036,{"$f":"VLOOKUP(AB699,[1]AHLSOG!$O:$Q,2,FALSE)","v":"Lehigh Valley"},{"$f":"VLOOKUP(AB699,[1]AHLSOG!$O:$Q,3,FALSE)","v":"Hartford"},3,"3rd","HFD",8.5416666666666655E-2,"R. Potulny","M. Bodie","D. McIlrath",null,"V",2,8,14,22,23,null,"H",7,11,20,25,36,null,"Rd","Hartford",1013581]
[42064,{"$f":"VLOOKUP(AB700,[1]AHLSOG!$O:$Q,2,FALSE)","v":"Lehigh Valley"},{"$f":"VLOOKUP(AB700,[1]AHLSOG!$O:$Q,3,FALSE)","v":"Hartford"},4,"3rd","HFD",0.54999999999999993,"J. Vaive","R. Potulny","J. Crabb",null,"V",5,14,15,23,44,null,"H",3,4,10,21,23,null,"Rd","Hartford",1013581]
[42095,{"$f":"VLOOKUP(AB701,[1]AHLSOG!$O:$Q,2,FALSE)","v":"Lehigh Valley"},{"$f":"VLOOKUP(AB701,[1]AHLSOG!$O:$Q,3,FALSE)","v":"Hartford"},5,"3rd","HFD",0.59583333333333333,"C. Bourque","J. Nightingale",null,null,"V",4,17,24,25,27,null,"H",4,20,24,25,45,null,"Rd","Hartford",1013581]
[42096,{"$f":"VLOOKUP(AB702,[1]AHLSOG!$O:$Q,2,FALSE)","v":"Lehigh Valley"},{"$f":"VLOOKUP(AB702,[1]AHLSOG!$O:$Q,3,FALSE)","v":"Hartford"},6,"3rd","LV",0.73472222222222217,"N. Cousins","Z. Stortini","P. Straka",null,"V",4,15,29,44,74,null,"H",3,7,24,25,45,null,"Rd","Lehigh",1013581]
["0 - 1",{"$f":"VLOOKUP(AB703,[1]AHLSOG!$O:$Q,2,FALSE)","v":"Manchester"},{"$f":"VLOOKUP(AB703,[1]AHLSOG!$O:$Q,3,FALSE)","v":"St. John's"},1,"1st","MCH",0.21319444444444444,"S. Sabourin","D. Van der Gulik",null,null,"V",13,16,27,34,44,null,"H",6,14,25,26,44,null,"Hm","Manchester",1013582]
[42005,{"$f":"VLOOKUP(AB704,[1]AHLSOG!$O:$Q,2,FALSE)","v":"Manchester"},{"$f":"VLOOKUP(AB704,[1]AHLSOG!$O:$Q,3,FALSE)","v":"St. John's"},2,"1st","STJ",0.56111111111111112,"B. Chiarot","S. Kosmachuk","P. Cormier","PP","V",18,24,27,28,34,null,"H",6,19,37,55,null,null,"Rd","St. John's",1013582]
[42006,{"$f":"VLOOKUP(AB705,[1]AHLSOG!$O:$Q,2,FALSE)","v":"Manchester"},{"$f":"VLOOKUP(AB705,[1]AHLSOG!$O:$Q,3,FALSE)","v":"St. John's"},3,"1st","MCH",0.5854166666666667,"S. Backman","K. Gravel","B. O'Neill",null,"V",4,9,17,24,44,null,"H",4,16,19,22,44,null,"Hm","Manchester",1013582]
[42007,{"$f":"VLOOKUP(AB706,[1]AHLSOG!$O:$Q,2,FALSE)","v":"Manchester"},{"$f":"VLOOKUP(AB706,[1]AHLSOG!$O:$Q,3,FALSE)","v":"St. John's"},4,"2nd","MCH",4.6527777777777779E-2,"C. Miller","J. Weal","S. Backman","PP","V",7,18,28,48,null,null,"H",6,16,19,22,55,null,"Hm","Manchester",1013582]
[42038,{"$f":"VLOOKUP(AB707,[1]AHLSOG!$O:$Q,2,FALSE)","v":"Manchester"},{"$f":"VLOOKUP(AB707,[1]AHLSOG!$O:$Q,3,FALSE)","v":"St. John's"},5,"2nd","STJ",0.24652777777777779,"J. Albert",null,null,"SH","V",4,13,16,18,null,null,"H",3,16,19,22,44,null,"Rd","St. John's",1013582]
[42039,{"$f":"VLOOKUP(AB708,[1]AHLSOG!$O:$Q,2,FALSE)","v":"Manchester"},{"$f":"VLOOKUP(AB708,[1]AHLSOG!$O:$Q,3,FALSE)","v":"St. John's"},6,"2nd","MCH",0.29166666666666669,"C. Miller","B. O'Neill",null,"PP","V",4,7,13,16,null,null,"H",5,6,16,19,22,null,"Hm","Manchester",1013582]
[42040,{"$f":"VLOOKUP(AB709,[1]AHLSOG!$O:$Q,2,FALSE)","v":"Manchester"},{"$f":"VLOOKUP(AB709,[1]AHLSOG!$O:$Q,3,FALSE)","v":"St. John's"},7,"2nd","MCH",0.63888888888888895,"J. McBain","Z. O'Brien","N. Dowd","PP","V",4,28,44,48,null,null,"H",10,25,26,44,55,null,"Hm","Manchester",1013582]
[42041,{"$f":"VLOOKUP(AB710,[1]AHLSOG!$O:$Q,2,FALSE)","v":"Manchester"},{"$f":"VLOOKUP(AB710,[1]AHLSOG!$O:$Q,3,FALSE)","v":"St. John's"},8,"3rd","MCH",0.20138888888888887,"M. Mersch","S. Sabourin","C. Miller",null,"V",4,8,14,26,28,null,"H",6,25,26,27,55,null,"Hm","Manchester",1013582]
["0 - 1",{"$f":"VLOOKUP(AB711,[1]AHLSOG!$O:$Q,2,FALSE)","v":"Norfolk"},{"$f":"VLOOKUP(AB711,[1]AHLSOG!$O:$Q,3,FALSE)","v":"W-B/Scranton"},1,"1st","NOR",0.82638888888888884,"B. Winchester","J. Blacker","S. Theodore","PP","V",3,4,14,25,null,null,"H",4,8,15,21,32,null,"Hm","Norfolk",1013583]
["0 - 2",{"$f":"VLOOKUP(AB712,[1]AHLSOG!$O:$Q,2,FALSE)","v":"Norfolk"},{"$f":"VLOOKUP(AB712,[1]AHLSOG!$O:$Q,3,FALSE)","v":"W-B/Scranton"},2,"2nd","NOR",0.72499999999999998,"N. Kerdiles","D. Steckel",null,null,"V",3,7,16,24,29,null,"H",2,6,8,34,39,null,"Hm","Norfolk",1013583]
[42006,{"$f":"VLOOKUP(AB713,[1]AHLSOG!$O:$Q,2,FALSE)","v":"Norfolk"},{"$f":"VLOOKUP(AB713,[1]AHLSOG!$O:$Q,3,FALSE)","v":"W-B/Scranton"},3,"3rd","WBS",0.60833333333333328,"C. Sheary","S. Wilson","A. Ebbett",null,"V",3,7,23,25,43,null,"H",7,8,10,32,34,null,"Rd","W-B/Scranton",1013583]
["0 - 1",{"$f":"VLOOKUP(AB714,[1]AHLSOG!$O:$Q,2,FALSE)","v":"Oklahoma City"},{"$f":"VLOOKUP(AB714,[1]AHLSOG!$O:$Q,3,FALSE)","v":"Iowa"},1,"1st","OKC",6.1111111111111116E-2,"R. Hamilton","D. Musil","J. Williams",null,"V",2,15,21,29,41,null,"H",6,8,12,17,19,null,"Hm","Oklahoma City",1013584]
["0 - 2",{"$f":"VLOOKUP(AB715,[1]AHLSOG!$O:$Q,2,FALSE)","v":"Oklahoma City"},{"$f":"VLOOKUP(AB715,[1]AHLSOG!$O:$Q,3,FALSE)","v":"Iowa"},2,"1st","OKC",0.79305555555555562,"L. Gazdic","T. Ewanyk","O. Klefbom",null,"V",8,18,25,27,44,null,"H",6,8,11,20,21,null,"Hm","Oklahoma City",1013584]
["0 - 3",{"$f":"VLOOKUP(AB716,[1]AHLSOG!$O:$Q,2,FALSE)","v":"Oklahoma City"},{"$f":"VLOOKUP(AB716,[1]AHLSOG!$O:$Q,3,FALSE)","v":"Iowa"},3,"1st","OKC",0.83263888888888893,"R. Hamilton","M. Ford",null,"PP","V",24,27,44,null,null,null,"H",11,12,16,17,19,null,"Hm","Oklahoma City",1013584]
["0 - 4",{"$f":"VLOOKUP(AB717,[1]AHLSOG!$O:$Q,2,FALSE)","v":"Oklahoma City"},{"$f":"VLOOKUP(AB717,[1]AHLSOG!$O:$Q,3,FALSE)","v":"Iowa"},4,"2nd","OKC",0.16527777777777777,"J. Khaira","K. Kessy","S. Pinizzotto",null,"V",15,21,24,25,29,null,"H",5,7,13,15,22,null,"Hm","Oklahoma City",1013584]
[42008,{"$f":"VLOOKUP(AB718,[1]AHLSOG!$O:$Q,2,FALSE)","v":"Oklahoma City"},{"$f":"VLOOKUP(AB718,[1]AHLSOG!$O:$Q,3,FALSE)","v":"Iowa"},5,"2nd","IA",0.58680555555555558,"R. Walters",null,null,null,"V",15,21,24,29,44,null,"H",11,15,18,20,21,null,"Rd","Iowa",1013584]
[42039,{"$f":"VLOOKUP(AB719,[1]AHLSOG!$O:$Q,2,FALSE)","v":"Oklahoma City"},{"$f":"VLOOKUP(AB719,[1]AHLSOG!$O:$Q,3,FALSE)","v":"Iowa"},6,"3rd","IA",8.6805555555555566E-2,"M. Hagel","B. Brassart",null,null,"V",15,21,24,25,29,null,"H",5,12,17,19,40,null,"Rd","Iowa",1013584]
[42067,{"$f":"VLOOKUP(AB720,[1]AHLSOG!$O:$Q,2,FALSE)","v":"Oklahoma City"},{"$f":"VLOOKUP(AB720,[1]AHLSOG!$O:$Q,3,FALSE)","v":"Iowa"},7,"3rd","IA",0.8125,"M. Hagel","R. Walters","B. Sutter",null,"V",15,21,25,27,29,44,"H",12,15,16,18,21,null,"Rd","Iowa",1013584]
[42068,{"$f":"VLOOKUP(AB721,[1]AHLSOG!$O:$Q,2,FALSE)","v":"Oklahoma City"},{"$f":"VLOOKUP(AB721,[1]AHLSOG!$O:$Q,3,FALSE)","v":"Iowa"},8,"3rd","OKC",0.82708333333333339,"K. Kessy",null,null,"EN","V",2,4,10,18,25,27,"H",6,7,8,13,22,null,"Hm","Oklahoma City",1013584]
[36526,{"$f":"VLOOKUP(AB722,[1]AHLSOG!$O:$Q,2,FALSE)","v":"San Antonio"},{"$f":"VLOOKUP(AB722,[1]AHLSOG!$O:$Q,3,FALSE)","v":"Rockford"},1,"1st","RFD",0.44097222222222227,"B. Mashinter","P. Regin","J. Nordstrom","PP","V",2,11,15,23,53,null,"H",3,5,22,32,null,null,"Rd","Rockford",1013585]
[36557,{"$f":"VLOOKUP(AB723,[1]AHLSOG!$O:$Q,2,FALSE)","v":"San Antonio"},{"$f":"VLOOKUP(AB723,[1]AHLSOG!$O:$Q,3,FALSE)","v":"Rockford"},2,"1st","RFD",0.61736111111111114,"M. McNeill","V. Pokka","P. Danault",null,"V",10,18,26,28,29,null,"H",7,22,26,32,44,null,"Rd","Rockford",1013585]
[36586,{"$f":"VLOOKUP(AB724,[1]AHLSOG!$O:$Q,2,FALSE)","v":"San Antonio"},{"$f":"VLOOKUP(AB724,[1]AHLSOG!$O:$Q,3,FALSE)","v":"Rockford"},3,"2nd","RFD",0.12430555555555556,"T. Brennan","D. Rasmussen",null,null,"V",7,8,12,25,53,null,"H",8,11,23,36,44,null,"Rd","Rockford",1013585]
[36617,{"$f":"VLOOKUP(AB725,[1]AHLSOG!$O:$Q,2,FALSE)","v":"San Antonio"},{"$f":"VLOOKUP(AB725,[1]AHLSOG!$O:$Q,3,FALSE)","v":"Rockford"},4,"2nd","RFD",0.55972222222222223,"V. Pokka","M. Carey","T. Teravainen","PP","V",7,21,24,27,29,null,"H",8,15,23,44,null,null,"Rd","Rockford",1013585]
[36647,{"$f":"VLOOKUP(AB726,[1]AHLSOG!$O:$Q,2,FALSE)","v":"San Antonio"},{"$f":"VLOOKUP(AB726,[1]AHLSOG!$O:$Q,3,FALSE)","v":"Rockford"},5,"3rd","RFD",2.4305555555555556E-2,"D. Rasmussen","P. Regin",null,null,"V",10,11,12,23,29,null,"H",3,5,17,26,36,null,"Rd","Rockford",1013585]
[42125,{"$f":"VLOOKUP(AB727,[1]AHLSOG!$O:$Q,2,FALSE)","v":"San Antonio"},{"$f":"VLOOKUP(AB727,[1]AHLSOG!$O:$Q,3,FALSE)","v":"Rockford"},6,"3rd","SA",0.62777777777777777,"M. Mancari","B. Parlett","B. Olson",null,"V",8,12,26,28,29,null,"H",6,7,15,26,28,null,"Hm","San Antonio",1013585]
[36526,{"$f":"VLOOKUP(AB728,[1]AHLSOG!$O:$Q,2,FALSE)","v":"Springfield"},{"$f":"VLOOKUP(AB728,[1]AHLSOG!$O:$Q,3,FALSE)","v":"Providence"},1,"1st","PRO",4.9305555555555554E-2,"S. Eminger","R. Spooner","B. Ferlin",null,"V",6,14,19,24,44,null,"H",3,8,11,13,37,null,"Rd","Providence",1013586]
[36557,{"$f":"VLOOKUP(AB729,[1]AHLSOG!$O:$Q,2,FALSE)","v":"Springfield"},{"$f":"VLOOKUP(AB729,[1]AHLSOG!$O:$Q,3,FALSE)","v":"Providence"},2,"1st","PRO",0.12847222222222224,"A. Camara","T. Randell","E. Werek",null,"V",6,11,15,20,44,null,"H",3,28,29,36,37,null,"Rd","Providence",1013586]
[42036,{"$f":"VLOOKUP(AB730,[1]AHLSOG!$O:$Q,2,FALSE)","v":"Springfield"},{"$f":"VLOOKUP(AB730,[1]AHLSOG!$O:$Q,3,FALSE)","v":"Providence"},3,"1st","SPR",0.3444444444444445,"J. D'Amigo","R. Craig","K. Rychel","PP","V",6,8,14,24,null,null,"H",5,12,15,29,40,null,"Hm","Springfield",1013586]
[42064,{"$f":"VLOOKUP(AB731,[1]AHLSOG!$O:$Q,2,FALSE)","v":"Springfield"},{"$f":"VLOOKUP(AB731,[1]AHLSOG!$O:$Q,3,FALSE)","v":"Providence"},4,"3rd","PRO",0.55763888888888891,"T. Cross","M. Lindblad","J. Florek",null,"V",3,6,9,18,22,null,"H",3,13,29,37,40,null,"Rd","Providence",1013586]
["0 - 1",{"$f":"VLOOKUP(AB732,[1]AHLSOG!$O:$Q,2,FALSE)","v":"Toronto"},{"$f":"VLOOKUP(AB732,[1]AHLSOG!$O:$Q,3,FALSE)","v":"Rochester"},1,"2nd","TOR",6.25E-2,"S. Abbott","J. Leivo",null,null,"V",2,19,25,33,34,null,"H",2,7,13,14,23,null,"Hm","Toronto",1013587]
["0 - 2",{"$f":"VLOOKUP(AB733,[1]AHLSOG!$O:$Q,2,FALSE)","v":"Toronto"},{"$f":"VLOOKUP(AB733,[1]AHLSOG!$O:$Q,3,FALSE)","v":"Rochester"},2,"2nd","TOR",0.1361111111111111,"C. Brown","B. Findlay","P. Granberg",null,"V",4,5,11,21,26,null,"H",2,8,9,29,36,null,"Hm","Toronto",1013587]
["0 - 3",{"$f":"VLOOKUP(AB734,[1]AHLSOG!$O:$Q,2,FALSE)","v":"Toronto"},{"$f":"VLOOKUP(AB734,[1]AHLSOG!$O:$Q,3,FALSE)","v":"Rochester"},3,"2nd","TOR",0.45833333333333331,"G. McKegg","C. Brown","V. Loov","SH","V",3,25,26,33,34,null,"H",8,9,29,50,null,null,"Hm","Toronto",1013587]
[42007,{"$f":"VLOOKUP(AB735,[1]AHLSOG!$O:$Q,2,FALSE)","v":"Toronto"},{"$f":"VLOOKUP(AB735,[1]AHLSOG!$O:$Q,3,FALSE)","v":"Rochester"},4,"2nd","RCH",0.5854166666666667,"P. Varone","L. Adam","M. Pysyk",null,"V",3,18,19,22,29,null,"H",2,9,23,29,36,null,"Rd","Rochester",1013587]
["0 - 1",{"$f":"VLOOKUP(AB736,[1]AHLSOG!$O:$Q,2,FALSE)","v":"Worcester"},{"$f":"VLOOKUP(AB736,[1]AHLSOG!$O:$Q,3,FALSE)","v":"Hershey"},1,"1st","WOR",7.6388888888888895E-2,"D. Tarasov","J. Langlois","K. Abeltshauser",null,"V",5,7,11,21,38,null,"H",4,10,12,19,28,null,"Hm","Worcester",1013588]
[42005,{"$f":"VLOOKUP(AB737,[1]AHLSOG!$O:$Q,2,FALSE)","v":"Worcester"},{"$f":"VLOOKUP(AB737,[1]AHLSOG!$O:$Q,3,FALSE)","v":"Hershey"},2,"1st","HER",8.6111111111111124E-2,"J. Broda","D. Gazley","T. Kundratek",null,"V",4,10,12,19,34,null,"H",2,8,11,14,22,null,"Rd","Hershey",1013588]
[42006,{"$f":"VLOOKUP(AB738,[1]AHLSOG!$O:$Q,2,FALSE)","v":"Worcester"},{"$f":"VLOOKUP(AB738,[1]AHLSOG!$O:$Q,3,FALSE)","v":"Hershey"},3,"1st","WOR",0.37291666666666662,"T. Kennedy","B. Lerg","M. Taormina",null,"V",5,7,17,27,36,null,"H",5,8,11,20,22,null,"Hm","Worcester",1013588]
[42037,{"$f":"VLOOKUP(AB739,[1]AHLSOG!$O:$Q,2,FALSE)","v":"Worcester"},{"$f":"VLOOKUP(AB739,[1]AHLSOG!$O:$Q,3,FALSE)","v":"Hershey"},4,"2nd","HER",0.21875,"C. Schilling","E. Burgdoerfer","P. Cornet",null,"V",5,13,18,24,32,null,"H",2,11,14,22,28,null,"Rd","Hershey",1013588]
[42038,{"$f":"VLOOKUP(AB740,[1]AHLSOG!$O:$Q,2,FALSE)","v":"Worcester"},{"$f":"VLOOKUP(AB740,[1]AHLSOG!$O:$Q,3,FALSE)","v":"Hershey"},5,"2nd","WOR",0.26180555555555557,"F. Hamilton","J. Langlois","K. Abeltshauser",null,"V",5,10,12,19,32,null,"H",4,10,12,19,28,null,"Hm","Worcester",1013588]
[42039,{"$f":"VLOOKUP(AB741,[1]AHLSOG!$O:$Q,2,FALSE)","v":"Worcester"},{"$f":"VLOOKUP(AB741,[1]AHLSOG!$O:$Q,3,FALSE)","v":"Hershey"},6,"2nd","WOR",0.6875,"D. Tarasov","E. Hayes","M. Karlsson",null,"V",7,11,18,21,34,null,"H",5,7,15,19,20,null,"Hm","Worcester",1013588]
[42040,{"$f":"VLOOKUP(AB742,[1]AHLSOG!$O:$Q,2,FALSE)","v":"Worcester"},{"$f":"VLOOKUP(AB742,[1]AHLSOG!$O:$Q,3,FALSE)","v":"Hershey"},7,"3rd","WOR",8.3333333333333329E-2,"M. Haley","T. Fedun","M. Taormina","PP","V",4,5,21,38,null,null,"H",13,14,15,18,20,null,"Hm","Worcester",1013588]
[42068,{"$f":"VLOOKUP(AB743,[1]AHLSOG!$O:$Q,2,FALSE)","v":"Worcester"},{"$f":"VLOOKUP(AB743,[1]AHLSOG!$O:$Q,3,FALSE)","v":"Hershey"},8,"3rd","HER",0.1986111111111111,"K. Newbury","T. Kundratek","D. Byers",null,"V",4,11,21,34,38,null,"H",2,7,14,15,18,null,"Rd","Hershey",1013588]
[42099,{"$f":"VLOOKUP(AB744,[1]AHLSOG!$O:$Q,2,FALSE)","v":"Worcester"},{"$f":"VLOOKUP(AB744,[1]AHLSOG!$O:$Q,3,FALSE)","v":"Hershey"},9,"3rd","HER",0.78055555555555556,"S. Oleksy","D. Gazley","K. Newbury",null,"V",7,10,11,24,34,38,"H",2,12,14,19,28,null,"Rd","Hershey",1013588]
["0 - 1",{"$f":"VLOOKUP(AB745,[1]AHLSOG!$O:$Q,2,FALSE)","v":"Albany"},{"$f":"VLOOKUP(AB745,[1]AHLSOG!$O:$Q,3,FALSE)","v":"Portland"},1,"1st","ALB",6.1111111111111116E-2,"J. Whitney","P. Thompson","S. Timmins",null,"V",4,17,19,36,49,null,"H",7,9,15,17,33,null,"Hm","Albany",1013589]
[42005,{"$f":"VLOOKUP(AB746,[1]AHLSOG!$O:$Q,2,FALSE)","v":"Albany"},{"$f":"VLOOKUP(AB746,[1]AHLSOG!$O:$Q,3,FALSE)","v":"Portland"},2,"2nd","POR",0.45624999999999999,"D. Reese","B. Gormley","H. Samuelsson","PP","V",2,17,19,36,49,null,"H",8,10,23,33,null,null,"Rd","Portland",1013589]
[42036,{"$f":"VLOOKUP(AB747,[1]AHLSOG!$O:$Q,2,FALSE)","v":"Albany"},{"$f":"VLOOKUP(AB747,[1]AHLSOG!$O:$Q,3,FALSE)","v":"Portland"},3,"OT","POR",0.12361111111111112,"L. Lessio","B. Shinnimin","J. Hache",null,"V",4,24,28,38,null,null,"H",8,15,23,33,null,null,"Rd","Portland",1013589]
["0 - 1",{"$f":"VLOOKUP(AB748,[1]AHLSOG!$O:$Q,2,FALSE)","v":"Bridgeport"},{"$f":"VLOOKUP(AB748,[1]AHLSOG!$O:$Q,3,FALSE)","v":"Springfield"},1,"1st","BRI",0.13125000000000001,"A. Ness","A. Quine","C. McDonald",null,"V",3,8,13,26,29,null,"H",6,13,21,22,27,null,"Hm","Bridgeport",1013590]
[42005,{"$f":"VLOOKUP(AB749,[1]AHLSOG!$O:$Q,2,FALSE)","v":"Bridgeport"},{"$f":"VLOOKUP(AB749,[1]AHLSOG!$O:$Q,3,FALSE)","v":"Springfield"},2,"1st","SPR",0.30069444444444443,"D. Tyrell","K. Rychel","T. Larkin",null,"V",14,15,22,24,37,null,"H",8,10,12,16,23,null,"Rd","Springfield",1013590]
[42006,{"$f":"VLOOKUP(AB750,[1]AHLSOG!$O:$Q,2,FALSE)","v":"Bridgeport"},{"$f":"VLOOKUP(AB750,[1]AHLSOG!$O:$Q,3,FALSE)","v":"Springfield"},3,"1st","BRI",0.73819444444444438,"A. Ness","K. Mouillierat","A. Quine",null,"V",3,8,13,32,40,null,"H",6,13,21,22,27,null,"Hm","Bridgeport",1013590]
[42037,{"$f":"VLOOKUP(AB751,[1]AHLSOG!$O:$Q,2,FALSE)","v":"Bridgeport"},{"$f":"VLOOKUP(AB751,[1]AHLSOG!$O:$Q,3,FALSE)","v":"Springfield"},4,"2nd","SPR",0.5756944444444444,"D. Tyrell","K. Rychel","H. Labrie",null,"V",3,5,14,15,22,null,"H",8,10,12,16,23,null,"Rd","Springfield",1013590]
[42065,{"$f":"VLOOKUP(AB752,[1]AHLSOG!$O:$Q,2,FALSE)","v":"Bridgeport"},{"$f":"VLOOKUP(AB752,[1]AHLSOG!$O:$Q,3,FALSE)","v":"Springfield"},5,"2nd","SPR",0.64166666666666672,"C. Cowick","J. Sifers","F. St. Denis",null,"V",26,28,32,36,40,null,"H",6,7,11,27,44,null,"Rd","Springfield",1013590]
[42096,{"$f":"VLOOKUP(AB753,[1]AHLSOG!$O:$Q,2,FALSE)","v":"Bridgeport"},{"$f":"VLOOKUP(AB753,[1]AHLSOG!$O:$Q,3,FALSE)","v":"Springfield"},6,"2nd","SPR",0.78402777777777777,"J. D'Amigo","J. Sifers",null,null,"V",3,13,26,29,40,null,"H",7,8,10,11,21,null,"Rd","Springfield",1013590]
[42097,{"$f":"VLOOKUP(AB754,[1]AHLSOG!$O:$Q,2,FALSE)","v":"Bridgeport"},{"$f":"VLOOKUP(AB754,[1]AHLSOG!$O:$Q,3,FALSE)","v":"Springfield"},7,"3rd","BRI",0.30902777777777779,"C. Langkow","H. Zolnierczyk",null,"SH","V",5,12,15,29,40,null,"H",4,11,16,24,null,null,"Hm","Bridgeport",1013590]
["0 - 1",{"$f":"VLOOKUP(AB755,[1]AHLSOG!$O:$Q,2,FALSE)","v":"Charlotte"},{"$f":"VLOOKUP(AB755,[1]AHLSOG!$O:$Q,3,FALSE)","v":"Hamilton"},1,"2nd","CHA",7.4305555555555555E-2,"G. Nemisz","P. Brown","P. Di Giuseppe",null,"V",3,15,20,21,26,null,"H",2,9,19,24,28,null,"Hm","Charlotte",1013591]
[42005,{"$f":"VLOOKUP(AB756,[1]AHLSOG!$O:$Q,2,FALSE)","v":"Charlotte"},{"$f":"VLOOKUP(AB756,[1]AHLSOG!$O:$Q,3,FALSE)","v":"Hamilton"},2,"3rd","HAM",0.14722222222222223,"C. Thomas","M. Bennett","C. Hudon",null,"V",2,9,10,17,19,null,"H",5,9,17,18,24,null,"Rd","Hamilton",1013591]
[42006,{"$f":"VLOOKUP(AB757,[1]AHLSOG!$O:$Q,2,FALSE)","v":"Charlotte"},{"$f":"VLOOKUP(AB757,[1]AHLSOG!$O:$Q,3,FALSE)","v":"Hamilton"},3,"3rd","CHA",0.38055555555555554,"G. Nemisz","R. Murphy","A. Aleardi","PP","V",7,21,26,40,null,null,"H",6,17,19,24,29,null,"Hm","Charlotte",1013591]
["0 - 1",{"$f":"VLOOKUP(AB758,[1]AHLSOG!$O:$Q,2,FALSE)","v":"Hartford"},{"$f":"VLOOKUP(AB758,[1]AHLSOG!$O:$Q,3,FALSE)","v":"Worcester"},1,"1st","HFD",0.36527777777777781,"C. Bourque","R. Bourque","J. Miller","PP","V",4,10,12,18,null,null,"H",2,9,10,17,39,null,"Hm","Hartford",1013592]
["0 - 2",{"$f":"VLOOKUP(AB759,[1]AHLSOG!$O:$Q,2,FALSE)","v":"Hartford"},{"$f":"VLOOKUP(AB759,[1]AHLSOG!$O:$Q,3,FALSE)","v":"Worcester"},2,"1st","HFD",0.47500000000000003,"J. Miller","M. Bodie",null,null,"V",5,12,18,20,28,null,"H",2,9,10,25,39,null,"Hm","Hartford",1013592]
["0 - 3",{"$f":"VLOOKUP(AB760,[1]AHLSOG!$O:$Q,2,FALSE)","v":"Hartford"},{"$f":"VLOOKUP(AB760,[1]AHLSOG!$O:$Q,3,FALSE)","v":"Worcester"},3,"1st","HFD",0.58680555555555558,"D. Kristo","J. Vaive","O. Lindberg",null,"V",2,4,15,18,20,null,"H",20,23,24,27,29,null,"Hm","Hartford",1013592]
["0 - 4",{"$f":"VLOOKUP(AB761,[1]AHLSOG!$O:$Q,2,FALSE)","v":"Hartford"},{"$f":"VLOOKUP(AB761,[1]AHLSOG!$O:$Q,3,FALSE)","v":"Worcester"},4,"3rd","HFD",2.013888888888889E-2,"J. Fast","M. Bodie","O. Lindberg",null,"V",2,12,14,19,28,null,"H",2,17,24,25,27,null,"Hm","Hartford",1013592]
[42008,{"$f":"VLOOKUP(AB762,[1]AHLSOG!$O:$Q,2,FALSE)","v":"Hartford"},{"$f":"VLOOKUP(AB762,[1]AHLSOG!$O:$Q,3,FALSE)","v":"Worcester"},5,"3rd","WOR",0.49444444444444446,"R. Carpenter","T. Kennedy","D. DeMelo",null,"V",2,4,8,13,22,null,"H",2,14,22,23,25,null,"Rd","Worcester",1013592]
[42039,{"$f":"VLOOKUP(AB763,[1]AHLSOG!$O:$Q,2,FALSE)","v":"Hartford"},{"$f":"VLOOKUP(AB763,[1]AHLSOG!$O:$Q,3,FALSE)","v":"Worcester"},6,"3rd","WOR",0.69930555555555562,"F. Hamilton","D. Tarasov","K. Abeltshauser","PP","V",5,8,10,12,19,null,"H",15,16,22,25,null,null,"Rd","Worcester",1013592]
[42067,{"$f":"VLOOKUP(AB764,[1]AHLSOG!$O:$Q,2,FALSE)","v":"Hartford"},{"$f":"VLOOKUP(AB764,[1]AHLSOG!$O:$Q,3,FALSE)","v":"Worcester"},7,"3rd","WOR",0.78333333333333333,"T. Kennedy","B. Lerg","D. DeMelo",null,"V",2,8,11,13,20,22,"H",5,9,16,22,39,null,"Rd","Worcester",1013592]
["0 - 1",{"$f":"VLOOKUP(AB765,[1]AHLSOG!$O:$Q,2,FALSE)","v":"Manchester"},{"$f":"VLOOKUP(AB765,[1]AHLSOG!$O:$Q,3,FALSE)","v":"Hershey"},1,"1st","MCH",7.4999999999999997E-2,"J. Weal",null,null,"PS","V",null,null,null,null,null,null,"H",null,null,null,null,null,null,"Hm","Manchester",1013593]
[42005,{"$f":"VLOOKUP(AB766,[1]AHLSOG!$O:$Q,2,FALSE)","v":"Manchester"},{"$f":"VLOOKUP(AB766,[1]AHLSOG!$O:$Q,3,FALSE)","v":"Hershey"},2,"1st","HER",0.3354166666666667,"K. Newbury","C. Wellman","D. Byers",null,"V",5,7,11,21,38,null,"H",3,5,16,19,22,null,"Rd","Hershey",1013593]
[42006,{"$f":"VLOOKUP(AB767,[1]AHLSOG!$O:$Q,2,FALSE)","v":"Manchester"},{"$f":"VLOOKUP(AB767,[1]AHLSOG!$O:$Q,3,FALSE)","v":"Hershey"},3,"2nd","MCH",0.36041666666666666,"N. Shore","M. Mersch","D. Forbort",null,"V",7,17,18,22,25,null,"H",3,5,24,27,37,null,"Hm","Manchester",1013593]
[42007,{"$f":"VLOOKUP(AB768,[1]AHLSOG!$O:$Q,2,FALSE)","v":"Manchester"},{"$f":"VLOOKUP(AB768,[1]AHLSOG!$O:$Q,3,FALSE)","v":"Hershey"},4,"3rd","MCH",0.43541666666666662,"N. Shore",null,null,"SH","V",11,13,21,25,34,null,"H",5,6,16,37,null,null,"Hm","Manchester",1013593]
["0 - 1",{"$f":"VLOOKUP(AB769,[1]AHLSOG!$O:$Q,2,FALSE)","v":"Milwaukee"},{"$f":"VLOOKUP(AB769,[1]AHLSOG!$O:$Q,3,FALSE)","v":"Chicago"},1,"2nd","MIL",0.3659722222222222,"V. Stalberg","V. Arvidsson","B. Leipsic","PP","V",15,25,27,55,null,null,"H",18,23,25,28,33,null,"Hm","Milwaukee",1013594]
["0 - 2",{"$f":"VLOOKUP(AB770,[1]AHLSOG!$O:$Q,2,FALSE)","v":"Milwaukee"},{"$f":"VLOOKUP(AB770,[1]AHLSOG!$O:$Q,3,FALSE)","v":"Chicago"},2,"2nd","MIL",0.45694444444444443,"F. Girard","T. Grant","V. Arvidsson",null,"V",5,9,24,28,37,null,"H",16,21,33,47,55,null,"Hm","Milwaukee",1013594]
["0 - 3",{"$f":"VLOOKUP(AB771,[1]AHLSOG!$O:$Q,2,FALSE)","v":"Milwaukee"},{"$f":"VLOOKUP(AB771,[1]AHLSOG!$O:$Q,3,FALSE)","v":"Chicago"},3,"3rd","MIL",0.6694444444444444,"C. Sissons","V. Stalberg","B. Leipsic",null,"V",4,9,12,37,42,null,"H",18,23,25,28,55,null,"Hm","Milwaukee",1013594]
[42007,{"$f":"VLOOKUP(AB772,[1]AHLSOG!$O:$Q,2,FALSE)","v":"Milwaukee"},{"$f":"VLOOKUP(AB772,[1]AHLSOG!$O:$Q,3,FALSE)","v":"Chicago"},4,"3rd","CHI",0.7895833333333333,"T. Broadhurst","P. Cannone","J. Chelios","PP","V",8,9,12,25,37,42,"H",2,7,29,51,null,null,"Rd","Chicago",1013594]
[42008,{"$f":"VLOOKUP(AB773,[1]AHLSOG!$O:$Q,2,FALSE)","v":"Milwaukee"},{"$f":"VLOOKUP(AB773,[1]AHLSOG!$O:$Q,3,FALSE)","v":"Chicago"},5,"3rd","MIL",0.81527777777777777,"M. Liambas","R. Clune",null,"EN","V",8,15,25,27,38,42,"H",7,17,22,36,55,null,"Hm","Milwaukee",1013594]
["0 - 1",{"$f":"VLOOKUP(AB774,[1]AHLSOG!$O:$Q,2,FALSE)","v":"Oklahoma City"},{"$f":"VLOOKUP(AB774,[1]AHLSOG!$O:$Q,3,FALSE)","v":"Iowa"},1,"1st","OKC",0.42430555555555555,"A. Miller","M. Ford","A. Lander","PP","V",18,24,27,44,null,null,"H",11,16,17,19,25,null,"Hm","Oklahoma City",1013595]
[42005,{"$f":"VLOOKUP(AB775,[1]AHLSOG!$O:$Q,2,FALSE)","v":"Oklahoma City"},{"$f":"VLOOKUP(AB775,[1]AHLSOG!$O:$Q,3,FALSE)","v":"Iowa"},2,"1st","IA",0.68611111111111101,"Z. Phillips","R. Walters","S. Bickel","PP","V",2,15,36,41,51,null,"H",6,7,10,15,null,null,"Rd","Iowa",1013595]
[42006,{"$f":"VLOOKUP(AB776,[1]AHLSOG!$O:$Q,2,FALSE)","v":"Oklahoma City"},{"$f":"VLOOKUP(AB776,[1]AHLSOG!$O:$Q,3,FALSE)","v":"Iowa"},3,"1st","OKC",0.74513888888888891,"J. Williams","D. Musil","M. Gernat",null,"V",17,24,27,36,44,null,"H",6,12,17,19,40,null,"Hm","Oklahoma City",1013595]
[42007,{"$f":"VLOOKUP(AB777,[1]AHLSOG!$O:$Q,2,FALSE)","v":"Oklahoma City"},{"$f":"VLOOKUP(AB777,[1]AHLSOG!$O:$Q,3,FALSE)","v":"Iowa"},4,"2nd","OKC",0.2722222222222222,"J. Oesterle","S. Pinizzotto","K. Kessy",null,"V",11,15,21,29,41,null,"H",7,13,15,18,22,null,"Hm","Oklahoma City",1013595]
[42008,{"$f":"VLOOKUP(AB778,[1]AHLSOG!$O:$Q,2,FALSE)","v":"Oklahoma City"},{"$f":"VLOOKUP(AB778,[1]AHLSOG!$O:$Q,3,FALSE)","v":"Iowa"},5,"2nd","OKC",0.77777777777777779,"C. Ludwig","C. Hamilton",null,null,"V",4,10,18,24,25,null,"H",6,10,16,24,25,null,"Hm","Oklahoma City",1013595]
[42039,{"$f":"VLOOKUP(AB779,[1]AHLSOG!$O:$Q,2,FALSE)","v":"Oklahoma City"},{"$f":"VLOOKUP(AB779,[1]AHLSOG!$O:$Q,3,FALSE)","v":"Iowa"},6,"3rd","IA",0.23750000000000002,"M. Keranen","K. Gabriel","B. Sutter",null,"V",17,24,25,27,36,null,"H",7,13,15,18,22,null,"Rd","Iowa",1013595]
[36526,{"$f":"VLOOKUP(AB780,[1]AHLSOG!$O:$Q,2,FALSE)","v":"Providence"},{"$f":"VLOOKUP(AB780,[1]AHLSOG!$O:$Q,3,FALSE)","v":"St. John's"},1,"1st","STJ",0.75416666666666676,"E. O'Dell","C. Balisy","P. Cormier","PP","V",13,14,18,27,28,null,"H",3,8,9,null,null,null,"Rd","St. John's",1013596]
[42005,{"$f":"VLOOKUP(AB781,[1]AHLSOG!$O:$Q,2,FALSE)","v":"Providence"},{"$f":"VLOOKUP(AB781,[1]AHLSOG!$O:$Q,3,FALSE)","v":"St. John's"},2,"2nd","PRO",0.23333333333333331,"R. Spooner","B. Youds","B. Ferlin","PP","V",4,13,16,44,null,null,"H",2,14,19,24,44,null,"Hm","Providence",1013596]
[42036,{"$f":"VLOOKUP(AB782,[1]AHLSOG!$O:$Q,2,FALSE)","v":"Providence"},{"$f":"VLOOKUP(AB782,[1]AHLSOG!$O:$Q,3,FALSE)","v":"St. John's"},3,"2nd","STJ",0.65347222222222223,"W. O'Neill","E. O'Dell","P. Cormier","PP","V",14,18,24,27,28,null,"H",6,8,14,24,null,null,"Rd","St. John's",1013596]
[42037,{"$f":"VLOOKUP(AB783,[1]AHLSOG!$O:$Q,2,FALSE)","v":"Providence"},{"$f":"VLOOKUP(AB783,[1]AHLSOG!$O:$Q,3,FALSE)","v":"St. John's"},4,"3rd","PRO",0.42777777777777781,"D. Pastrnak","F. Simonelli","A. Khokhlachev",null,"V",4,8,14,28,48,null,"H",6,13,29,32,44,null,"Hm","Providence",1013596]
["0 - 1",{"$f":"VLOOKUP(AB784,[1]AHLSOG!$O:$Q,2,FALSE)","v":"Hamilton"},{"$f":"VLOOKUP(AB784,[1]AHLSOG!$O:$Q,3,FALSE)","v":"Rochester"},1,"1st","HAM",0.56041666666666667,"D. Carr","G. Dumont","S. Andrighetto",null,"V",3,4,21,22,92,null,"H",2,4,11,27,40,null,"Hm","Hamilton",1013597]
["0 - 2",{"$f":"VLOOKUP(AB785,[1]AHLSOG!$O:$Q,2,FALSE)","v":"Hamilton"},{"$f":"VLOOKUP(AB785,[1]AHLSOG!$O:$Q,3,FALSE)","v":"Rochester"},2,"1st","HAM",0.75902777777777775,"M. Bennett","C. Hudon",null,null,"V",5,16,19,22,29,null,"H",9,10,15,16,17,null,"Hm","Hamilton",1013597]
["0 - 3",{"$f":"VLOOKUP(AB786,[1]AHLSOG!$O:$Q,2,FALSE)","v":"Hamilton"},{"$f":"VLOOKUP(AB786,[1]AHLSOG!$O:$Q,3,FALSE)","v":"Rochester"},3,"2nd","HAM",0.47291666666666665,"D. Carr","G. Dumont",null,null,"V",3,11,21,34,92,null,"H",2,11,26,27,40,null,"Hm","Hamilton",1013597]
["0 - 4",{"$f":"VLOOKUP(AB787,[1]AHLSOG!$O:$Q,2,FALSE)","v":"Hamilton"},{"$f":"VLOOKUP(AB787,[1]AHLSOG!$O:$Q,3,FALSE)","v":"Rochester"},4,"2nd","HAM",0.51944444444444449,"D. Bowman","C. Thomas","T. Hensick","PP","V",3,29,37,43,null,null,"H",7,9,15,17,19,null,"Hm","Hamilton",1013597]
["0 - 5",{"$f":"VLOOKUP(AB788,[1]AHLSOG!$O:$Q,2,FALSE)","v":"Hamilton"},{"$f":"VLOOKUP(AB788,[1]AHLSOG!$O:$Q,3,FALSE)","v":"Rochester"},5,"2nd","HAM",0.6069444444444444,"G. Dumont","M. Macenauer","D. Drewiske",null,"V",19,22,29,33,34,null,"H",2,4,12,18,40,null,"Hm","Hamilton",1013597]
["0 - 6",{"$f":"VLOOKUP(AB789,[1]AHLSOG!$O:$Q,2,FALSE)","v":"Hamilton"},{"$f":"VLOOKUP(AB789,[1]AHLSOG!$O:$Q,3,FALSE)","v":"Rochester"},6,"2nd","HAM",0.62222222222222223,"S. Andrighetto","D. Carr","T. Hensick",null,"V",3,5,11,33,92,null,"H",7,11,17,26,27,null,"Hm","Hamilton",1013597]
[42010,{"$f":"VLOOKUP(AB790,[1]AHLSOG!$O:$Q,2,FALSE)","v":"Hamilton"},{"$f":"VLOOKUP(AB790,[1]AHLSOG!$O:$Q,3,FALSE)","v":"Rochester"},7,"3rd","RCH",0.11666666666666665,"T. Schaller","J. Armia","M. Grigorenko","PP","V",3,11,25,33,34,null,"H",2,4,18,40,null,null,"Rd","Rochester",1013597]
[36526,{"$f":"VLOOKUP(AB791,[1]AHLSOG!$O:$Q,2,FALSE)","v":"Rockford"},{"$f":"VLOOKUP(AB791,[1]AHLSOG!$O:$Q,3,FALSE)","v":"Lake Erie"},1,"1st","LE",0.15972222222222224,"S. Elliott","M. Noreau","J. Hishon","PP","V",18,26,38,46,71,null,"H",10,18,28,29,null,null,"Rd","Lake Erie",1013598]
[36557,{"$f":"VLOOKUP(AB792,[1]AHLSOG!$O:$Q,2,FALSE)","v":"Rockford"},{"$f":"VLOOKUP(AB792,[1]AHLSOG!$O:$Q,3,FALSE)","v":"Lake Erie"},2,"1st","LE",0.24791666666666667,"C. Smith","K. Stollery","P. Carey","PP","V",3,28,37,41,43,null,"H",7,15,18,28,null,null,"Rd","Lake Erie",1013598]
[42036,{"$f":"VLOOKUP(AB793,[1]AHLSOG!$O:$Q,2,FALSE)","v":"Rockford"},{"$f":"VLOOKUP(AB793,[1]AHLSOG!$O:$Q,3,FALSE)","v":"Lake Erie"},3,"2nd","RFD",0.22152777777777777,"V. Pokka","T. Brennan","G. Ross","PP","V",16,27,28,37,null,null,"H",7,18,26,28,29,null,"Hm","Rockford",1013598]
[42064,{"$f":"VLOOKUP(AB794,[1]AHLSOG!$O:$Q,2,FALSE)","v":"Rockford"},{"$f":"VLOOKUP(AB794,[1]AHLSOG!$O:$Q,3,FALSE)","v":"Lake Erie"},4,"2nd","LE",0.2902777777777778,"C. Smith","P. Carey","M. Sgarbossa","PP","V",26,28,37,43,46,null,"H",4,10,12,23,null,null,"Rd","Lake Erie",1013598]
[42095,{"$f":"VLOOKUP(AB795,[1]AHLSOG!$O:$Q,2,FALSE)","v":"Rockford"},{"$f":"VLOOKUP(AB795,[1]AHLSOG!$O:$Q,3,FALSE)","v":"Lake Erie"},5,"2nd","LE",0.55555555555555558,"S. Elliott","M. Noreau","C. Smith","PP","V",26,28,37,43,46,null,"H",4,12,15,22,null,null,"Rd","Lake Erie",1013598]
[42096,{"$f":"VLOOKUP(AB796,[1]AHLSOG!$O:$Q,2,FALSE)","v":"Rockford"},{"$f":"VLOOKUP(AB796,[1]AHLSOG!$O:$Q,3,FALSE)","v":"Lake Erie"},6,"3rd","RFD",8.1250000000000003E-2,"M. McNeill","G. Ross","K. Cumiskey",null,"V",3,26,38,39,71,null,"H",2,15,18,26,28,null,"Hm","Rockford",1013598]
[42097,{"$f":"VLOOKUP(AB797,[1]AHLSOG!$O:$Q,2,FALSE)","v":"Rockford"},{"$f":"VLOOKUP(AB797,[1]AHLSOG!$O:$Q,3,FALSE)","v":"Lake Erie"},7,"3rd","RFD",0.60763888888888895,"M. McNeill","G. Ross","T. Brennan",null,"V",3,24,26,37,43,null,"H",7,18,26,28,29,null,"Hm","Rockford",1013598]
[42098,{"$f":"VLOOKUP(AB798,[1]AHLSOG!$O:$Q,2,FALSE)","v":"Rockford"},{"$f":"VLOOKUP(AB798,[1]AHLSOG!$O:$Q,3,FALSE)","v":"Lake Erie"},8,"3rd","RFD",0.76388888888888884,"P. Regin","J. Nordstrom","K. Dahlbeck",null,"V",11,17,28,38,46,null,"H",7,11,12,15,23,null,"Hm","Rockford",1013598]
[42099,{"$f":"VLOOKUP(AB799,[1]AHLSOG!$O:$Q,2,FALSE)","v":"Rockford"},{"$f":"VLOOKUP(AB799,[1]AHLSOG!$O:$Q,3,FALSE)","v":"Lake Erie"},9,"OT","RFD",0.21527777777777779,"P. Regin","T. Brennan",null,null,"V",18,26,28,null,null,null,"H",7,11,23,null,null,null,"Hm","Rockford",1013598]
["0 - 1",{"$f":"VLOOKUP(AB800,[1]AHLSOG!$O:$Q,2,FALSE)","v":"Bridgeport"},{"$f":"VLOOKUP(AB800,[1]AHLSOG!$O:$Q,3,FALSE)","v":"Norfolk"},1,"1st","BRI",0.45416666666666666,"C. Stretch","H. Zolnierczyk","G. Reinhart","PP","V",2,4,10,19,null,null,"H",4,8,12,16,23,null,"Hm","Bridgeport",1013599]
["0 - 2",{"$f":"VLOOKUP(AB801,[1]AHLSOG!$O:$Q,2,FALSE)","v":"Bridgeport"},{"$f":"VLOOKUP(AB801,[1]AHLSOG!$O:$Q,3,FALSE)","v":"Norfolk"},2,"1st","BRI",0.62708333333333333,"A. Quine","R. Pulock","K. Mouillierat",null,"V",9,15,18,21,32,null,"H",6,10,13,21,22,null,"Hm","Bridgeport",1013599]
["0 - 3",{"$f":"VLOOKUP(AB802,[1]AHLSOG!$O:$Q,2,FALSE)","v":"Bridgeport"},{"$f":"VLOOKUP(AB802,[1]AHLSOG!$O:$Q,3,FALSE)","v":"Norfolk"},3,"1st","BRI",0.75555555555555554,"J. Courtnall","H. Zolnierczyk","S. Mayfield","SH","V",4,5,18,20,28,null,"H",4,10,14,16,null,null,"Hm","Bridgeport",1013599]
[42007,{"$f":"VLOOKUP(AB803,[1]AHLSOG!$O:$Q,2,FALSE)","v":"Bridgeport"},{"$f":"VLOOKUP(AB803,[1]AHLSOG!$O:$Q,3,FALSE)","v":"Norfolk"},4,"3rd","NOR",9.5833333333333326E-2,"J. Kurtz","M. Clark","D. Steckel","SH","V",2,6,12,39,null,null,"H",6,13,21,22,27,null,"Rd","Norfolk",1013599]
["0 - 1",{"$f":"VLOOKUP(AB804,[1]AHLSOG!$O:$Q,2,FALSE)","v":"Grand Rapids"},{"$f":"VLOOKUP(AB804,[1]AHLSOG!$O:$Q,3,FALSE)","v":"Chicago"},1,"1st","GR",0.32222222222222224,"A. Miele","K. Porter","N. Paetsch","PP","V",4,7,15,27,null,null,"H",4,12,16,21,29,null,"Hm","Grand Rapids",1013600]
[42005,{"$f":"VLOOKUP(AB805,[1]AHLSOG!$O:$Q,2,FALSE)","v":"Grand Rapids"},{"$f":"VLOOKUP(AB805,[1]AHLSOG!$O:$Q,3,FALSE)","v":"Chicago"},2,"1st","CHI",0.66388888888888886,"T. Broadhurst",null,null,null,"V",4,7,9,12,37,null,"H",5,16,17,22,55,null,"Rd","Chicago",1013600]
[42036,{"$f":"VLOOKUP(AB806,[1]AHLSOG!$O:$Q,2,FALSE)","v":"Grand Rapids"},{"$f":"VLOOKUP(AB806,[1]AHLSOG!$O:$Q,3,FALSE)","v":"Chicago"},3,"2nd","CHI",0.64652777777777781,"P. McRae","D. Shields",null,null,"V",4,7,8,10,null,null,"H",3,6,15,16,null,null,"Rd","Chicago",1013600]
[42064,{"$f":"VLOOKUP(AB807,[1]AHLSOG!$O:$Q,2,FALSE)","v":"Grand Rapids"},{"$f":"VLOOKUP(AB807,[1]AHLSOG!$O:$Q,3,FALSE)","v":"Chicago"},4,"3rd","CHI",0.77500000000000002,"T. Rattie","P. McRae",null,"EN","V",5,8,10,24,28,null,"H",4,6,12,14,15,21,"Rd","Chicago",1013600]
[36526,{"$f":"VLOOKUP(AB808,[1]AHLSOG!$O:$Q,2,FALSE)","v":"Hartford"},{"$f":"VLOOKUP(AB808,[1]AHLSOG!$O:$Q,3,FALSE)","v":"Albany"},1,"1st","ALB",3.125E-2,"P. Thompson","D. Kelly","R. Hrabarenka",null,"V",8,9,15,17,29,null,"H",2,9,10,14,25,null,"Rd","Albany",1013601]
[42005,{"$f":"VLOOKUP(AB809,[1]AHLSOG!$O:$Q,2,FALSE)","v":"Hartford"},{"$f":"VLOOKUP(AB809,[1]AHLSOG!$O:$Q,3,FALSE)","v":"Albany"},2,"1st","HFD",0.11805555555555557,"J. Crabb",null,null,null,"V",2,5,10,16,23,null,"H",2,14,22,23,25,null,"Hm","Hartford",1013601]
[42006,{"$f":"VLOOKUP(AB810,[1]AHLSOG!$O:$Q,2,FALSE)","v":"Hartford"},{"$f":"VLOOKUP(AB810,[1]AHLSOG!$O:$Q,3,FALSE)","v":"Albany"},3,"3rd","HFD",0.29375000000000001,"R. Haggerty","J. Miller","C. Bourque","PP","V",8,10,23,29,null,null,"H",2,9,10,17,39,null,"Hm","Hartford",1013601]
[42007,{"$f":"VLOOKUP(AB811,[1]AHLSOG!$O:$Q,2,FALSE)","v":"Hartford"},{"$f":"VLOOKUP(AB811,[1]AHLSOG!$O:$Q,3,FALSE)","v":"Albany"},4,"3rd","HFD",0.36249999999999999,"O. Lindberg","J. Fast","D. Kristo","PP","V",5,8,10,19,null,null,"H",20,23,24,27,29,null,"Hm","Hartford",1013601]
["0 - 1",{"$f":"VLOOKUP(AB812,[1]AHLSOG!$O:$Q,2,FALSE)","v":"Springfield"},{"$f":"VLOOKUP(AB812,[1]AHLSOG!$O:$Q,3,FALSE)","v":"St. John's"},1,"1st","SPR",5.5555555555555552E-2,"K. Rychel","D. Tyrell","B. Ponich",null,"V",4,8,13,14,48,null,"H",3,14,15,22,26,null,"Hm","Springfield",1013602]
["0 - 2",{"$f":"VLOOKUP(AB813,[1]AHLSOG!$O:$Q,2,FALSE)","v":"Springfield"},{"$f":"VLOOKUP(AB813,[1]AHLSOG!$O:$Q,3,FALSE)","v":"St. John's"},2,"1st","SPR",0.26527777777777778,"T. Larkin","J. D'Amigo","C. Cowick","PP","V",18,26,28,44,null,null,"H",8,14,29,36,37,null,"Hm","Springfield",1013602]
[42006,{"$f":"VLOOKUP(AB814,[1]AHLSOG!$O:$Q,2,FALSE)","v":"Springfield"},{"$f":"VLOOKUP(AB814,[1]AHLSOG!$O:$Q,3,FALSE)","v":"St. John's"},3,"1st","STJ",0.7006944444444444,"C. Balisy","A. Brassard","N. Blanchard",null,"V",7,13,18,26,50,null,"H",4,12,17,18,37,null,"Rd","St. John's",1013602]
[42007,{"$f":"VLOOKUP(AB815,[1]AHLSOG!$O:$Q,2,FALSE)","v":"Springfield"},{"$f":"VLOOKUP(AB815,[1]AHLSOG!$O:$Q,3,FALSE)","v":"St. John's"},4,"2nd","SPR",0.10347222222222223,"R. Craig","A. Madaisky","S. Collins","PP","V",7,18,26,28,null,null,"H",5,12,15,17,18,null,"Hm","Springfield",1013602]
[42038,{"$f":"VLOOKUP(AB816,[1]AHLSOG!$O:$Q,2,FALSE)","v":"Springfield"},{"$f":"VLOOKUP(AB816,[1]AHLSOG!$O:$Q,3,FALSE)","v":"St. John's"},5,"2nd","STJ",0.22083333333333333,"E. O'Dell","B. Chiarot","W. O'Neill","PP","V",14,18,27,28,34,null,"H",12,17,24,37,null,null,"Rd","St. John's",1013602]
[42066,{"$f":"VLOOKUP(AB817,[1]AHLSOG!$O:$Q,2,FALSE)","v":"Springfield"},{"$f":"VLOOKUP(AB817,[1]AHLSOG!$O:$Q,3,FALSE)","v":"St. John's"},6,"2nd","STJ",0.52916666666666667,"B. Kichton","W. O'Neill","C. Balisy",null,"V",8,13,16,27,48,null,"H",3,5,11,28,36,null,"Rd","St. John's",1013602]
[42067,{"$f":"VLOOKUP(AB818,[1]AHLSOG!$O:$Q,2,FALSE)","v":"Springfield"},{"$f":"VLOOKUP(AB818,[1]AHLSOG!$O:$Q,3,FALSE)","v":"St. John's"},7,"2nd","SPR",0.71736111111111101,"L. Sedlak","J. Anderson",null,null,"V",8,9,18,28,34,null,"H",3,8,22,24,36,null,"Hm","Springfield",1013602]
[42068,{"$f":"VLOOKUP(AB819,[1]AHLSOG!$O:$Q,2,FALSE)","v":"Springfield"},{"$f":"VLOOKUP(AB819,[1]AHLSOG!$O:$Q,3,FALSE)","v":"St. John's"},8,"3rd","SPR",0.3659722222222222,"A. Madaisky","L. Sedlak","D. Tyrell",null,"V",7,9,18,25,28,null,"H",4,5,14,15,22,null,"Hm","Springfield",1013602]
["0 - 1",{"$f":"VLOOKUP(AB820,[1]AHLSOG!$O:$Q,2,FALSE)","v":"Texas"},{"$f":"VLOOKUP(AB820,[1]AHLSOG!$O:$Q,3,FALSE)","v":"Toronto"},1,"1st","TEX",0.71180555555555547,"G. Rallo","S. Glennie","B. Ranford","PP","V",19,21,25,50,null,null,"H",7,9,15,19,27,null,"Hm","Texas",1013603]
["0 - 2",{"$f":"VLOOKUP(AB821,[1]AHLSOG!$O:$Q,2,FALSE)","v":"Texas"},{"$f":"VLOOKUP(AB821,[1]AHLSOG!$O:$Q,3,FALSE)","v":"Toronto"},2,"1st","TEX",0.77569444444444446,"R. Faksa","B. Ranford","S. Glennie",null,"V",2,7,12,17,22,null,"H",9,15,18,19,29,null,"Hm","Texas",1013603]
[42006,{"$f":"VLOOKUP(AB822,[1]AHLSOG!$O:$Q,2,FALSE)","v":"Texas"},{"$f":"VLOOKUP(AB822,[1]AHLSOG!$O:$Q,3,FALSE)","v":"Toronto"},3,"2nd","TOR",0.51180555555555551,"S. Abbott","T. Smith","J. Leivo",null,"V",13,14,23,24,25,null,"H",3,8,9,16,29,null,"Rd","Toronto",1013603]
[42007,{"$f":"VLOOKUP(AB823,[1]AHLSOG!$O:$Q,2,FALSE)","v":"Texas"},{"$f":"VLOOKUP(AB823,[1]AHLSOG!$O:$Q,3,FALSE)","v":"Toronto"},4,"3rd","TEX",0.8222222222222223,"B. Ritchie","T. Morin","C. McKenzie","EN.PP","V",4,12,13,19,23,null,"H",4,16,18,20,23,null,"Hm","Texas",1013603]
[36526,{"$f":"VLOOKUP(AB824,[1]AHLSOG!$O:$Q,2,FALSE)","v":"Worcester"},{"$f":"VLOOKUP(AB824,[1]AHLSOG!$O:$Q,3,FALSE)","v":"Lehigh Valley"},1,"1st","LV",0.21527777777777779,"T. Leier","P. Straka","S. Gostisbehere","PP","V",8,14,23,24,25,null,"H",2,7,15,20,null,null,"Rd","Lehigh",1013605]
[42005,{"$f":"VLOOKUP(AB825,[1]AHLSOG!$O:$Q,2,FALSE)","v":"Worcester"},{"$f":"VLOOKUP(AB825,[1]AHLSOG!$O:$Q,3,FALSE)","v":"Lehigh Valley"},2,"1st","WOR",0.71805555555555556,"J. Langlois","F. Hamilton","M. Taormina",null,"V",12,14,17,28,37,null,"H",4,5,12,20,28,null,"Hm","Worcester",1013605]
[42006,{"$f":"VLOOKUP(AB826,[1]AHLSOG!$O:$Q,2,FALSE)","v":"Worcester"},{"$f":"VLOOKUP(AB826,[1]AHLSOG!$O:$Q,3,FALSE)","v":"Lehigh Valley"},3,"2nd","WOR",0.46875,"J. Langlois","T. Fedun","M. Taormina","PP","V",4,17,20,36,null,null,"H",12,14,19,20,28,null,"Hm","Worcester",1013605]
[42037,{"$f":"VLOOKUP(AB827,[1]AHLSOG!$O:$Q,2,FALSE)","v":"Worcester"},{"$f":"VLOOKUP(AB827,[1]AHLSOG!$O:$Q,3,FALSE)","v":"Lehigh Valley"},4,"2nd","LV",0.77708333333333324,"P. Straka","J. Pettersson","R. Hagg",null,"V",4,8,24,25,45,null,"H",5,15,18,20,22,null,"Rd","Lehigh",1013605]
[42065,{"$f":"VLOOKUP(AB828,[1]AHLSOG!$O:$Q,2,FALSE)","v":"Worcester"},{"$f":"VLOOKUP(AB828,[1]AHLSOG!$O:$Q,3,FALSE)","v":"Lehigh Valley"},5,"3rd","LV",0.3347222222222222,"B. Alderson","K. Goumas","M. Lamarche",null,"V",7,17,19,20,36,null,"H",4,10,15,18,22,null,"Rd","Lehigh",1013605]
[42066,{"$f":"VLOOKUP(AB829,[1]AHLSOG!$O:$Q,2,FALSE)","v":"Worcester"},{"$f":"VLOOKUP(AB829,[1]AHLSOG!$O:$Q,3,FALSE)","v":"Lehigh Valley"},6,"3rd","WOR",0.36874999999999997,"D. Tarasov","M. Tennyson","F. Hamilton",null,"V",4,11,12,20,24,null,"H",5,12,19,20,28,null,"Hm","Worcester",1013605]
[42067,{"$f":"VLOOKUP(AB830,[1]AHLSOG!$O:$Q,2,FALSE)","v":"Worcester"},{"$f":"VLOOKUP(AB830,[1]AHLSOG!$O:$Q,3,FALSE)","v":"Lehigh Valley"},7,"3rd","WOR",0.41111111111111115,"R. Carpenter","R. Schwartz",null,"SH","V",10,14,21,23,45,null,"H",2,3,22,27,null,null,"Hm","Worcester",1013605]
[36526,{"$f":"VLOOKUP(AB831,[1]AHLSOG!$O:$Q,2,FALSE)","v":"Iowa"},{"$f":"VLOOKUP(AB831,[1]AHLSOG!$O:$Q,3,FALSE)","v":"Rockford"},1,"1st","RFD",0.22638888888888889,"P. Labrie","M. Carey","S. Johns",null,"V",4,10,16,22,27,null,"H",2,15,21,36,51,null,"Rd","Rockford",1013606]
[36557,{"$f":"VLOOKUP(AB832,[1]AHLSOG!$O:$Q,2,FALSE)","v":"Iowa"},{"$f":"VLOOKUP(AB832,[1]AHLSOG!$O:$Q,3,FALSE)","v":"Rockford"},2,"1st","RFD",0.56458333333333333,"J. Nordstrom","B. Mashinter","K. Cumiskey","PP","V",2,12,15,23,53,null,"H",2,18,25,27,null,null,"Rd","Rockford",1013606]
[36586,{"$f":"VLOOKUP(AB833,[1]AHLSOG!$O:$Q,2,FALSE)","v":"Iowa"},{"$f":"VLOOKUP(AB833,[1]AHLSOG!$O:$Q,3,FALSE)","v":"Rockford"},3,"2nd","RFD",0.22083333333333333,"D. LeBlanc","T. Brennan","M. Carey",null,"V",7,14,24,27,29,null,"H",2,4,10,39,41,null,"Rd","Rockford",1013606]
[36617,{"$f":"VLOOKUP(AB834,[1]AHLSOG!$O:$Q,2,FALSE)","v":"Iowa"},{"$f":"VLOOKUP(AB834,[1]AHLSOG!$O:$Q,3,FALSE)","v":"Rockford"},4,"2nd","RFD",0.5708333333333333,"M. McNeill",null,null,"PP","V",4,7,25,26,28,null,"H",17,24,44,51,null,null,"Rd","Rockford",1013606]
[42095,{"$f":"VLOOKUP(AB835,[1]AHLSOG!$O:$Q,2,FALSE)","v":"Iowa"},{"$f":"VLOOKUP(AB835,[1]AHLSOG!$O:$Q,3,FALSE)","v":"Rockford"},5,"2nd","IA",0.75624999999999998,"B. Brassart","M. Keranen","R. Walters",null,"V",7,18,23,28,29,null,"H",15,21,25,36,41,null,"Hm","Iowa",1013606]
[42096,{"$f":"VLOOKUP(AB836,[1]AHLSOG!$O:$Q,2,FALSE)","v":"Iowa"},{"$f":"VLOOKUP(AB836,[1]AHLSOG!$O:$Q,3,FALSE)","v":"Rockford"},6,"2nd","IA",0.79791666666666661,"M. Hagel","S. Bickel","B. Sutter",null,"V",4,10,12,23,53,null,"H",18,25,27,29,41,null,"Hm","Iowa",1013606]
[42097,{"$f":"VLOOKUP(AB837,[1]AHLSOG!$O:$Q,2,FALSE)","v":"Iowa"},{"$f":"VLOOKUP(AB837,[1]AHLSOG!$O:$Q,3,FALSE)","v":"Rockford"},7,"3rd","IA",0.18055555555555555,"J. Schroeder","B. Sutter","S. Bickel",null,"V",7,12,23,29,53,null,"H",8,10,25,27,41,null,"Hm","Iowa",1013606]
[42127,{"$f":"VLOOKUP(AB838,[1]AHLSOG!$O:$Q,2,FALSE)","v":"Iowa"},{"$f":"VLOOKUP(AB838,[1]AHLSOG!$O:$Q,3,FALSE)","v":"Rockford"},8,"3rd","RFD",0.39999999999999997,"J. Nordstrom","A. Clendening","K. Cumiskey","PP","V",2,12,15,23,53,null,"H",10,18,24,44,null,null,"Rd","Rockford",1013606]
["0 - 1",{"$f":"VLOOKUP(AB839,[1]AHLSOG!$O:$Q,2,FALSE)","v":"Hamilton"},{"$f":"VLOOKUP(AB839,[1]AHLSOG!$O:$Q,3,FALSE)","v":"Adirondack"},1,"1st","HAM",0.70000000000000007,"T. Hensick","C. Hudon","C. Thomas",null,"V",5,21,38,46,48,null,"H",2,9,10,17,19,null,"Hm","Hamilton",1013607]
[42005,{"$f":"VLOOKUP(AB840,[1]AHLSOG!$O:$Q,2,FALSE)","v":"Hamilton"},{"$f":"VLOOKUP(AB840,[1]AHLSOG!$O:$Q,3,FALSE)","v":"Adirondack"},2,"3rd","ADK",0.24166666666666667,"D. Wolf","E. Poirier","J. Ramage",null,"V",7,21,25,38,45,null,"H",4,18,19,24,26,null,"Rd","Adirondack",1013607]
[42036,{"$f":"VLOOKUP(AB841,[1]AHLSOG!$O:$Q,2,FALSE)","v":"Hamilton"},{"$f":"VLOOKUP(AB841,[1]AHLSOG!$O:$Q,3,FALSE)","v":"Adirondack"},3,"3rd","ADK",0.63541666666666663,"T. Elson","G. Hathaway","C. Knight",null,"V",5,9,11,13,44,null,"H",5,11,20,26,27,null,"Rd","Adirondack",1013607]
[42064,{"$f":"VLOOKUP(AB842,[1]AHLSOG!$O:$Q,2,FALSE)","v":"Hamilton"},{"$f":"VLOOKUP(AB842,[1]AHLSOG!$O:$Q,3,FALSE)","v":"Adirondack"},4,"3rd","ADK",0.76597222222222217,"B. Van Brabant","R. Culkin","E. Poirier",null,"V",3,7,21,46,48,null,"H",7,9,15,17,19,null,"Rd","Adirondack",1013607]
[36526,{"$f":"VLOOKUP(AB843,[1]AHLSOG!$O:$Q,2,FALSE)","v":"Lake Erie"},{"$f":"VLOOKUP(AB843,[1]AHLSOG!$O:$Q,3,FALSE)","v":"Utica"},1,"1st","UTI",7.9166666666666663E-2,"M. Zalewski","A. Grenier","A. Biega",null,"V",6,14,16,28,40,null,"H",3,24,26,37,43,null,"Rd","Utica",1013608]
[36557,{"$f":"VLOOKUP(AB844,[1]AHLSOG!$O:$Q,2,FALSE)","v":"Lake Erie"},{"$f":"VLOOKUP(AB844,[1]AHLSOG!$O:$Q,3,FALSE)","v":"Utica"},2,"2nd","UTI",0.19375000000000001,"H. Shinkaruk","D. Jeffrey","A. Grenier",null,"V",6,9,21,26,28,null,"H",11,17,28,46,71,null,"Rd","Utica",1013608]
[36586,{"$f":"VLOOKUP(AB845,[1]AHLSOG!$O:$Q,2,FALSE)","v":"Lake Erie"},{"$f":"VLOOKUP(AB845,[1]AHLSOG!$O:$Q,3,FALSE)","v":"Utica"},3,"2nd","UTI",0.3354166666666667,"F. Corrado","B. DeFazio","K. Lain",null,"V",3,19,24,25,26,null,"H",11,17,28,38,46,null,"Rd","Utica",1013608]
[42064,{"$f":"VLOOKUP(AB846,[1]AHLSOG!$O:$Q,2,FALSE)","v":"Lake Erie"},{"$f":"VLOOKUP(AB846,[1]AHLSOG!$O:$Q,3,FALSE)","v":"Utica"},4,"3rd","LE",0.13819444444444443,"B. Rendulic",null,null,null,"V",7,10,26,34,36,null,"H",10,16,18,26,71,null,"Hm","Lake Erie",1013608]
[42095,{"$f":"VLOOKUP(AB847,[1]AHLSOG!$O:$Q,2,FALSE)","v":"Lake Erie"},{"$f":"VLOOKUP(AB847,[1]AHLSOG!$O:$Q,3,FALSE)","v":"Utica"},5,"3rd","UTI",0.77569444444444446,"D. Archibald","A. Biega",null,"EN","V",3,19,24,25,40,null,"H",10,18,26,38,46,71,"Rd","Utica",1013608]
["0 - 1",{"$f":"VLOOKUP(AB848,[1]AHLSOG!$O:$Q,2,FALSE)","v":"Manchester"},{"$f":"VLOOKUP(AB848,[1]AHLSOG!$O:$Q,3,FALSE)","v":"Lehigh Valley"},1,"2nd","MCH",0.15694444444444444,"C. Miller","J. McBain","S. Backman","PP","V",7,17,28,45,null,null,"H",6,16,19,22,44,null,"Hm","Manchester",1013609]
[42005,{"$f":"VLOOKUP(AB849,[1]AHLSOG!$O:$Q,2,FALSE)","v":"Manchester"},{"$f":"VLOOKUP(AB849,[1]AHLSOG!$O:$Q,3,FALSE)","v":"Lehigh Valley"},2,"2nd","LV",0.45208333333333334,"A. Gordon","S. Laughton","Z. Stortini","PP","V",10,21,23,28,45,null,"H",3,5,16,22,null,null,"Rd","Lehigh",1013609]
[42036,{"$f":"VLOOKUP(AB850,[1]AHLSOG!$O:$Q,2,FALSE)","v":"Manchester"},{"$f":"VLOOKUP(AB850,[1]AHLSOG!$O:$Q,3,FALSE)","v":"Lehigh Valley"},3,"2nd","LV",0.62708333333333333,"A. Gordon","S. Gostisbehere","R. Hagg",null,"V",4,10,14,21,23,null,"H",3,4,16,19,22,null,"Rd","Lehigh",1013609]
[42064,{"$f":"VLOOKUP(AB851,[1]AHLSOG!$O:$Q,2,FALSE)","v":"Manchester"},{"$f":"VLOOKUP(AB851,[1]AHLSOG!$O:$Q,3,FALSE)","v":"Lehigh Valley"},4,"2nd","LV",0.75555555555555554,"T. Leier","S. Gostisbehere","B. Manning",null,"V",10,14,21,23,28,null,"H",6,27,37,39,44,null,"Rd","Lehigh",1013609]
[42065,{"$f":"VLOOKUP(AB852,[1]AHLSOG!$O:$Q,2,FALSE)","v":"Manchester"},{"$f":"VLOOKUP(AB852,[1]AHLSOG!$O:$Q,3,FALSE)","v":"Lehigh Valley"},5,"3rd","MCH",0.3444444444444445,"N. Dowd","J. Gratton","S. Backman",null,"V",5,12,19,28,37,null,"H",3,13,16,26,44,null,"Hm","Manchester",1013609]
["0 - 1",{"$f":"VLOOKUP(AB853,[1]AHLSOG!$O:$Q,2,FALSE)","v":"Milwaukee"},{"$f":"VLOOKUP(AB853,[1]AHLSOG!$O:$Q,3,FALSE)","v":"Grand Rapids"},1,"1st","MIL",0.2722222222222222,"J. Pendenza","V. Arvidsson",null,null,"V",5,6,16,22,55,null,"H",22,23,33,36,55,null,"Hm","Milwaukee",1013610]
["0 - 2",{"$f":"VLOOKUP(AB854,[1]AHLSOG!$O:$Q,2,FALSE)","v":"Milwaukee"},{"$f":"VLOOKUP(AB854,[1]AHLSOG!$O:$Q,3,FALSE)","v":"Grand Rapids"},2,"1st","MIL",0.5180555555555556,"C. Sissons","V. Stalberg","B. Leipsic",null,"V",4,12,14,21,29,null,"H",2,7,18,25,28,null,"Hm","Milwaukee",1013610]
["0 - 3",{"$f":"VLOOKUP(AB855,[1]AHLSOG!$O:$Q,2,FALSE)","v":"Milwaukee"},{"$f":"VLOOKUP(AB855,[1]AHLSOG!$O:$Q,3,FALSE)","v":"Grand Rapids"},3,"2nd","MIL",0.5625,"M. Van Guilder","A. Watson","M. Salomaki",null,"V",4,12,14,21,29,null,"H",20,29,47,51,55,null,"Hm","Milwaukee",1013610]
["0 - 4",{"$f":"VLOOKUP(AB856,[1]AHLSOG!$O:$Q,2,FALSE)","v":"Milwaukee"},{"$f":"VLOOKUP(AB856,[1]AHLSOG!$O:$Q,3,FALSE)","v":"Grand Rapids"},4,"3rd","MIL",0.79305555555555562,"C. Sissons","B. Leipsic",null,"EN","V",4,6,12,21,23,29,"H",2,7,18,28,33,null,"Hm","Milwaukee",1013610]
[36526,{"$f":"VLOOKUP(AB857,[1]AHLSOG!$O:$Q,2,FALSE)","v":"Providence"},{"$f":"VLOOKUP(AB857,[1]AHLSOG!$O:$Q,3,FALSE)","v":"Portland"},1,"1st","POR",0.68680555555555556,"H. Samuelsson","J. Martinook","D. Reese","PP","V",2,17,19,23,49,null,"H",2,3,18,24,null,null,"Rd","Portland",1013611]
[36557,{"$f":"VLOOKUP(AB858,[1]AHLSOG!$O:$Q,2,FALSE)","v":"Providence"},{"$f":"VLOOKUP(AB858,[1]AHLSOG!$O:$Q,3,FALSE)","v":"Portland"},2,"2nd","POR",1.3888888888888888E-2,"A. Bolduc","J. Martinook","A. Campbell",null,"V",4,17,19,27,49,null,"H",2,8,9,18,22,null,"Rd","Portland",1013611]
[42036,{"$f":"VLOOKUP(AB859,[1]AHLSOG!$O:$Q,2,FALSE)","v":"Providence"},{"$f":"VLOOKUP(AB859,[1]AHLSOG!$O:$Q,3,FALSE)","v":"Portland"},3,"2nd","PRO",0.42152777777777778,"J. Florek",null,null,"SH","V",4,10,24,27,38,null,"H",3,6,9,18,null,null,"Hm","Providence",1013611]
[42064,{"$f":"VLOOKUP(AB860,[1]AHLSOG!$O:$Q,2,FALSE)","v":"Providence"},{"$f":"VLOOKUP(AB860,[1]AHLSOG!$O:$Q,3,FALSE)","v":"Portland"},4,"2nd","POR",0.46666666666666662,"A. Bolduc","D. Reese","L. Lessio","PP","V",2,19,27,38,49,null,"H",3,8,9,null,null,null,"Rd","Portland",1013611]
[42095,{"$f":"VLOOKUP(AB861,[1]AHLSOG!$O:$Q,2,FALSE)","v":"Providence"},{"$f":"VLOOKUP(AB861,[1]AHLSOG!$O:$Q,3,FALSE)","v":"Portland"},5,"3rd","POR",0.37847222222222227,"T. Gaudet","J. Szwarz",null,"SH","V",2,10,28,32,null,null,"H",2,13,14,19,24,null,"Rd","Portland",1013611]
[42096,{"$f":"VLOOKUP(AB862,[1]AHLSOG!$O:$Q,2,FALSE)","v":"Providence"},{"$f":"VLOOKUP(AB862,[1]AHLSOG!$O:$Q,3,FALSE)","v":"Portland"},6,"3rd","PRO",0.77361111111111114,"B. Youds","A. Khokhlachev","A. Camara",null,"V",10,24,27,33,38,null,"H",2,8,13,15,32,null,"Hm","Providence",1013611]
["0 - 1",{"$f":"VLOOKUP(AB863,[1]AHLSOG!$O:$Q,2,FALSE)","v":"Rochester"},{"$f":"VLOOKUP(AB863,[1]AHLSOG!$O:$Q,3,FALSE)","v":"Binghamton"},1,"1st","RCH",0.48333333333333334,"M. Grigorenko","J. Armia","D. Bagnall",null,"V",6,8,9,15,43,null,"H",5,25,28,29,33,null,"Hm","Rochester",1013612]
[42005,{"$f":"VLOOKUP(AB864,[1]AHLSOG!$O:$Q,2,FALSE)","v":"Rochester"},{"$f":"VLOOKUP(AB864,[1]AHLSOG!$O:$Q,3,FALSE)","v":"Binghamton"},2,"2nd","BNG",0.45694444444444443,"R. Dzingel","P. Mullen","C. Camper",null,"V",11,14,18,43,72,null,"H",2,5,37,43,92,null,"Rd","Binghamton",1013612]
[42036,{"$f":"VLOOKUP(AB865,[1]AHLSOG!$O:$Q,2,FALSE)","v":"Rochester"},{"$f":"VLOOKUP(AB865,[1]AHLSOG!$O:$Q,3,FALSE)","v":"Binghamton"},3,"3rd","BNG",0.29166666666666669,"A. Guptill","C. Camper","P. Mullen",null,"V",8,11,27,37,72,null,"H",2,3,11,16,37,null,"Rd","Binghamton",1013612]
[42064,{"$f":"VLOOKUP(AB866,[1]AHLSOG!$O:$Q,2,FALSE)","v":"Rochester"},{"$f":"VLOOKUP(AB866,[1]AHLSOG!$O:$Q,3,FALSE)","v":"Binghamton"},4,"3rd","BNG",0.56736111111111109,"S. Prince","C. Schneider",null,null,"V",3,14,15,18,44,null,"H",3,11,16,18,29,null,"Rd","Binghamton",1013612]
["0 - 1",{"$f":"VLOOKUP(AB867,[1]AHLSOG!$O:$Q,2,FALSE)","v":"San Antonio"},{"$f":"VLOOKUP(AB867,[1]AHLSOG!$O:$Q,3,FALSE)","v":"Toronto"},1,"1st","SA",8.7500000000000008E-2,"S. O'Brien","S. Kampfer","B. Olson","PP","V",8,22,23,50,null,null,"H",8,15,16,19,44,null,"Hm","San Antonio",1013613]
[42005,{"$f":"VLOOKUP(AB868,[1]AHLSOG!$O:$Q,2,FALSE)","v":"San Antonio"},{"$f":"VLOOKUP(AB868,[1]AHLSOG!$O:$Q,3,FALSE)","v":"Toronto"},2,"1st","TOR",0.15833333333333333,"T. Smith","C. Brown","S. Abbott","PP","V",9,13,23,29,50,null,"H",5,15,16,null,null,null,"Rd","Toronto",1013613]
[42006,{"$f":"VLOOKUP(AB869,[1]AHLSOG!$O:$Q,2,FALSE)","v":"San Antonio"},{"$f":"VLOOKUP(AB869,[1]AHLSOG!$O:$Q,3,FALSE)","v":"Toronto"},3,"2nd","SA",0.27916666666666667,"A. Yogan","R. Martindale",null,null,"V",2,7,12,17,22,null,"H",3,5,10,17,27,null,"Hm","San Antonio",1013613]
[42037,{"$f":"VLOOKUP(AB870,[1]AHLSOG!$O:$Q,2,FALSE)","v":"San Antonio"},{"$f":"VLOOKUP(AB870,[1]AHLSOG!$O:$Q,3,FALSE)","v":"Toronto"},4,"3rd","TOR",0.17916666666666667,"T. Nilsson","V. Loov","T. Smith",null,"V",13,23,25,50,null,null,"H",8,26,32,44,null,null,"Rd","Toronto",1013613]
[42065,{"$f":"VLOOKUP(AB871,[1]AHLSOG!$O:$Q,2,FALSE)","v":"San Antonio"},{"$f":"VLOOKUP(AB871,[1]AHLSOG!$O:$Q,3,FALSE)","v":"Toronto"},5,"3rd","TOR",0.23680555555555557,"C. Brown","G. McKegg","V. Loov",null,"V",9,25,29,50,null,null,"H",2,3,10,17,null,null,"Rd","Toronto",1013613]
["0 - 1",{"$f":"VLOOKUP(AB872,[1]AHLSOG!$O:$Q,2,FALSE)","v":"Springfield"},{"$f":"VLOOKUP(AB872,[1]AHLSOG!$O:$Q,3,FALSE)","v":"St. John's"},1,"1st","SPR",6.0416666666666667E-2,"S. Collins","T. Tynan","R. Craig",null,"V",4,16,24,27,34,null,"H",4,5,12,17,18,null,"Hm","Springfield",1013614]
[42005,{"$f":"VLOOKUP(AB873,[1]AHLSOG!$O:$Q,2,FALSE)","v":"Springfield"},{"$f":"VLOOKUP(AB873,[1]AHLSOG!$O:$Q,3,FALSE)","v":"St. John's"},2,"1st","STJ",0.52569444444444446,"C. Balisy","C. Klingberg","W. O'Neill",null,"V",4,13,14,27,48,null,"H",3,12,17,22,26,null,"Rd","St. John's",1013614]
[42006,{"$f":"VLOOKUP(AB874,[1]AHLSOG!$O:$Q,2,FALSE)","v":"Springfield"},{"$f":"VLOOKUP(AB874,[1]AHLSOG!$O:$Q,3,FALSE)","v":"St. John's"},3,"1st","SPR",0.82013888888888886,"D. Tyrell","L. Sedlak","A. Madaisky",null,"V",4,13,14,27,48,null,"H",3,5,14,15,22,null,"Hm","Springfield",1013614]
[42007,{"$f":"VLOOKUP(AB875,[1]AHLSOG!$O:$Q,2,FALSE)","v":"Springfield"},{"$f":"VLOOKUP(AB875,[1]AHLSOG!$O:$Q,3,FALSE)","v":"St. John's"},4,"2nd","SPR",8.4027777777777771E-2,"J. D'Amigo","D. Tyrell","D. Urban",null,"V",4,16,18,24,34,null,"H",7,8,14,26,29,null,"Hm","Springfield",1013614]
[42038,{"$f":"VLOOKUP(AB876,[1]AHLSOG!$O:$Q,2,FALSE)","v":"Springfield"},{"$f":"VLOOKUP(AB876,[1]AHLSOG!$O:$Q,3,FALSE)","v":"St. John's"},5,"2nd","STJ",0.53125,"J. Albert","J. Lipon",null,"SH","V",7,16,29,34,null,null,"H",7,8,14,29,40,null,"Rd","St. John's",1013614]
[42039,{"$f":"VLOOKUP(AB877,[1]AHLSOG!$O:$Q,2,FALSE)","v":"Springfield"},{"$f":"VLOOKUP(AB877,[1]AHLSOG!$O:$Q,3,FALSE)","v":"St. John's"},6,"2nd","SPR",0.68680555555555556,"D. Tyrell","D. Urban","A. Madaisky",null,"V",8,13,14,18,null,null,"H",5,7,14,17,null,null,"Hm","Springfield",1013614]
[42040,{"$f":"VLOOKUP(AB878,[1]AHLSOG!$O:$Q,2,FALSE)","v":"Springfield"},{"$f":"VLOOKUP(AB878,[1]AHLSOG!$O:$Q,3,FALSE)","v":"St. John's"},7,"3rd","SPR",0.35833333333333334,"A. Madaisky","T. Vogelhuber","D. Urban",null,"V",4,9,29,34,null,null,"H",5,7,8,13,null,null,"Hm","Springfield",1013614]
[42068,{"$f":"VLOOKUP(AB879,[1]AHLSOG!$O:$Q,2,FALSE)","v":"Springfield"},{"$f":"VLOOKUP(AB879,[1]AHLSOG!$O:$Q,3,FALSE)","v":"St. John's"},8,"3rd","STJ",0.40486111111111112,"W. O'Neill","C. Balisy","J. Albert","PP","V",13,16,18,27,28,null,"H",5,17,24,36,null,null,"Rd","St. John's",1013614]
[42099,{"$f":"VLOOKUP(AB880,[1]AHLSOG!$O:$Q,2,FALSE)","v":"Springfield"},{"$f":"VLOOKUP(AB880,[1]AHLSOG!$O:$Q,3,FALSE)","v":"St. John's"},9,"3rd","STJ",0.61527777777777781,"K. Fredheim","C. Balisy","B. Kichton","PP","V",7,8,13,16,48,null,"H",13,17,24,26,null,null,"Rd","St. John's",1013614]
[42100,{"$f":"VLOOKUP(AB881,[1]AHLSOG!$O:$Q,2,FALSE)","v":"Springfield"},{"$f":"VLOOKUP(AB881,[1]AHLSOG!$O:$Q,3,FALSE)","v":"St. John's"},10,"3rd","SPR",0.82986111111111116,"L. Sedlak",null,null,"EN","V",8,14,24,27,28,34,"H",5,14,15,22,26,null,"Hm","Springfield",1013614]
["0 - 1",{"$f":"VLOOKUP(AB882,[1]AHLSOG!$O:$Q,2,FALSE)","v":"Syracuse"},{"$f":"VLOOKUP(AB882,[1]AHLSOG!$O:$Q,3,FALSE)","v":"Norfolk"},1,"1st","SYR",0.16041666666666668,"J. Cote","M. Angelidis","H. Ikonen",null,"V",8,18,21,25,32,null,"H",6,10,11,24,57,null,"Hm","Syracuse",1013615]
["0 - 2",{"$f":"VLOOKUP(AB883,[1]AHLSOG!$O:$Q,2,FALSE)","v":"Syracuse"},{"$f":"VLOOKUP(AB883,[1]AHLSOG!$O:$Q,3,FALSE)","v":"Norfolk"},2,"2nd","SYR",0.28541666666666665,"J. Marchessault","N. Nesterov","M. Blunden","PP","V",4,9,12,21,null,null,"H",11,18,21,89,92,null,"Hm","Syracuse",1013615]
[42006,{"$f":"VLOOKUP(AB884,[1]AHLSOG!$O:$Q,2,FALSE)","v":"Syracuse"},{"$f":"VLOOKUP(AB884,[1]AHLSOG!$O:$Q,3,FALSE)","v":"Norfolk"},3,"2nd","NOR",0.63750000000000007,"N. Kerdiles","L. Leblanc","D. Steckel",null,"V",2,4,8,20,39,null,"H",18,21,65,82,92,null,"Rd","Norfolk",1013615]
[42037,{"$f":"VLOOKUP(AB885,[1]AHLSOG!$O:$Q,2,FALSE)","v":"Syracuse"},{"$f":"VLOOKUP(AB885,[1]AHLSOG!$O:$Q,3,FALSE)","v":"Norfolk"},4,"2nd","NOR",0.82152777777777775,"C. Wagner","B. Yip","B. Bell",null,"V",4,9,18,21,null,null,"H",20,65,82,92,null,null,"Rd","Norfolk",1013615]
[42038,{"$f":"VLOOKUP(AB886,[1]AHLSOG!$O:$Q,2,FALSE)","v":"Syracuse"},{"$f":"VLOOKUP(AB886,[1]AHLSOG!$O:$Q,3,FALSE)","v":"Norfolk"},5,"3rd","SYR",4.3055555555555562E-2,"M. Angelidis","J. Samson","J. Dotchin",null,"V",6,15,18,21,25,null,"H",4,10,11,24,57,null,"Hm","Syracuse",1013615]
[42066,{"$f":"VLOOKUP(AB887,[1]AHLSOG!$O:$Q,2,FALSE)","v":"Syracuse"},{"$f":"VLOOKUP(AB887,[1]AHLSOG!$O:$Q,3,FALSE)","v":"Norfolk"},6,"3rd","NOR",0.28055555555555556,"J. Cramarossa","M. Bailey",null,"SH","V",2,6,10,19,null,null,"H",6,18,20,37,89,null,"Rd","Norfolk",1013615]
[42097,{"$f":"VLOOKUP(AB888,[1]AHLSOG!$O:$Q,2,FALSE)","v":"Syracuse"},{"$f":"VLOOKUP(AB888,[1]AHLSOG!$O:$Q,3,FALSE)","v":"Norfolk"},7,"OT","NOR",8.4027777777777771E-2,"S. Theodore","J. Cramarossa",null,null,"V",9,15,19,32,null,null,"H",4,18,21,89,null,null,"Rd","Norfolk",1013615]
[36526,{"$f":"VLOOKUP(AB889,[1]AHLSOG!$O:$Q,2,FALSE)","v":"W-B/Scranton"},{"$f":"VLOOKUP(AB889,[1]AHLSOG!$O:$Q,3,FALSE)","v":"Hershey"},1,"2nd","HER",6.25E-2,"J. Landry","T. Kundratek","C. Brown",null,"V",4,12,13,24,34,null,"H",5,9,23,29,51,null,"Rd","Hershey",1013616]
[36557,{"$f":"VLOOKUP(AB890,[1]AHLSOG!$O:$Q,2,FALSE)","v":"W-B/Scranton"},{"$f":"VLOOKUP(AB890,[1]AHLSOG!$O:$Q,3,FALSE)","v":"Hershey"},2,"2nd","HER",0.4861111111111111,"C. Wellman","N. Walker","K. Newbury",null,"V",6,7,11,12,21,null,"H",3,7,15,17,29,null,"Rd","Hershey",1013616]
[42036,{"$f":"VLOOKUP(AB891,[1]AHLSOG!$O:$Q,2,FALSE)","v":"W-B/Scranton"},{"$f":"VLOOKUP(AB891,[1]AHLSOG!$O:$Q,3,FALSE)","v":"Hershey"},3,"3rd","WBS",0.3979166666666667,"T. Chorney","C. Rowney",null,null,"V",6,11,21,34,38,null,"H",4,8,13,17,19,null,"Hm","W-B/Scranton",1013616]
[42037,{"$f":"VLOOKUP(AB892,[1]AHLSOG!$O:$Q,2,FALSE)","v":"W-B/Scranton"},{"$f":"VLOOKUP(AB892,[1]AHLSOG!$O:$Q,3,FALSE)","v":"Hershey"},4,"3rd","WBS",0.79999999999999993,"J. Megna","T. Chorney","D. Pouliot",null,"V",5,7,10,11,36,null,"H",4,13,19,23,25,51,"Hm","W-B/Scranton",1013616]
[42038,{"$f":"VLOOKUP(AB893,[1]AHLSOG!$O:$Q,2,FALSE)","v":"W-B/Scranton"},{"$f":"VLOOKUP(AB893,[1]AHLSOG!$O:$Q,3,FALSE)","v":"Hershey"},5,"OT","WBS",4.2361111111111106E-2,"J. Megna","D. Pouliot","B. Bennett",null,"V",5,7,11,21,null,null,"H",5,13,19,51,null,null,"Hm","W-B/Scranton",1013616]
[36526,{"$f":"VLOOKUP(AB894,[1]AHLSOG!$O:$Q,2,FALSE)","v":"Binghamton"},{"$f":"VLOOKUP(AB894,[1]AHLSOG!$O:$Q,3,FALSE)","v":"W-B/Scranton"},1,"1st","WBS",0.51458333333333328,"B. Rust","D. Pouliot","J. Dea","PP","V",9,12,23,25,51,null,"H",3,14,22,44,null,null,"Rd","W-B/Scranton",1013617]
[42005,{"$f":"VLOOKUP(AB895,[1]AHLSOG!$O:$Q,2,FALSE)","v":"Binghamton"},{"$f":"VLOOKUP(AB895,[1]AHLSOG!$O:$Q,3,FALSE)","v":"W-B/Scranton"},2,"1st","BNG",0.61041666666666672,"P. Mullen","C. Wideman","M. Puempel","PP","V",5,8,14,26,null,null,"H",6,9,14,15,44,null,"Hm","Binghamton",1013617]
[42036,{"$f":"VLOOKUP(AB896,[1]AHLSOG!$O:$Q,2,FALSE)","v":"Binghamton"},{"$f":"VLOOKUP(AB896,[1]AHLSOG!$O:$Q,3,FALSE)","v":"W-B/Scranton"},3,"2nd","WBS",0.22708333333333333,"B. Rust","R. McNeill",null,null,"V",3,7,9,12,29,null,"H",14,16,18,27,43,null,"Rd","W-B/Scranton",1013617]
[42064,{"$f":"VLOOKUP(AB897,[1]AHLSOG!$O:$Q,2,FALSE)","v":"Binghamton"},{"$f":"VLOOKUP(AB897,[1]AHLSOG!$O:$Q,3,FALSE)","v":"W-B/Scranton"},4,"2nd","WBS",0.37361111111111112,"J. Archibald","B. Dumoulin","T. Chorney","PP","V",4,8,15,29,43,null,"H",3,20,22,57,null,null,"Rd","W-B/Scranton",1013617]
[42095,{"$f":"VLOOKUP(AB898,[1]AHLSOG!$O:$Q,2,FALSE)","v":"Binghamton"},{"$f":"VLOOKUP(AB898,[1]AHLSOG!$O:$Q,3,FALSE)","v":"W-B/Scranton"},5,"2nd","WBS",0.4236111111111111,"C. Sheary","J. Archibald",null,null,"V",4,15,17,43,51,null,"H",14,16,18,43,72,null,"Rd","W-B/Scranton",1013617]
[42096,{"$f":"VLOOKUP(AB899,[1]AHLSOG!$O:$Q,2,FALSE)","v":"Binghamton"},{"$f":"VLOOKUP(AB899,[1]AHLSOG!$O:$Q,3,FALSE)","v":"W-B/Scranton"},6,"2nd","BNG",0.49583333333333335,"C. Wideman","P. Mullen","J. Pageau","PP","V",4,19,26,51,null,null,"H",6,9,14,15,44,null,"Hm","Binghamton",1013617]
[42097,{"$f":"VLOOKUP(AB900,[1]AHLSOG!$O:$Q,2,FALSE)","v":"Binghamton"},{"$f":"VLOOKUP(AB900,[1]AHLSOG!$O:$Q,3,FALSE)","v":"W-B/Scranton"},7,"2nd","BNG",0.7368055555555556,"M. Puempel","C. Schneider","C. Wideman","PP","V",4,8,19,26,null,null,"H",6,9,14,15,44,null,"Hm","Binghamton",1013617]
[42127,{"$f":"VLOOKUP(AB901,[1]AHLSOG!$O:$Q,2,FALSE)","v":"Binghamton"},{"$f":"VLOOKUP(AB901,[1]AHLSOG!$O:$Q,3,FALSE)","v":"W-B/Scranton"},8,"3rd","WBS",0.47291666666666665,"A. Ebbett","J. Megna",null,null,"V",4,8,19,23,25,null,"H",3,11,16,20,37,null,"Rd","W-B/Scranton",1013617]
[42158,{"$f":"VLOOKUP(AB902,[1]AHLSOG!$O:$Q,2,FALSE)","v":"Binghamton"},{"$f":"VLOOKUP(AB902,[1]AHLSOG!$O:$Q,3,FALSE)","v":"W-B/Scranton"},9,"3rd","WBS",0.73819444444444438,"C. Rowney",null,null,null,"V",4,8,15,17,43,null,"H",6,16,18,20,43,null,"Rd","W-B/Scranton",1013617]
[42159,{"$f":"VLOOKUP(AB903,[1]AHLSOG!$O:$Q,2,FALSE)","v":"Binghamton"},{"$f":"VLOOKUP(AB903,[1]AHLSOG!$O:$Q,3,FALSE)","v":"W-B/Scranton"},10,"3rd","BNG",0.8208333333333333,"M. Puempel","C. Wideman","C. Schneider","PP","V",3,5,29,null,null,null,"H",6,9,14,15,27,43,"Hm","Binghamton",1013617]
["0 - 1",{"$f":"VLOOKUP(AB904,[1]AHLSOG!$O:$Q,2,FALSE)","v":"Bridgeport"},{"$f":"VLOOKUP(AB904,[1]AHLSOG!$O:$Q,3,FALSE)","v":"Albany"},1,"1st","BRI",8.0555555555555561E-2,"H. Zolnierczyk","M. Halmo","G. Reinhart","PP","V",5,12,23,29,null,null,"H",4,8,12,16,26,null,"Hm","Bridgeport",1013618]
["0 - 2",{"$f":"VLOOKUP(AB905,[1]AHLSOG!$O:$Q,2,FALSE)","v":"Bridgeport"},{"$f":"VLOOKUP(AB905,[1]AHLSOG!$O:$Q,3,FALSE)","v":"Albany"},2,"1st","BRI",0.78194444444444444,"A. Quine","C. McDonald","A. Ness","PP","V",12,23,24,29,null,null,"H",6,13,21,22,27,null,"Hm","Bridgeport",1013618]
[42006,{"$f":"VLOOKUP(AB906,[1]AHLSOG!$O:$Q,2,FALSE)","v":"Bridgeport"},{"$f":"VLOOKUP(AB906,[1]AHLSOG!$O:$Q,3,FALSE)","v":"Albany"},3,"2nd","ALB",0.19652777777777777,"P. Harrold","R. Hrabarenka","J. Whitney","PP","V",5,9,15,17,29,null,"H",4,10,14,16,null,null,"Rd","Albany",1013618]
[42007,{"$f":"VLOOKUP(AB907,[1]AHLSOG!$O:$Q,2,FALSE)","v":"Bridgeport"},{"$f":"VLOOKUP(AB907,[1]AHLSOG!$O:$Q,3,FALSE)","v":"Albany"},4,"2nd","BRI",0.32847222222222222,"M. Halmo","K. Czuczman","K. Poulin","PP","V",5,12,16,29,null,null,"H",10,12,16,24,26,null,"Hm","Bridgeport",1013618]
[42008,{"$f":"VLOOKUP(AB908,[1]AHLSOG!$O:$Q,2,FALSE)","v":"Bridgeport"},{"$f":"VLOOKUP(AB908,[1]AHLSOG!$O:$Q,3,FALSE)","v":"Albany"},5,"2nd","BRI",0.34652777777777777,"J. Persson","S. Vaughan","S. Mayfield",null,"V",2,12,25,26,33,null,"H",7,10,11,23,24,null,"Hm","Bridgeport",1013618]
[42009,{"$f":"VLOOKUP(AB909,[1]AHLSOG!$O:$Q,2,FALSE)","v":"Bridgeport"},{"$f":"VLOOKUP(AB909,[1]AHLSOG!$O:$Q,3,FALSE)","v":"Albany"},6,"2nd","BRI",0.7104166666666667,"C. McDonald","A. Quine","K. Mouillierat","PP","V",2,15,16,24,null,null,"H",6,13,21,22,27,null,"Hm","Bridgeport",1013618]
[42040,{"$f":"VLOOKUP(AB910,[1]AHLSOG!$O:$Q,2,FALSE)","v":"Bridgeport"},{"$f":"VLOOKUP(AB910,[1]AHLSOG!$O:$Q,3,FALSE)","v":"Albany"},7,"2nd","ALB",0.81666666666666676,"C. McKelvie","S. Helgeson","C. McPherson",null,"V",2,10,16,23,33,null,"H",4,10,13,21,22,null,"Rd","Albany",1013618]
[42041,{"$f":"VLOOKUP(AB911,[1]AHLSOG!$O:$Q,2,FALSE)","v":"Bridgeport"},{"$f":"VLOOKUP(AB911,[1]AHLSOG!$O:$Q,3,FALSE)","v":"Albany"},8,"3rd","BRI",9.7222222222222224E-2,"K. Mouillierat","A. Quine","C. McDonald","PP","V",5,10,25,29,null,null,"H",6,13,21,22,27,null,"Hm","Bridgeport",1013618]
[42042,{"$f":"VLOOKUP(AB912,[1]AHLSOG!$O:$Q,2,FALSE)","v":"Bridgeport"},{"$f":"VLOOKUP(AB912,[1]AHLSOG!$O:$Q,3,FALSE)","v":"Albany"},9,"3rd","BRI",0.59513888888888888,"H. Zolnierczyk","K. Czuczman","C. Stretch","PP","V",2,5,10,null,null,null,"H",4,12,16,24,null,null,"Hm","Bridgeport",1013618]
[36526,{"$f":"VLOOKUP(AB913,[1]AHLSOG!$O:$Q,2,FALSE)","v":"Charlotte"},{"$f":"VLOOKUP(AB913,[1]AHLSOG!$O:$Q,3,FALSE)","v":"Texas"},1,"1st","TEX",0.26527777777777778,"D. Hulak","T. Morin","M. Fortunus",null,"V",18,20,23,24,39,null,"H",5,7,15,19,29,null,"Rd","Texas",1013619]
[36557,{"$f":"VLOOKUP(AB914,[1]AHLSOG!$O:$Q,2,FALSE)","v":"Charlotte"},{"$f":"VLOOKUP(AB914,[1]AHLSOG!$O:$Q,3,FALSE)","v":"Texas"},2,"1st","TEX",0.2902777777777778,"J. Dowling","S. Glennie","J. Klingberg",null,"V",4,9,10,15,19,23,"H",4,6,8,12,59,null,"Rd","Texas",1013619]
[36586,{"$f":"VLOOKUP(AB915,[1]AHLSOG!$O:$Q,2,FALSE)","v":"Charlotte"},{"$f":"VLOOKUP(AB915,[1]AHLSOG!$O:$Q,3,FALSE)","v":"Texas"},3,"1st","TEX",0.36041666666666666,"J. Klingberg","G. Smith",null,null,"V",4,9,14,25,28,null,"H",2,21,22,26,29,null,"Rd","Texas",1013619]
[36617,{"$f":"VLOOKUP(AB916,[1]AHLSOG!$O:$Q,2,FALSE)","v":"Charlotte"},{"$f":"VLOOKUP(AB916,[1]AHLSOG!$O:$Q,3,FALSE)","v":"Texas"},4,"1st","TEX",0.41736111111111113,"R. Faksa","J. Honka",null,null,"V",7,8,18,27,29,null,"H",2,4,17,24,28,null,"Rd","Texas",1013619]
[36647,{"$f":"VLOOKUP(AB917,[1]AHLSOG!$O:$Q,2,FALSE)","v":"Charlotte"},{"$f":"VLOOKUP(AB917,[1]AHLSOG!$O:$Q,3,FALSE)","v":"Texas"},5,"1st","TEX",0.52222222222222225,"B. Ranford","J. Dowling","S. Glennie",null,"V",10,15,18,19,24,null,"H",4,6,8,12,59,null,"Rd","Texas",1013619]
[36678,{"$f":"VLOOKUP(AB918,[1]AHLSOG!$O:$Q,2,FALSE)","v":"Charlotte"},{"$f":"VLOOKUP(AB918,[1]AHLSOG!$O:$Q,3,FALSE)","v":"Texas"},6,"2nd","TEX",0.4770833333333333,"D. Hulak","T. Morin","B. Ritchie","PP","V",4,18,20,23,39,null,"H",2,12,24,29,null,null,"Rd","Texas",1013619]
[42156,{"$f":"VLOOKUP(AB919,[1]AHLSOG!$O:$Q,2,FALSE)","v":"Charlotte"},{"$f":"VLOOKUP(AB919,[1]AHLSOG!$O:$Q,3,FALSE)","v":"Texas"},7,"2nd","CHA",0.52083333333333337,"J. Staal",null,null,null,"V",18,24,25,28,29,null,"H",2,4,8,21,22,null,"Hm","Charlotte",1013619]
[42186,{"$f":"VLOOKUP(AB920,[1]AHLSOG!$O:$Q,2,FALSE)","v":"Charlotte"},{"$f":"VLOOKUP(AB920,[1]AHLSOG!$O:$Q,3,FALSE)","v":"Texas"},8,"2nd","TEX",0.76874999999999993,"D. Hulak","J. Klingberg","T. Morin","PP","V",4,18,20,23,39,null,"H",9,22,24,29,null,null,"Rd","Texas",1013619]
[42217,{"$f":"VLOOKUP(AB921,[1]AHLSOG!$O:$Q,2,FALSE)","v":"Charlotte"},{"$f":"VLOOKUP(AB921,[1]AHLSOG!$O:$Q,3,FALSE)","v":"Texas"},9,"3rd","TEX",0.54791666666666672,"S. Glennie","B. Ranford","D. Meech",null,"V",4,9,15,19,25,null,"H",6,12,17,21,22,null,"Rd","Texas",1013619]
[42218,{"$f":"VLOOKUP(AB922,[1]AHLSOG!$O:$Q,2,FALSE)","v":"Charlotte"},{"$f":"VLOOKUP(AB922,[1]AHLSOG!$O:$Q,3,FALSE)","v":"Texas"},10,"3rd","CHA",0.60763888888888895,"A. Jenks","G. Nemisz","B. McGinn",null,"V",3,8,18,25,27,null,"H",2,4,7,15,19,null,"Hm","Charlotte",1013619]
["0 - 1",{"$f":"VLOOKUP(AB923,[1]AHLSOG!$O:$Q,2,FALSE)","v":"Hamilton"},{"$f":"VLOOKUP(AB923,[1]AHLSOG!$O:$Q,3,FALSE)","v":"Adirondack"},1,"1st","HAM",0.32083333333333336,"J. de la Rose","G. Dumont",null,"SH","V",3,9,11,12,25,null,"H",2,20,26,40,null,null,"Hm","Hamilton",1013620]
[42005,{"$f":"VLOOKUP(AB924,[1]AHLSOG!$O:$Q,2,FALSE)","v":"Hamilton"},{"$f":"VLOOKUP(AB924,[1]AHLSOG!$O:$Q,3,FALSE)","v":"Adirondack"},2,"1st","ADK",0.36180555555555555,"G. Hathaway","R. Culkin","M. Reinhart","PP","V",3,9,11,12,25,null,"H",4,5,20,40,null,null,"Rd","Adirondack",1013620]
[42006,{"$f":"VLOOKUP(AB925,[1]AHLSOG!$O:$Q,2,FALSE)","v":"Hamilton"},{"$f":"VLOOKUP(AB925,[1]AHLSOG!$O:$Q,3,FALSE)","v":"Adirondack"},3,"2nd","HAM",0.36736111111111108,"S. Andrighetto","T. Hensick","C. Hudon","PP","V",6,11,13,44,null,null,"H",10,17,21,27,32,null,"Hm","Hamilton",1013620]
[42037,{"$f":"VLOOKUP(AB926,[1]AHLSOG!$O:$Q,2,FALSE)","v":"Hamilton"},{"$f":"VLOOKUP(AB926,[1]AHLSOG!$O:$Q,3,FALSE)","v":"Adirondack"},4,"3rd","ADK",6.3194444444444442E-2,"B. Van Brabant","B. Arnold","N. Moon",null,"V",6,21,44,46,48,null,"H",4,9,18,20,23,null,"Rd","Adirondack",1013620]
[42065,{"$f":"VLOOKUP(AB927,[1]AHLSOG!$O:$Q,2,FALSE)","v":"Hamilton"},{"$f":"VLOOKUP(AB927,[1]AHLSOG!$O:$Q,3,FALSE)","v":"Adirondack"},5,"3rd","ADK",0.11805555555555557,"T. Elson","K. Agostino","M. Tousignant",null,"V",3,13,14,15,16,null,"H",2,5,12,21,24,null,"Rd","Adirondack",1013620]
[42096,{"$f":"VLOOKUP(AB928,[1]AHLSOG!$O:$Q,2,FALSE)","v":"Hamilton"},{"$f":"VLOOKUP(AB928,[1]AHLSOG!$O:$Q,3,FALSE)","v":"Adirondack"},6,"3rd","ADK",0.23819444444444446,"M. Tousignant","K. Agostino",null,null,"V",6,13,15,16,44,null,"H",4,11,19,26,40,null,"Rd","Adirondack",1013620]
[42097,{"$f":"VLOOKUP(AB929,[1]AHLSOG!$O:$Q,2,FALSE)","v":"Hamilton"},{"$f":"VLOOKUP(AB929,[1]AHLSOG!$O:$Q,3,FALSE)","v":"Adirondack"},7,"3rd","HAM",0.77708333333333324,"M. Nygren","T. Hensick","G. Dumont",null,"V",9,11,32,38,48,null,"H",10,17,19,27,32,40,"Hm","Hamilton",1013620]
[36526,{"$f":"VLOOKUP(AB930,[1]AHLSOG!$O:$Q,2,FALSE)","v":"Hershey"},{"$f":"VLOOKUP(AB930,[1]AHLSOG!$O:$Q,3,FALSE)","v":"Hartford"},1,"1st","HFD",0.56944444444444442,"O. Lindberg","M. Bodie","J. Fast","PP","V",2,23,24,27,29,null,"H",4,5,12,21,null,null,"Rd","Hartford",1013621]
[36557,{"$f":"VLOOKUP(AB931,[1]AHLSOG!$O:$Q,2,FALSE)","v":"Hershey"},{"$f":"VLOOKUP(AB931,[1]AHLSOG!$O:$Q,3,FALSE)","v":"Hartford"},2,"2nd","HFD",0.3444444444444445,"J. Miller","J. Fast",null,null,"V",5,10,17,20,27,null,"H",5,7,11,36,38,null,"Rd","Hartford",1013621]
[42036,{"$f":"VLOOKUP(AB932,[1]AHLSOG!$O:$Q,2,FALSE)","v":"Hershey"},{"$f":"VLOOKUP(AB932,[1]AHLSOG!$O:$Q,3,FALSE)","v":"Hartford"},3,"3rd","HER",0.42152777777777778,"C. Brown","T. Kundratek","T. Kennedy","PP","V",8,9,10,44,null,null,"H",11,13,21,24,34,null,"Hm","Hershey",1013621]
[42037,{"$f":"VLOOKUP(AB933,[1]AHLSOG!$O:$Q,2,FALSE)","v":"Hershey"},{"$f":"VLOOKUP(AB933,[1]AHLSOG!$O:$Q,3,FALSE)","v":"Hartford"},4,"3rd","HER",0.46736111111111112,"C. Carrick","D. Gazley","C. Schilling",null,"V",2,9,10,16,29,null,"H",5,10,17,25,40,null,"Hm","Hershey",1013621]
[42038,{"$f":"VLOOKUP(AB934,[1]AHLSOG!$O:$Q,2,FALSE)","v":"Hershey"},{"$f":"VLOOKUP(AB934,[1]AHLSOG!$O:$Q,3,FALSE)","v":"Hartford"},5,"3rd","HER",0.6958333333333333,"K. Newbury","C. Wellman","C. Schilling",null,"V",2,16,17,19,27,null,"H",5,7,11,21,38,null,"Hm","Hershey",1013621]
[42039,{"$f":"VLOOKUP(AB935,[1]AHLSOG!$O:$Q,2,FALSE)","v":"Hershey"},{"$f":"VLOOKUP(AB935,[1]AHLSOG!$O:$Q,3,FALSE)","v":"Hartford"},6,"3rd","HER",0.82777777777777783,"K. Newbury","D. Gazley",null,"EN","V",2,10,17,19,23,27,"H",4,10,11,12,34,null,"Hm","Hershey",1013621]
[36526,{"$f":"VLOOKUP(AB936,[1]AHLSOG!$O:$Q,2,FALSE)","v":"Iowa"},{"$f":"VLOOKUP(AB936,[1]AHLSOG!$O:$Q,3,FALSE)","v":"Chicago"},1,"1st","CHI",0.6020833333333333,"B. Regner","S. Wannstrom","M. Brodeur",null,"V",5,15,27,28,38,null,"H",18,25,27,29,41,null,"Rd","Chicago",1013622]
[42005,{"$f":"VLOOKUP(AB937,[1]AHLSOG!$O:$Q,2,FALSE)","v":"Iowa"},{"$f":"VLOOKUP(AB937,[1]AHLSOG!$O:$Q,3,FALSE)","v":"Chicago"},2,"1st","IA",0.73819444444444438,"M. Hagel","Z. Mitchell","B. Sutter",null,"V",4,9,12,37,55,null,"H",18,25,27,29,41,null,"Hm","Iowa",1013622]
[42036,{"$f":"VLOOKUP(AB938,[1]AHLSOG!$O:$Q,2,FALSE)","v":"Iowa"},{"$f":"VLOOKUP(AB938,[1]AHLSOG!$O:$Q,3,FALSE)","v":"Chicago"},3,"2nd","CHI",0.38680555555555557,"S. Harper","T. Broadhurst","M. Brodeur",null,"V",5,9,24,28,37,null,"H",4,10,13,25,41,null,"Rd","Chicago",1013622]
[42064,{"$f":"VLOOKUP(AB939,[1]AHLSOG!$O:$Q,2,FALSE)","v":"Iowa"},{"$f":"VLOOKUP(AB939,[1]AHLSOG!$O:$Q,3,FALSE)","v":"Chicago"},4,"2nd","CHI",0.71180555555555547,"R. Bordson","B. Sopel","J. Welsh",null,"V",4,15,27,38,55,null,"H",18,24,27,29,44,null,"Rd","Chicago",1013622]
[42065,{"$f":"VLOOKUP(AB940,[1]AHLSOG!$O:$Q,2,FALSE)","v":"Iowa"},{"$f":"VLOOKUP(AB940,[1]AHLSOG!$O:$Q,3,FALSE)","v":"Chicago"},5,"3rd","IA",0.11875000000000001,"Z. Mitchell","M. Hagel",null,null,"V",6,18,20,21,25,null,"H",2,18,27,29,44,null,"Hm","Iowa",1013622]
[42096,{"$f":"VLOOKUP(AB941,[1]AHLSOG!$O:$Q,2,FALSE)","v":"Iowa"},{"$f":"VLOOKUP(AB941,[1]AHLSOG!$O:$Q,3,FALSE)","v":"Chicago"},6,"3rd","CHI",0.78472222222222221,"P. Cannone","P. McRae","B. Regner","EN","V",5,8,10,12,28,null,"H",10,18,25,27,29,41,"Rd","Chicago",1013622]
["0 - 1",{"$f":"VLOOKUP(AB942,[1]AHLSOG!$O:$Q,2,FALSE)","v":"Manchester"},{"$f":"VLOOKUP(AB942,[1]AHLSOG!$O:$Q,3,FALSE)","v":"Springfield"},1,"1st","MCH",0.63611111111111118,"N. Shore","B. O'Neill","J. McBain",null,"V",3,10,15,22,26,null,"H",3,22,37,39,44,null,"Hm","Manchester",1013623]
["0 - 2",{"$f":"VLOOKUP(AB943,[1]AHLSOG!$O:$Q,2,FALSE)","v":"Manchester"},{"$f":"VLOOKUP(AB943,[1]AHLSOG!$O:$Q,3,FALSE)","v":"Springfield"},2,"2nd","MCH",0.7090277777777777,"N. Shore",null,null,"SH","V",5,10,12,17,18,null,"H",6,27,37,55,null,null,"Hm","Manchester",1013623]
[42006,{"$f":"VLOOKUP(AB944,[1]AHLSOG!$O:$Q,2,FALSE)","v":"Manchester"},{"$f":"VLOOKUP(AB944,[1]AHLSOG!$O:$Q,3,FALSE)","v":"Springfield"},3,"3rd","SPR",0.69444444444444453,"S. Collins","T. Larkin","J. D'Amigo",null,"V",5,12,17,29,37,null,"H",3,5,14,21,25,null,"Rd","Springfield",1013623]
[36526,{"$f":"VLOOKUP(AB945,[1]AHLSOG!$O:$Q,2,FALSE)","v":"Oklahoma City"},{"$f":"VLOOKUP(AB945,[1]AHLSOG!$O:$Q,3,FALSE)","v":"Toronto"},1,"1st","TOR",0.17569444444444446,"B. Ross","G. McKegg","T. Bodie",null,"V",7,9,11,25,50,null,"H",3,10,16,22,29,null,"Rd","Toronto",1013624]
[42005,{"$f":"VLOOKUP(AB946,[1]AHLSOG!$O:$Q,2,FALSE)","v":"Oklahoma City"},{"$f":"VLOOKUP(AB946,[1]AHLSOG!$O:$Q,3,FALSE)","v":"Toronto"},2,"1st","OKC",0.41111111111111115,"R. Hamilton","C. Hamilton","J. Oesterle","PP","V",8,9,29,50,null,null,"H",10,12,14,15,24,null,"Hm","Oklahoma City",1013624]
[42036,{"$f":"VLOOKUP(AB947,[1]AHLSOG!$O:$Q,2,FALSE)","v":"Oklahoma City"},{"$f":"VLOOKUP(AB947,[1]AHLSOG!$O:$Q,3,FALSE)","v":"Toronto"},3,"1st","TOR",0.52708333333333335,"G. McKegg","B. Ross",null,null,"V",7,9,11,25,29,null,"H",6,10,16,22,24,null,"Rd","Toronto",1013624]
[42037,{"$f":"VLOOKUP(AB948,[1]AHLSOG!$O:$Q,2,FALSE)","v":"Oklahoma City"},{"$f":"VLOOKUP(AB948,[1]AHLSOG!$O:$Q,3,FALSE)","v":"Toronto"},4,"2nd","OKC",0.31388888888888888,"B. Hunt","A. Miller","J. Williams",null,"V",7,12,17,19,25,null,"H",12,15,17,19,29,null,"Hm","Oklahoma City",1013624]
[42038,{"$f":"VLOOKUP(AB949,[1]AHLSOG!$O:$Q,2,FALSE)","v":"Oklahoma City"},{"$f":"VLOOKUP(AB949,[1]AHLSOG!$O:$Q,3,FALSE)","v":"Toronto"},5,"2nd","OKC",0.47986111111111113,"B. Hunt","J. Williams","M. Ford","PP","V",19,21,25,50,null,null,"H",11,16,17,19,29,null,"Hm","Oklahoma City",1013624]
[42066,{"$f":"VLOOKUP(AB950,[1]AHLSOG!$O:$Q,2,FALSE)","v":"Oklahoma City"},{"$f":"VLOOKUP(AB950,[1]AHLSOG!$O:$Q,3,FALSE)","v":"Toronto"},6,"3rd","TOR",0.34652777777777777,"T. Biggs","B. Findlay",null,null,"V",22,25,36,38,50,null,"H",6,14,20,21,24,null,"Rd","Toronto",1013624]
[42067,{"$f":"VLOOKUP(AB951,[1]AHLSOG!$O:$Q,2,FALSE)","v":"Oklahoma City"},{"$f":"VLOOKUP(AB951,[1]AHLSOG!$O:$Q,3,FALSE)","v":"Toronto"},7,"OT","OKC",0.27638888888888885,"C. Hamilton","B. Hunt","A. Lander",null,"V",9,11,50,null,null,null,"H",10,16,29,null,null,null,"Hm","Oklahoma City",1013624]
["0 - 1",{"$f":"VLOOKUP(AB952,[1]AHLSOG!$O:$Q,2,FALSE)","v":"Portland"},{"$f":"VLOOKUP(AB952,[1]AHLSOG!$O:$Q,3,FALSE)","v":"Lehigh Valley"},1,"1st","POR",0.79861111111111116,"J. Szwarz","B. Shinnimin","J. Hanley",null,"V",5,10,21,23,28,null,"H",4,10,23,24,38,null,"Hm","Portland",1013625]
["0 - 2",{"$f":"VLOOKUP(AB953,[1]AHLSOG!$O:$Q,2,FALSE)","v":"Portland"},{"$f":"VLOOKUP(AB953,[1]AHLSOG!$O:$Q,3,FALSE)","v":"Lehigh Valley"},2,"2nd","POR",7.2222222222222229E-2,"H. Samuelsson","A. Bolduc","A. Campbell",null,"V",4,5,8,21,24,null,"H",4,17,19,23,49,null,"Hm","Portland",1013625]
["0 - 3",{"$f":"VLOOKUP(AB954,[1]AHLSOG!$O:$Q,2,FALSE)","v":"Portland"},{"$f":"VLOOKUP(AB954,[1]AHLSOG!$O:$Q,3,FALSE)","v":"Lehigh Valley"},3,"2nd","POR",0.76180555555555562,"L. Lessio","B. Shinnimin","E. Oberg","PP","V",4,7,11,21,null,null,"H",4,10,24,27,38,null,"Hm","Portland",1013625]
[36526,{"$f":"VLOOKUP(AB955,[1]AHLSOG!$O:$Q,2,FALSE)","v":"Rochester"},{"$f":"VLOOKUP(AB955,[1]AHLSOG!$O:$Q,3,FALSE)","v":"Utica"},1,"2nd","UTI",3.6111111111111115E-2,"W. Hamilton","B. Gaunce","H. Tommernes",null,"V",3,7,10,34,36,null,"H",19,21,22,29,52,null,"Rd","Utica",1013626]
[36557,{"$f":"VLOOKUP(AB956,[1]AHLSOG!$O:$Q,2,FALSE)","v":"Rochester"},{"$f":"VLOOKUP(AB956,[1]AHLSOG!$O:$Q,3,FALSE)","v":"Utica"},2,"2nd","UTI",0.51111111111111118,"R. Kenins","W. Hamilton","F. Corrado",null,"V",3,15,26,36,42,null,"H",3,11,18,37,52,null,"Rd","Utica",1013626]
[42036,{"$f":"VLOOKUP(AB957,[1]AHLSOG!$O:$Q,2,FALSE)","v":"Rochester"},{"$f":"VLOOKUP(AB957,[1]AHLSOG!$O:$Q,3,FALSE)","v":"Utica"},3,"3rd","RCH",0.10833333333333334,"L. Adam","C. Ruhwedel","J. McCabe",null,"V",6,9,16,28,40,null,"H",5,19,21,22,29,null,"Hm","Rochester",1013626]
[42064,{"$f":"VLOOKUP(AB958,[1]AHLSOG!$O:$Q,2,FALSE)","v":"Rochester"},{"$f":"VLOOKUP(AB958,[1]AHLSOG!$O:$Q,3,FALSE)","v":"Utica"},4,"3rd","UTI",0.5444444444444444,"B. Sanguinetti","C. O'Reilly","H. Tommernes","PP","V",6,7,9,16,28,null,"H",5,21,29,37,null,null,"Rd","Utica",1013626]
[42065,{"$f":"VLOOKUP(AB959,[1]AHLSOG!$O:$Q,2,FALSE)","v":"Rochester"},{"$f":"VLOOKUP(AB959,[1]AHLSOG!$O:$Q,3,FALSE)","v":"Utica"},5,"3rd","RCH",0.7055555555555556,"Z. Dalpe","L. Adam","P. Varone",null,"V",6,9,16,28,40,null,"H",5,19,21,22,29,null,"Hm","Rochester",1013626]
[36526,{"$f":"VLOOKUP(AB960,[1]AHLSOG!$O:$Q,2,FALSE)","v":"Rockford"},{"$f":"VLOOKUP(AB960,[1]AHLSOG!$O:$Q,3,FALSE)","v":"Grand Rapids"},1,"1st","GR",0.15208333333333332,"L. Ferraro","A. Athanasiou","N. Jensen",null,"V",12,14,16,21,29,null,"H",2,10,14,16,22,null,"Rd","Grand Rapids",1013627]
[42005,{"$f":"VLOOKUP(AB961,[1]AHLSOG!$O:$Q,2,FALSE)","v":"Rockford"},{"$f":"VLOOKUP(AB961,[1]AHLSOG!$O:$Q,3,FALSE)","v":"Grand Rapids"},2,"1st","RFD",0.42708333333333331,"M. McNeill","T. Brennan","P. Danault",null,"V",5,9,10,15,44,null,"H",7,18,26,28,29,null,"Hm","Rockford",1013627]
[42006,{"$f":"VLOOKUP(AB962,[1]AHLSOG!$O:$Q,2,FALSE)","v":"Rockford"},{"$f":"VLOOKUP(AB962,[1]AHLSOG!$O:$Q,3,FALSE)","v":"Grand Rapids"},3,"3rd","RFD",0.36041666666666666,"M. McNeill","S. Johns","V. Svedberg",null,"V",3,9,14,21,55,null,"H",4,8,14,26,28,null,"Hm","Rockford",1013627]
[42007,{"$f":"VLOOKUP(AB963,[1]AHLSOG!$O:$Q,2,FALSE)","v":"Rockford"},{"$f":"VLOOKUP(AB963,[1]AHLSOG!$O:$Q,3,FALSE)","v":"Grand Rapids"},4,"3rd","RFD",0.81874999999999998,"M. McNeill","B. Mashinter",null,"EN","V",4,6,7,12,23,29,"H",4,7,26,28,53,null,"Hm","Rockford",1013627]
[36526,{"$f":"VLOOKUP(AB964,[1]AHLSOG!$O:$Q,2,FALSE)","v":"Syracuse"},{"$f":"VLOOKUP(AB964,[1]AHLSOG!$O:$Q,3,FALSE)","v":"Norfolk"},1,"1st","NOR",0.24097222222222223,"S. Theodore","C. Wagner","C. Sarault","PP","V",4,15,21,32,null,null,"H",21,57,65,82,null,null,"Rd","Norfolk",1013628]
[36557,{"$f":"VLOOKUP(AB965,[1]AHLSOG!$O:$Q,2,FALSE)","v":"Syracuse"},{"$f":"VLOOKUP(AB965,[1]AHLSOG!$O:$Q,3,FALSE)","v":"Norfolk"},2,"1st","NOR",0.63194444444444442,"S. Theodore","B. Winchester",null,"PP","V",4,15,17,21,32,null,"H",4,10,24,57,null,null,"Rd","Norfolk",1013628]
[42036,{"$f":"VLOOKUP(AB966,[1]AHLSOG!$O:$Q,2,FALSE)","v":"Syracuse"},{"$f":"VLOOKUP(AB966,[1]AHLSOG!$O:$Q,3,FALSE)","v":"Norfolk"},3,"2nd","SYR",0.26041666666666669,"J. Marchessault",null,null,"PS","V",null,null,null,null,null,null,"H",null,null,null,null,null,null,"Hm","Syracuse",1013628]
[42064,{"$f":"VLOOKUP(AB967,[1]AHLSOG!$O:$Q,2,FALSE)","v":"Syracuse"},{"$f":"VLOOKUP(AB967,[1]AHLSOG!$O:$Q,3,FALSE)","v":"Norfolk"},4,"2nd","NOR",0.64722222222222225,"L. Leblanc","C. Sarault","N. Kerdiles",null,"V",8,9,17,20,32,null,"H",6,18,20,24,92,null,"Rd","Norfolk",1013628]
[42095,{"$f":"VLOOKUP(AB968,[1]AHLSOG!$O:$Q,2,FALSE)","v":"Syracuse"},{"$f":"VLOOKUP(AB968,[1]AHLSOG!$O:$Q,3,FALSE)","v":"Norfolk"},5,"2nd","NOR",0.7284722222222223,"B. Winchester","J. Blacker","D. Steckel",null,"V",4,15,18,25,39,null,"H",4,10,29,63,89,null,"Rd","Norfolk",1013628]
[42096,{"$f":"VLOOKUP(AB969,[1]AHLSOG!$O:$Q,2,FALSE)","v":"Syracuse"},{"$f":"VLOOKUP(AB969,[1]AHLSOG!$O:$Q,3,FALSE)","v":"Norfolk"},6,"3rd","SYR",0.16041666666666668,"D. Smith","M. Angelidis","S. Koekkoek",null,"V",4,15,18,21,25,null,"H",10,33,57,65,82,null,"Hm","Syracuse",1013628]
[42097,{"$f":"VLOOKUP(AB970,[1]AHLSOG!$O:$Q,2,FALSE)","v":"Syracuse"},{"$f":"VLOOKUP(AB970,[1]AHLSOG!$O:$Q,3,FALSE)","v":"Norfolk"},7,"3rd","SYR",0.18888888888888888,"Y. Gourde","T. Richard",null,null,"V",9,17,19,28,32,null,"H",4,37,63,71,89,null,"Hm","Syracuse",1013628]
[42098,{"$f":"VLOOKUP(AB971,[1]AHLSOG!$O:$Q,2,FALSE)","v":"Syracuse"},{"$f":"VLOOKUP(AB971,[1]AHLSOG!$O:$Q,3,FALSE)","v":"Norfolk"},8,"3rd","SYR",0.60972222222222217,"D. Smith","J. Cote","D. Blujus",null,"V",4,6,8,20,39,null,"H",6,10,24,33,57,null,"Hm","Syracuse",1013628]
[42099,{"$f":"VLOOKUP(AB972,[1]AHLSOG!$O:$Q,2,FALSE)","v":"Syracuse"},{"$f":"VLOOKUP(AB972,[1]AHLSOG!$O:$Q,3,FALSE)","v":"Norfolk"},9,"3rd","SYR",0.64097222222222217,"Y. Gourde","T. Richard","P. Paradis",null,"V",4,5,15,18,21,null,"H",4,37,63,71,89,null,"Hm","Syracuse",1013628]
["0 - 1",{"$f":"VLOOKUP(AB973,[1]AHLSOG!$O:$Q,2,FALSE)","v":"Worcester"},{"$f":"VLOOKUP(AB973,[1]AHLSOG!$O:$Q,3,FALSE)","v":"Providence"},1,"1st","WOR",0.24305555555555555,"M. Karlsson","B. Lerg","C. Tierney","PP","V",3,6,9,14,null,null,"H",11,14,15,20,50,null,"Hm","Worcester",1013629]
[42005,{"$f":"VLOOKUP(AB974,[1]AHLSOG!$O:$Q,2,FALSE)","v":"Worcester"},{"$f":"VLOOKUP(AB974,[1]AHLSOG!$O:$Q,3,FALSE)","v":"Providence"},2,"1st","PRO",0.61805555555555558,"C. Kane","C. Casto","D. MacKenzie",null,"V",6,11,20,26,38,null,"H",2,5,15,18,22,null,"Rd","Providence",1013629]
[42036,{"$f":"VLOOKUP(AB975,[1]AHLSOG!$O:$Q,2,FALSE)","v":"Worcester"},{"$f":"VLOOKUP(AB975,[1]AHLSOG!$O:$Q,3,FALSE)","v":"Providence"},3,"2nd","PRO",0.81111111111111101,"A. Khokhlachev","S. Eminger",null,"PP","V",13,14,24,32,44,null,"H",2,3,18,27,null,null,"Rd","Providence",1013629]
[42037,{"$f":"VLOOKUP(AB976,[1]AHLSOG!$O:$Q,2,FALSE)","v":"Worcester"},{"$f":"VLOOKUP(AB976,[1]AHLSOG!$O:$Q,3,FALSE)","v":"Providence"},4,"3rd","WOR",0.29791666666666666,"C. Tierney","E. Hayes","M. Taormina",null,"V",13,22,24,29,44,null,"H",5,7,11,20,50,null,"Hm","Worcester",1013629]
[42038,{"$f":"VLOOKUP(AB977,[1]AHLSOG!$O:$Q,2,FALSE)","v":"Worcester"},{"$f":"VLOOKUP(AB977,[1]AHLSOG!$O:$Q,3,FALSE)","v":"Providence"},5,"3rd","WOR",0.42986111111111108,"E. Hayes","C. Tierney","B. Lerg",null,"V",3,9,18,19,29,null,"H",2,4,7,11,50,null,"Hm","Worcester",1013629]
[42039,{"$f":"VLOOKUP(AB978,[1]AHLSOG!$O:$Q,2,FALSE)","v":"Worcester"},{"$f":"VLOOKUP(AB978,[1]AHLSOG!$O:$Q,3,FALSE)","v":"Providence"},6,"3rd","WOR",0.72291666666666676,"R. Carpenter","M. Karlsson","M. Tennyson",null,"V",13,19,24,44,null,null,"H",2,3,15,22,null,null,"Hm","Worcester",1013629]
["0 - 1",{"$f":"VLOOKUP(AB979,[1]AHLSOG!$O:$Q,2,FALSE)","v":"Bridgeport"},{"$f":"VLOOKUP(AB979,[1]AHLSOG!$O:$Q,3,FALSE)","v":"Albany"},1,"1st","BRI",0.25138888888888888,"S. Vaughan",null,null,null,"V",6,9,17,26,29,null,"H",6,7,11,27,44,null,"Hm","Bridgeport",1013630]
[42005,{"$f":"VLOOKUP(AB980,[1]AHLSOG!$O:$Q,2,FALSE)","v":"Bridgeport"},{"$f":"VLOOKUP(AB980,[1]AHLSOG!$O:$Q,3,FALSE)","v":"Albany"},2,"2nd","ALB",0.8208333333333333,"M. Sislo","S. Matteau","G. Black","PP","V",18,19,21,26,29,null,"H",6,16,21,27,null,null,"Rd","Albany",1013630]
[42036,{"$f":"VLOOKUP(AB981,[1]AHLSOG!$O:$Q,2,FALSE)","v":"Bridgeport"},{"$f":"VLOOKUP(AB981,[1]AHLSOG!$O:$Q,3,FALSE)","v":"Albany"},3,"3rd","ALB",5.8333333333333327E-2,"T. Sestito","S. Timmins","J. Whitney","PP","V",5,9,12,15,17,null,"H",7,10,11,24,null,null,"Rd","Albany",1013630]
[42037,{"$f":"VLOOKUP(AB982,[1]AHLSOG!$O:$Q,2,FALSE)","v":"Bridgeport"},{"$f":"VLOOKUP(AB982,[1]AHLSOG!$O:$Q,3,FALSE)","v":"Albany"},4,"3rd","BRI",0.3,"A. Quine","K. Mouillierat","A. Ness","PP","V",2,10,23,33,null,null,"H",6,13,21,22,27,null,"Hm","Bridgeport",1013630]
[42038,{"$f":"VLOOKUP(AB983,[1]AHLSOG!$O:$Q,2,FALSE)","v":"Bridgeport"},{"$f":"VLOOKUP(AB983,[1]AHLSOG!$O:$Q,3,FALSE)","v":"Albany"},5,"3rd","BRI",0.44930555555555557,"H. Zolnierczyk","M. Halmo","K. Czuczman",null,"V",6,9,15,17,29,null,"H",2,12,16,24,26,null,"Hm","Bridgeport",1013630]
[42066,{"$f":"VLOOKUP(AB984,[1]AHLSOG!$O:$Q,2,FALSE)","v":"Bridgeport"},{"$f":"VLOOKUP(AB984,[1]AHLSOG!$O:$Q,3,FALSE)","v":"Albany"},6,"3rd","ALB",0.57916666666666672,"G. Black","S. Matteau","R. Hrabarenka","PP","V",18,21,26,29,32,null,"H",6,7,11,27,null,null,"Rd","Albany",1013630]
["0 - 1",{"$f":"VLOOKUP(AB985,[1]AHLSOG!$O:$Q,2,FALSE)","v":"Charlotte"},{"$f":"VLOOKUP(AB985,[1]AHLSOG!$O:$Q,3,FALSE)","v":"Texas"},1,"1st","CHA",0.32569444444444445,"B. Woods","D. Biega","C. LaRose","SH","V",3,7,10,15,19,null,"H",2,9,21,59,null,null,"Hm","Charlotte",1013631]
[42005,{"$f":"VLOOKUP(AB986,[1]AHLSOG!$O:$Q,2,FALSE)","v":"Charlotte"},{"$f":"VLOOKUP(AB986,[1]AHLSOG!$O:$Q,3,FALSE)","v":"Texas"},2,"2nd","TEX",0.15555555555555556,"T. Morin","D. Meech","M. Stransky",null,"V",2,9,11,23,28,null,"H",2,6,18,21,59,null,"Rd","Texas",1013631]
[42006,{"$f":"VLOOKUP(AB987,[1]AHLSOG!$O:$Q,2,FALSE)","v":"Charlotte"},{"$f":"VLOOKUP(AB987,[1]AHLSOG!$O:$Q,3,FALSE)","v":"Texas"},3,"2nd","CHA",0.35625000000000001,"G. Nemisz","K. Jean","D. Robertson",null,"V",2,9,19,21,28,null,"H",2,6,19,33,59,null,"Hm","Charlotte",1013631]
[42007,{"$f":"VLOOKUP(AB988,[1]AHLSOG!$O:$Q,2,FALSE)","v":"Charlotte"},{"$f":"VLOOKUP(AB988,[1]AHLSOG!$O:$Q,3,FALSE)","v":"Texas"},4,"3rd","CHA",0.81736111111111109,"B. Sutter","C. LaRose",null,"EN","V",9,10,18,20,23,39,"H",2,9,12,19,59,null,"Hm","Charlotte",1013631]
["0 - 1",{"$f":"VLOOKUP(AB989,[1]AHLSOG!$O:$Q,2,FALSE)","v":"Hershey"},{"$f":"VLOOKUP(AB989,[1]AHLSOG!$O:$Q,3,FALSE)","v":"Hartford"},1,"1st","HER",0.10694444444444444,"C. Carrick","C. Stephenson","S. Oleksy",null,"V",2,5,17,27,null,null,"H",5,10,17,25,null,null,"Hm","Hershey",1013632]
[42005,{"$f":"VLOOKUP(AB990,[1]AHLSOG!$O:$Q,2,FALSE)","v":"Hershey"},{"$f":"VLOOKUP(AB990,[1]AHLSOG!$O:$Q,3,FALSE)","v":"Hartford"},2,"1st","HFD",0.14791666666666667,"O. Lindberg","J. Vaive","J. Fast","PP","V",19,20,23,24,27,null,"H",4,19,32,36,null,null,"Rd","Hartford",1013632]
[42006,{"$f":"VLOOKUP(AB991,[1]AHLSOG!$O:$Q,2,FALSE)","v":"Hershey"},{"$f":"VLOOKUP(AB991,[1]AHLSOG!$O:$Q,3,FALSE)","v":"Hartford"},3,"1st","HER",0.35000000000000003,"N. Walker","E. Burgdoerfer","T. Kennedy",null,"V",5,10,14,17,20,null,"H",4,12,13,24,32,null,"Hm","Hershey",1013632]
[42037,{"$f":"VLOOKUP(AB992,[1]AHLSOG!$O:$Q,2,FALSE)","v":"Hershey"},{"$f":"VLOOKUP(AB992,[1]AHLSOG!$O:$Q,3,FALSE)","v":"Hartford"},4,"2nd","HFD",3.8194444444444441E-2,"C. Bourque","D. Jackson","J. Miller",null,"V",5,10,14,17,20,null,"H",5,11,21,34,38,null,"Rd","Hartford",1013632]
[42065,{"$f":"VLOOKUP(AB993,[1]AHLSOG!$O:$Q,2,FALSE)","v":"Hershey"},{"$f":"VLOOKUP(AB993,[1]AHLSOG!$O:$Q,3,FALSE)","v":"Hartford"},5,"3rd","HFD",0.10486111111111111,"O. Lindberg","R. Haggerty","D. Jackson",null,"V",5,15,20,24,39,null,"H",4,13,24,34,38,null,"Rd","Hartford",1013632]
[36526,{"$f":"VLOOKUP(AB994,[1]AHLSOG!$O:$Q,2,FALSE)","v":"Iowa"},{"$f":"VLOOKUP(AB994,[1]AHLSOG!$O:$Q,3,FALSE)","v":"Chicago"},1,"1st","CHI",0.24791666666666667,"C. Butler",null,null,null,"V",6,18,20,25,49,null,"H",14,15,21,22,41,null,"Rd","Chicago",1013633]
[36557,{"$f":"VLOOKUP(AB995,[1]AHLSOG!$O:$Q,2,FALSE)","v":"Iowa"},{"$f":"VLOOKUP(AB995,[1]AHLSOG!$O:$Q,3,FALSE)","v":"Chicago"},2,"1st","CHI",0.39097222222222222,"R. Bordson","J. Chelios","B. Regner","PP","V",15,27,28,38,42,null,"H",14,18,25,27,null,null,"Rd","Chicago",1013633]
[36586,{"$f":"VLOOKUP(AB996,[1]AHLSOG!$O:$Q,2,FALSE)","v":"Iowa"},{"$f":"VLOOKUP(AB996,[1]AHLSOG!$O:$Q,3,FALSE)","v":"Chicago"},3,"2nd","CHI",0.42152777777777778,"S. Harper","B. Ferriero",null,null,"V",5,9,21,28,37,null,"H",2,13,21,22,41,null,"Rd","Chicago",1013633]
[36617,{"$f":"VLOOKUP(AB997,[1]AHLSOG!$O:$Q,2,FALSE)","v":"Iowa"},{"$f":"VLOOKUP(AB997,[1]AHLSOG!$O:$Q,3,FALSE)","v":"Chicago"},4,"2nd","CHI",0.55277777777777781,"R. Bordson","J. Welsh","J. Chelios","PP","V",15,27,37,42,55,null,"H",18,24,27,44,null,null,"Rd","Chicago",1013633]
[42095,{"$f":"VLOOKUP(AB998,[1]AHLSOG!$O:$Q,2,FALSE)","v":"Iowa"},{"$f":"VLOOKUP(AB998,[1]AHLSOG!$O:$Q,3,FALSE)","v":"Chicago"},5,"3rd","IA",0.73402777777777783,"Z. Mitchell","M. Hagel","J. Falk","PP","V",6,12,15,25,null,null,"H",18,25,27,29,44,null,"Hm","Iowa",1013633]
[42125,{"$f":"VLOOKUP(AB999,[1]AHLSOG!$O:$Q,2,FALSE)","v":"Iowa"},{"$f":"VLOOKUP(AB999,[1]AHLSOG!$O:$Q,3,FALSE)","v":"Chicago"},6,"3rd","CHI",0.83194444444444438,"C. Beach","C. Butler","G. Nagy","PP","V",6,18,20,25,49,null,"H",14,18,24,27,null,null,"Rd","Chicago",1013633]
["0 - 1",{"$f":"VLOOKUP(AB1000,[1]AHLSOG!$O:$Q,2,FALSE)","v":"Providence"},{"$f":"VLOOKUP(AB1000,[1]AHLSOG!$O:$Q,3,FALSE)","v":"St. John's"},1,"1st","PRO",0.7715277777777777,"R. Flick","D. Pastrnak",null,null,"V",27,28,29,34,48,null,"H",10,13,29,32,44,null,"Hm","Providence",1013634]
[42006,{"$f":"VLOOKUP(AB1002,[1]AHLSOG!$O:$Q,2,FALSE)","v":"Providence"},{"$f":"VLOOKUP(AB1002,[1]AHLSOG!$O:$Q,3,FALSE)","v":"St. John's"},3,"2nd","PRO",0.68263888888888891,"B. Ferlin","R. Spooner","C. Cunningham",null,"V",7,16,18,28,34,null,"H",3,14,19,24,29,null,"Hm","Providence",1013634]
["0 - 2",{"$f":"VLOOKUP(AB1006,[1]AHLSOG!$O:$Q,2,FALSE)","v":"San Antonio"},{"$f":"VLOOKUP(AB1006,[1]AHLSOG!$O:$Q,3,FALSE)","v":"Oklahoma City"},2,"2nd","SA",0.3263888888888889,"S. Kampfer","S. O'Brien","G. Wilson","PP","V",3,12,16,18,null,null,"H",8,15,16,19,44,null,"Hm","San Antonio",1013635]
[42038,{"$f":"VLOOKUP(AB1013,[1]AHLSOG!$O:$Q,2,FALSE)","v":"W-B/Scranton"},{"$f":"VLOOKUP(AB1013,[1]AHLSOG!$O:$Q,3,FALSE)","v":"Syracuse"},5,"3rd","WBS",3.9583333333333331E-2,"D. Pouliot","B. Bennett","A. Ebbett","PP","V",10,57,65,82,null,null,"H",12,13,23,25,51,null,"Hm","W-B/Scranton",1013636]
[42098,{"$f":"VLOOKUP(AB1016,[1]AHLSOG!$O:$Q,2,FALSE)","v":"W-B/Scranton"},{"$f":"VLOOKUP(AB1016,[1]AHLSOG!$O:$Q,3,FALSE)","v":"Syracuse"},8,"3rd","SYR",0.7368055555555556,"D. Smith","N. Nesterov","J. Marchessault","PP","V",18,21,33,37,89,null,"H",3,4,12,17,null,null,"Rd","Syracuse",1013636]
[42037,{"$f":"VLOOKUP(AB1021,[1]AHLSOG!$O:$Q,2,FALSE)","v":"Charlotte"},{"$f":"VLOOKUP(AB1021,[1]AHLSOG!$O:$Q,3,FALSE)","v":"Norfolk"},4,"3rd","NOR",0.80694444444444446,"N. Kerdiles","R. Rakell","C. Wagner",null,"V",8,9,13,14,21,22,"H",2,7,8,15,19,null,"Rd","Norfolk",1013637]
[42064,{"$f":"VLOOKUP(AB1026,[1]AHLSOG!$O:$Q,2,FALSE)","v":"Rochester"},{"$f":"VLOOKUP(AB1026,[1]AHLSOG!$O:$Q,3,FALSE)","v":"Adirondack"},4,"1st","ADK",0.68888888888888899,"G. Hathaway","B. Reid","N. Yonkman",null,"V",9,11,14,36,38,null,"H",2,19,21,22,34,null,"Rd","Adirondack",1013638]
[42005,{"$f":"VLOOKUP(AB1031,[1]AHLSOG!$O:$Q,2,FALSE)","v":"Oklahoma City"},{"$f":"VLOOKUP(AB1031,[1]AHLSOG!$O:$Q,3,FALSE)","v":"San Antonio"},2,"1st","OKC",0.54236111111111118,"W. Acton","B. Davidson","B. Hunt",null,"V",7,8,15,16,19,null,"H",3,10,13,14,29,null,"Hm","Oklahoma City",1013639]
[36586,{"$f":"VLOOKUP(AB1036,[1]AHLSOG!$O:$Q,2,FALSE)","v":"Portland"},{"$f":"VLOOKUP(AB1036,[1]AHLSOG!$O:$Q,3,FALSE)","v":"Manchester"},3,"3rd","MCH",5.1388888888888894E-2,"C. Miller","B. O'Neill","J. Auger",null,"V",6,22,37,39,55,null,"H",4,17,19,27,49,null,"Rd","Manchester",1013640]
[42005,{"$f":"VLOOKUP(AB1039,[1]AHLSOG!$O:$Q,2,FALSE)","v":"Springfield"},{"$f":"VLOOKUP(AB1039,[1]AHLSOG!$O:$Q,3,FALSE)","v":"Worcester"},2,"3rd","WOR",3.5416666666666666E-2,"M. Tennyson","D. Tarasov","F. Hamilton",null,"V",5,12,19,20,28,null,"H",4,10,15,22,26,null,"Rd","Worcester",1013641]
[42036,{"$f":"VLOOKUP(AB1046,[1]AHLSOG!$O:$Q,2,FALSE)","v":"Albany"},{"$f":"VLOOKUP(AB1046,[1]AHLSOG!$O:$Q,3,FALSE)","v":"Syracuse"},3,"2nd","SYR",0.11944444444444445,"J. Vermin","J. Dotchin","J. Marchessault",null,"V",4,18,21,89,92,null,"H",7,14,19,21,33,null,"Rd","Syracuse",1013642]
["0 - 4",{"$f":"VLOOKUP(AB1051,[1]AHLSOG!$O:$Q,2,FALSE)","v":"Grand Rapids"},{"$f":"VLOOKUP(AB1051,[1]AHLSOG!$O:$Q,3,FALSE)","v":"Lake Erie"},4,"2nd","GR",0.31736111111111115,"R. Sproul","L. Aubry","C. Campbell",null,"V",26,28,38,46,71,null,"H",5,7,10,17,22,null,"Hm","Grand Rapids",1013643]
[42008,{"$f":"VLOOKUP(AB1052,[1]AHLSOG!$O:$Q,2,FALSE)","v":"Grand Rapids"},{"$f":"VLOOKUP(AB1052,[1]AHLSOG!$O:$Q,3,FALSE)","v":"Lake Erie"},5,"3rd","LE",0.1361111111111111,"T. Bourke","K. Ryan","K. Stollery",null,"V",3,14,17,26,42,null,"H",3,9,12,16,27,null,"Rd","Lake Erie",1013643]
[36526,{"$f":"VLOOKUP(AB1056,[1]AHLSOG!$O:$Q,2,FALSE)","v":"Milwaukee"},{"$f":"VLOOKUP(AB1056,[1]AHLSOG!$O:$Q,3,FALSE)","v":"Iowa"},1,"1st","IA",2.0833333333333332E-2,"D. Syvret","M. Keranen","Z. Phillips",null,"V",19,24,25,36,51,null,"H",18,23,28,46,55,null,"Rd","Iowa",1013644]
[36586,{"$f":"VLOOKUP(AB1063,[1]AHLSOG!$O:$Q,2,FALSE)","v":"Utica"},{"$f":"VLOOKUP(AB1063,[1]AHLSOG!$O:$Q,3,FALSE)","v":"Chicago"},3,"3rd","CHI",0.67708333333333337,"P. Cannone","P. McRae","B. Sopel","PP","V",8,10,12,25,55,null,"H",3,26,34,36,null,null,"Rd","Chicago",1013645]
[42006,{"$f":"VLOOKUP(AB1066,[1]AHLSOG!$O:$Q,2,FALSE)","v":"St. John's"},{"$f":"VLOOKUP(AB1066,[1]AHLSOG!$O:$Q,3,FALSE)","v":"Hamilton"},3,"1st","HAM",0.60069444444444442,"M. Nygren","J. Tinordi","G. Dumont",null,"V",5,12,32,40,null,null,"H",7,8,13,16,null,null,"Rd","Hamilton",1013646]
[42036,{"$f":"VLOOKUP(AB1071,[1]AHLSOG!$O:$Q,2,FALSE)","v":"Grand Rapids"},{"$f":"VLOOKUP(AB1071,[1]AHLSOG!$O:$Q,3,FALSE)","v":"Texas"},3,"2nd","TEX",0.25347222222222221,"B. Ranford","G. Rallo","S. Glennie","PP","V",7,10,15,19,27,null,"H",4,12,14,29,null,null,"Rd","Texas",1013647]
[36586,{"$f":"VLOOKUP(AB1076,[1]AHLSOG!$O:$Q,2,FALSE)","v":"Hartford"},{"$f":"VLOOKUP(AB1076,[1]AHLSOG!$O:$Q,3,FALSE)","v":"Bridgeport"},3,"1st","BRI",0.78055555555555556,"A. Quine","C. McDonald",null,null,"V",6,13,21,22,27,null,"H",2,8,9,10,28,null,"Rd","Bridgeport",1013648]
["0 - 1",{"$f":"VLOOKUP(AB1081,[1]AHLSOG!$O:$Q,2,FALSE)","v":"Iowa"},{"$f":"VLOOKUP(AB1081,[1]AHLSOG!$O:$Q,3,FALSE)","v":"Oklahoma City"},1,"1st","IA",0.28194444444444444,"A. Gudbranson","B. Sutter","B. Bulmer",null,"V",7,11,14,15,18,null,"H",8,15,17,24,27,null,"Hm","Iowa",1013649]
[42039,{"$f":"VLOOKUP(AB1086,[1]AHLSOG!$O:$Q,2,FALSE)","v":"Iowa"},{"$f":"VLOOKUP(AB1086,[1]AHLSOG!$O:$Q,3,FALSE)","v":"Oklahoma City"},6,"2nd","IA",0.73611111111111116,"M. Hagel","Z. Mitchell","T. Graovac",null,"V",6,9,10,16,24,null,"H",4,7,14,18,29,null,"Hm","Iowa",1013649]
[42006,{"$f":"VLOOKUP(AB1089,[1]AHLSOG!$O:$Q,2,FALSE)","v":"Lake Erie"},{"$f":"VLOOKUP(AB1089,[1]AHLSOG!$O:$Q,3,FALSE)","v":"Adirondack"},3,"1st","LE",0.68958333333333333,"T. Vincour","A. Agozzino","B. Street",null,"V",21,32,38,46,48,null,"H",10,11,18,46,81,null,"Hm","Lake Erie",1013650]
[42037,{"$f":"VLOOKUP(AB1096,[1]AHLSOG!$O:$Q,2,FALSE)","v":"Norfolk"},{"$f":"VLOOKUP(AB1096,[1]AHLSOG!$O:$Q,3,FALSE)","v":"Binghamton"},4,"2nd","BNG",0.57777777777777783,"D. New","P. Mullen","M. McCormick",null,"V",8,12,14,17,37,null,"H",9,10,19,25,34,null,"Rd","Binghamton",1013651]
[36586,{"$f":"VLOOKUP(AB1102,[1]AHLSOG!$O:$Q,2,FALSE)","v":"Portland"},{"$f":"VLOOKUP(AB1102,[1]AHLSOG!$O:$Q,3,FALSE)","v":"Albany"},3,"3rd","ALB",0.47083333333333338,"T. Sestito","M. Sislo",null,null,"V",8,12,19,33,null,null,"H",2,4,12,17,null,null,"Rd","Albany",1013652]
[42006,{"$f":"VLOOKUP(AB1106,[1]AHLSOG!$O:$Q,2,FALSE)","v":"Providence"},{"$f":"VLOOKUP(AB1106,[1]AHLSOG!$O:$Q,3,FALSE)","v":"Springfield"},3,"2nd","PRO",0.58263888888888882,"R. Spooner","D. Pastrnak","A. Khokhlachev","PP","V",12,13,26,null,null,null,"H",13,24,32,44,null,null,"Hm","Providence",1013653]
[36526,{"$f":"VLOOKUP(AB1111,[1]AHLSOG!$O:$Q,2,FALSE)","v":"Rochester"},{"$f":"VLOOKUP(AB1111,[1]AHLSOG!$O:$Q,3,FALSE)","v":"Toronto"},1,"1st","TOR",0.20833333333333334,"G. McKegg","B. Ross",null,null,"V",9,11,25,29,50,null,"H",18,34,37,43,52,null,"Rd","Toronto",1013654]
[42005,{"$f":"VLOOKUP(AB1112,[1]AHLSOG!$O:$Q,2,FALSE)","v":"Rochester"},{"$f":"VLOOKUP(AB1112,[1]AHLSOG!$O:$Q,3,FALSE)","v":"Toronto"},2,"1st","RCH",0.69166666666666676,"J. Larsson","P. Varone","L. Adam","PP","V",19,21,25,50,null,null,"H",5,19,22,26,46,null,"Hm","Rochester",1013654]
[36557,{"$f":"VLOOKUP(AB1119,[1]AHLSOG!$O:$Q,2,FALSE)","v":"Rockford"},{"$f":"VLOOKUP(AB1119,[1]AHLSOG!$O:$Q,3,FALSE)","v":"Milwaukee"},2,"2nd","MIL",9.0972222222222218E-2,"T. Aronson","M. Liambas","J. Alm",null,"V",17,20,23,55,89,null,"H",2,10,18,26,28,null,"Rd","Milwaukee",1013655]
[42064,{"$f":"VLOOKUP(AB1121,[1]AHLSOG!$O:$Q,2,FALSE)","v":"Rockford"},{"$f":"VLOOKUP(AB1121,[1]AHLSOG!$O:$Q,3,FALSE)","v":"Milwaukee"},4,"3rd","MIL",0.22708333333333333,"M. Salomaki","V. Arvidsson","T. Aronson","PP","V",18,20,23,28,33,null,"H",4,10,16,18,null,null,"Rd","Milwaukee",1013655]
[36526,{"$f":"VLOOKUP(AB1126,[1]AHLSOG!$O:$Q,2,FALSE)","v":"St. John's"},{"$f":"VLOOKUP(AB1126,[1]AHLSOG!$O:$Q,3,FALSE)","v":"Hamilton"},1,"1st","HAM",5.0694444444444452E-2,"C. Hudon","R. Bourque","T. Hensick",null,"V",2,5,10,14,17,null,"H",7,13,16,18,48,null,"Rd","Hamilton",1013657]
[42006,{"$f":"VLOOKUP(AB1131,[1]AHLSOG!$O:$Q,2,FALSE)","v":"Syracuse"},{"$f":"VLOOKUP(AB1131,[1]AHLSOG!$O:$Q,3,FALSE)","v":"Hershey"},3,"1st","SYR",0.59097222222222223,"K. Lynch","J. Samson","D. Smith",null,"V",5,12,19,32,40,null,"H",11,12,13,18,24,null,"Hm","Syracuse",1013658]
[42006,{"$f":"VLOOKUP(AB1137,[1]AHLSOG!$O:$Q,2,FALSE)","v":"Utica"},{"$f":"VLOOKUP(AB1137,[1]AHLSOG!$O:$Q,3,FALSE)","v":"Chicago"},3,"2nd","UTI",0.39513888888888887,"H. Shinkaruk","C. O'Reilly","B. DeFazio",null,"V",5,8,27,28,37,null,"H",9,16,24,26,40,null,"Hm","Utica",1013659]
[42005,{"$f":"VLOOKUP(AB1143,[1]AHLSOG!$O:$Q,2,FALSE)","v":"W-B/Scranton"},{"$f":"VLOOKUP(AB1143,[1]AHLSOG!$O:$Q,3,FALSE)","v":"Lehigh Valley"},2,"3rd","LV",0.10208333333333335,"B. Manning","S. Laughton","A. Gordon","PP","V",10,21,23,28,45,null,"H",5,6,19,25,null,null,"Rd","Lehigh",1013660]
[36526,{"$f":"VLOOKUP(AB1146,[1]AHLSOG!$O:$Q,2,FALSE)","v":"Worcester"},{"$f":"VLOOKUP(AB1146,[1]AHLSOG!$O:$Q,3,FALSE)","v":"Manchester"},1,"1st","MCH",4.7222222222222221E-2,"D. Van der Gulik","C. Miller","S. Backman",null,"V",6,14,16,19,55,null,"H",3,4,12,19,28,null,"Rd","Manchester",1013661]
[42126,{"$f":"VLOOKUP(AB1152,[1]AHLSOG!$O:$Q,2,FALSE)","v":"Worcester"},{"$f":"VLOOKUP(AB1152,[1]AHLSOG!$O:$Q,3,FALSE)","v":"Manchester"},7,"3rd","MCH",0.80208333333333337,"N. Shore","J. Auger","B. O'Neill","EN","V",4,5,22,37,39,null,"H",2,11,14,15,28,50,"Rd","Manchester",1013661]
[42007,{"$f":"VLOOKUP(AB1156,[1]AHLSOG!$O:$Q,2,FALSE)","v":"Bridgeport"},{"$f":"VLOOKUP(AB1156,[1]AHLSOG!$O:$Q,3,FALSE)","v":"Hartford"},4,"3rd","BRI",0.16597222222222222,"M. Halmo","K. Mouillierat","A. Pelech",null,"V",4,14,23,24,28,null,"H",4,10,16,21,26,null,"Hm","Bridgeport",1013662]
[42005,{"$f":"VLOOKUP(AB1161,[1]AHLSOG!$O:$Q,2,FALSE)","v":"Grand Rapids"},{"$f":"VLOOKUP(AB1161,[1]AHLSOG!$O:$Q,3,FALSE)","v":"Texas"},2,"3rd","TEX",0.39097222222222222,"M. Dalhuisen","W. Wrenn","G. Smith",null,"V",2,13,14,19,28,null,"H",5,7,9,22,55,null,"Rd","Texas",1013663]
[42038,{"$f":"VLOOKUP(AB1167,[1]AHLSOG!$O:$Q,2,FALSE)","v":"Iowa"},{"$f":"VLOOKUP(AB1167,[1]AHLSOG!$O:$Q,3,FALSE)","v":"Oklahoma City"},5,"1st","IA",0.77083333333333337,"B. Sutter","B. Bulmer","R. Walters",null,"V",9,10,15,16,18,null,"H",2,11,15,17,27,null,"Hm","Iowa",1013664]
[42067,{"$f":"VLOOKUP(AB1169,[1]AHLSOG!$O:$Q,2,FALSE)","v":"Iowa"},{"$f":"VLOOKUP(AB1169,[1]AHLSOG!$O:$Q,3,FALSE)","v":"Oklahoma City"},7,"2nd","IA",0.63958333333333328,"B. Bulmer","D. Syvret",null,null,"V",3,9,10,16,29,null,"H",8,13,17,24,27,null,"Hm","Iowa",1013664]
[36526,{"$f":"VLOOKUP(AB1172,[1]AHLSOG!$O:$Q,2,FALSE)","v":"Lake Erie"},{"$f":"VLOOKUP(AB1172,[1]AHLSOG!$O:$Q,3,FALSE)","v":"Adirondack"},1,"1st","ADK",0.70624999999999993,"C. Knight","D. Wolf",null,null,"V",7,11,32,36,45,null,"H",11,14,26,37,43,null,"Rd","Adirondack",1013665]
[42038,{"$f":"VLOOKUP(AB1180,[1]AHLSOG!$O:$Q,2,FALSE)","v":"Lehigh Valley"},{"$f":"VLOOKUP(AB1180,[1]AHLSOG!$O:$Q,3,FALSE)","v":"Toronto"},5,"3rd","LV",0.66805555555555562,"B. Manning","A. Gordon","S. Laughton","PP","V",8,16,21,null,null,null,"H",10,21,23,28,45,null,"Rd","Lehigh",1013666]
[36526,{"$f":"VLOOKUP(AB1181,[1]AHLSOG!$O:$Q,2,FALSE)","v":"Manchester"},{"$f":"VLOOKUP(AB1181,[1]AHLSOG!$O:$Q,3,FALSE)","v":"Providence"},1,"1st","PRO",0.26874999999999999,"B. Aneloski","A. Khokhlachev","J. Caron",null,"V",6,13,18,27,49,null,"H",6,22,23,25,37,null,"Rd","Providence",1013667]
[42040,{"$f":"VLOOKUP(AB1187,[1]AHLSOG!$O:$Q,2,FALSE)","v":"Manchester"},{"$f":"VLOOKUP(AB1187,[1]AHLSOG!$O:$Q,3,FALSE)","v":"Providence"},7,"3rd","MCH",0.74444444444444446,"V. LoVerde","N. Dowd",null,null,"V",2,3,9,14,18,null,"H",3,5,14,16,26,null,"Hm","Manchester",1013667]
[42036,{"$f":"VLOOKUP(AB1193,[1]AHLSOG!$O:$Q,2,FALSE)","v":"Norfolk"},{"$f":"VLOOKUP(AB1193,[1]AHLSOG!$O:$Q,3,FALSE)","v":"Binghamton"},3,"2nd","BNG",0.52500000000000002,"A. Grant","D. Dziurzynski","C. Schneider",null,"V",3,15,20,22,57,null,"H",5,6,20,28,39,null,"Rd","Binghamton",1013669]
["0 - 2",{"$f":"VLOOKUP(AB1197,[1]AHLSOG!$O:$Q,2,FALSE)","v":"Portland"},{"$f":"VLOOKUP(AB1197,[1]AHLSOG!$O:$Q,3,FALSE)","v":"Albany"},2,"3rd","POR",0.80625000000000002,"E. Selleck",null,null,"EN","V",9,14,18,19,24,29,"H",4,11,22,25,27,null,"Hm","Portland",1013670]
[42095,{"$f":"VLOOKUP(AB1202,[1]AHLSOG!$O:$Q,2,FALSE)","v":"Rochester"},{"$f":"VLOOKUP(AB1202,[1]AHLSOG!$O:$Q,3,FALSE)","v":"Chicago"},5,"1st","CHI",0.4291666666666667,"T. Rattie","P. Cannone",null,null,"V",4,6,8,12,22,null,"H",2,11,18,34,43,null,"Rd","Chicago",1013671]
[42187,{"$f":"VLOOKUP(AB1206,[1]AHLSOG!$O:$Q,2,FALSE)","v":"Rochester"},{"$f":"VLOOKUP(AB1206,[1]AHLSOG!$O:$Q,3,FALSE)","v":"Chicago"},9,"3rd","RCH",3.3333333333333333E-2,"C. Ruhwedel","J. Larsson","P. Varone","PP","V",4,6,24,38,null,null,"H",5,19,22,26,46,null,"Hm","Rochester",1013671]
[42007,{"$f":"VLOOKUP(AB1212,[1]AHLSOG!$O:$Q,2,FALSE)","v":"San Antonio"},{"$f":"VLOOKUP(AB1212,[1]AHLSOG!$O:$Q,3,FALSE)","v":"Charlotte"},4,"1st","SA",0.80694444444444446,"L. Shaw","M. Mancari","D. Shore","PP","V",2,9,15,59,null,null,"H",3,9,22,26,32,null,"Hm","San Antonio",1013672]
["0 - 2",{"$f":"VLOOKUP(AB1217,[1]AHLSOG!$O:$Q,2,FALSE)","v":"W-B/Scranton"},{"$f":"VLOOKUP(AB1217,[1]AHLSOG!$O:$Q,3,FALSE)","v":"Syracuse"},2,"1st","WBS",0.56805555555555554,"A. Ebbett","S. Wilson","D. Pouliot","PP","V",4,10,24,57,null,null,"H",9,12,23,25,51,null,"Hm","W-B/Scranton",1013673]
[42037,{"$f":"VLOOKUP(AB1219,[1]AHLSOG!$O:$Q,2,FALSE)","v":"W-B/Scranton"},{"$f":"VLOOKUP(AB1219,[1]AHLSOG!$O:$Q,3,FALSE)","v":"Syracuse"},4,"3rd","SYR",9.4444444444444442E-2,"Y. Gourde","N. Nesterov","J. Marchessault","PP","V",18,33,37,89,92,null,"H",5,6,12,14,null,null,"Rd","Syracuse",1013673]
[42097,{"$f":"VLOOKUP(AB1227,[1]AHLSOG!$O:$Q,2,FALSE)","v":"Bridgeport"},{"$f":"VLOOKUP(AB1227,[1]AHLSOG!$O:$Q,3,FALSE)","v":"Springfield"},7,"3rd","SPR",0.76666666666666661,"K. Rychel","R. Craig","M. Dano","PP","V",5,10,12,15,18,null,"H",10,11,27,null,null,null,"Rd","Springfield",1013675]
[42007,{"$f":"VLOOKUP(AB1232,[1]AHLSOG!$O:$Q,2,FALSE)","v":"Hamilton"},{"$f":"VLOOKUP(AB1232,[1]AHLSOG!$O:$Q,3,FALSE)","v":"Rochester"},4,"1st","HAM",0.59861111111111109,"G. Pateryn","S. Andrighetto","M. Bennett","PP","V",29,33,37,52,null,null,"H",2,9,11,27,40,null,"Hm","Hamilton",1013676]
[42098,{"$f":"VLOOKUP(AB1236,[1]AHLSOG!$O:$Q,2,FALSE)","v":"Hamilton"},{"$f":"VLOOKUP(AB1236,[1]AHLSOG!$O:$Q,3,FALSE)","v":"Rochester"},8,"2nd","RCH",0.69027777777777777,"J. McCabe","J. Larsson","P. Varone",null,"V",5,22,26,29,null,null,"H",4,25,27,32,null,null,"Rd","Rochester",1013676]
[42099,{"$f":"VLOOKUP(AB1237,[1]AHLSOG!$O:$Q,2,FALSE)","v":"Hamilton"},{"$f":"VLOOKUP(AB1237,[1]AHLSOG!$O:$Q,3,FALSE)","v":"Rochester"},9,"OT","HAM",0.10277777777777779,"T. Hensick","R. Bourque","M. Nygren",null,"V",5,19,22,29,null,null,"H",4,14,17,32,null,null,"Hm","Hamilton",1013676]
[42066,{"$f":"VLOOKUP(AB1243,[1]AHLSOG!$O:$Q,2,FALSE)","v":"Hartford"},{"$f":"VLOOKUP(AB1243,[1]AHLSOG!$O:$Q,3,FALSE)","v":"Manchester"},6,"3rd","MCH",0.50694444444444442,"J. Weal","N. Dowd","C. Miller","PP","V",6,19,26,27,55,null,"H",5,17,19,28,null,null,"Rd","Manchester",1013677]
[42036,{"$f":"VLOOKUP(AB1247,[1]AHLSOG!$O:$Q,2,FALSE)","v":"Hershey"},{"$f":"VLOOKUP(AB1247,[1]AHLSOG!$O:$Q,3,FALSE)","v":"W-B/Scranton"},3,"2nd","HER",0.2076388888888889,"P. Cornet","T. Kennedy","C. Carrick","PP","V",3,4,17,26,null,null,"H",13,18,21,22,25,null,"Hm","Hershey",1013678]
[42006,{"$f":"VLOOKUP(AB1252,[1]AHLSOG!$O:$Q,2,FALSE)","v":"Providence"},{"$f":"VLOOKUP(AB1252,[1]AHLSOG!$O:$Q,3,FALSE)","v":"Portland"},3,"1st","PRO",0.58958333333333335,"J. Caron","D. Pastrnak","A. Khokhlachev",null,"V",2,16,17,28,49,null,"H",6,13,27,32,44,null,"Hm","Providence",1013679]
[42005,{"$f":"VLOOKUP(AB1256,[1]AHLSOG!$O:$Q,2,FALSE)","v":"Rockford"},{"$f":"VLOOKUP(AB1256,[1]AHLSOG!$O:$Q,3,FALSE)","v":"Texas"},2,"2nd","TEX",0.44444444444444442,"M. Stransky","G. Smith","J. Root",null,"V",3,7,14,21,28,null,"H",7,11,21,29,53,null,"Rd","Texas",1013680]
["0 - 3",{"$f":"VLOOKUP(AB1262,[1]AHLSOG!$O:$Q,2,FALSE)","v":"Adirondack"},{"$f":"VLOOKUP(AB1262,[1]AHLSOG!$O:$Q,3,FALSE)","v":"Chicago"},3,"3rd","ADK",0.80694444444444446,"B. Reid","G. Hathaway",null,"EN","V",8,12,21,22,24,55,"H",9,11,14,36,38,null,"Hm","Adirondack",1013681]
[42008,{"$f":"VLOOKUP(AB1267,[1]AHLSOG!$O:$Q,2,FALSE)","v":"Charlotte"},{"$f":"VLOOKUP(AB1267,[1]AHLSOG!$O:$Q,3,FALSE)","v":"Norfolk"},5,"3rd","CHA",2.6388888888888889E-2,"J. Shugg","R. Murphy","G. Nemisz","PP","V",4,12,29,39,null,null,"H",6,7,14,19,29,null,"Hm","Charlotte",1013682]
[42006,{"$f":"VLOOKUP(AB1273,[1]AHLSOG!$O:$Q,2,FALSE)","v":"San Antonio"},{"$f":"VLOOKUP(AB1273,[1]AHLSOG!$O:$Q,3,FALSE)","v":"Oklahoma City"},3,"1st","SA",0.75555555555555554,"S. O'Brien",null,null,null,"V",6,9,16,24,25,null,"H",8,10,17,27,44,null,"Hm","San Antonio",1013683]
["0 - 1",{"$f":"VLOOKUP(AB1277,[1]AHLSOG!$O:$Q,2,FALSE)","v":"St. John's"},{"$f":"VLOOKUP(AB1277,[1]AHLSOG!$O:$Q,3,FALSE)","v":"Toronto"},1,"2nd","STJ",0.7319444444444444,"P. Cormier",null,null,"SH","V",9,10,13,16,36,null,"H",7,18,19,28,null,null,"Hm","St. John's",1013684]
[42037,{"$f":"VLOOKUP(AB1282,[1]AHLSOG!$O:$Q,2,FALSE)","v":"Hartford"},{"$f":"VLOOKUP(AB1282,[1]AHLSOG!$O:$Q,3,FALSE)","v":"Syracuse"},4,"1st","SYR",0.27361111111111108,"Y. Gourde","J. Vermin","J. Marchessault","PP","V",18,33,37,89,92,null,"H",8,16,17,19,null,null,"Rd","Syracuse",1013685]
[42098,{"$f":"VLOOKUP(AB1286,[1]AHLSOG!$O:$Q,2,FALSE)","v":"Hartford"},{"$f":"VLOOKUP(AB1286,[1]AHLSOG!$O:$Q,3,FALSE)","v":"Syracuse"},8,"2nd","HFD",0.80486111111111114,"J. Miller","M. Hrivik","C. Allen",null,"V",10,24,33,57,65,null,"H",4,10,15,22,28,null,"Hm","Hartford",1013685]
["0 - 1",{"$f":"VLOOKUP(AB1292,[1]AHLSOG!$O:$Q,2,FALSE)","v":"Manchester"},{"$f":"VLOOKUP(AB1292,[1]AHLSOG!$O:$Q,3,FALSE)","v":"Worcester"},1,"1st","MCH",0.44930555555555557,"Z. O'Brien","N. Shore","B. O'Neill",null,"V",2,4,19,28,50,null,"H",6,10,22,37,55,null,"Hm","Manchester",1013687]
["0 - 2",{"$f":"VLOOKUP(AB1293,[1]AHLSOG!$O:$Q,2,FALSE)","v":"Manchester"},{"$f":"VLOOKUP(AB1293,[1]AHLSOG!$O:$Q,3,FALSE)","v":"Worcester"},2,"2nd","MCH",0.33194444444444443,"B. O'Neill","K. Gravel",null,"SH","V",5,10,12,19,28,null,"H",4,5,22,37,null,null,"Hm","Manchester",1013687]
["0 - 2",{"$f":"VLOOKUP(AB1299,[1]AHLSOG!$O:$Q,2,FALSE)","v":"St. John's"},{"$f":"VLOOKUP(AB1299,[1]AHLSOG!$O:$Q,3,FALSE)","v":"Toronto"},2,"1st","STJ",0.44166666666666665,"K. MacKinnon","A. Brassard","J. Brouillette",null,"V",10,22,26,36,51,null,"H",18,19,28,49,50,null,"Hm","St. John's",1013688]
[42038,{"$f":"VLOOKUP(AB1302,[1]AHLSOG!$O:$Q,2,FALSE)","v":"St. John's"},{"$f":"VLOOKUP(AB1302,[1]AHLSOG!$O:$Q,3,FALSE)","v":"Toronto"},5,"3rd","TOR",0.73958333333333337,"G. McKegg","V. Loov","S. Abbott","PP","V",9,13,16,19,36,50,"H",7,13,18,34,null,null,"Rd","Toronto",1013688]
["0 - 1",{"$f":"VLOOKUP(AB1310,[1]AHLSOG!$O:$Q,2,FALSE)","v":"Adirondack"},{"$f":"VLOOKUP(AB1310,[1]AHLSOG!$O:$Q,3,FALSE)","v":"Syracuse"},1,"1st","ADK",9.0277777777777787E-3,"D. Wolf","T. Vause","T. Wotherspoon",null,"V",10,33,57,65,82,null,"H",5,28,34,44,45,null,"Hm","Adirondack",1013691]
[42006,{"$f":"VLOOKUP(AB1312,[1]AHLSOG!$O:$Q,2,FALSE)","v":"Adirondack"},{"$f":"VLOOKUP(AB1312,[1]AHLSOG!$O:$Q,3,FALSE)","v":"Syracuse"},3,"2nd","ADK",0.83194444444444438,"T. Vause","E. Poirier","D. Wolf",null,"V",13,18,20,24,92,null,"H",6,21,34,38,46,null,"Hm","Adirondack",1013691]
[36586,{"$f":"VLOOKUP(AB1317,[1]AHLSOG!$O:$Q,2,FALSE)","v":"Albany"},{"$f":"VLOOKUP(AB1317,[1]AHLSOG!$O:$Q,3,FALSE)","v":"W-B/Scranton"},3,"2nd","WBS",3.8194444444444441E-2,"J. Archibald","P. Samuelsson","S. Harrington",null,"V",5,6,12,15,17,null,"H",10,16,24,25,33,null,"Rd","W-B/Scranton",1013692]
[42006,{"$f":"VLOOKUP(AB1323,[1]AHLSOG!$O:$Q,2,FALSE)","v":"Binghamton"},{"$f":"VLOOKUP(AB1323,[1]AHLSOG!$O:$Q,3,FALSE)","v":"Manchester"},3,"1st","BNG",0.24583333333333335,"C. Schneider","J. Pageau","M. Puempel","PP","V",6,10,37,55,null,null,"H",6,9,14,15,44,null,"Hm","Binghamton",1013693]
[42067,{"$f":"VLOOKUP(AB1327,[1]AHLSOG!$O:$Q,2,FALSE)","v":"Binghamton"},{"$f":"VLOOKUP(AB1327,[1]AHLSOG!$O:$Q,3,FALSE)","v":"Manchester"},7,"OT","BNG",7.0833333333333331E-2,"R. Dzingel","C. Wideman","S. Prince",null,"V",6,16,19,55,null,null,"H",6,18,43,72,null,null,"Hm","Binghamton",1013693]
[42036,{"$f":"VLOOKUP(AB1333,[1]AHLSOG!$O:$Q,2,FALSE)","v":"Lake Erie"},{"$f":"VLOOKUP(AB1333,[1]AHLSOG!$O:$Q,3,FALSE)","v":"Grand Rapids"},3,"1st","GR",0.4694444444444445,"T. Pulkkinen",null,null,null,"V",4,6,14,15,21,null,"H",11,39,42,46,71,null,"Rd","Grand Rapids",1013695]
[42096,{"$f":"VLOOKUP(AB1336,[1]AHLSOG!$O:$Q,2,FALSE)","v":"Lake Erie"},{"$f":"VLOOKUP(AB1336,[1]AHLSOG!$O:$Q,3,FALSE)","v":"Grand Rapids"},6,"3rd","GR",0.29097222222222224,"T. Pulkkinen","T. McCollum",null,null,"V",2,6,7,8,21,null,"H",14,16,17,27,51,null,"Rd","Grand Rapids",1013695]
["0 - 3",{"$f":"VLOOKUP(AB1342,[1]AHLSOG!$O:$Q,2,FALSE)","v":"Lehigh Valley"},{"$f":"VLOOKUP(AB1342,[1]AHLSOG!$O:$Q,3,FALSE)","v":"Worcester"},3,"2nd","LV",6.25E-2,"B. Manning","S. Delisle","J. Rosehill",null,"V",2,13,14,21,28,null,"H",5,16,28,36,37,null,"Rd","Lehigh",1013696]
[42038,{"$f":"VLOOKUP(AB1348,[1]AHLSOG!$O:$Q,2,FALSE)","v":"Milwaukee"},{"$f":"VLOOKUP(AB1348,[1]AHLSOG!$O:$Q,3,FALSE)","v":"Chicago"},5,"OT","MIL",0.22291666666666665,"P. Åberg","J. Alm","M. Hellberg",null,"V",4,8,24,null,null,null,"H",2,18,46,null,null,null,"Hm","Milwaukee",1013697]
[36526,{"$f":"VLOOKUP(AB1349,[1]AHLSOG!$O:$Q,2,FALSE)","v":"Norfolk"},{"$f":"VLOOKUP(AB1349,[1]AHLSOG!$O:$Q,3,FALSE)","v":"Portland"},1,"1st","POR",0.53402777777777777,"J. Martinook","B. Shinnimin","J. Hodgman",null,"V",2,12,17,24,28,null,"H",5,6,20,28,39,null,"Rd","Portland",1013698]
[36557,{"$f":"VLOOKUP(AB1353,[1]AHLSOG!$O:$Q,2,FALSE)","v":"Oklahoma City"},{"$f":"VLOOKUP(AB1353,[1]AHLSOG!$O:$Q,3,FALSE)","v":"Charlotte"},2,"1st","CHA",0.35000000000000003,"D. Biega","P. Di Giuseppe","R. Rissanen",null,"V",5,8,9,15,28,null,"H",8,11,18,21,27,null,"Rd","Charlotte",1013699]
[42099,{"$f":"VLOOKUP(AB1360,[1]AHLSOG!$O:$Q,2,FALSE)","v":"Oklahoma City"},{"$f":"VLOOKUP(AB1360,[1]AHLSOG!$O:$Q,3,FALSE)","v":"Charlotte"},9,"3rd","OKC",0.7597222222222223,"T. Pitlick","A. Lander","B. Hunt","PP","V",2,19,21,28,null,null,"H",9,11,16,19,29,null,"Hm","Oklahoma City",1013699]
["0 - 1",{"$f":"VLOOKUP(AB1362,[1]AHLSOG!$O:$Q,2,FALSE)","v":"Providence"},{"$f":"VLOOKUP(AB1362,[1]AHLSOG!$O:$Q,3,FALSE)","v":"Hartford"},1,"1st","PRO",0.48055555555555557,"T. Randell","C. Cunningham","S. Eminger","SH","V",17,23,24,28,29,null,"H",6,11,14,44,null,null,"Hm","Providence",1013700]
["0 - 2",{"$f":"VLOOKUP(AB1368,[1]AHLSOG!$O:$Q,2,FALSE)","v":"Rochester"},{"$f":"VLOOKUP(AB1368,[1]AHLSOG!$O:$Q,3,FALSE)","v":"Utica"},2,"1st","RCH",0.1986111111111111,"M. MacKenzie","J. Armia","T. Schaller",null,"V",6,8,17,40,null,null,"H",11,33,47,52,null,null,"Hm","Rochester",1013701]
[42067,{"$f":"VLOOKUP(AB1373,[1]AHLSOG!$O:$Q,2,FALSE)","v":"Rochester"},{"$f":"VLOOKUP(AB1373,[1]AHLSOG!$O:$Q,3,FALSE)","v":"Utica"},7,"3rd","UTI",0.46597222222222223,"A. Friesen","R. Kenins","A. Biega",null,"V",3,7,8,15,34,null,"H",2,3,19,22,34,null,"Rd","Utica",1013701]
[42101,{"$f":"VLOOKUP(AB1377,[1]AHLSOG!$O:$Q,2,FALSE)","v":"Rochester"},{"$f":"VLOOKUP(AB1377,[1]AHLSOG!$O:$Q,3,FALSE)","v":"Utica"},11,"3rd","RCH",0.83263888888888893,"J. Samuels-Thomas","K. Sundher","M. MacKenzie",null,"V",4,7,21,25,28,null,"H",5,14,18,47,92,null,"Hm","Rochester",1013701]
[42066,{"$f":"VLOOKUP(AB1383,[1]AHLSOG!$O:$Q,2,FALSE)","v":"Rockford"},{"$f":"VLOOKUP(AB1383,[1]AHLSOG!$O:$Q,3,FALSE)","v":"Iowa"},6,"3rd","RFD",0.36944444444444446,"R. Hartman","R. Schnell","P. Regin",null,"V",5,19,22,24,51,null,"H",4,11,15,24,38,null,"Hm","Rockford",1013702]
["0 - 2",{"$f":"VLOOKUP(AB1386,[1]AHLSOG!$O:$Q,2,FALSE)","v":"Springfield"},{"$f":"VLOOKUP(AB1386,[1]AHLSOG!$O:$Q,3,FALSE)","v":"Bridgeport"},2,"1st","SPR",0.69513888888888886,"S. Collins",null,null,"PS","V",null,null,null,null,null,null,"H",null,null,null,null,null,null,"Hm","Springfield",1013703]
[36557,{"$f":"VLOOKUP(AB1393,[1]AHLSOG!$O:$Q,2,FALSE)","v":"Texas"},{"$f":"VLOOKUP(AB1393,[1]AHLSOG!$O:$Q,3,FALSE)","v":"San Antonio"},2,"2nd","SA",2.013888888888889E-2,"B. Butler","G. Wilson","G. Zanon",null,"V",3,5,15,16,19,null,"H",18,24,27,29,39,null,"Rd","San Antonio",1013704]
[42156,{"$f":"VLOOKUP(AB1398,[1]AHLSOG!$O:$Q,2,FALSE)","v":"Texas"},{"$f":"VLOOKUP(AB1398,[1]AHLSOG!$O:$Q,3,FALSE)","v":"San Antonio"},7,"3rd","SA",0.12986111111111112,"B. Olson","G. Wilson","D. Shore","PP","V",2,15,16,19,32,null,"H",9,10,22,23,null,null,"Rd","San Antonio",1013704]
["0 - 1",{"$f":"VLOOKUP(AB1403,[1]AHLSOG!$O:$Q,2,FALSE)","v":"Binghamton"},{"$f":"VLOOKUP(AB1403,[1]AHLSOG!$O:$Q,3,FALSE)","v":"Albany"},1,"1st","BNG",0.50277777777777777,"D. Grant","M. Puempel","F. Claesson",null,"V",9,14,17,24,29,null,"H",3,9,10,20,57,null,"Hm","Binghamton",1013706]
["0 - 6",{"$f":"VLOOKUP(AB1408,[1]AHLSOG!$O:$Q,2,FALSE)","v":"Binghamton"},{"$f":"VLOOKUP(AB1408,[1]AHLSOG!$O:$Q,3,FALSE)","v":"Albany"},6,"3rd","BNG",0.12083333333333333,"D. Grant","M. Puempel","B. Robinson",null,"V",9,12,18,29,32,null,"H",9,10,14,57,72,null,"Hm","Binghamton",1013706]
[42037,{"$f":"VLOOKUP(AB1413,[1]AHLSOG!$O:$Q,2,FALSE)","v":"Chicago"},{"$f":"VLOOKUP(AB1413,[1]AHLSOG!$O:$Q,3,FALSE)","v":"Iowa"},4,"2nd","CHI",0.36041666666666666,"T. Rattie","P. Cannone",null,null,"V",7,21,28,39,44,null,"H",7,8,12,22,42,null,"Hm","Chicago",1013707]
[42005,{"$f":"VLOOKUP(AB1416,[1]AHLSOG!$O:$Q,2,FALSE)","v":"Grand Rapids"},{"$f":"VLOOKUP(AB1416,[1]AHLSOG!$O:$Q,3,FALSE)","v":"Lake Erie"},2,"1st","GR",0.2722222222222222,"S. Weiss","M. Callahan","T. Pulkkinen","PP","V",3,14,26,51,null,null,"H",6,8,15,21,90,null,"Hm","Grand Rapids",1013708]
[42007,{"$f":"VLOOKUP(AB1418,[1]AHLSOG!$O:$Q,2,FALSE)","v":"Grand Rapids"},{"$f":"VLOOKUP(AB1418,[1]AHLSOG!$O:$Q,3,FALSE)","v":"Lake Erie"},4,"1st","GR",0.67638888888888893,"L. Aubry","N. Jensen",null,null,"V",4,16,27,42,44,null,"H",4,10,14,17,22,null,"Hm","Grand Rapids",1013708]
[42005,{"$f":"VLOOKUP(AB1423,[1]AHLSOG!$O:$Q,2,FALSE)","v":"Hartford"},{"$f":"VLOOKUP(AB1423,[1]AHLSOG!$O:$Q,3,FALSE)","v":"Bridgeport"},2,"2nd","HFD",0.73055555555555562,"C. Bourque","C. Allen","D. Kristo","PP","V",8,10,16,28,null,null,"H",4,9,17,24,29,null,"Hm","Hartford",1013709]
[36526,{"$f":"VLOOKUP(AB1428,[1]AHLSOG!$O:$Q,2,FALSE)","v":"Norfolk"},{"$f":"VLOOKUP(AB1428,[1]AHLSOG!$O:$Q,3,FALSE)","v":"Portland"},1,"1st","POR",0.78125,"P. Lane","C. Trivino","D. Reese",null,"V",2,16,18,22,27,null,"H",6,8,9,18,21,null,"Rd","Portland",1013712]
[42125,{"$f":"VLOOKUP(AB1433,[1]AHLSOG!$O:$Q,2,FALSE)","v":"Norfolk"},{"$f":"VLOOKUP(AB1433,[1]AHLSOG!$O:$Q,3,FALSE)","v":"Portland"},6,"3rd","POR",0.14375000000000002,"T. Gaudet",null,null,null,"V",3,25,26,32,33,null,"H",9,12,17,18,25,null,"Rd","Portland",1013712]
["0 - 2",{"$f":"VLOOKUP(AB1440,[1]AHLSOG!$O:$Q,2,FALSE)","v":"Rockford"},{"$f":"VLOOKUP(AB1440,[1]AHLSOG!$O:$Q,3,FALSE)","v":"Milwaukee"},2,"2nd","RFD",0.14305555555555557,"D. Rasmussen","Z. Miskovic","R. Schnell",null,"V",23,28,29,51,55,null,"H",3,4,8,12,38,null,"Hm","Rockford",1013714]
[42038,{"$f":"VLOOKUP(AB1443,[1]AHLSOG!$O:$Q,2,FALSE)","v":"Rockford"},{"$f":"VLOOKUP(AB1443,[1]AHLSOG!$O:$Q,3,FALSE)","v":"Milwaukee"},5,"2nd","RFD",0.70624999999999993,"T. Brennan","B. Mashinter","P. Regin","PP","V",2,7,29,51,null,null,"H",7,11,21,29,53,null,"Hm","Rockford",1013714]
[42038,{"$f":"VLOOKUP(AB1448,[1]AHLSOG!$O:$Q,2,FALSE)","v":"Springfield"},{"$f":"VLOOKUP(AB1448,[1]AHLSOG!$O:$Q,3,FALSE)","v":"Providence"},5,"1st","SPR",0.78541666666666676,"A. Madaisky","T. Tynan","T. Larkin",null,"V",6,14,22,38,44,null,"H",5,12,17,18,37,null,"Hm","Springfield",1013715]
[42006,{"$f":"VLOOKUP(AB1453,[1]AHLSOG!$O:$Q,2,FALSE)","v":"Syracuse"},{"$f":"VLOOKUP(AB1453,[1]AHLSOG!$O:$Q,3,FALSE)","v":"Utica"},3,"2nd","SYR",3.4027777777777775E-2,"Y. Gourde","J. Marchessault","N. Nesterov",null,"V",3,7,11,21,34,null,"H",18,33,37,65,89,null,"Hm","Syracuse",1013716]
[42065,{"$f":"VLOOKUP(AB1458,[1]AHLSOG!$O:$Q,2,FALSE)","v":"W-B/Scranton"},{"$f":"VLOOKUP(AB1458,[1]AHLSOG!$O:$Q,3,FALSE)","v":"Manchester"},5,"2nd","MCH",0.22708333333333333,"J. Weal","J. Auger","C. Miller",null,"V",6,19,27,39,55,null,"H",3,24,25,26,51,null,"Rd","Manchester",1013717]
[42008,{"$f":"VLOOKUP(AB1463,[1]AHLSOG!$O:$Q,2,FALSE)","v":"Albany"},{"$f":"VLOOKUP(AB1463,[1]AHLSOG!$O:$Q,3,FALSE)","v":"Bridgeport"},5,"2nd","ALB",0.32222222222222224,"E. Baier","J. Whitney","J. Faust",null,"V",6,13,26,27,null,null,"H",9,12,32,36,null,null,"Hm","Albany",1013718]
[36526,{"$f":"VLOOKUP(AB1466,[1]AHLSOG!$O:$Q,2,FALSE)","v":"Chicago"},{"$f":"VLOOKUP(AB1466,[1]AHLSOG!$O:$Q,3,FALSE)","v":"Rockford"},1,"2nd","RFD",0.35069444444444442,"G. Ross","B. Mashinter","V. Svedberg",null,"V",8,15,21,26,53,null,"H",4,9,10,21,37,null,"Rd","Rockford",1013719]
["0 - 1",{"$f":"VLOOKUP(AB1473,[1]AHLSOG!$O:$Q,2,FALSE)","v":"Providence"},{"$f":"VLOOKUP(AB1473,[1]AHLSOG!$O:$Q,3,FALSE)","v":"Springfield"},1,"1st","PRO",0.16527777777777777,"J. Caron","C. Casto","C. Cunningham",null,"V",11,14,15,16,32,null,"H",6,9,14,27,44,null,"Hm","Providence",1013722]
[42096,{"$f":"VLOOKUP(AB1478,[1]AHLSOG!$O:$Q,2,FALSE)","v":"Providence"},{"$f":"VLOOKUP(AB1478,[1]AHLSOG!$O:$Q,3,FALSE)","v":"Springfield"},6,"2nd","SPR",0.50486111111111109,"A. Madaisky","T. Tynan","R. Craig",null,"V",3,5,12,17,18,null,"H",8,15,19,20,37,null,"Rd","Springfield",1013722]
[42097,{"$f":"VLOOKUP(AB1479,[1]AHLSOG!$O:$Q,2,FALSE)","v":"Providence"},{"$f":"VLOOKUP(AB1479,[1]AHLSOG!$O:$Q,3,FALSE)","v":"Springfield"},7,"2nd","PRO",0.63680555555555551,"J. Florek","R. Spooner","I. White","PP","V",16,17,26,32,null,null,"H",9,14,18,24,28,null,"Hm","Providence",1013722]
["0 - 2",{"$f":"VLOOKUP(AB1483,[1]AHLSOG!$O:$Q,2,FALSE)","v":"San Antonio"},{"$f":"VLOOKUP(AB1483,[1]AHLSOG!$O:$Q,3,FALSE)","v":"Texas"},2,"2nd","SA",7.5694444444444439E-2,"C. Brickley","A. Petrovic","M. Mancari","PP","V",18,24,29,39,null,null,"H",3,6,23,26,32,null,"Hm","San Antonio",1013723]
[42125,{"$f":"VLOOKUP(AB1490,[1]AHLSOG!$O:$Q,2,FALSE)","v":"Toronto"},{"$f":"VLOOKUP(AB1490,[1]AHLSOG!$O:$Q,3,FALSE)","v":"Hamilton"},6,"3rd","HAM",0.76250000000000007,"N. Sorkin","T. Hensick","C. Hudon","PP","V",10,17,21,25,32,null,"H",7,16,39,50,null,null,"Rd","Hamilton",1013724]
[42036,{"$f":"VLOOKUP(AB1493,[1]AHLSOG!$O:$Q,2,FALSE)","v":"Adirondack"},{"$f":"VLOOKUP(AB1493,[1]AHLSOG!$O:$Q,3,FALSE)","v":"Toronto"},3,"3rd","TOR",0.29166666666666669,"G. McKegg","J. Leivo","C. Brown",null,"V",2,9,14,26,29,null,"H",6,21,38,46,48,null,"Rd","Toronto",1013725]
[42036,{"$f":"VLOOKUP(AB1498,[1]AHLSOG!$O:$Q,2,FALSE)","v":"Albany"},{"$f":"VLOOKUP(AB1498,[1]AHLSOG!$O:$Q,3,FALSE)","v":"Hartford"},3,"1st","HFD",0.76388888888888884,"D. Kristo","S. Spinell","C. Bourque",null,"V",4,15,17,29,44,null,"H",6,12,18,19,33,null,"Rd","Hartford",1013726]
["0 - 2",{"$f":"VLOOKUP(AB1503,[1]AHLSOG!$O:$Q,2,FALSE)","v":"Binghamton"},{"$f":"VLOOKUP(AB1503,[1]AHLSOG!$O:$Q,3,FALSE)","v":"St. John's"},2,"2nd","BNG",0.32500000000000001,"S. Prince","C. Camper","A. Johnson",null,"V",13,14,16,29,44,null,"H",6,11,18,57,72,null,"Hm","Binghamton",1013727]
["0 - 1",{"$f":"VLOOKUP(AB1508,[1]AHLSOG!$O:$Q,2,FALSE)","v":"Hershey"},{"$f":"VLOOKUP(AB1508,[1]AHLSOG!$O:$Q,3,FALSE)","v":"W-B/Scranton"},1,"3rd","HER",0.37013888888888885,"S. Galiev","C. Carrick","T. Kennedy","PP","V",3,6,14,25,null,null,"H",13,21,22,23,25,null,"Hm","Hershey",1013728]
[42065,{"$f":"VLOOKUP(AB1514,[1]AHLSOG!$O:$Q,2,FALSE)","v":"Lehigh Valley"},{"$f":"VLOOKUP(AB1514,[1]AHLSOG!$O:$Q,3,FALSE)","v":"Springfield"},5,"3rd","LV",0.78263888888888899,"T. Leier","B. Manning","B. Jones","PP","V",12,16,26,32,null,null,"H",2,10,22,23,28,45,"Rd","Lehigh",1013729]
["0 - 2",{"$f":"VLOOKUP(AB1516,[1]AHLSOG!$O:$Q,2,FALSE)","v":"Milwaukee"},{"$f":"VLOOKUP(AB1516,[1]AHLSOG!$O:$Q,3,FALSE)","v":"Chicago"},2,"2nd","MIL",0.59236111111111112,"R. Clune","J. Alm",null,null,"V",5,7,15,21,27,null,"H",17,20,36,37,55,null,"Hm","Milwaukee",1013730]
[42007,{"$f":"VLOOKUP(AB1523,[1]AHLSOG!$O:$Q,2,FALSE)","v":"Norfolk"},{"$f":"VLOOKUP(AB1523,[1]AHLSOG!$O:$Q,3,FALSE)","v":"Charlotte"},4,"3rd","CHA",0.23472222222222219,"B. Woods","P. Di Giuseppe","G. Desjardins",null,"V",5,6,21,27,28,null,"H",4,5,16,20,22,null,"Rd","Charlotte",1013731]
["0 - 1",{"$f":"VLOOKUP(AB1529,[1]AHLSOG!$O:$Q,2,FALSE)","v":"Rockford"},{"$f":"VLOOKUP(AB1529,[1]AHLSOG!$O:$Q,3,FALSE)","v":"Iowa"},1,"2nd","RFD",0.53402777777777777,"T. Teravainen","S. Johns","P. Danault",null,"V",4,5,10,18,44,null,"H",4,8,18,21,26,null,"Hm","Rockford",1013734]
["0 - 5",{"$f":"VLOOKUP(AB1533,[1]AHLSOG!$O:$Q,2,FALSE)","v":"Rockford"},{"$f":"VLOOKUP(AB1533,[1]AHLSOG!$O:$Q,3,FALSE)","v":"Iowa"},5,"3rd","RFD",0.43958333333333338,"V. Pokka","T. Brennan","T. Teravainen",null,"V",10,14,19,25,39,null,"H",7,21,22,29,38,null,"Hm","Rockford",1013734]
[42006,{"$f":"VLOOKUP(AB1538,[1]AHLSOG!$O:$Q,2,FALSE)","v":"Texas"},{"$f":"VLOOKUP(AB1538,[1]AHLSOG!$O:$Q,3,FALSE)","v":"Oklahoma City"},3,"3rd","OKC",0.46875,"A. Miller","B. Yakimov","C. Hamilton",null,"V",3,10,17,29,39,null,"H",7,9,10,15,28,null,"Rd","Oklahoma City",1013735]
[42065,{"$f":"VLOOKUP(AB1540,[1]AHLSOG!$O:$Q,2,FALSE)","v":"Texas"},{"$f":"VLOOKUP(AB1540,[1]AHLSOG!$O:$Q,3,FALSE)","v":"Oklahoma City"},5,"OT","OKC",0.1673611111111111,"M. Ford","J. Oesterle","A. Lander",null,"V",11,15,16,40,null,null,"H",9,22,27,29,null,null,"Rd","Oklahoma City",1013735]
[42006,{"$f":"VLOOKUP(AB1543,[1]AHLSOG!$O:$Q,2,FALSE)","v":"Utica"},{"$f":"VLOOKUP(AB1543,[1]AHLSOG!$O:$Q,3,FALSE)","v":"Syracuse"},3,"2nd","UTI",0.4770833333333333,"D. Archibald","B. DeFazio","W. Acton",null,"V",6,11,63,71,82,null,"H",4,7,24,25,41,null,"Hm","Utica",1013736]
[42099,{"$f":"VLOOKUP(AB1549,[1]AHLSOG!$O:$Q,2,FALSE)","v":"Utica"},{"$f":"VLOOKUP(AB1549,[1]AHLSOG!$O:$Q,3,FALSE)","v":"Syracuse"},9,"3rd","UTI",0.65833333333333333,"D. Archibald","N. Jensen","W. Acton",null,"V",11,12,18,65,82,null,"H",3,17,25,37,41,null,"Hm","Utica",1013736]
[42007,{"$f":"VLOOKUP(AB1553,[1]AHLSOG!$O:$Q,2,FALSE)","v":"Albany"},{"$f":"VLOOKUP(AB1553,[1]AHLSOG!$O:$Q,3,FALSE)","v":"Lehigh Valley"},4,"2nd","LV",0.14930555555555555,"T. Leier","B. Manning",null,"PP","V",2,22,23,28,45,null,"H",6,21,23,33,null,null,"Rd","Lehigh",1013737]
["0 - 1",{"$f":"VLOOKUP(AB1558,[1]AHLSOG!$O:$Q,2,FALSE)","v":"Lake Erie"},{"$f":"VLOOKUP(AB1558,[1]AHLSOG!$O:$Q,3,FALSE)","v":"Hamilton"},1,"1st","LE",7.7777777777777779E-2,"J. Hishon","T. Bourke","P. Carey",null,"V",5,7,10,17,21,null,"H",14,16,24,27,38,null,"Hm","Lake Erie",1013739]
["0 - 1",{"$f":"VLOOKUP(AB1564,[1]AHLSOG!$O:$Q,2,FALSE)","v":"Manchester"},{"$f":"VLOOKUP(AB1564,[1]AHLSOG!$O:$Q,3,FALSE)","v":"Bridgeport"},1,"2nd","MCH",7.0833333333333331E-2,"Z. O'Brien","V. LoVerde","B. O'Neill",null,"V",6,21,22,27,49,null,"H",5,7,10,22,37,null,"Hm","Manchester",1013740]
[42005,{"$f":"VLOOKUP(AB1570,[1]AHLSOG!$O:$Q,2,FALSE)","v":"Portland"},{"$f":"VLOOKUP(AB1570,[1]AHLSOG!$O:$Q,3,FALSE)","v":"Providence"},2,"1st","POR",0.79166666666666663,"A. Bolduc","D. Reese","J. Martinook",null,"V",3,9,11,15,37,null,"H",2,17,19,28,49,null,"Hm","Portland",1013741]
[42038,{"$f":"VLOOKUP(AB1573,[1]AHLSOG!$O:$Q,2,FALSE)","v":"Portland"},{"$f":"VLOOKUP(AB1573,[1]AHLSOG!$O:$Q,3,FALSE)","v":"Providence"},5,"OT","POR",6.6666666666666666E-2,"E. Oberg","T. Gaudet","C. Trivino",null,"V",2,3,24,27,null,null,"H",3,18,27,32,null,null,"Hm","Portland",1013741]
[42066,{"$f":"VLOOKUP(AB1579,[1]AHLSOG!$O:$Q,2,FALSE)","v":"Rochester"},{"$f":"VLOOKUP(AB1579,[1]AHLSOG!$O:$Q,3,FALSE)","v":"Grand Rapids"},6,"3rd","RCH",0.23402777777777781,"J. McCabe","L. Adam","P. Varone","PP","V",3,12,29,44,null,null,"H",5,19,22,29,46,null,"Hm","Rochester",1013742]
[42006,{"$f":"VLOOKUP(AB1583,[1]AHLSOG!$O:$Q,2,FALSE)","v":"Rockford"},{"$f":"VLOOKUP(AB1583,[1]AHLSOG!$O:$Q,3,FALSE)","v":"Chicago"},3,"2nd","RFD",0.33263888888888887,"J. Wise","G. Ross","P. Danault",null,"V",4,6,17,18,24,null,"H",10,15,18,26,28,null,"Hm","Rockford",1013743]
[36557,{"$f":"VLOOKUP(AB1589,[1]AHLSOG!$O:$Q,2,FALSE)","v":"Syracuse"},{"$f":"VLOOKUP(AB1589,[1]AHLSOG!$O:$Q,3,FALSE)","v":"Binghamton"},2,"1st","BNG",0.44513888888888892,"C. Schneider","J. Pageau","A. Johnson",null,"V",14,15,27,44,72,null,"H",11,12,24,29,65,null,"Rd","Binghamton",1013744]
[42097,{"$f":"VLOOKUP(AB1594,[1]AHLSOG!$O:$Q,2,FALSE)","v":"Syracuse"},{"$f":"VLOOKUP(AB1594,[1]AHLSOG!$O:$Q,3,FALSE)","v":"Binghamton"},7,"3rd","BNG",0.33333333333333331,"S. Prince","D. Grant",null,"PP","V",11,18,20,57,72,null,"H",20,24,37,82,null,null,"Rd","Binghamton",1013744]
[42158,{"$f":"VLOOKUP(AB1596,[1]AHLSOG!$O:$Q,2,FALSE)","v":"Syracuse"},{"$f":"VLOOKUP(AB1596,[1]AHLSOG!$O:$Q,3,FALSE)","v":"Binghamton"},9,"3rd","BNG",0.80138888888888893,"D. Dziurzynski","M. McCormick",null,"EN","V",3,17,22,72,null,null,"H",18,37,63,71,89,null,"Rd","Binghamton",1013744]
[42036,{"$f":"VLOOKUP(AB1599,[1]AHLSOG!$O:$Q,2,FALSE)","v":"Texas"},{"$f":"VLOOKUP(AB1599,[1]AHLSOG!$O:$Q,3,FALSE)","v":"Oklahoma City"},3,"OT","OKC",0.12638888888888888,"B. Davidson","C. Hamilton","B. Yakimov",null,"V",3,10,29,39,null,null,"H",7,9,23,39,null,null,"Rd","Oklahoma City",1013745]
[42065,{"$f":"VLOOKUP(AB1607,[1]AHLSOG!$O:$Q,2,FALSE)","v":"Worcester"},{"$f":"VLOOKUP(AB1607,[1]AHLSOG!$O:$Q,3,FALSE)","v":"Springfield"},5,"OT","SPR",0.1125,"N. Oystrick","T. Tynan","S. Collins",null,"V",17,18,20,37,null,null,"H",4,12,20,21,null,null,"Rd","Springfield",1013747]
[42005,{"$f":"VLOOKUP(AB1609,[1]AHLSOG!$O:$Q,2,FALSE)","v":"Adirondack"},{"$f":"VLOOKUP(AB1609,[1]AHLSOG!$O:$Q,3,FALSE)","v":"Grand Rapids"},2,"2nd","GR",6.805555555555555E-2,"M. Callahan","T. Pulkkinen","M. Backman",null,"V",6,7,15,21,44,null,"H",5,16,28,36,44,null,"Rd","Grand Rapids",1013748]
[42156,{"$f":"VLOOKUP(AB1614,[1]AHLSOG!$O:$Q,2,FALSE)","v":"Adirondack"},{"$f":"VLOOKUP(AB1614,[1]AHLSOG!$O:$Q,3,FALSE)","v":"Grand Rapids"},7,"3rd","GR",0.61041666666666672,"M. Callahan","T. Pulkkinen","L. Aubry",null,"V",4,6,14,15,22,null,"H",5,10,16,28,44,null,"Rd","Grand Rapids",1013748]
["0 - 3",{"$f":"VLOOKUP(AB1620,[1]AHLSOG!$O:$Q,2,FALSE)","v":"Binghamton"},{"$f":"VLOOKUP(AB1620,[1]AHLSOG!$O:$Q,3,FALSE)","v":"Rochester"},3,"2nd","BNG",0.64722222222222225,"D. Dziurzynski","D. Kramer","P. Mullen",null,"V",3,4,19,34,37,null,"H",14,17,22,37,72,null,"Hm","Binghamton",1013750]
[42067,{"$f":"VLOOKUP(AB1624,[1]AHLSOG!$O:$Q,2,FALSE)","v":"Binghamton"},{"$f":"VLOOKUP(AB1624,[1]AHLSOG!$O:$Q,3,FALSE)","v":"Rochester"},7,"3rd","RCH",0.74513888888888891,"J. Samuels-Thomas","P. Varone",null,null,"V",2,5,18,22,37,92,"H",9,11,16,20,72,null,"Rd","Rochester",1013750]
["0 - 1",{"$f":"VLOOKUP(AB1629,[1]AHLSOG!$O:$Q,2,FALSE)","v":"Charlotte"},{"$f":"VLOOKUP(AB1629,[1]AHLSOG!$O:$Q,3,FALSE)","v":"Milwaukee"},1,"1st","CHA",0.20694444444444446,"C. Terry","T. Carrick","G. Nemisz",null,"V",3,7,18,28,46,null,"H",5,19,25,36,59,null,"Hm","Charlotte",1013752]
[42038,{"$f":"VLOOKUP(AB1633,[1]AHLSOG!$O:$Q,2,FALSE)","v":"Charlotte"},{"$f":"VLOOKUP(AB1633,[1]AHLSOG!$O:$Q,3,FALSE)","v":"Milwaukee"},5,"2nd","MIL",0.23194444444444443,"P. Åberg","B. Leipsic","T. Aronson","PP","V",18,20,23,28,46,null,"H",2,9,19,59,null,null,"Rd","Milwaukee",1013752]
["0 - 2",{"$f":"VLOOKUP(AB1639,[1]AHLSOG!$O:$Q,2,FALSE)","v":"Chicago"},{"$f":"VLOOKUP(AB1639,[1]AHLSOG!$O:$Q,3,FALSE)","v":"Rockford"},2,"3rd","CHI",0.21249999999999999,"S. Harper","B. Sopel","J. Chelios","PP","V",3,8,12,38,null,null,"H",9,10,22,42,55,null,"Hm","Chicago",1013753]
[42064,{"$f":"VLOOKUP(AB1644,[1]AHLSOG!$O:$Q,2,FALSE)","v":"Hamilton"},{"$f":"VLOOKUP(AB1644,[1]AHLSOG!$O:$Q,3,FALSE)","v":"Lake Erie"},4,"1st","LE",0.58333333333333337,"M. Schumacher","R. Petryk","S. Elliott",null,"V",4,11,24,42,46,null,"H",4,7,11,19,40,null,"Rd","Lake Erie",1013754]
[42066,{"$f":"VLOOKUP(AB1646,[1]AHLSOG!$O:$Q,2,FALSE)","v":"Hamilton"},{"$f":"VLOOKUP(AB1646,[1]AHLSOG!$O:$Q,3,FALSE)","v":"Lake Erie"},6,"3rd","HAM",0.38541666666666669,"D. Carr",null,null,null,"V",3,26,42,51,71,null,"H",7,8,11,15,40,null,"Hm","Hamilton",1013754]
[42005,{"$f":"VLOOKUP(AB1654,[1]AHLSOG!$O:$Q,2,FALSE)","v":"Lehigh Valley"},{"$f":"VLOOKUP(AB1654,[1]AHLSOG!$O:$Q,3,FALSE)","v":"Norfolk"},2,"1st","NOR",0.56805555555555554,"W. Karlsson","M. Friberg",null,"PP","V",9,14,20,22,39,null,"H",7,25,28,36,null,null,"Rd","Norfolk",1013756]
[42067,{"$f":"VLOOKUP(AB1659,[1]AHLSOG!$O:$Q,2,FALSE)","v":"Lehigh Valley"},{"$f":"VLOOKUP(AB1659,[1]AHLSOG!$O:$Q,3,FALSE)","v":"Norfolk"},7,"3rd","NOR",0.24166666666666667,"W. Karlsson","B. Bell","B. Yip",null,"V",5,9,18,19,22,null,"H",4,5,11,17,24,null,"Rd","Norfolk",1013756]
[42007,{"$f":"VLOOKUP(AB1663,[1]AHLSOG!$O:$Q,2,FALSE)","v":"San Antonio"},{"$f":"VLOOKUP(AB1663,[1]AHLSOG!$O:$Q,3,FALSE)","v":"Oklahoma City"},4,"1st","SA",0.76874999999999993,"M. Mancari","C. Brickley","D. Shore",null,"V",3,9,16,25,29,null,"H",5,8,23,26,32,null,"Hm","San Antonio",1013757]
[42038,{"$f":"VLOOKUP(AB1664,[1]AHLSOG!$O:$Q,2,FALSE)","v":"San Antonio"},{"$f":"VLOOKUP(AB1664,[1]AHLSOG!$O:$Q,3,FALSE)","v":"Oklahoma City"},5,"3rd","OKC",0.50555555555555554,"T. Pitlick","A. Lander",null,null,"V",3,9,16,25,29,null,"H",2,3,22,27,28,null,"Rd","Oklahoma City",1013757]
["0 - 4",{"$f":"VLOOKUP(AB1670,[1]AHLSOG!$O:$Q,2,FALSE)","v":"Springfield"},{"$f":"VLOOKUP(AB1670,[1]AHLSOG!$O:$Q,3,FALSE)","v":"Manchester"},4,"2nd","SPR",0.37916666666666665,"D. Monardo",null,null,null,"V",6,10,22,37,55,null,"H",10,26,32,34,40,null,"Hm","Springfield",1013758]
[42006,{"$f":"VLOOKUP(AB1674,[1]AHLSOG!$O:$Q,2,FALSE)","v":"Texas"},{"$f":"VLOOKUP(AB1674,[1]AHLSOG!$O:$Q,3,FALSE)","v":"Iowa"},3,"1st","IA",0.53819444444444442,"C. Folin","Z. Phillips","M. Keranen",null,"V",2,3,5,36,51,null,"H",7,9,19,23,39,null,"Rd","Iowa",1013759]
[36526,{"$f":"VLOOKUP(AB1679,[1]AHLSOG!$O:$Q,2,FALSE)","v":"Worcester"},{"$f":"VLOOKUP(AB1679,[1]AHLSOG!$O:$Q,3,FALSE)","v":"Providence"},1,"1st","PRO",7.6388888888888886E-3,"B. Ferlin","A. Khokhlachev","J. Caron",null,"V",13,19,27,29,44,null,"H",4,7,12,18,20,null,"Rd","Providence",1013761]
[42038,{"$f":"VLOOKUP(AB1683,[1]AHLSOG!$O:$Q,2,FALSE)","v":"Worcester"},{"$f":"VLOOKUP(AB1683,[1]AHLSOG!$O:$Q,3,FALSE)","v":"Providence"},5,"2nd","WOR",0.15902777777777777,"E. Trupp","R. Carpenter","K. Abeltshauser","PP","V",2,3,14,24,null,null,"H",2,10,13,21,22,null,"Hm","Worcester",1013761]
[36526,{"$f":"VLOOKUP(AB1689,[1]AHLSOG!$O:$Q,2,FALSE)","v":"Charlotte"},{"$f":"VLOOKUP(AB1689,[1]AHLSOG!$O:$Q,3,FALSE)","v":"Milwaukee"},1,"1st","MIL",0.78472222222222221,"T. Grant","M. Van Guilder","M. Salomaki",null,"V",2,20,21,23,29,null,"H",5,9,14,15,25,null,"Rd","Milwaukee",1013763]
[42005,{"$f":"VLOOKUP(AB1694,[1]AHLSOG!$O:$Q,2,FALSE)","v":"San Antonio"},{"$f":"VLOOKUP(AB1694,[1]AHLSOG!$O:$Q,3,FALSE)","v":"Iowa"},2,"2nd","SA",8.7500000000000008E-2,"D. Shore","M. Mancari","R. Grimaldi",null,"V",3,7,36,51,55,null,"H",2,5,9,26,32,null,"Hm","San Antonio",1013765]
[42098,{"$f":"VLOOKUP(AB1700,[1]AHLSOG!$O:$Q,2,FALSE)","v":"San Antonio"},{"$f":"VLOOKUP(AB1700,[1]AHLSOG!$O:$Q,3,FALSE)","v":"Iowa"},8,"3rd","SA",0.32569444444444445,"R. Martindale","G. Zanon",null,null,"V",4,5,10,25,null,null,"H",5,8,17,22,null,null,"Hm","San Antonio",1013765]
[42064,{"$f":"VLOOKUP(AB1704,[1]AHLSOG!$O:$Q,2,FALSE)","v":"Toronto"},{"$f":"VLOOKUP(AB1704,[1]AHLSOG!$O:$Q,3,FALSE)","v":"Lake Erie"},4,"3rd","LE",0.55208333333333337,"S. Henley","B. Rendulic","M. Schumacher",null,"V",24,42,46,47,71,null,"H",14,15,25,50,51,null,"Rd","Lake Erie",1013766]
[42095,{"$f":"VLOOKUP(AB1710,[1]AHLSOG!$O:$Q,2,FALSE)","v":"Adirondack"},{"$f":"VLOOKUP(AB1710,[1]AHLSOG!$O:$Q,3,FALSE)","v":"Hamilton"},5,"2nd","ADK",0.65694444444444444,"B. Hanowski","E. Poirier","T. Wotherspoon",null,"V",7,8,15,21,40,null,"H",4,5,13,21,28,null,"Hm","Adirondack",1013767]
[42127,{"$f":"VLOOKUP(AB1713,[1]AHLSOG!$O:$Q,2,FALSE)","v":"Adirondack"},{"$f":"VLOOKUP(AB1713,[1]AHLSOG!$O:$Q,3,FALSE)","v":"Hamilton"},8,"3rd","HAM",0.7895833333333333,"D. Bowman","G. Dumont","J. Tinordi","EN","V",4,5,15,20,40,null,"H",3,10,14,21,25,48,"Rd","Hamilton",1013767]
[42039,{"$f":"VLOOKUP(AB1719,[1]AHLSOG!$O:$Q,2,FALSE)","v":"Albany"},{"$f":"VLOOKUP(AB1719,[1]AHLSOG!$O:$Q,3,FALSE)","v":"Springfield"},6,"3rd","ALB",0.43611111111111112,"G. Black","S. Bernier",null,"PP","V",3,12,32,36,null,null,"H",5,18,19,21,28,null,"Hm","Albany",1013768]
["0 - 1",{"$f":"VLOOKUP(AB1720,[1]AHLSOG!$O:$Q,2,FALSE)","v":"Toronto"},{"$f":"VLOOKUP(AB1720,[1]AHLSOG!$O:$Q,3,FALSE)","v":"Grand Rapids"},1,"1st","TOR",0.50069444444444444,"P. Watling","J. Leivo","A. MacWilliam",null,"V",4,6,15,21,55,null,"H",2,14,21,22,26,null,"Hm","Toronto",1013770]
[42038,{"$f":"VLOOKUP(AB1724,[1]AHLSOG!$O:$Q,2,FALSE)","v":"Toronto"},{"$f":"VLOOKUP(AB1724,[1]AHLSOG!$O:$Q,3,FALSE)","v":"Grand Rapids"},5,"3rd","TOR",0.10972222222222222,"C. Brown","T. Bodie",null,null,"V",3,4,15,16,23,null,"H",16,19,25,26,29,null,"Hm","Toronto",1013770]
[42037,{"$f":"VLOOKUP(AB1729,[1]AHLSOG!$O:$Q,2,FALSE)","v":"Lake Erie"},{"$f":"VLOOKUP(AB1729,[1]AHLSOG!$O:$Q,3,FALSE)","v":"Chicago"},4,"1st","LE",0.7895833333333333,"M. Lauridsen","S. Henley","M. Schumacher",null,"V",5,17,18,24,28,null,"H",11,24,26,42,71,null,"Hm","Lake Erie",1013771]
[42097,{"$f":"VLOOKUP(AB1737,[1]AHLSOG!$O:$Q,2,FALSE)","v":"Texas"},{"$f":"VLOOKUP(AB1737,[1]AHLSOG!$O:$Q,3,FALSE)","v":"Utica"},7,"OT","UTI",0.10902777777777778,"C. O'Reilly","D. Jeffrey","B. Sanguinetti","PP","V",6,16,21,28,null,null,"H",18,23,24,null,null,null,"Rd","Utica",1013772]
[36557,{"$f":"VLOOKUP(AB1739,[1]AHLSOG!$O:$Q,2,FALSE)","v":"Milwaukee"},{"$f":"VLOOKUP(AB1739,[1]AHLSOG!$O:$Q,3,FALSE)","v":"Rockford"},2,"2nd","RFD",0.1125,"M. Carey","T. Brennan","T. Teravainen",null,"V",3,7,21,24,27,null,"H",2,21,23,33,51,null,"Rd","Rockford",1013773]
[42007,{"$f":"VLOOKUP(AB1745,[1]AHLSOG!$O:$Q,2,FALSE)","v":"Adirondack"},{"$f":"VLOOKUP(AB1745,[1]AHLSOG!$O:$Q,3,FALSE)","v":"Texas"},4,"2nd","ADK",0.52152777777777781,"T. Vause","M. Tousignant","T. Wotherspoon",null,"V",10,15,18,20,24,null,"H",5,15,16,34,38,null,"Hm","Adirondack",1013774]
[42064,{"$f":"VLOOKUP(AB1750,[1]AHLSOG!$O:$Q,2,FALSE)","v":"Grand Rapids"},{"$f":"VLOOKUP(AB1750,[1]AHLSOG!$O:$Q,3,FALSE)","v":"Oklahoma City"},4,"3rd","GR",0.59791666666666665,"T. Pulkkinen","A. Marchenko","X. Ouellet",null,"V",11,12,19,28,40,null,"H",3,6,15,16,21,null,"Hm","Grand Rapids",1013775]
[42036,{"$f":"VLOOKUP(AB1754,[1]AHLSOG!$O:$Q,2,FALSE)","v":"Hamilton"},{"$f":"VLOOKUP(AB1754,[1]AHLSOG!$O:$Q,3,FALSE)","v":"Toronto"},3,"3rd","TOR",0.62777777777777777,"B. Kozun","J. Leivo",null,null,"V",2,10,14,15,null,null,"H",4,8,28,40,null,null,"Rd","Toronto",1013776]
[42008,{"$f":"VLOOKUP(AB1760,[1]AHLSOG!$O:$Q,2,FALSE)","v":"Hershey"},{"$f":"VLOOKUP(AB1760,[1]AHLSOG!$O:$Q,3,FALSE)","v":"Bridgeport"},5,"3rd","HER",0.17500000000000002,"C. Brown","C. Conner","T. Kennedy",null,"V",4,10,14,17,28,null,"H",4,13,23,24,34,null,"Hm","Hershey",1013777]
[42068,{"$f":"VLOOKUP(AB1763,[1]AHLSOG!$O:$Q,2,FALSE)","v":"Hershey"},{"$f":"VLOOKUP(AB1763,[1]AHLSOG!$O:$Q,3,FALSE)","v":"Bridgeport"},8,"3rd","HER",0.75208333333333333,"C. Brown","T. Kennedy","E. Burgdoerfer",null,"V",10,21,23,24,26,null,"H",4,7,13,23,24,null,"Hm","Hershey",1013777]
[42006,{"$f":"VLOOKUP(AB1770,[1]AHLSOG!$O:$Q,2,FALSE)","v":"Portland"},{"$f":"VLOOKUP(AB1770,[1]AHLSOG!$O:$Q,3,FALSE)","v":"Manchester"},3,"1st","MCH",0.78749999999999998,"N. Dowd","J. Schultz","D. Van der Gulik",null,"V",6,14,16,26,55,null,"H",11,12,24,28,33,null,"Rd","Manchester",1013779]
[36526,{"$f":"VLOOKUP(AB1775,[1]AHLSOG!$O:$Q,2,FALSE)","v":"Rochester"},{"$f":"VLOOKUP(AB1775,[1]AHLSOG!$O:$Q,3,FALSE)","v":"Binghamton"},1,"2nd","BNG",0.38472222222222219,"C. Schneider","R. Dzingel","J. Pageau",null,"V",15,20,43,44,72,null,"H",5,19,21,22,52,null,"Rd","Binghamton",1013781]
[36557,{"$f":"VLOOKUP(AB1776,[1]AHLSOG!$O:$Q,2,FALSE)","v":"Rochester"},{"$f":"VLOOKUP(AB1776,[1]AHLSOG!$O:$Q,3,FALSE)","v":"Binghamton"},2,"2nd","BNG",0.49583333333333335,"D. Grant","A. Grant","S. Prince","PP","V",11,18,20,57,72,null,"H",21,26,29,47,null,null,"Rd","Binghamton",1013781]
[36526,{"$f":"VLOOKUP(AB1780,[1]AHLSOG!$O:$Q,2,FALSE)","v":"San Antonio"},{"$f":"VLOOKUP(AB1780,[1]AHLSOG!$O:$Q,3,FALSE)","v":"Utica"},1,"1st","UTI",0.62777777777777777,"A. Grenier","D. Jeffrey","C. O'Reilly","PP","V",6,16,21,24,28,null,"H",3,5,15,16,null,null,"Rd","Utica",1013782]
[42098,{"$f":"VLOOKUP(AB1787,[1]AHLSOG!$O:$Q,2,FALSE)","v":"San Antonio"},{"$f":"VLOOKUP(AB1787,[1]AHLSOG!$O:$Q,3,FALSE)","v":"Utica"},8,"3rd","UTI",0.69444444444444453,"D. Jeffrey","A. Friesen","K. Lafranchise",null,"V",4,8,15,21,28,null,"H",3,6,22,23,28,null,"Rd","Utica",1013782]
["0 - 1",{"$f":"VLOOKUP(AB1789,[1]AHLSOG!$O:$Q,2,FALSE)","v":"Springfield"},{"$f":"VLOOKUP(AB1789,[1]AHLSOG!$O:$Q,3,FALSE)","v":"Norfolk"},1,"1st","SPR",0.22430555555555556,"M. Dano","A. Madaisky","D. Urban",null,"V",18,20,22,25,29,null,"H",5,7,10,34,40,null,"Hm","Springfield",1013783]
["0 - 2",{"$f":"VLOOKUP(AB1795,[1]AHLSOG!$O:$Q,2,FALSE)","v":"Syracuse"},{"$f":"VLOOKUP(AB1795,[1]AHLSOG!$O:$Q,3,FALSE)","v":"Hartford"},2,"1st","SYR",0.15,"M. Angelidis","D. Smith","Y. Gourde",null,"V",7,8,15,17,29,null,"H",10,33,37,65,89,null,"Hm","Syracuse",1013785]
[42040,{"$f":"VLOOKUP(AB1800,[1]AHLSOG!$O:$Q,2,FALSE)","v":"Syracuse"},{"$f":"VLOOKUP(AB1800,[1]AHLSOG!$O:$Q,3,FALSE)","v":"Hartford"},7,"2nd","HFD",0.15902777777777777,"C. Nehring","J. Nicholls","D. Jackson",null,"V",7,8,16,20,49,null,"H",10,18,24,89,92,null,"Rd","Hartford",1013785]
["0 - 1",{"$f":"VLOOKUP(AB1805,[1]AHLSOG!$O:$Q,2,FALSE)","v":"W-B/Scranton"},{"$f":"VLOOKUP(AB1805,[1]AHLSOG!$O:$Q,3,FALSE)","v":"Lehigh Valley"},1,"1st","WBS",0.28125,"T. Kuhnhackl","S. Gill","A. Payerl",null,"V",2,10,25,28,38,null,"H",6,14,28,33,41,null,"Hm","W-B/Scranton",1013786]
[42009,{"$f":"VLOOKUP(AB1810,[1]AHLSOG!$O:$Q,2,FALSE)","v":"W-B/Scranton"},{"$f":"VLOOKUP(AB1810,[1]AHLSOG!$O:$Q,3,FALSE)","v":"Lehigh Valley"},6,"3rd","WBS",0.70763888888888893,"D. Pouliot","C. Sheary","S. Harrington",null,"V",2,37,38,45,null,null,"H",6,9,43,51,null,null,"Hm","W-B/Scranton",1013786]
[42036,{"$f":"VLOOKUP(AB1813,[1]AHLSOG!$O:$Q,2,FALSE)","v":"Albany"},{"$f":"VLOOKUP(AB1813,[1]AHLSOG!$O:$Q,3,FALSE)","v":"Portland"},3,"2nd","POR",0.3,"E. Selleck",null,null,null,"V",2,24,25,27,32,null,"H",6,10,18,26,32,null,"Rd","Portland",1013787]
[42006,{"$f":"VLOOKUP(AB1820,[1]AHLSOG!$O:$Q,2,FALSE)","v":"Binghamton"},{"$f":"VLOOKUP(AB1820,[1]AHLSOG!$O:$Q,3,FALSE)","v":"Adirondack"},3,"1st","BNG",0.77638888888888891,"M. Puempel","B. Robinson","A. Grant",null,"V",5,13,38,46,48,null,"H",3,9,10,20,57,null,"Hm","Binghamton",1013788]
[42068,{"$f":"VLOOKUP(AB1825,[1]AHLSOG!$O:$Q,2,FALSE)","v":"Binghamton"},{"$f":"VLOOKUP(AB1825,[1]AHLSOG!$O:$Q,3,FALSE)","v":"Adirondack"},8,"3rd","BNG",0.41666666666666669,"D. Hobbs","C. Wideman","D. Dziurzynski",null,"V",9,13,25,32,38,null,"H",4,6,12,17,22,null,"Hm","Binghamton",1013788]
[42005,{"$f":"VLOOKUP(AB1830,[1]AHLSOG!$O:$Q,2,FALSE)","v":"Lehigh Valley"},{"$f":"VLOOKUP(AB1830,[1]AHLSOG!$O:$Q,3,FALSE)","v":"Bridgeport"},2,"2nd","BRI",0.27638888888888885,"A. Ness","M. Nemec","C. McDonald",null,"V",5,13,21,22,27,null,"H",4,5,24,25,36,null,"Rd","Bridgeport",1013791]
["0 - 3",{"$f":"VLOOKUP(AB1835,[1]AHLSOG!$O:$Q,2,FALSE)","v":"Manchester"},{"$f":"VLOOKUP(AB1835,[1]AHLSOG!$O:$Q,3,FALSE)","v":"Norfolk"},3,"3rd","MCH",8.8888888888888892E-2,"M. Mersch","N. Dowd","D. Forbort",null,"V",9,10,18,28,38,null,"H",3,16,23,26,27,null,"Hm","Manchester",1013792]
[36526,{"$f":"VLOOKUP(AB1840,[1]AHLSOG!$O:$Q,2,FALSE)","v":"Milwaukee"},{"$f":"VLOOKUP(AB1840,[1]AHLSOG!$O:$Q,3,FALSE)","v":"Oklahoma City"},1,"1st","OKC",0.24236111111111111,"B. Hunt","J. Winquist","B. Yakimov",null,"V",7,17,29,37,39,null,"H",18,20,46,47,55,null,"Rd","Oklahoma City",1013793]
[42064,{"$f":"VLOOKUP(AB1843,[1]AHLSOG!$O:$Q,2,FALSE)","v":"Milwaukee"},{"$f":"VLOOKUP(AB1843,[1]AHLSOG!$O:$Q,3,FALSE)","v":"Oklahoma City"},4,"2nd","OKC",0.74305555555555547,"B. Hunt","A. Miller","A. Lander","PP","V",11,16,17,19,29,null,"H",7,22,23,89,null,null,"Rd","Oklahoma City",1013793]
[42096,{"$f":"VLOOKUP(AB1845,[1]AHLSOG!$O:$Q,2,FALSE)","v":"Milwaukee"},{"$f":"VLOOKUP(AB1845,[1]AHLSOG!$O:$Q,3,FALSE)","v":"Oklahoma City"},6,"3rd","MIL",9.5833333333333326E-2,"F. Gaudreau","J. Piskula","J. Pendenza",null,"V",3,19,21,27,29,null,"H",7,10,22,37,89,null,"Hm","Milwaukee",1013793]
[36586,{"$f":"VLOOKUP(AB1850,[1]AHLSOG!$O:$Q,2,FALSE)","v":"Rockford"},{"$f":"VLOOKUP(AB1850,[1]AHLSOG!$O:$Q,3,FALSE)","v":"Grand Rapids"},3,"2nd","GR",0.29097222222222224,"A. Mantha","A. Miele","M. Callahan","PP","V",6,7,8,15,21,null,"H",7,16,18,null,null,null,"Rd","Grand Rapids",1013794]
[42037,{"$f":"VLOOKUP(AB1855,[1]AHLSOG!$O:$Q,2,FALSE)","v":"St. John's"},{"$f":"VLOOKUP(AB1855,[1]AHLSOG!$O:$Q,3,FALSE)","v":"Worcester"},4,"1st","STJ",0.46736111111111112,"P. Cormier","W. O'Neill","M. Cornell","PP","V",5,11,12,20,null,null,"H",14,24,27,28,45,null,"Hm","St. John's",1013795]
[42005,{"$f":"VLOOKUP(AB1860,[1]AHLSOG!$O:$Q,2,FALSE)","v":"Toronto"},{"$f":"VLOOKUP(AB1860,[1]AHLSOG!$O:$Q,3,FALSE)","v":"Hamilton"},2,"1st","HAM",0.52361111111111114,"M. Bournival","M. Bennett","C. Hudon",null,"V",7,9,10,24,28,null,"H",10,13,14,20,25,null,"Rd","Hamilton",1013797]
[42036,{"$f":"VLOOKUP(AB1867,[1]AHLSOG!$O:$Q,2,FALSE)","v":"W-B/Scranton"},{"$f":"VLOOKUP(AB1867,[1]AHLSOG!$O:$Q,3,FALSE)","v":"Hershey"},3,"3rd","WBS",0.63611111111111118,"B. Rust","N. D'Agostino","C. Seymour",null,"V",12,17,22,25,32,null,"H",12,14,21,33,38,null,"Hm","W-B/Scranton",1013798]
[42036,{"$f":"VLOOKUP(AB1870,[1]AHLSOG!$O:$Q,2,FALSE)","v":"Bridgeport"},{"$f":"VLOOKUP(AB1870,[1]AHLSOG!$O:$Q,3,FALSE)","v":"Lehigh Valley"},3,"2nd","LV",0.24791666666666667,"D. Powe",null,null,null,"V",2,5,10,17,36,null,"H",4,7,10,11,44,null,"Rd","Lehigh",1013800]
[42127,{"$f":"VLOOKUP(AB1875,[1]AHLSOG!$O:$Q,2,FALSE)","v":"Bridgeport"},{"$f":"VLOOKUP(AB1875,[1]AHLSOG!$O:$Q,3,FALSE)","v":"Lehigh Valley"},8,"3rd","LV",0.81041666666666667,"J. Akeson","B. Jones",null,"EN","V",7,22,28,36,38,null,"H",6,12,13,16,26,27,"Rd","Lehigh",1013800]
[42005,{"$f":"VLOOKUP(AB1880,[1]AHLSOG!$O:$Q,2,FALSE)","v":"Hartford"},{"$f":"VLOOKUP(AB1880,[1]AHLSOG!$O:$Q,3,FALSE)","v":"Binghamton"},2,"1st","BNG",0.32291666666666669,"C. Schneider","A. Grant","F. Claesson",null,"V",3,15,20,22,44,null,"H",7,8,16,17,21,null,"Rd","Binghamton",1013802]
["0 - 1",{"$f":"VLOOKUP(AB1885,[1]AHLSOG!$O:$Q,2,FALSE)","v":"Hershey"},{"$f":"VLOOKUP(AB1885,[1]AHLSOG!$O:$Q,3,FALSE)","v":"W-B/Scranton"},1,"1st","HER",2.7083333333333334E-2,"S. Oleksy","T. Kennedy","C. Conner",null,"V",6,17,28,29,41,null,"H",5,7,13,23,24,null,"Hm","Hershey",1013803]
["0 - 1",{"$f":"VLOOKUP(AB1890,[1]AHLSOG!$O:$Q,2,FALSE)","v":"Manchester"},{"$f":"VLOOKUP(AB1890,[1]AHLSOG!$O:$Q,3,FALSE)","v":"Norfolk"},1,"1st","MCH",0.24722222222222223,"Z. O'Brien","J. Weal","J. Auger",null,"V",5,20,26,28,39,null,"H",5,7,10,19,39,null,"Hm","Manchester",1013804]
[42007,{"$f":"VLOOKUP(AB1893,[1]AHLSOG!$O:$Q,2,FALSE)","v":"Manchester"},{"$f":"VLOOKUP(AB1893,[1]AHLSOG!$O:$Q,3,FALSE)","v":"Norfolk"},4,"2nd","MCH",0.2722222222222222,"J. Weal","Z. O'Brien","J. Auger",null,"V",6,14,20,22,29,null,"H",3,4,10,19,39,null,"Hm","Manchester",1013804]
["0 - 2",{"$f":"VLOOKUP(AB1900,[1]AHLSOG!$O:$Q,2,FALSE)","v":"Providence"},{"$f":"VLOOKUP(AB1900,[1]AHLSOG!$O:$Q,3,FALSE)","v":"Portland"},2,"2nd","PRO",0.3659722222222222,"S. Asuchak","C. Kane","S. Eminger",null,"V",2,18,19,28,38,null,"H",10,23,28,38,44,null,"Hm","Providence",1013806]
["0 - 1",{"$f":"VLOOKUP(AB1904,[1]AHLSOG!$O:$Q,2,FALSE)","v":"Rockford"},{"$f":"VLOOKUP(AB1904,[1]AHLSOG!$O:$Q,3,FALSE)","v":"Lake Erie"},1,"1st","RFD",0.2076388888888889,"G. Ross","V. Pokka","T. Teravainen",null,"V",11,17,26,28,42,null,"H",7,21,26,29,53,null,"Hm","Rockford",1013807]
["0 - 2",{"$f":"VLOOKUP(AB1905,[1]AHLSOG!$O:$Q,2,FALSE)","v":"Rockford"},{"$f":"VLOOKUP(AB1905,[1]AHLSOG!$O:$Q,3,FALSE)","v":"Lake Erie"},2,"1st","RFD",0.32361111111111113,"G. Ross","T. Brennan","P. Danault",null,"V",16,17,39,44,46,null,"H",7,12,18,26,29,null,"Hm","Rockford",1013807]
[42097,{"$f":"VLOOKUP(AB1910,[1]AHLSOG!$O:$Q,2,FALSE)","v":"Rockford"},{"$f":"VLOOKUP(AB1910,[1]AHLSOG!$O:$Q,3,FALSE)","v":"Lake Erie"},7,"OT","LE",0.18194444444444444,"J. Hishon","S. Elliott","B. Rendulic",null,"V",38,46,71,null,null,null,"H",2,11,21,null,null,null,"Rd","Lake Erie",1013807]
["0 - 1",{"$f":"VLOOKUP(AB1917,[1]AHLSOG!$O:$Q,2,FALSE)","v":"Charlotte"},{"$f":"VLOOKUP(AB1917,[1]AHLSOG!$O:$Q,3,FALSE)","v":"Iowa"},1,"1st","CHA",4.0972222222222222E-2,"J. Shugg","R. Murphy","A. Jenks",null,"V",4,7,18,25,29,null,"H",2,6,7,14,15,null,"Hm","Charlotte",1013810]
[42037,{"$f":"VLOOKUP(AB1920,[1]AHLSOG!$O:$Q,2,FALSE)","v":"Charlotte"},{"$f":"VLOOKUP(AB1920,[1]AHLSOG!$O:$Q,3,FALSE)","v":"Iowa"},4,"2nd","CHA",0.61805555555555558,"C. LaRose","R. Murphy","P. Di Giuseppe",null,"V",4,7,14,19,27,null,"H",2,6,14,28,59,null,"Hm","Charlotte",1013810]
[42006,{"$f":"VLOOKUP(AB1926,[1]AHLSOG!$O:$Q,2,FALSE)","v":"San Antonio"},{"$f":"VLOOKUP(AB1926,[1]AHLSOG!$O:$Q,3,FALSE)","v":"Chicago"},3,"2nd","SA",0.14305555555555557,"B. Parlett","R. Grimaldi","D. Shore",null,"V",6,9,17,37,42,null,"H",5,7,9,27,32,null,"Hm","San Antonio",1013811]
[42126,{"$f":"VLOOKUP(AB1930,[1]AHLSOG!$O:$Q,2,FALSE)","v":"San Antonio"},{"$f":"VLOOKUP(AB1930,[1]AHLSOG!$O:$Q,3,FALSE)","v":"Chicago"},7,"3rd","CHI",6.805555555555555E-2,"P. McRae","J. Welsh","S. Harper","PP","V",9,10,15,22,42,null,"H",3,6,23,32,null,null,"Rd","Chicago",1013811]
[42064,{"$f":"VLOOKUP(AB1935,[1]AHLSOG!$O:$Q,2,FALSE)","v":"St. John's"},{"$f":"VLOOKUP(AB1935,[1]AHLSOG!$O:$Q,3,FALSE)","v":"Providence"},4,"2nd","STJ",0.45624999999999999,"E. O'Dell","K. MacKinnon","B. Kichton",null,"V",6,9,14,18,44,null,"H",8,14,19,27,48,null,"Hm","St. John's",1013812]
["0 - 1",{"$f":"VLOOKUP(AB1941,[1]AHLSOG!$O:$Q,2,FALSE)","v":"Adirondack"},{"$f":"VLOOKUP(AB1941,[1]AHLSOG!$O:$Q,3,FALSE)","v":"Hamilton"},1,"1st","ADK",0.15277777777777776,"M. Reinhart","T. Elson","R. Culkin",null,"V",7,10,15,17,26,null,"H",3,13,25,28,44,null,"Hm","Adirondack",1013813]
[42036,{"$f":"VLOOKUP(AB1943,[1]AHLSOG!$O:$Q,2,FALSE)","v":"Adirondack"},{"$f":"VLOOKUP(AB1943,[1]AHLSOG!$O:$Q,3,FALSE)","v":"Hamilton"},3,"3rd","HAM",0.24513888888888888,"C. Hudon","D. Bowman",null,null,"V",4,7,10,15,17,null,"H",5,9,21,38,46,null,"Rd","Hamilton",1013813]
[42065,{"$f":"VLOOKUP(AB1950,[1]AHLSOG!$O:$Q,2,FALSE)","v":"Grand Rapids"},{"$f":"VLOOKUP(AB1950,[1]AHLSOG!$O:$Q,3,FALSE)","v":"Lake Erie"},5,"OT","LE",0.12083333333333333,"M. Noreau","K. Ryan",null,null,"V",11,14,17,26,null,null,"H",4,12,14,29,null,null,"Rd","Lake Erie",1013814]
["0 - 3",{"$f":"VLOOKUP(AB1956,[1]AHLSOG!$O:$Q,2,FALSE)","v":"Norfolk"},{"$f":"VLOOKUP(AB1956,[1]AHLSOG!$O:$Q,3,FALSE)","v":"Charlotte"},3,"3rd","NOR",0.72361111111111109,"M. Friberg","D. Steckel","B. Bell",null,"V",5,6,8,21,59,null,"H",2,9,14,18,39,null,"Hm","Norfolk",1013816]
[42005,{"$f":"VLOOKUP(AB1960,[1]AHLSOG!$O:$Q,2,FALSE)","v":"St. John's"},{"$f":"VLOOKUP(AB1960,[1]AHLSOG!$O:$Q,3,FALSE)","v":"Providence"},2,"2nd","STJ",0.79583333333333339,"J. Albert","N. Blanchard","C. Balisy",null,"V",6,13,27,32,44,null,"H",7,8,13,16,26,null,"Hm","St. John's",1013818]
[42036,{"$f":"VLOOKUP(AB1961,[1]AHLSOG!$O:$Q,2,FALSE)","v":"St. John's"},{"$f":"VLOOKUP(AB1961,[1]AHLSOG!$O:$Q,3,FALSE)","v":"Providence"},3,"3rd","PRO",0.29930555555555555,"E. Werek","T. Randell","T. Cross",null,"V",3,11,15,20,29,null,"H",7,14,24,29,34,null,"Rd","Providence",1013818]
["0 - 4",{"$f":"VLOOKUP(AB1967,[1]AHLSOG!$O:$Q,2,FALSE)","v":"Texas"},{"$f":"VLOOKUP(AB1967,[1]AHLSOG!$O:$Q,3,FALSE)","v":"Oklahoma City"},4,"2nd","TEX",0.26180555555555557,"G. Rallo","D. Meech","B. Ranford",null,"V",6,7,15,21,25,null,"H",9,18,19,23,27,null,"Hm","Texas",1013819]
["0 - 1",{"$f":"VLOOKUP(AB1970,[1]AHLSOG!$O:$Q,2,FALSE)","v":"Utica"},{"$f":"VLOOKUP(AB1970,[1]AHLSOG!$O:$Q,3,FALSE)","v":"Rochester"},1,"1st","UTI",0.76458333333333339,"B. Sanguinetti","K. Lafranchise",null,null,"V",5,11,21,29,37,null,"H",4,6,9,16,28,null,"Hm","Utica",1013820]
[42006,{"$f":"VLOOKUP(AB1976,[1]AHLSOG!$O:$Q,2,FALSE)","v":"Hartford"},{"$f":"VLOOKUP(AB1976,[1]AHLSOG!$O:$Q,3,FALSE)","v":"Albany"},3,"1st","ALB",0.47430555555555554,"R. Boucher","E. Baier","M. Fraser",null,"V",6,9,12,14,36,null,"H",7,8,9,15,47,null,"Rd","Albany",1013821]
[42005,{"$f":"VLOOKUP(AB1980,[1]AHLSOG!$O:$Q,2,FALSE)","v":"Iowa"},{"$f":"VLOOKUP(AB1980,[1]AHLSOG!$O:$Q,3,FALSE)","v":"San Antonio"},2,"2nd","SA",0.13402777777777777,"R. Martindale",null,null,"SH","V",5,6,17,19,null,null,"H",4,7,39,51,55,null,"Rd","San Antonio",1013822]
[42005,{"$f":"VLOOKUP(AB1985,[1]AHLSOG!$O:$Q,2,FALSE)","v":"Binghamton"},{"$f":"VLOOKUP(AB1985,[1]AHLSOG!$O:$Q,3,FALSE)","v":"Lehigh Valley"},2,"2nd","BNG",0.34930555555555554,"B. Mills","A. Grant","C. Wideman",null,"V",2,4,10,17,36,null,"H",6,17,19,20,37,null,"Hm","Binghamton",1013823]
[42037,{"$f":"VLOOKUP(AB1991,[1]AHLSOG!$O:$Q,2,FALSE)","v":"Hamilton"},{"$f":"VLOOKUP(AB1991,[1]AHLSOG!$O:$Q,3,FALSE)","v":"Rochester"},4,"2nd","HAM",0.6743055555555556,"T. Hensick","D. Bowman","C. Hudon",null,"V",3,24,28,34,43,null,"H",4,5,10,15,17,20,"Hm","Hamilton",1013824]
[42038,{"$f":"VLOOKUP(AB1997,[1]AHLSOG!$O:$Q,2,FALSE)","v":"Hartford"},{"$f":"VLOOKUP(AB1997,[1]AHLSOG!$O:$Q,3,FALSE)","v":"Worcester"},5,"2nd","HFD",0.56597222222222221,"C. Bourque","M. Hrivik","R. Malone",null,"V",2,10,13,18,22,null,"H",5,6,15,17,44,null,"Hm","Hartford",1013825]
[36526,{"$f":"VLOOKUP(AB2001,[1]AHLSOG!$O:$Q,2,FALSE)","v":"Iowa"},{"$f":"VLOOKUP(AB2001,[1]AHLSOG!$O:$Q,3,FALSE)","v":"San Antonio"},1,"1st","SA",0.47847222222222219,"C. Brickley","M. Mancari","D. Shore",null,"V",5,7,23,26,32,null,"H",3,25,36,51,55,null,"Rd","San Antonio",1013826]
[42006,{"$f":"VLOOKUP(AB2006,[1]AHLSOG!$O:$Q,2,FALSE)","v":"Lake Erie"},{"$f":"VLOOKUP(AB2006,[1]AHLSOG!$O:$Q,3,FALSE)","v":"Rockford"},3,"2nd","LE",0.30624999999999997,"T. Bourke","K. Ryan",null,null,"V",3,15,19,21,23,null,"H",14,17,43,46,47,null,"Hm","Lake Erie",1013827]
[36526,{"$f":"VLOOKUP(AB2010,[1]AHLSOG!$O:$Q,2,FALSE)","v":"Milwaukee"},{"$f":"VLOOKUP(AB2010,[1]AHLSOG!$O:$Q,3,FALSE)","v":"Adirondack"},1,"2nd","ADK",0.39166666666666666,"B. Hanowski","R. Culkin","M. Cundari","PP","V",3,14,19,21,28,null,"H",2,7,29,51,null,null,"Rd","Adirondack",1013828]
[42036,{"$f":"VLOOKUP(AB2016,[1]AHLSOG!$O:$Q,2,FALSE)","v":"Norfolk"},{"$f":"VLOOKUP(AB2016,[1]AHLSOG!$O:$Q,3,FALSE)","v":"Springfield"},3,"2nd","SPR",0.4548611111111111,"M. Dano",null,null,"PP","V",5,7,10,17,34,null,"H",3,9,14,39,null,null,"Rd","Springfield",1013829]
[42037,{"$f":"VLOOKUP(AB2021,[1]AHLSOG!$O:$Q,2,FALSE)","v":"Oklahoma City"},{"$f":"VLOOKUP(AB2021,[1]AHLSOG!$O:$Q,3,FALSE)","v":"Grand Rapids"},4,"2nd","OKC",0.32430555555555557,"I. Pakarinen","A. Lander","C. Hamilton",null,"V",3,5,6,15,21,null,"H",10,16,25,28,40,null,"Hm","Oklahoma City",1013830]
[42096,{"$f":"VLOOKUP(AB2023,[1]AHLSOG!$O:$Q,2,FALSE)","v":"Oklahoma City"},{"$f":"VLOOKUP(AB2023,[1]AHLSOG!$O:$Q,3,FALSE)","v":"Grand Rapids"},6,"3rd","GR",0.70624999999999993,"A. Athanasiou",null,null,null,"V",4,8,9,14,23,null,"H",11,12,19,28,40,null,"Rd","Grand Rapids",1013830]
[42005,{"$f":"VLOOKUP(AB2026,[1]AHLSOG!$O:$Q,2,FALSE)","v":"Portland"},{"$f":"VLOOKUP(AB2026,[1]AHLSOG!$O:$Q,3,FALSE)","v":"Manchester"},2,"2nd","MCH",0.3430555555555555,"N. Shore","C. Miller","D. Forbort","PP","V",3,6,12,22,37,null,"H",2,4,11,22,null,null,"Rd","Manchester",1013831]
["0 - 1",{"$f":"VLOOKUP(AB2034,[1]AHLSOG!$O:$Q,2,FALSE)","v":"Texas"},{"$f":"VLOOKUP(AB2034,[1]AHLSOG!$O:$Q,3,FALSE)","v":"Charlotte"},1,"2nd","TEX",0.35972222222222222,"B. Troock",null,null,null,"V",2,9,24,26,28,null,"H",7,9,11,17,25,null,"Hm","Texas",1013833]
["0 - 3",{"$f":"VLOOKUP(AB2036,[1]AHLSOG!$O:$Q,2,FALSE)","v":"Texas"},{"$f":"VLOOKUP(AB2036,[1]AHLSOG!$O:$Q,3,FALSE)","v":"Charlotte"},3,"3rd","TEX",0.14097222222222222,"G. Rallo","R. Faksa","B. Ranford",null,"V",5,7,9,10,59,null,"H",18,19,24,27,29,null,"Hm","Texas",1013833]
[42007,{"$f":"VLOOKUP(AB2041,[1]AHLSOG!$O:$Q,2,FALSE)","v":"Utica"},{"$f":"VLOOKUP(AB2041,[1]AHLSOG!$O:$Q,3,FALSE)","v":"Toronto"},4,"3rd","UTI",0.26597222222222222,"N. Jensen","B. Gaunce","B. Sanguinetti",null,"V",10,16,25,29,39,null,"H",4,6,10,17,21,null,"Hm","Utica",1013834]
[42006,{"$f":"VLOOKUP(AB2047,[1]AHLSOG!$O:$Q,2,FALSE)","v":"W-B/Scranton"},{"$f":"VLOOKUP(AB2047,[1]AHLSOG!$O:$Q,3,FALSE)","v":"Bridgeport"},3,"2nd","WBS",0.58958333333333335,"B. Rust","C. Sheary","D. Pouliot","PP","V",4,7,10,11,null,null,"H",12,15,29,43,51,null,"Hm","W-B/Scranton",1013835]
["0 - 2",{"$f":"VLOOKUP(AB2051,[1]AHLSOG!$O:$Q,2,FALSE)","v":"Hershey"},{"$f":"VLOOKUP(AB2051,[1]AHLSOG!$O:$Q,3,FALSE)","v":"Binghamton"},2,"1st","HER",0.31111111111111112,"P. Cornet","S. Galiev","C. Carrick",null,"V",3,9,10,20,57,null,"H",18,21,22,25,37,null,"Hm","Hershey",1013836]
[42040,{"$f":"VLOOKUP(AB2056,[1]AHLSOG!$O:$Q,2,FALSE)","v":"Hershey"},{"$f":"VLOOKUP(AB2056,[1]AHLSOG!$O:$Q,3,FALSE)","v":"Binghamton"},7,"3rd","HER",0.79166666666666663,"C. Conner","C. Brown","T. Kennedy","EN","V",6,14,15,18,44,57,"H",5,7,13,23,24,null,"Hm","Hershey",1013836]
[42064,{"$f":"VLOOKUP(AB2060,[1]AHLSOG!$O:$Q,2,FALSE)","v":"Lake Erie"},{"$f":"VLOOKUP(AB2060,[1]AHLSOG!$O:$Q,3,FALSE)","v":"Rockford"},4,"2nd","RFD",4.9305555555555554E-2,"J. Nordstrom","G. Ross","B. Mashinter","PP","V",2,21,23,26,53,null,"H",11,24,42,46,null,null,"Rd","Rockford",1013837]
[36526,{"$f":"VLOOKUP(AB2066,[1]AHLSOG!$O:$Q,2,FALSE)","v":"Norfolk"},{"$f":"VLOOKUP(AB2066,[1]AHLSOG!$O:$Q,3,FALSE)","v":"Springfield"},1,"2nd","SPR",9.930555555555555E-2,"T. Vogelhuber","T. Larkin","B. Ponich",null,"V",11,13,24,36,37,null,"H",12,25,26,28,39,null,"Rd","Springfield",1013839]
[42039,{"$f":"VLOOKUP(AB2071,[1]AHLSOG!$O:$Q,2,FALSE)","v":"Norfolk"},{"$f":"VLOOKUP(AB2071,[1]AHLSOG!$O:$Q,3,FALSE)","v":"Springfield"},6,"3rd","NOR",0.69444444444444453,"E. Etem","W. Karlsson",null,"PP","V",22,27,32,36,null,null,"H",9,14,16,22,51,null,"Hm","Norfolk",1013839]
[36526,{"$f":"VLOOKUP(AB2073,[1]AHLSOG!$O:$Q,2,FALSE)","v":"Oklahoma City"},{"$f":"VLOOKUP(AB2073,[1]AHLSOG!$O:$Q,3,FALSE)","v":"Grand Rapids"},1,"1st","GR",0.52222222222222225,"A. Mantha",null,null,null,"V",3,5,8,9,23,null,"H",17,27,28,39,40,null,"Rd","Grand Rapids",1013840]
[42007,{"$f":"VLOOKUP(AB2081,[1]AHLSOG!$O:$Q,2,FALSE)","v":"Providence"},{"$f":"VLOOKUP(AB2081,[1]AHLSOG!$O:$Q,3,FALSE)","v":"Portland"},4,"2nd","POR",0.48472222222222222,"J. Hodgman","F. Wathier",null,null,"V",2,11,12,24,28,null,"H",3,6,13,32,38,null,"Rd","Portland",1013841]
[42005,{"$f":"VLOOKUP(AB2084,[1]AHLSOG!$O:$Q,2,FALSE)","v":"Rochester"},{"$f":"VLOOKUP(AB2084,[1]AHLSOG!$O:$Q,3,FALSE)","v":"Hamilton"},2,"1st","HAM",0.37638888888888888,"D. Bowman","T. Hensick","D. Drewiske",null,"V",4,9,10,15,17,null,"H",5,22,25,26,29,null,"Rd","Hamilton",1013842]
[42064,{"$f":"VLOOKUP(AB2086,[1]AHLSOG!$O:$Q,2,FALSE)","v":"Rochester"},{"$f":"VLOOKUP(AB2086,[1]AHLSOG!$O:$Q,3,FALSE)","v":"Hamilton"},4,"2nd","HAM",6.458333333333334E-2,"G. Dumont","G. Pateryn","D. Carr",null,"V",2,9,11,19,40,null,"H",25,26,46,47,52,null,"Rd","Hamilton",1013842]
[36557,{"$f":"VLOOKUP(AB2091,[1]AHLSOG!$O:$Q,2,FALSE)","v":"Texas"},{"$f":"VLOOKUP(AB2091,[1]AHLSOG!$O:$Q,3,FALSE)","v":"Charlotte"},2,"2nd","CHA",0.47500000000000003,"J. Staal","A. Rowe","R. Rissanen",null,"V",2,4,8,21,22,null,"H",9,19,24,25,28,null,"Rd","Charlotte",1013843]
[42037,{"$f":"VLOOKUP(AB2097,[1]AHLSOG!$O:$Q,2,FALSE)","v":"Toronto"},{"$f":"VLOOKUP(AB2097,[1]AHLSOG!$O:$Q,3,FALSE)","v":"St. John's"},4,"2nd","TOR",6.2499999999999995E-3,"C. Brown","B. Mikkelson","S. Carrick",null,"V",7,14,19,44,48,null,"H",4,10,16,29,39,null,"Hm","Toronto",1013844]
[42098,{"$f":"VLOOKUP(AB2101,[1]AHLSOG!$O:$Q,2,FALSE)","v":"Toronto"},{"$f":"VLOOKUP(AB2101,[1]AHLSOG!$O:$Q,3,FALSE)","v":"St. John's"},8,"2nd","STJ",0.75694444444444453,"J. Jaffray","R. Olsen","A. Brassard",null,"V",7,9,15,44,50,null,"H",4,10,16,29,39,null,"Rd","St. John's",1013844]
[42005,{"$f":"VLOOKUP(AB2106,[1]AHLSOG!$O:$Q,2,FALSE)","v":"Utica"},{"$f":"VLOOKUP(AB2106,[1]AHLSOG!$O:$Q,3,FALSE)","v":"Syracuse"},2,"3rd","SYR",0.74236111111111114,"M. Angelidis","M. Blunden","H. Ikonen",null,"V",10,13,21,24,57,null,"H",2,15,26,27,41,null,"Rd","Syracuse",1013845]
[42036,{"$f":"VLOOKUP(AB2110,[1]AHLSOG!$O:$Q,2,FALSE)","v":"Worcester"},{"$f":"VLOOKUP(AB2110,[1]AHLSOG!$O:$Q,3,FALSE)","v":"Manchester"},3,"3rd","MCH",0.32708333333333334,"A. Bodnarchuk","B. O'Neill","J. Schultz",null,"V",5,7,10,22,55,null,"H",2,10,11,13,19,null,"Rd","Manchester",1013846]
[42066,{"$f":"VLOOKUP(AB2116,[1]AHLSOG!$O:$Q,2,FALSE)","v":"Albany"},{"$f":"VLOOKUP(AB2116,[1]AHLSOG!$O:$Q,3,FALSE)","v":"Lehigh Valley"},6,"3rd","ALB",0.59652777777777777,"J. Whitney","P. Thompson","T. Sestito",null,"V",2,16,23,24,38,null,"H",8,9,10,12,15,32,"Hm","Albany",1013847]
[42065,{"$f":"VLOOKUP(AB2122,[1]AHLSOG!$O:$Q,2,FALSE)","v":"Bridgeport"},{"$f":"VLOOKUP(AB2122,[1]AHLSOG!$O:$Q,3,FALSE)","v":"Hartford"},5,"2nd","HFD",0.27847222222222223,"J. Vaive","C. Mueller","M. Kostka","PP","V",17,19,23,28,39,null,"H",10,17,28,null,null,null,"Rd","Hartford",1013848]
[36526,{"$f":"VLOOKUP(AB2127,[1]AHLSOG!$O:$Q,2,FALSE)","v":"Iowa"},{"$f":"VLOOKUP(AB2127,[1]AHLSOG!$O:$Q,3,FALSE)","v":"Adirondack"},1,"1st","ADK",0.14583333333333334,"B. Arnold","E. Poirier","S. Baertschi",null,"V",3,7,21,27,46,null,"H",4,7,18,25,29,null,"Rd","Adirondack",1013849]
[42005,{"$f":"VLOOKUP(AB2131,[1]AHLSOG!$O:$Q,2,FALSE)","v":"Providence"},{"$f":"VLOOKUP(AB2131,[1]AHLSOG!$O:$Q,3,FALSE)","v":"Manchester"},2,"1st","PRO",0.68680555555555556,"D. Pastrnak","D. Warsofsky","A. Khokhlachev",null,"V",12,22,33,37,55,null,"H",5,13,27,29,32,null,"Hm","Providence",1013850]
["0 - 2",{"$f":"VLOOKUP(AB2137,[1]AHLSOG!$O:$Q,2,FALSE)","v":"Toronto"},{"$f":"VLOOKUP(AB2137,[1]AHLSOG!$O:$Q,3,FALSE)","v":"St. John's"},2,"2nd","TOR",0.50902777777777775,"T. Biggs","S. Percy",null,null,"V",8,24,28,29,34,null,"H",4,10,19,22,44,null,"Hm","Toronto",1013851]
[36526,{"$f":"VLOOKUP(AB2140,[1]AHLSOG!$O:$Q,2,FALSE)","v":"W-B/Scranton"},{"$f":"VLOOKUP(AB2140,[1]AHLSOG!$O:$Q,3,FALSE)","v":"Hershey"},1,"2nd","HER",0.14305555555555557,"C. Carrick","T. Kennedy","S. Galiev","PP","V",13,22,23,24,25,null,"H",3,4,19,29,null,null,"Rd","Hershey",1013852]
[36557,{"$f":"VLOOKUP(AB2146,[1]AHLSOG!$O:$Q,2,FALSE)","v":"Charlotte"},{"$f":"VLOOKUP(AB2146,[1]AHLSOG!$O:$Q,3,FALSE)","v":"Oklahoma City"},2,"1st","OKC",0.26111111111111113,"M. Ford","J. Oesterle","A. Lander","PP","V",11,15,16,18,19,null,"H",2,7,10,20,null,null,"Rd","Oklahoma City",1013854]
[42036,{"$f":"VLOOKUP(AB2147,[1]AHLSOG!$O:$Q,2,FALSE)","v":"Charlotte"},{"$f":"VLOOKUP(AB2147,[1]AHLSOG!$O:$Q,3,FALSE)","v":"Oklahoma City"},3,"2nd","CHA",0.6020833333333333,"B. Woods","R. Murphy","J. Staal",null,"V",7,15,18,21,36,null,"H",3,5,6,21,22,null,"Hm","Charlotte",1013854]
[42005,{"$f":"VLOOKUP(AB2151,[1]AHLSOG!$O:$Q,2,FALSE)","v":"Iowa"},{"$f":"VLOOKUP(AB2151,[1]AHLSOG!$O:$Q,3,FALSE)","v":"Rockford"},2,"2nd","IA",0.32013888888888892,"J. Blum","M. Dumba","M. Keranen","PP","V",7,16,28,29,null,null,"H",4,7,10,36,55,null,"Hm","Iowa",1013855]
[36557,{"$f":"VLOOKUP(AB2157,[1]AHLSOG!$O:$Q,2,FALSE)","v":"Lake Erie"},{"$f":"VLOOKUP(AB2157,[1]AHLSOG!$O:$Q,3,FALSE)","v":"Milwaukee"},2,"2nd","MIL",7.4999999999999997E-2,"B. Leipsic","C. Sissons","J. Oligny",null,"V",18,23,28,36,47,null,"H",3,24,27,43,81,null,"Rd","Milwaukee",1013856]
[42095,{"$f":"VLOOKUP(AB2164,[1]AHLSOG!$O:$Q,2,FALSE)","v":"Chicago"},{"$f":"VLOOKUP(AB2164,[1]AHLSOG!$O:$Q,3,FALSE)","v":"Adirondack"},5,"3rd","ADK",0.70138888888888884,"E. Poirier","T. Wotherspoon","M. Cundari","PP","V",5,14,19,21,28,null,"H",5,17,24,28,null,null,"Rd","Adirondack",1013857]
[42005,{"$f":"VLOOKUP(AB2166,[1]AHLSOG!$O:$Q,2,FALSE)","v":"Hamilton"},{"$f":"VLOOKUP(AB2166,[1]AHLSOG!$O:$Q,3,FALSE)","v":"St. John's"},2,"2nd","HAM",0.24791666666666667,"M. Bennett","D. Dietz","D. Carr","PP","V",28,29,34,44,null,null,"H",7,9,11,21,40,null,"Hm","Hamilton",1013858]
["0 - 1",{"$f":"VLOOKUP(AB2172,[1]AHLSOG!$O:$Q,2,FALSE)","v":"Lehigh Valley"},{"$f":"VLOOKUP(AB2172,[1]AHLSOG!$O:$Q,3,FALSE)","v":"Binghamton"},1,"1st","LV",1.0416666666666666E-2,"P. Straka","S. Delisle",null,null,"V",3,17,20,22,37,null,"H",4,5,16,24,36,null,"Rd","Lehigh",1013859]
[42039,{"$f":"VLOOKUP(AB2177,[1]AHLSOG!$O:$Q,2,FALSE)","v":"Lehigh Valley"},{"$f":"VLOOKUP(AB2177,[1]AHLSOG!$O:$Q,3,FALSE)","v":"Binghamton"},6,"3rd","BNG",0.10625,"C. Wideman","P. Mullen","B. Mills","PP","V",6,9,14,15,19,null,"H",2,7,22,37,null,null,"Rd","Binghamton",1013859]
[42036,{"$f":"VLOOKUP(AB2182,[1]AHLSOG!$O:$Q,2,FALSE)","v":"Portland"},{"$f":"VLOOKUP(AB2182,[1]AHLSOG!$O:$Q,3,FALSE)","v":"Manchester"},3,"1st","POR",0.70138888888888884,"J. Hodgman","P. Samuelsson","G. Carey",null,"V",5,16,23,26,27,null,"H",8,12,16,25,36,null,"Hm","Portland",1013860]
[42157,{"$f":"VLOOKUP(AB2187,[1]AHLSOG!$O:$Q,2,FALSE)","v":"Portland"},{"$f":"VLOOKUP(AB2187,[1]AHLSOG!$O:$Q,3,FALSE)","v":"Manchester"},8,"2nd","POR",0.56874999999999998,"D. Dziurzynski","G. Miller","E. Oberg",null,"V",10,13,15,23,55,null,"H",4,7,14,26,27,null,"Hm","Portland",1013860]
[36526,{"$f":"VLOOKUP(AB2190,[1]AHLSOG!$O:$Q,2,FALSE)","v":"Rochester"},{"$f":"VLOOKUP(AB2190,[1]AHLSOG!$O:$Q,3,FALSE)","v":"Syracuse"},1,"1st","SYR",5.486111111111111E-2,"P. Paradis","J. Mormina","Y. Gourde",null,"V",3,24,37,63,71,null,"H",3,5,11,18,21,null,"Rd","Syracuse",1013861]
[42006,{"$f":"VLOOKUP(AB2197,[1]AHLSOG!$O:$Q,2,FALSE)","v":"Charlotte"},{"$f":"VLOOKUP(AB2197,[1]AHLSOG!$O:$Q,3,FALSE)","v":"Oklahoma City"},3,"2nd","OKC",6.1805555555555558E-2,"A. Miller","M. Moroz",null,null,"V",17,18,24,27,39,null,"H",3,20,21,22,26,null,"Rd","Oklahoma City",1013862]
[36557,{"$f":"VLOOKUP(AB2202,[1]AHLSOG!$O:$Q,2,FALSE)","v":"Lake Erie"},{"$f":"VLOOKUP(AB2202,[1]AHLSOG!$O:$Q,3,FALSE)","v":"Milwaukee"},2,"1st","MIL",0.7416666666666667,"P. Åberg","B. Leipsic","M. Salomaki","PP","V",15,18,20,28,46,null,"H",16,17,27,42,null,null,"Rd","Milwaukee",1013863]
[42036,{"$f":"VLOOKUP(AB2203,[1]AHLSOG!$O:$Q,2,FALSE)","v":"Lake Erie"},{"$f":"VLOOKUP(AB2203,[1]AHLSOG!$O:$Q,3,FALSE)","v":"Milwaukee"},3,"2nd","LE",0.72291666666666676,"M. Heard","S. Henley","P. Carey",null,"V",23,33,47,51,89,null,"H",11,28,42,46,51,null,"Hm","Lake Erie",1013863]
[42067,{"$f":"VLOOKUP(AB2207,[1]AHLSOG!$O:$Q,2,FALSE)","v":"Lake Erie"},{"$f":"VLOOKUP(AB2207,[1]AHLSOG!$O:$Q,3,FALSE)","v":"Milwaukee"},7,"3rd","MIL",0.79513888888888884,"A. Watson","P. Åberg","M. Salomaki",null,"V",7,20,23,46,51,89,"H",27,37,39,42,46,null,"Rd","Milwaukee",1013863]
[42067,{"$f":"VLOOKUP(AB2214,[1]AHLSOG!$O:$Q,2,FALSE)","v":"Binghamton"},{"$f":"VLOOKUP(AB2214,[1]AHLSOG!$O:$Q,3,FALSE)","v":"Springfield"},7,"2nd","SPR",0.59236111111111112,"D. Tyrell",null,null,null,"V",5,7,14,15,19,null,"H",3,20,22,43,57,null,"Rd","Springfield",1013864]
[42129,{"$f":"VLOOKUP(AB2217,[1]AHLSOG!$O:$Q,2,FALSE)","v":"Binghamton"},{"$f":"VLOOKUP(AB2217,[1]AHLSOG!$O:$Q,3,FALSE)","v":"Springfield"},10,"3rd","SPR",0.10347222222222223,"T. Vogelhuber","M. Hoeffel","H. Labrie",null,"V",3,11,13,36,37,null,"H",10,14,17,37,72,null,"Rd","Springfield",1013864]
[42037,{"$f":"VLOOKUP(AB2222,[1]AHLSOG!$O:$Q,2,FALSE)","v":"Charlotte"},{"$f":"VLOOKUP(AB2222,[1]AHLSOG!$O:$Q,3,FALSE)","v":"San Antonio"},4,"3rd","SA",0.8208333333333333,"R. Martindale","R. Grimaldi",null,null,"V",7,9,15,17,23,26,"H",5,7,9,21,22,null,"Rd","San Antonio",1013865]
["0 - 5",{"$f":"VLOOKUP(AB2227,[1]AHLSOG!$O:$Q,2,FALSE)","v":"Grand Rapids"},{"$f":"VLOOKUP(AB2227,[1]AHLSOG!$O:$Q,3,FALSE)","v":"Toronto"},5,"2nd","GR",0.66875000000000007,"L. Ferraro","A. Mantha","A. Miele",null,"V",4,16,25,29,39,null,"H",4,8,14,21,29,null,"Hm","Grand Rapids",1013866]
[42005,{"$f":"VLOOKUP(AB2232,[1]AHLSOG!$O:$Q,2,FALSE)","v":"Hamilton"},{"$f":"VLOOKUP(AB2232,[1]AHLSOG!$O:$Q,3,FALSE)","v":"St. John's"},2,"1st","HAM",0.68263888888888891,"T. Hensick","G. Dumont","E. Tangradi",null,"V",7,14,26,34,44,null,"H",2,9,17,25,40,null,"Hm","Hamilton",1013867]
[36526,{"$f":"VLOOKUP(AB2237,[1]AHLSOG!$O:$Q,2,FALSE)","v":"Hartford"},{"$f":"VLOOKUP(AB2237,[1]AHLSOG!$O:$Q,3,FALSE)","v":"Syracuse"},1,"2nd","SYR",9.1666666666666674E-2,"T. Richard","S. Koekkoek","J. Vermin",null,"V",10,24,65,71,92,null,"H",4,5,8,15,22,null,"Rd","Syracuse",1013868]
["0 - 2",{"$f":"VLOOKUP(AB2240,[1]AHLSOG!$O:$Q,2,FALSE)","v":"Lehigh Valley"},{"$f":"VLOOKUP(AB2240,[1]AHLSOG!$O:$Q,3,FALSE)","v":"Hershey"},2,"3rd","LV",0.83263888888888893,"J. Akeson","B. Manning","B. Jones","EN","V",11,13,15,22,25,38,"H",7,22,28,36,38,null,"Rd","Lehigh",1013869]
[42005,{"$f":"VLOOKUP(AB2247,[1]AHLSOG!$O:$Q,2,FALSE)","v":"Norfolk"},{"$f":"VLOOKUP(AB2247,[1]AHLSOG!$O:$Q,3,FALSE)","v":"Bridgeport"},2,"1st","NOR",0.51527777777777783,"L. Leblanc","C. Sarault","A. Laganiere","PP","V",7,8,11,27,null,null,"H",3,17,18,20,28,null,"Hm","Norfolk",1013871]
[42126,{"$f":"VLOOKUP(AB2252,[1]AHLSOG!$O:$Q,2,FALSE)","v":"Norfolk"},{"$f":"VLOOKUP(AB2252,[1]AHLSOG!$O:$Q,3,FALSE)","v":"Bridgeport"},7,"3rd","BRI",0.83194444444444438,"H. Zolnierczyk","C. Conacher","A. Quine","EN","V",6,16,22,27,89,null,"H",3,8,9,14,21,22,"Rd","Bridgeport",1013871]
[42065,{"$f":"VLOOKUP(AB2257,[1]AHLSOG!$O:$Q,2,FALSE)","v":"Portland"},{"$f":"VLOOKUP(AB2257,[1]AHLSOG!$O:$Q,3,FALSE)","v":"Providence"},5,"OT","PRO",0.27152777777777776,"D. Pastrnak","M. Lindblad",null,null,"V",2,9,32,null,null,null,"H",12,17,36,null,null,null,"Rd","Providence",1013872]
[36526,{"$f":"VLOOKUP(AB2262,[1]AHLSOG!$O:$Q,2,FALSE)","v":"Utica"},{"$f":"VLOOKUP(AB2262,[1]AHLSOG!$O:$Q,3,FALSE)","v":"Texas"},1,"1st","TEX",0.16319444444444445,"R. Faksa","G. Rallo","K. Henderson",null,"V",8,18,24,27,29,null,"H",2,7,10,17,21,null,"Rd","Texas",1013874]
[42036,{"$f":"VLOOKUP(AB2264,[1]AHLSOG!$O:$Q,2,FALSE)","v":"Utica"},{"$f":"VLOOKUP(AB2264,[1]AHLSOG!$O:$Q,3,FALSE)","v":"Texas"},3,"2nd","UTI",0.12708333333333333,"D. Jeffrey","F. Corrado","B. DeFazio",null,"V",4,9,19,21,27,null,"H",7,21,24,25,26,null,"Hm","Utica",1013874]
[36526,{"$f":"VLOOKUP(AB2267,[1]AHLSOG!$O:$Q,2,FALSE)","v":"W-B/Scranton"},{"$f":"VLOOKUP(AB2267,[1]AHLSOG!$O:$Q,3,FALSE)","v":"Albany"},1,"1st","ALB",0.3444444444444445,"R. Boucher","B. Burlon","A. Larsson","PP","V",5,7,14,18,23,null,"H",7,19,26,41,null,null,"Rd","Albany",1013875]
[42096,{"$f":"VLOOKUP(AB2272,[1]AHLSOG!$O:$Q,2,FALSE)","v":"W-B/Scranton"},{"$f":"VLOOKUP(AB2272,[1]AHLSOG!$O:$Q,3,FALSE)","v":"Albany"},6,"3rd","ALB",0.82916666666666661,"P. Thompson",null,null,"EN","V",5,7,9,15,21,null,"H",4,9,15,19,29,51,"Rd","Albany",1013875]
[42095,{"$f":"VLOOKUP(AB2277,[1]AHLSOG!$O:$Q,2,FALSE)","v":"Adirondack"},{"$f":"VLOOKUP(AB2277,[1]AHLSOG!$O:$Q,3,FALSE)","v":"Utica"},5,"3rd","UTI",0.74861111111111101,"A. Friesen","K. Lafranchise",null,"EN","V",4,6,8,16,17,null,"H",3,14,25,45,46,48,"Rd","Utica",1013876]
[36557,{"$f":"VLOOKUP(AB2282,[1]AHLSOG!$O:$Q,2,FALSE)","v":"Chicago"},{"$f":"VLOOKUP(AB2282,[1]AHLSOG!$O:$Q,3,FALSE)","v":"Iowa"},2,"1st","IA",0.49374999999999997,"J. Gregoire","M. Keranen","A. Gudbranson",null,"V",3,24,25,36,51,null,"H",4,7,9,24,39,null,"Rd","Iowa",1013878]
[36526,{"$f":"VLOOKUP(AB2287,[1]AHLSOG!$O:$Q,2,FALSE)","v":"Hartford"},{"$f":"VLOOKUP(AB2287,[1]AHLSOG!$O:$Q,3,FALSE)","v":"Lehigh Valley"},1,"1st","LV",0.81874999999999998,"Z. Stortini","N. Cousins","T. Leier",null,"V",4,7,23,25,45,null,"H",8,9,19,22,28,null,"Rd","Lehigh",1013879]
[42005,{"$f":"VLOOKUP(AB2294,[1]AHLSOG!$O:$Q,2,FALSE)","v":"Lake Erie"},{"$f":"VLOOKUP(AB2294,[1]AHLSOG!$O:$Q,3,FALSE)","v":"Grand Rapids"},2,"1st","GR",0.72986111111111107,"T. Pulkkinen","M. Callahan",null,null,"V",6,7,15,21,44,null,"H",3,18,26,38,71,null,"Rd","Grand Rapids",1013881]
[42065,{"$f":"VLOOKUP(AB2297,[1]AHLSOG!$O:$Q,2,FALSE)","v":"Lake Erie"},{"$f":"VLOOKUP(AB2297,[1]AHLSOG!$O:$Q,3,FALSE)","v":"Grand Rapids"},5,"2nd","LE",0.46666666666666662,"M. Noreau","C. Smith","M. Sgarbossa","PP","V",7,15,44,null,null,null,"H",18,26,27,37,43,null,"Hm","Lake Erie",1013881]
[42007,{"$f":"VLOOKUP(AB2302,[1]AHLSOG!$O:$Q,2,FALSE)","v":"Manchester"},{"$f":"VLOOKUP(AB2302,[1]AHLSOG!$O:$Q,3,FALSE)","v":"Providence"},4,"1st","MCH",0.62083333333333335,"J. Auger","D. Van der Gulik","J. Weal",null,"V",2,5,18,27,32,null,"H",3,14,19,33,39,null,"Hm","Manchester",1013882]
[42099,{"$f":"VLOOKUP(AB2307,[1]AHLSOG!$O:$Q,2,FALSE)","v":"Manchester"},{"$f":"VLOOKUP(AB2307,[1]AHLSOG!$O:$Q,3,FALSE)","v":"Providence"},9,"3rd","PRO",0.6381944444444444,"D. Pastrnak","J. Caron","J. Florek",null,"V",2,7,18,27,32,null,"H",7,10,16,19,23,null,"Rd","Providence",1013882]
[42005,{"$f":"VLOOKUP(AB2312,[1]AHLSOG!$O:$Q,2,FALSE)","v":"Oklahoma City"},{"$f":"VLOOKUP(AB2312,[1]AHLSOG!$O:$Q,3,FALSE)","v":"Rockford"},2,"3rd","RFD",2.0833333333333332E-2,"T. Teravainen","M. McNeill","T. Brennan","PP","V",2,7,18,21,28,null,"H",10,11,28,null,null,null,"Rd","Rockford",1013884]
[42006,{"$f":"VLOOKUP(AB2318,[1]AHLSOG!$O:$Q,2,FALSE)","v":"Portland"},{"$f":"VLOOKUP(AB2318,[1]AHLSOG!$O:$Q,3,FALSE)","v":"Worcester"},3,"2nd","POR",0.15277777777777776,"D. Dziurzynski","C. Trivino","P. Samuelsson",null,"V",11,12,20,21,25,null,"H",8,18,21,26,36,null,"Hm","Portland",1013885]
[42038,{"$f":"VLOOKUP(AB2320,[1]AHLSOG!$O:$Q,2,FALSE)","v":"Portland"},{"$f":"VLOOKUP(AB2320,[1]AHLSOG!$O:$Q,3,FALSE)","v":"Worcester"},5,"2nd","WOR",0.36736111111111108,"B. Lerg","E. Trupp","G. Young",null,"V",3,11,13,25,28,null,"H",2,21,26,28,32,null,"Rd","Worcester",1013885]
[42065,{"$f":"VLOOKUP(AB2327,[1]AHLSOG!$O:$Q,2,FALSE)","v":"Rochester"},{"$f":"VLOOKUP(AB2327,[1]AHLSOG!$O:$Q,3,FALSE)","v":"Milwaukee"},5,"3rd","MIL",5.5555555555555552E-2,"C. Sissons","B. Leipsic","M. Mazanec",null,"V",2,15,18,28,36,null,"H",11,19,21,29,47,null,"Rd","Milwaukee",1013886]
[42006,{"$f":"VLOOKUP(AB2331,[1]AHLSOG!$O:$Q,2,FALSE)","v":"Syracuse"},{"$f":"VLOOKUP(AB2331,[1]AHLSOG!$O:$Q,3,FALSE)","v":"Albany"},3,"2nd","ALB",0.31388888888888888,"R. Boucher","J. Whitney","R. Scarlett","PP","V",9,14,15,21,24,null,"H",21,24,37,82,null,null,"Rd","Albany",1013887]
[42007,{"$f":"VLOOKUP(AB2332,[1]AHLSOG!$O:$Q,2,FALSE)","v":"Syracuse"},{"$f":"VLOOKUP(AB2332,[1]AHLSOG!$O:$Q,3,FALSE)","v":"Albany"},4,"2nd","SYR",0.39583333333333331,"V. Namestnikov","N. Nesterov","J. Samson","PP","V",8,10,20,32,null,null,"H",11,21,71,89,90,null,"Hm","Syracuse",1013887]
["0 - 1",{"$f":"VLOOKUP(AB2338,[1]AHLSOG!$O:$Q,2,FALSE)","v":"Charlotte"},{"$f":"VLOOKUP(AB2338,[1]AHLSOG!$O:$Q,3,FALSE)","v":"San Antonio"},1,"2nd","CHA",0.28541666666666665,"P. Di Giuseppe","J. Shugg",null,null,"V",2,8,9,17,19,null,"H",5,9,14,24,28,null,"Hm","Charlotte",1013890]
[42006,{"$f":"VLOOKUP(AB2344,[1]AHLSOG!$O:$Q,2,FALSE)","v":"Hamilton"},{"$f":"VLOOKUP(AB2344,[1]AHLSOG!$O:$Q,3,FALSE)","v":"Texas"},3,"2nd","TEX",0.42638888888888887,"J. Dowling","D. Hulak","M. Mangene",null,"V",8,10,22,26,39,null,"H",2,9,18,23,24,null,"Rd","Texas",1013891]
[42039,{"$f":"VLOOKUP(AB2347,[1]AHLSOG!$O:$Q,2,FALSE)","v":"Hamilton"},{"$f":"VLOOKUP(AB2347,[1]AHLSOG!$O:$Q,3,FALSE)","v":"Texas"},6,"3rd","TEX",0.55763888888888891,"G. Rallo","C. McKenzie","D. Meech","PP","V",9,16,18,27,29,null,"H",2,4,18,40,null,null,"Rd","Texas",1013891]
[42095,{"$f":"VLOOKUP(AB2353,[1]AHLSOG!$O:$Q,2,FALSE)","v":"Iowa"},{"$f":"VLOOKUP(AB2353,[1]AHLSOG!$O:$Q,3,FALSE)","v":"Chicago"},5,"3rd","CHI",0.5541666666666667,"J. McCarthy","R. Bordson",null,null,"V",2,17,21,27,42,null,"H",4,18,26,29,55,null,"Rd","Chicago",1013892]
[42006,{"$f":"VLOOKUP(AB2357,[1]AHLSOG!$O:$Q,2,FALSE)","v":"Oklahoma City"},{"$f":"VLOOKUP(AB2357,[1]AHLSOG!$O:$Q,3,FALSE)","v":"Rockford"},3,"2nd","RFD",0.24583333333333335,"B. Mashinter","D. Rasmussen","C. Bass",null,"V",7,12,16,29,53,null,"H",6,10,24,25,39,null,"Rd","Rockford",1013893]
[42037,{"$f":"VLOOKUP(AB2362,[1]AHLSOG!$O:$Q,2,FALSE)","v":"Toronto"},{"$f":"VLOOKUP(AB2362,[1]AHLSOG!$O:$Q,3,FALSE)","v":"Milwaukee"},4,"2nd","TOR",0.46736111111111112,"R. Rupert","S. Carrick","C. Ashton","PP","V",3,7,29,51,null,null,"H",4,13,16,18,20,null,"Hm","Toronto",1013894]
[42038,{"$f":"VLOOKUP(AB2368,[1]AHLSOG!$O:$Q,2,FALSE)","v":"Chicago"},{"$f":"VLOOKUP(AB2368,[1]AHLSOG!$O:$Q,3,FALSE)","v":"Grand Rapids"},5,"1st","GR",0.75624999999999998,"T. Nosek","M. Tvrdon","A. Mantha","PP","V",8,9,13,16,19,null,"H",2,6,17,24,null,null,"Rd","Grand Rapids",1013895]
[42067,{"$f":"VLOOKUP(AB2370,[1]AHLSOG!$O:$Q,2,FALSE)","v":"Chicago"},{"$f":"VLOOKUP(AB2370,[1]AHLSOG!$O:$Q,3,FALSE)","v":"Grand Rapids"},7,"3rd","CHI",0.56180555555555556,"J. Welsh","T. Rattie","P. Lindbohm",null,"V",6,7,12,14,15,null,"H",2,4,8,10,15,null,"Hm","Chicago",1013895]
[42005,{"$f":"VLOOKUP(AB2378,[1]AHLSOG!$O:$Q,2,FALSE)","v":"Hartford"},{"$f":"VLOOKUP(AB2378,[1]AHLSOG!$O:$Q,3,FALSE)","v":"Springfield"},2,"1st","SPR",0.82430555555555562,"M. Dano","R. Craig","A. Madaisky",null,"V",5,10,12,18,32,null,"H",8,9,19,28,29,null,"Rd","Springfield",1013898]
[42038,{"$f":"VLOOKUP(AB2383,[1]AHLSOG!$O:$Q,2,FALSE)","v":"Hershey"},{"$f":"VLOOKUP(AB2383,[1]AHLSOG!$O:$Q,3,FALSE)","v":"Lehigh Valley"},5,"3rd","HER",0.66527777777777775,"C. Schilling","C. Stephenson","D. Byers",null,"V",7,8,10,22,38,null,"H",5,7,17,22,38,null,"Hm","Hershey",1013899]
[36586,{"$f":"VLOOKUP(AB2387,[1]AHLSOG!$O:$Q,2,FALSE)","v":"Milwaukee"},{"$f":"VLOOKUP(AB2387,[1]AHLSOG!$O:$Q,3,FALSE)","v":"Chicago"},3,"2nd","CHI",0.43263888888888885,"B. Regner","C. Beach","B. Eager",null,"V",5,20,24,28,39,null,"H",2,15,18,28,36,null,"Rd","Chicago",1013900]
[36617,{"$f":"VLOOKUP(AB2388,[1]AHLSOG!$O:$Q,2,FALSE)","v":"Milwaukee"},{"$f":"VLOOKUP(AB2388,[1]AHLSOG!$O:$Q,3,FALSE)","v":"Chicago"},4,"2nd","CHI",0.64236111111111105,"T. Rattie","J. Welsh",null,null,"V",5,8,10,15,20,null,"H",2,16,21,23,46,null,"Rd","Chicago",1013900]
["0 - 2",{"$f":"VLOOKUP(AB2394,[1]AHLSOG!$O:$Q,2,FALSE)","v":"Rochester"},{"$f":"VLOOKUP(AB2394,[1]AHLSOG!$O:$Q,3,FALSE)","v":"Lake Erie"},2,"1st","RCH",0.40138888888888885,"C. Ruhwedel","T. Schaller","B. Irwin","PP","V",16,17,18,27,null,null,"H",5,11,22,29,46,null,"Hm","Rochester",1013901]
[42008,{"$f":"VLOOKUP(AB2397,[1]AHLSOG!$O:$Q,2,FALSE)","v":"Rochester"},{"$f":"VLOOKUP(AB2397,[1]AHLSOG!$O:$Q,3,FALSE)","v":"Lake Erie"},5,"3rd","RCH",0.7402777777777777,"J. Armia","M. Grigorenko","J. Samuels-Thomas","EN","V",3,26,38,46,71,81,"H",5,18,25,33,52,null,"Hm","Rochester",1013901]
["0 - 3",{"$f":"VLOOKUP(AB2403,[1]AHLSOG!$O:$Q,2,FALSE)","v":"San Antonio"},{"$f":"VLOOKUP(AB2403,[1]AHLSOG!$O:$Q,3,FALSE)","v":"Texas"},3,"1st","SA",0.77361111111111114,"L. Shaw","R. Grimaldi","Q. Howden",null,"V",15,19,21,22,26,null,"H",8,9,22,24,44,null,"Hm","San Antonio",1013903]
[42040,{"$f":"VLOOKUP(AB2407,[1]AHLSOG!$O:$Q,2,FALSE)","v":"San Antonio"},{"$f":"VLOOKUP(AB2407,[1]AHLSOG!$O:$Q,3,FALSE)","v":"Texas"},7,"3rd","TEX",0.23402777777777781,"M. Stransky","D. Hulak","C. Gaunce",null,"V",9,14,24,28,39,null,"H",5,7,26,27,28,null,"Rd","Texas",1013903]
[42036,{"$f":"VLOOKUP(AB2413,[1]AHLSOG!$O:$Q,2,FALSE)","v":"Syracuse"},{"$f":"VLOOKUP(AB2413,[1]AHLSOG!$O:$Q,3,FALSE)","v":"Albany"},3,"3rd","ALB",6.0416666666666667E-2,"R. Boucher","D. Kelly","J. Faust",null,"V",8,14,18,21,32,null,"H",3,37,63,71,89,null,"Rd","Albany",1013904]
["0 - 3",{"$f":"VLOOKUP(AB2418,[1]AHLSOG!$O:$Q,2,FALSE)","v":"Toronto"},{"$f":"VLOOKUP(AB2418,[1]AHLSOG!$O:$Q,3,FALSE)","v":"Hamilton"},3,"1st","TOR",0.59791666666666665,"S. Abbott","G. McKegg","E. Knodel",null,"V",5,12,18,24,26,null,"H",9,13,25,39,45,null,"Hm","Toronto",1013905]
[42005,{"$f":"VLOOKUP(AB2424,[1]AHLSOG!$O:$Q,2,FALSE)","v":"Worcester"},{"$f":"VLOOKUP(AB2424,[1]AHLSOG!$O:$Q,3,FALSE)","v":"Manchester"},2,"1st","MCH",3.4722222222222224E-2,"N. Shore","B. O'Neill","M. Mersch",null,"V",7,22,27,33,37,null,"H",3,8,14,22,37,null,"Rd","Manchester",1013907]
[42066,{"$f":"VLOOKUP(AB2428,[1]AHLSOG!$O:$Q,2,FALSE)","v":"Worcester"},{"$f":"VLOOKUP(AB2428,[1]AHLSOG!$O:$Q,3,FALSE)","v":"Manchester"},6,"3rd","WOR",0.20347222222222219,"J. Langlois","B. Lerg",null,null,"V",4,6,22,27,37,null,"H",11,13,20,25,28,null,"Hm","Worcester",1013907]
[42006,{"$f":"VLOOKUP(AB2433,[1]AHLSOG!$O:$Q,2,FALSE)","v":"Albany"},{"$f":"VLOOKUP(AB2433,[1]AHLSOG!$O:$Q,3,FALSE)","v":"Springfield"},3,"2nd","SPR",0.34722222222222227,"J. Anderson","K. Rychel",null,"PP","V",7,8,10,15,32,null,"H",6,10,21,33,null,null,"Rd","Springfield",1013908]
[42067,{"$f":"VLOOKUP(AB2437,[1]AHLSOG!$O:$Q,2,FALSE)","v":"Albany"},{"$f":"VLOOKUP(AB2437,[1]AHLSOG!$O:$Q,3,FALSE)","v":"Springfield"},7,"OT","ALB",2.361111111111111E-2,"J. Whitney","B. Burlon",null,null,"V",14,18,26,32,null,null,"H",7,9,21,33,null,null,"Hm","Albany",1013908]
[42009,{"$f":"VLOOKUP(AB2443,[1]AHLSOG!$O:$Q,2,FALSE)","v":"Grand Rapids"},{"$f":"VLOOKUP(AB2443,[1]AHLSOG!$O:$Q,3,FALSE)","v":"Iowa"},6,"2nd","GR",0.19583333333333333,"T. Nosek","M. Tvrdon","A. Marchenko",null,"V",4,18,25,29,55,null,"H",3,13,16,19,29,null,"Hm","Grand Rapids",1013909]
[42010,{"$f":"VLOOKUP(AB2444,[1]AHLSOG!$O:$Q,2,FALSE)","v":"Grand Rapids"},{"$f":"VLOOKUP(AB2444,[1]AHLSOG!$O:$Q,3,FALSE)","v":"Iowa"},7,"2nd","GR",0.25277777777777777,"M. Tvrdon","K. Porter","M. Zengerle",null,"V",13,17,21,24,25,null,"H",4,9,12,13,14,null,"Hm","Grand Rapids",1013909]
[42044,{"$f":"VLOOKUP(AB2448,[1]AHLSOG!$O:$Q,2,FALSE)","v":"Grand Rapids"},{"$f":"VLOOKUP(AB2448,[1]AHLSOG!$O:$Q,3,FALSE)","v":"Iowa"},11,"3rd","IA",0.80069444444444438,"J. Schroeder","M. Keranen",null,"PP","V",10,20,25,27,36,null,"H",3,4,17,19,null,null,"Rd","Iowa",1013909]
[36647,{"$f":"VLOOKUP(AB2453,[1]AHLSOG!$O:$Q,2,FALSE)","v":"Hamilton"},{"$f":"VLOOKUP(AB2453,[1]AHLSOG!$O:$Q,3,FALSE)","v":"Adirondack"},5,"3rd","ADK",0.69027777777777777,"S. Baertschi","E. Poirier","R. Culkin","PP","V",3,16,21,27,34,null,"H",4,5,12,18,null,null,"Rd","Adirondack",1013910]
[42037,{"$f":"VLOOKUP(AB2461,[1]AHLSOG!$O:$Q,2,FALSE)","v":"Hershey"},{"$f":"VLOOKUP(AB2461,[1]AHLSOG!$O:$Q,3,FALSE)","v":"Binghamton"},4,"2nd","BNG",0.41041666666666665,"C. Schneider","C. Camper","S. Prince",null,"V",3,11,15,18,20,null,"H",17,22,32,34,38,null,"Rd","Binghamton",1013912]
[42066,{"$f":"VLOOKUP(AB2463,[1]AHLSOG!$O:$Q,2,FALSE)","v":"Hershey"},{"$f":"VLOOKUP(AB2463,[1]AHLSOG!$O:$Q,3,FALSE)","v":"Binghamton"},6,"3rd","BNG",0.67847222222222225,"A. Grant","C. Wideman","S. Prince","PP","V",6,11,18,20,57,null,"H",10,32,34,36,null,null,"Rd","Binghamton",1013912]
[42037,{"$f":"VLOOKUP(AB2468,[1]AHLSOG!$O:$Q,2,FALSE)","v":"Lehigh Valley"},{"$f":"VLOOKUP(AB2468,[1]AHLSOG!$O:$Q,3,FALSE)","v":"Norfolk"},4,"3rd","NOR",0.73055555555555562,"C. Wagner","M. Friberg","M. Clark",null,"V",2,9,14,17,21,null,"H",5,11,16,27,36,null,"Rd","Norfolk",1013913]
[36526,{"$f":"VLOOKUP(AB2474,[1]AHLSOG!$O:$Q,2,FALSE)","v":"Rochester"},{"$f":"VLOOKUP(AB2474,[1]AHLSOG!$O:$Q,3,FALSE)","v":"Toronto"},1,"1st","TOR",0.14444444444444446,"S. Carrick","P. Granberg",null,null,"V",8,11,15,16,50,null,"H",4,5,28,37,38,null,"Rd","Toronto",1013915]
[42065,{"$f":"VLOOKUP(AB2478,[1]AHLSOG!$O:$Q,2,FALSE)","v":"Rochester"},{"$f":"VLOOKUP(AB2478,[1]AHLSOG!$O:$Q,3,FALSE)","v":"Toronto"},5,"3rd","RCH",0.35347222222222219,"T. Schaller","D. Bagnall","M. Pysyk",null,"V",9,13,26,39,52,null,"H",3,4,11,19,46,null,"Hm","Rochester",1013915]
[36557,{"$f":"VLOOKUP(AB2483,[1]AHLSOG!$O:$Q,2,FALSE)","v":"Syracuse"},{"$f":"VLOOKUP(AB2483,[1]AHLSOG!$O:$Q,3,FALSE)","v":"Worcester"},2,"2nd","WOR",0.71319444444444446,"W. Coetzee","R. Brace","K. Abeltshauser",null,"V",2,10,13,26,40,null,"H",3,18,33,89,90,null,"Rd","Worcester",1013917]
[42096,{"$f":"VLOOKUP(AB2487,[1]AHLSOG!$O:$Q,2,FALSE)","v":"Syracuse"},{"$f":"VLOOKUP(AB2487,[1]AHLSOG!$O:$Q,3,FALSE)","v":"Worcester"},6,"3rd","WOR",0.77013888888888893,"J. Langlois","B. Lerg",null,"EN","V",2,10,11,13,28,null,"H",18,37,65,71,89,90,"Rd","Worcester",1013917]
[42039,{"$f":"VLOOKUP(AB2493,[1]AHLSOG!$O:$Q,2,FALSE)","v":"Texas"},{"$f":"VLOOKUP(AB2493,[1]AHLSOG!$O:$Q,3,FALSE)","v":"Charlotte"},6,"3rd","TEX",0.80902777777777779,"B. Ritchie","R. Faksa","M. Fortunus","EN","V",4,6,8,14,22,28,"H",6,16,18,20,29,null,"Hm","Texas",1013918]
["0 - 5",{"$f":"VLOOKUP(AB2498,[1]AHLSOG!$O:$Q,2,FALSE)","v":"Utica"},{"$f":"VLOOKUP(AB2498,[1]AHLSOG!$O:$Q,3,FALSE)","v":"Lake Erie"},5,"3rd","UTI",0.25208333333333333,"B. Gaunce","A. Biega","W. Hamilton","PP","V",11,16,17,37,null,null,"H",3,10,34,36,37,null,"Hm","Utica",1013919]
[42040,{"$f":"VLOOKUP(AB2500,[1]AHLSOG!$O:$Q,2,FALSE)","v":"Utica"},{"$f":"VLOOKUP(AB2500,[1]AHLSOG!$O:$Q,3,FALSE)","v":"Lake Erie"},7,"3rd","LE",0.4861111111111111,"P. Carey","M. Noreau","M. Sgarbossa","PP","V",18,26,28,43,46,null,"H",3,4,34,36,null,null,"Rd","Lake Erie",1013919]
[36526,{"$f":"VLOOKUP(AB2508,[1]AHLSOG!$O:$Q,2,FALSE)","v":"Manchester"},{"$f":"VLOOKUP(AB2508,[1]AHLSOG!$O:$Q,3,FALSE)","v":"Portland"},1,"3rd","POR",3.9583333333333331E-2,"J. Southorn","H. Samuelsson","J. Martinook","PP","V",3,4,12,17,19,null,"H",3,6,22,37,null,null,"Rd","Portland",1013921]
[36526,{"$f":"VLOOKUP(AB2511,[1]AHLSOG!$O:$Q,2,FALSE)","v":"Oklahoma City"},{"$f":"VLOOKUP(AB2511,[1]AHLSOG!$O:$Q,3,FALSE)","v":"Charlotte"},1,"2nd","CHA",0.27361111111111108,"P. Di Giuseppe","C. LaRose","A. Rowe",null,"V",4,8,9,28,59,null,"H",3,16,21,36,40,null,"Rd","Charlotte",1013922]
[42006,{"$f":"VLOOKUP(AB2513,[1]AHLSOG!$O:$Q,2,FALSE)","v":"Oklahoma City"},{"$f":"VLOOKUP(AB2513,[1]AHLSOG!$O:$Q,3,FALSE)","v":"Charlotte"},3,"OT","OKC",6.0416666666666667E-2,"A. Miller","B. Yakimov","D. Simpson",null,"V",2,6,8,14,null,null,"H",15,17,18,39,null,null,"Hm","Oklahoma City",1013922]
[42008,{"$f":"VLOOKUP(AB2518,[1]AHLSOG!$O:$Q,2,FALSE)","v":"Rockford"},{"$f":"VLOOKUP(AB2518,[1]AHLSOG!$O:$Q,3,FALSE)","v":"Chicago"},5,"3rd","CHI",0.24236111111111111,"C. Fraser","C. Beach","B. Eager",null,"V",2,6,20,24,39,null,"H",2,12,15,22,53,null,"Rd","Chicago",1013923]
[42038,{"$f":"VLOOKUP(AB2524,[1]AHLSOG!$O:$Q,2,FALSE)","v":"Springfield"},{"$f":"VLOOKUP(AB2524,[1]AHLSOG!$O:$Q,3,FALSE)","v":"Syracuse"},5,"OT","SPR",0.13194444444444445,"D. Urban","A. Madaisky","L. Adam","PP","V",10,24,82,null,null,null,"H",5,7,12,19,null,null,"Hm","Springfield",1013924]
[42037,{"$f":"VLOOKUP(AB2528,[1]AHLSOG!$O:$Q,2,FALSE)","v":"Texas"},{"$f":"VLOOKUP(AB2528,[1]AHLSOG!$O:$Q,3,FALSE)","v":"San Antonio"},4,"2nd","SA",0.11875000000000001,"G. Wilson","B. Olson","M. Weegar","PP","V",2,3,15,16,19,null,"H",6,8,18,27,null,null,"Rd","San Antonio",1013925]
["0 - 1",{"$f":"VLOOKUP(AB2534,[1]AHLSOG!$O:$Q,2,FALSE)","v":"Toronto"},{"$f":"VLOOKUP(AB2534,[1]AHLSOG!$O:$Q,3,FALSE)","v":"Adirondack"},1,"1st","TOR",0.80972222222222223,"B. Froese","C. Brown","B. Kessel",null,"V",5,9,15,16,32,null,"H",22,26,29,52,54,null,"Hm","Toronto",1013926]
[42005,{"$f":"VLOOKUP(AB2537,[1]AHLSOG!$O:$Q,2,FALSE)","v":"W-B/Scranton"},{"$f":"VLOOKUP(AB2537,[1]AHLSOG!$O:$Q,3,FALSE)","v":"Norfolk"},2,"2nd","NOR",0.7402777777777777,"D. Steckel","B. Yip","B. Bell",null,"V",2,9,18,28,39,null,"H",4,15,16,34,41,null,"Rd","Norfolk",1013927]
[42038,{"$f":"VLOOKUP(AB2543,[1]AHLSOG!$O:$Q,2,FALSE)","v":"Iowa"},{"$f":"VLOOKUP(AB2543,[1]AHLSOG!$O:$Q,3,FALSE)","v":"Milwaukee"},5,"OT","IA",9.9999999999999992E-2,"J. Schroeder","D. Syvret","M. Dumba","PP","V",7,29,51,null,null,null,"H",10,25,36,55,null,null,"Hm","Iowa",1013928]
[36526,{"$f":"VLOOKUP(AB2549,[1]AHLSOG!$O:$Q,2,FALSE)","v":"Chicago"},{"$f":"VLOOKUP(AB2549,[1]AHLSOG!$O:$Q,3,FALSE)","v":"Grand Rapids"},1,"1st","GR",0.15486111111111112,"T. Pulkkinen","T. Nosek","R. Sproul",null,"V",6,7,8,19,44,null,"H",2,6,9,17,24,null,"Rd","Grand Rapids",1013930]
[42006,{"$f":"VLOOKUP(AB2554,[1]AHLSOG!$O:$Q,2,FALSE)","v":"Hershey"},{"$f":"VLOOKUP(AB2554,[1]AHLSOG!$O:$Q,3,FALSE)","v":"Norfolk"},3,"3rd","NOR",0.81041666666666667,"L. Leblanc","B. Bell","C. Wagner",null,"V",2,8,9,20,22,28,"H",4,11,21,34,38,null,"Rd","Norfolk",1013931]
[42064,{"$f":"VLOOKUP(AB2558,[1]AHLSOG!$O:$Q,2,FALSE)","v":"Milwaukee"},{"$f":"VLOOKUP(AB2558,[1]AHLSOG!$O:$Q,3,FALSE)","v":"Lake Erie"},4,"2nd","MIL",8.3333333333333329E-2,"V. Stalberg",null,null,null,"V",14,27,38,39,41,null,"H",2,7,18,25,46,null,"Hm","Milwaukee",1013932]
[36526,{"$f":"VLOOKUP(AB2564,[1]AHLSOG!$O:$Q,2,FALSE)","v":"Rockford"},{"$f":"VLOOKUP(AB2564,[1]AHLSOG!$O:$Q,3,FALSE)","v":"Hamilton"},1,"1st","HAM",0.12152777777777778,"C. Hudon",null,null,null,"V",4,10,15,25,36,null,"H",3,10,18,24,27,null,"Rd","Hamilton",1013933]
[36526,{"$f":"VLOOKUP(AB2567,[1]AHLSOG!$O:$Q,2,FALSE)","v":"Worcester"},{"$f":"VLOOKUP(AB2567,[1]AHLSOG!$O:$Q,3,FALSE)","v":"Bridgeport"},1,"1st","BRI",9.9999999999999992E-2,"C. McDonald","K. Mouillierat","S. Collberg",null,"V",2,13,21,24,49,null,"H",3,12,14,19,21,null,"Rd","Bridgeport",1013934]
[42036,{"$f":"VLOOKUP(AB2569,[1]AHLSOG!$O:$Q,2,FALSE)","v":"Worcester"},{"$f":"VLOOKUP(AB2569,[1]AHLSOG!$O:$Q,3,FALSE)","v":"Bridgeport"},3,"2nd","BRI",0.30069444444444443,"R. Pulock","C. McDonald","A. Quine","PP","V",6,13,21,22,27,null,"H",3,21,25,37,null,null,"Rd","Bridgeport",1013934]
[42041,{"$f":"VLOOKUP(AB2574,[1]AHLSOG!$O:$Q,2,FALSE)","v":"Worcester"},{"$f":"VLOOKUP(AB2574,[1]AHLSOG!$O:$Q,3,FALSE)","v":"Bridgeport"},8,"3rd","WOR",0.71597222222222223,"A. Burish","W. Coetzee",null,null,"V",2,6,13,14,21,null,"H",3,10,26,37,43,null,"Hm","Worcester",1013934]
[42037,{"$f":"VLOOKUP(AB2578,[1]AHLSOG!$O:$Q,2,FALSE)","v":"Adirondack"},{"$f":"VLOOKUP(AB2578,[1]AHLSOG!$O:$Q,3,FALSE)","v":"Toronto"},4,"3rd","ADK",0.75555555555555554,"C. Knight",null,null,"PS","V",null,null,null,null,null,null,"H",null,null,null,null,null,null,"Hm","Adirondack",1013935]
[42038,{"$f":"VLOOKUP(AB2584,[1]AHLSOG!$O:$Q,2,FALSE)","v":"Binghamton"},{"$f":"VLOOKUP(AB2584,[1]AHLSOG!$O:$Q,3,FALSE)","v":"Lehigh Valley"},5,"2nd","BNG",7.013888888888889E-2,"C. Schneider","P. Mullen","C. Camper",null,"V",2,7,22,24,28,null,"H",4,11,14,15,18,null,"Hm","Binghamton",1013936]
[42037,{"$f":"VLOOKUP(AB2591,[1]AHLSOG!$O:$Q,2,FALSE)","v":"Grand Rapids"},{"$f":"VLOOKUP(AB2591,[1]AHLSOG!$O:$Q,3,FALSE)","v":"Rockford"},4,"2nd","RFD",0.4201388888888889,"R. Hartman","T. Brennan","A. Clendening",null,"V",2,7,18,24,27,null,"H",4,8,14,19,29,null,"Rd","Rockford",1013937]
["0 - 3",{"$f":"VLOOKUP(AB2594,[1]AHLSOG!$O:$Q,2,FALSE)","v":"Manchester"},{"$f":"VLOOKUP(AB2594,[1]AHLSOG!$O:$Q,3,FALSE)","v":"St. John's"},3,"3rd","MCH",0.42569444444444443,"N. Shore","B. O'Neill",null,"SH","V",7,15,16,34,45,null,"H",3,6,22,37,null,null,"Hm","Manchester",1013938]
[42007,{"$f":"VLOOKUP(AB2599,[1]AHLSOG!$O:$Q,2,FALSE)","v":"Oklahoma City"},{"$f":"VLOOKUP(AB2599,[1]AHLSOG!$O:$Q,3,FALSE)","v":"Charlotte"},4,"3rd","OKC",5.4166666666666669E-2,"R. Hamilton","I. Pakarinen","D. Simpson",null,"V",8,20,21,28,32,null,"H",3,12,16,18,25,null,"Hm","Oklahoma City",1013939]
[42006,{"$f":"VLOOKUP(AB2604,[1]AHLSOG!$O:$Q,2,FALSE)","v":"Portland"},{"$f":"VLOOKUP(AB2604,[1]AHLSOG!$O:$Q,3,FALSE)","v":"Hartford"},3,"2nd","POR",0.49791666666666662,"B. Shinnimin","A. Campbell","E. Oberg","PP","V",4,14,24,44,null,null,"H",4,10,24,27,38,null,"Hm","Portland",1013940]
[42007,{"$f":"VLOOKUP(AB2609,[1]AHLSOG!$O:$Q,2,FALSE)","v":"Rochester"},{"$f":"VLOOKUP(AB2609,[1]AHLSOG!$O:$Q,3,FALSE)","v":"Syracuse"},4,"2nd","RCH",0.48194444444444445,"Z. Dalpe","T. Schaller","D. Bagnall","SH","V",6,18,21,33,90,null,"H",4,5,11,21,null,null,"Hm","Rochester",1013941]
[36557,{"$f":"VLOOKUP(AB2614,[1]AHLSOG!$O:$Q,2,FALSE)","v":"Utica"},{"$f":"VLOOKUP(AB2614,[1]AHLSOG!$O:$Q,3,FALSE)","v":"San Antonio"},2,"2nd","SA",0.17152777777777775,"C. Brickley","D. Shore","M. Mancari","PP","V",3,9,23,26,32,null,"H",3,4,16,36,null,null,"Rd","San Antonio",1013943]
[42065,{"$f":"VLOOKUP(AB2617,[1]AHLSOG!$O:$Q,2,FALSE)","v":"Utica"},{"$f":"VLOOKUP(AB2617,[1]AHLSOG!$O:$Q,3,FALSE)","v":"San Antonio"},5,"2nd","UTI",0.39930555555555558,"A. Biega","D. Jeffrey","B. DeFazio","SH","V",8,15,16,19,44,null,"H",3,21,24,40,null,null,"Hm","Utica",1013943]
[42220,{"$f":"VLOOKUP(AB2624,[1]AHLSOG!$O:$Q,2,FALSE)","v":"Utica"},{"$f":"VLOOKUP(AB2624,[1]AHLSOG!$O:$Q,3,FALSE)","v":"San Antonio"},12,"3rd","SA",0.59791666666666665,"A. Petrovic","L. Shaw",null,null,"V",3,6,9,22,24,null,"H",21,24,25,26,37,null,"Rd","San Antonio",1013943]
[36526,{"$f":"VLOOKUP(AB2628,[1]AHLSOG!$O:$Q,2,FALSE)","v":"Albany"},{"$f":"VLOOKUP(AB2628,[1]AHLSOG!$O:$Q,3,FALSE)","v":"Syracuse"},1,"1st","SYR",0.33958333333333335,"V. Namestnikov","J. Marchessault","J. Mormina",null,"V",3,13,18,33,90,null,"H",14,16,25,33,37,null,"Rd","Syracuse",1013945]
[42005,{"$f":"VLOOKUP(AB2629,[1]AHLSOG!$O:$Q,2,FALSE)","v":"Albany"},{"$f":"VLOOKUP(AB2629,[1]AHLSOG!$O:$Q,3,FALSE)","v":"Syracuse"},2,"1st","ALB",0.44444444444444442,"P. Thompson","B. Thomson","B. Burlon",null,"V",3,18,24,33,90,null,"H",7,8,15,21,26,null,"Hm","Albany",1013945]
[42038,{"$f":"VLOOKUP(AB2634,[1]AHLSOG!$O:$Q,2,FALSE)","v":"Chicago"},{"$f":"VLOOKUP(AB2634,[1]AHLSOG!$O:$Q,3,FALSE)","v":"Hamilton"},5,"OT","CHI",0.26180555555555557,"B. Regner","P. Cannone",null,null,"V",4,18,19,null,null,null,"H",12,28,37,null,null,null,"Hm","Chicago",1013946]
[36526,{"$f":"VLOOKUP(AB2641,[1]AHLSOG!$O:$Q,2,FALSE)","v":"Hartford"},{"$f":"VLOOKUP(AB2641,[1]AHLSOG!$O:$Q,3,FALSE)","v":"St. John's"},1,"1st","STJ",0.60833333333333328,"S. Kosmachuk","C. Balisy","E. O'Dell","PP","V",13,14,24,45,48,null,"H",5,15,17,44,null,null,"Rd","St. John's",1013948]
[42037,{"$f":"VLOOKUP(AB2644,[1]AHLSOG!$O:$Q,2,FALSE)","v":"Hartford"},{"$f":"VLOOKUP(AB2644,[1]AHLSOG!$O:$Q,3,FALSE)","v":"St. John's"},4,"3rd","HFD",0.12013888888888889,"C. Nehring","D. Jackson","M. Kostka",null,"V",9,27,29,34,50,null,"H",8,16,20,21,28,null,"Hm","Hartford",1013948]
[42036,{"$f":"VLOOKUP(AB2649,[1]AHLSOG!$O:$Q,2,FALSE)","v":"Lake Erie"},{"$f":"VLOOKUP(AB2649,[1]AHLSOG!$O:$Q,3,FALSE)","v":"Oklahoma City"},3,"2nd","OKC",0.59722222222222221,"J. Winquist","J. Oesterle","R. Hamilton",null,"V",3,6,15,37,39,null,"H",16,18,26,39,43,null,"Rd","Oklahoma City",1013949]
[42036,{"$f":"VLOOKUP(AB2654,[1]AHLSOG!$O:$Q,2,FALSE)","v":"Norfolk"},{"$f":"VLOOKUP(AB2654,[1]AHLSOG!$O:$Q,3,FALSE)","v":"Lehigh Valley"},3,"3rd","LV",0.7583333333333333,"J. Akeson","B. Jones",null,"SH","V",7,22,28,38,null,null,"H",5,8,17,20,28,null,"Rd","Lehigh",1013950]
["0 - 3",{"$f":"VLOOKUP(AB2659,[1]AHLSOG!$O:$Q,2,FALSE)","v":"Portland"},{"$f":"VLOOKUP(AB2659,[1]AHLSOG!$O:$Q,3,FALSE)","v":"Springfield"},3,"1st","POR",0.7944444444444444,"J. Martinook","D. Reese","H. Samuelsson",null,"V",3,5,8,11,40,null,"H",2,8,17,19,49,null,"Hm","Portland",1013951]
[42068,{"$f":"VLOOKUP(AB2664,[1]AHLSOG!$O:$Q,2,FALSE)","v":"Portland"},{"$f":"VLOOKUP(AB2664,[1]AHLSOG!$O:$Q,3,FALSE)","v":"Springfield"},8,"3rd","SPR",0.2590277777777778,"D. Tyrell","A. Madaisky","L. Adam","PP","V",5,12,14,18,19,null,"H",4,8,10,11,null,null,"Rd","Springfield",1013951]
[42036,{"$f":"VLOOKUP(AB2667,[1]AHLSOG!$O:$Q,2,FALSE)","v":"Providence"},{"$f":"VLOOKUP(AB2667,[1]AHLSOG!$O:$Q,3,FALSE)","v":"Bridgeport"},3,"2nd","BRI",7.5694444444444439E-2,"C. Langkow","A. Pelech","C. Stretch",null,"V",2,4,11,12,17,null,"H",5,10,13,18,44,null,"Rd","Bridgeport",1013952]
["0 - 1",{"$f":"VLOOKUP(AB2674,[1]AHLSOG!$O:$Q,2,FALSE)","v":"Toronto"},{"$f":"VLOOKUP(AB2674,[1]AHLSOG!$O:$Q,3,FALSE)","v":"San Antonio"},1,"1st","TOR",0.69652777777777775,"M. Frattin","B. Froese","B. Mikkelson","PP","V",5,16,32,null,null,null,"H",4,13,29,39,54,null,"Hm","Toronto",1013954]
["0 - 1",{"$f":"VLOOKUP(AB2679,[1]AHLSOG!$O:$Q,2,FALSE)","v":"W-B/Scranton"},{"$f":"VLOOKUP(AB2679,[1]AHLSOG!$O:$Q,3,FALSE)","v":"Binghamton"},1,"1st","WBS",0.17291666666666669,"N. Drazenovic","T. Kostopoulos","C. Sheary",null,"V",11,14,15,18,72,null,"H",3,10,29,41,43,null,"Hm","W-B/Scranton",1013955]
[36526,{"$f":"VLOOKUP(AB2684,[1]AHLSOG!$O:$Q,2,FALSE)","v":"Worcester"},{"$f":"VLOOKUP(AB2684,[1]AHLSOG!$O:$Q,3,FALSE)","v":"Manchester"},1,"2nd","MCH",0.5,"Z. O'Brien","J. Weal",null,null,"V",3,10,14,19,33,null,"H",2,8,20,22,37,null,"Rd","Manchester",1013956]
["0 - 3",{"$f":"VLOOKUP(AB2689,[1]AHLSOG!$O:$Q,2,FALSE)","v":"Adirondack"},{"$f":"VLOOKUP(AB2689,[1]AHLSOG!$O:$Q,3,FALSE)","v":"Rochester"},3,"3rd","ADK",0.72986111111111107,"K. Agostino","G. Hathaway","R. Culkin","EN","V",5,11,18,19,21,34,"H",3,9,14,15,34,null,"Hm","Adirondack",1013957]
[36526,{"$f":"VLOOKUP(AB2691,[1]AHLSOG!$O:$Q,2,FALSE)","v":"Binghamton"},{"$f":"VLOOKUP(AB2691,[1]AHLSOG!$O:$Q,3,FALSE)","v":"Syracuse"},1,"1st","SYR",0.1111111111111111,"C. Kunyk","E. Neilson","J. Mormina",null,"V",3,12,13,20,29,null,"H",5,16,20,27,43,null,"Rd","Syracuse",1013958]
[42064,{"$f":"VLOOKUP(AB2694,[1]AHLSOG!$O:$Q,2,FALSE)","v":"Binghamton"},{"$f":"VLOOKUP(AB2694,[1]AHLSOG!$O:$Q,3,FALSE)","v":"Syracuse"},4,"2nd","BNG",0.24236111111111111,"M. McCormick","B. Mills",null,"SH","V",3,10,18,21,37,null,"H",3,14,17,19,null,null,"Hm","Binghamton",1013958]
[42128,{"$f":"VLOOKUP(AB2699,[1]AHLSOG!$O:$Q,2,FALSE)","v":"Binghamton"},{"$f":"VLOOKUP(AB2699,[1]AHLSOG!$O:$Q,3,FALSE)","v":"Syracuse"},9,"OT","SYR",0.28333333333333333,"J. Marchessault",null,null,null,"V",3,18,90,null,null,null,"H",5,11,72,null,null,null,"Rd","Syracuse",1013958]
[42065,{"$f":"VLOOKUP(AB2704,[1]AHLSOG!$O:$Q,2,FALSE)","v":"Bridgeport"},{"$f":"VLOOKUP(AB2704,[1]AHLSOG!$O:$Q,3,FALSE)","v":"Albany"},5,"2nd","ALB",0.26874999999999999,"B. Thomson","D. Zajac","R. Boucher",null,"V",8,14,23,26,37,null,"H",8,13,21,27,49,null,"Rd","Albany",1013959]
[42159,{"$f":"VLOOKUP(AB2709,[1]AHLSOG!$O:$Q,2,FALSE)","v":"Bridgeport"},{"$f":"VLOOKUP(AB2709,[1]AHLSOG!$O:$Q,3,FALSE)","v":"Albany"},10,"3rd","ALB",0.46527777777777773,"C. McKelvie","R. Scarlett","D. Wohlberg",null,"V",8,10,16,24,25,null,"H",2,13,16,21,24,null,"Rd","Albany",1013959]
[42064,{"$f":"VLOOKUP(AB2714,[1]AHLSOG!$O:$Q,2,FALSE)","v":"Charlotte"},{"$f":"VLOOKUP(AB2714,[1]AHLSOG!$O:$Q,3,FALSE)","v":"Texas"},4,"3rd","TEX",0.64583333333333337,"B. Ranford","D. Meech","D. Hulak",null,"V",9,15,19,26,39,null,"H",2,9,18,21,22,null,"Rd","Texas",1013960]
[36586,{"$f":"VLOOKUP(AB2721,[1]AHLSOG!$O:$Q,2,FALSE)","v":"Hartford"},{"$f":"VLOOKUP(AB2721,[1]AHLSOG!$O:$Q,3,FALSE)","v":"St. John's"},3,"1st","STJ",0.61944444444444446,"C. Klingberg","W. O'Neill",null,"PP","V",9,13,24,27,48,null,"H",5,8,15,17,null,null,"Rd","St. John's",1013962]
[42125,{"$f":"VLOOKUP(AB2724,[1]AHLSOG!$O:$Q,2,FALSE)","v":"Hartford"},{"$f":"VLOOKUP(AB2724,[1]AHLSOG!$O:$Q,3,FALSE)","v":"St. John's"},6,"2nd","HFD",0.49652777777777773,"R. Malone","M. Hrivik","M. Kostka",null,"V",15,16,20,29,50,null,"H",6,8,15,28,39,null,"Hm","Hartford",1013962]
[42005,{"$f":"VLOOKUP(AB2730,[1]AHLSOG!$O:$Q,2,FALSE)","v":"Hershey"},{"$f":"VLOOKUP(AB2730,[1]AHLSOG!$O:$Q,3,FALSE)","v":"W-B/Scranton"},2,"2nd","WBS",0.37916666666666665,"M. Marcantuoni","N. D'Agostino","P. Letourneau-Leblond",null,"V",7,14,16,21,34,null,"H",4,11,18,21,32,null,"Rd","W-B/Scranton",1013963]
[36617,{"$f":"VLOOKUP(AB2734,[1]AHLSOG!$O:$Q,2,FALSE)","v":"Lake Erie"},{"$f":"VLOOKUP(AB2734,[1]AHLSOG!$O:$Q,3,FALSE)","v":"Oklahoma City"},4,"2nd","OKC",0.54791666666666672,"I. Pakarinen","B. Yakimov","D. Simpson",null,"V",17,18,25,39,40,null,"H",18,26,27,28,43,null,"Rd","Oklahoma City",1013964]
["0 - 2",{"$f":"VLOOKUP(AB2739,[1]AHLSOG!$O:$Q,2,FALSE)","v":"Milwaukee"},{"$f":"VLOOKUP(AB2739,[1]AHLSOG!$O:$Q,3,FALSE)","v":"Hamilton"},2,"2nd","MIL",8.7500000000000008E-2,"V. Arvidsson","B. Leipsic",null,null,"V",2,4,11,15,18,null,"H",22,23,28,33,51,null,"Hm","Milwaukee",1013965]
[42006,{"$f":"VLOOKUP(AB2745,[1]AHLSOG!$O:$Q,2,FALSE)","v":"Norfolk"},{"$f":"VLOOKUP(AB2745,[1]AHLSOG!$O:$Q,3,FALSE)","v":"Lehigh Valley"},3,"3rd","NOR",3.1944444444444449E-2,"W. Karlsson","E. Etem","M. Clark",null,"V",5,19,22,27,38,null,"H",2,16,22,26,28,null,"Hm","Norfolk",1013966]
[36526,{"$f":"VLOOKUP(AB2747,[1]AHLSOG!$O:$Q,2,FALSE)","v":"Springfield"},{"$f":"VLOOKUP(AB2747,[1]AHLSOG!$O:$Q,3,FALSE)","v":"Worcester"},1,"1st","WOR",0.76458333333333339,"B. Lerg","R. Carpenter","F. Hamilton",null,"V",2,10,11,12,22,null,"H",5,10,18,24,36,null,"Rd","Worcester",1013968]
[42064,{"$f":"VLOOKUP(AB2750,[1]AHLSOG!$O:$Q,2,FALSE)","v":"Springfield"},{"$f":"VLOOKUP(AB2750,[1]AHLSOG!$O:$Q,3,FALSE)","v":"Worcester"},4,"2nd","WOR",0.53680555555555554,"E. Trupp","T. Fedun","M. Taormina","PP","V",11,13,14,20,28,null,"H",5,11,14,37,null,null,"Rd","Worcester",1013968]
[42066,{"$f":"VLOOKUP(AB2758,[1]AHLSOG!$O:$Q,2,FALSE)","v":"Toronto"},{"$f":"VLOOKUP(AB2758,[1]AHLSOG!$O:$Q,3,FALSE)","v":"San Antonio"},6,"3rd","SA",0.68125000000000002,"G. Wilson","B. Butler","R. Martindale",null,"V",2,6,16,17,19,null,"H",4,13,16,22,26,null,"Rd","San Antonio",1013969]
[42097,{"$f":"VLOOKUP(AB2759,[1]AHLSOG!$O:$Q,2,FALSE)","v":"Toronto"},{"$f":"VLOOKUP(AB2759,[1]AHLSOG!$O:$Q,3,FALSE)","v":"San Antonio"},7,"OT","SA",0.22847222222222222,"R. Grimaldi",null,null,null,"V",2,9,26,null,null,null,"H",15,50,54,null,null,null,"Rd","San Antonio",1013969]
[42006,{"$f":"VLOOKUP(AB2765,[1]AHLSOG!$O:$Q,2,FALSE)","v":"Bridgeport"},{"$f":"VLOOKUP(AB2765,[1]AHLSOG!$O:$Q,3,FALSE)","v":"Albany"},3,"2nd","BRI",0.46875,"A. Ness","K. Mouillierat","S. Collberg",null,"V",8,9,21,24,null,null,"H",4,21,27,49,null,null,"Hm","Bridgeport",1013971]
["0 - 2",{"$f":"VLOOKUP(AB2771,[1]AHLSOG!$O:$Q,2,FALSE)","v":"Charlotte"},{"$f":"VLOOKUP(AB2771,[1]AHLSOG!$O:$Q,3,FALSE)","v":"Texas"},2,"1st","CHA",0.41180555555555554,"K. Lowe","J. Shugg","B. Holmstrom",null,"V",9,15,19,26,39,null,"H",4,10,14,20,28,null,"Hm","Charlotte",1013972]
[42008,{"$f":"VLOOKUP(AB2774,[1]AHLSOG!$O:$Q,2,FALSE)","v":"Charlotte"},{"$f":"VLOOKUP(AB2774,[1]AHLSOG!$O:$Q,3,FALSE)","v":"Texas"},5,"2nd","CHA",0.45347222222222222,"A. Aleardi",null,null,null,"V",8,18,24,25,28,null,"H",5,17,20,21,26,null,"Hm","Charlotte",1013972]
[42064,{"$f":"VLOOKUP(AB2780,[1]AHLSOG!$O:$Q,2,FALSE)","v":"Providence"},{"$f":"VLOOKUP(AB2780,[1]AHLSOG!$O:$Q,3,FALSE)","v":"Worcester"},4,"3rd","PRO",4.7916666666666663E-2,"J. Florek","M. Lindblad","C. Breen",null,"V",11,13,20,25,28,null,"H",8,9,18,19,37,null,"Hm","Providence",1013973]
[42037,{"$f":"VLOOKUP(AB2784,[1]AHLSOG!$O:$Q,2,FALSE)","v":"Springfield"},{"$f":"VLOOKUP(AB2784,[1]AHLSOG!$O:$Q,3,FALSE)","v":"Manchester"},4,"3rd","SPR",0.72361111111111109,"J. Anderson","L. Sedlak","J. Sifers",null,"V",5,10,19,27,33,null,"H",8,11,22,26,32,null,"Hm","Springfield",1013974]
[42008,{"$f":"VLOOKUP(AB2790,[1]AHLSOG!$O:$Q,2,FALSE)","v":"Adirondack"},{"$f":"VLOOKUP(AB2790,[1]AHLSOG!$O:$Q,3,FALSE)","v":"San Antonio"},5,"2nd","ADK",0.79861111111111116,"G. Hathaway","K. Agostino","M. Tousignant",null,"V",3,5,9,19,22,null,"H",5,7,9,15,16,null,"Hm","Adirondack",1013975]
[42005,{"$f":"VLOOKUP(AB2795,[1]AHLSOG!$O:$Q,2,FALSE)","v":"Oklahoma City"},{"$f":"VLOOKUP(AB2795,[1]AHLSOG!$O:$Q,3,FALSE)","v":"Texas"},2,"1st","TEX",0.27430555555555552,"T. Morin",null,null,null,"V",18,19,23,24,27,null,"H",11,19,28,29,37,null,"Rd","Texas",1013976]
[42064,{"$f":"VLOOKUP(AB2797,[1]AHLSOG!$O:$Q,2,FALSE)","v":"Oklahoma City"},{"$f":"VLOOKUP(AB2797,[1]AHLSOG!$O:$Q,3,FALSE)","v":"Texas"},4,"2nd","TEX",0.37083333333333335,"D. Hulak","M. Fortunus","T. Morin",null,"V",18,23,24,27,39,null,"H",6,15,17,25,39,null,"Rd","Texas",1013976]
[42005,{"$f":"VLOOKUP(AB2805,[1]AHLSOG!$O:$Q,2,FALSE)","v":"Grand Rapids"},{"$f":"VLOOKUP(AB2805,[1]AHLSOG!$O:$Q,3,FALSE)","v":"Charlotte"},2,"2nd","CHA",2.6388888888888889E-2,"C. LaRose","A. Aleardi","A. Rowe","PP","V",2,8,14,17,59,null,"H",4,12,14,15,null,null,"Rd","Charlotte",1013979]
[42038,{"$f":"VLOOKUP(AB2808,[1]AHLSOG!$O:$Q,2,FALSE)","v":"Grand Rapids"},{"$f":"VLOOKUP(AB2808,[1]AHLSOG!$O:$Q,3,FALSE)","v":"Charlotte"},5,"OT","GR",5.4166666666666669E-2,"L. Ferraro","A. Marchenko","T. Nosek",null,"V",4,14,20,59,null,null,"H",3,19,29,44,null,null,"Hm","Grand Rapids",1013979]
[42036,{"$f":"VLOOKUP(AB2814,[1]AHLSOG!$O:$Q,2,FALSE)","v":"Rochester"},{"$f":"VLOOKUP(AB2814,[1]AHLSOG!$O:$Q,3,FALSE)","v":"San Antonio"},3,"1st","RCH",0.63124999999999998,"D. Catenacci",null,null,null,"V",8,23,25,26,32,null,"H",3,24,34,43,46,null,"Hm","Rochester",1013981]
[42064,{"$f":"VLOOKUP(AB2815,[1]AHLSOG!$O:$Q,2,FALSE)","v":"Rochester"},{"$f":"VLOOKUP(AB2815,[1]AHLSOG!$O:$Q,3,FALSE)","v":"San Antonio"},4,"2nd","SA",0.3527777777777778,"B. Butler","B. Olson","G. Wilson",null,"V",8,15,16,19,25,null,"H",16,18,37,46,52,null,"Rd","San Antonio",1013981]
[36526,{"$f":"VLOOKUP(AB2821,[1]AHLSOG!$O:$Q,2,FALSE)","v":"Milwaukee"},{"$f":"VLOOKUP(AB2821,[1]AHLSOG!$O:$Q,3,FALSE)","v":"Rockford"},1,"1st","RFD",0.37777777777777777,"P. Danault",null,null,"PP","V",15,18,24,27,29,null,"H",3,7,18,22,null,null,"Rd","Rockford",1013983]
[42038,{"$f":"VLOOKUP(AB2825,[1]AHLSOG!$O:$Q,2,FALSE)","v":"Milwaukee"},{"$f":"VLOOKUP(AB2825,[1]AHLSOG!$O:$Q,3,FALSE)","v":"Rockford"},5,"2nd","MIL",0.6118055555555556,"A. Watson","R. Clune","T. Aronson","PP","V",7,22,24,29,null,null,"H",22,23,33,36,51,null,"Hm","Milwaukee",1013983]
[42037,{"$f":"VLOOKUP(AB2830,[1]AHLSOG!$O:$Q,2,FALSE)","v":"Adirondack"},{"$f":"VLOOKUP(AB2830,[1]AHLSOG!$O:$Q,3,FALSE)","v":"Oklahoma City"},4,"2nd","ADK",0.16597222222222222,"E. Poirier","S. Baertschi",null,null,"V",6,7,11,15,37,null,"H",5,7,21,27,46,null,"Hm","Adirondack",1013984]
[42098,{"$f":"VLOOKUP(AB2834,[1]AHLSOG!$O:$Q,2,FALSE)","v":"Adirondack"},{"$f":"VLOOKUP(AB2834,[1]AHLSOG!$O:$Q,3,FALSE)","v":"Oklahoma City"},8,"3rd","ADK",0.41597222222222219,"E. Poirier","T. Wotherspoon","S. Baertschi",null,"V",15,20,21,36,40,null,"H",4,5,16,21,27,null,"Hm","Adirondack",1013984]
["0 - 1",{"$f":"VLOOKUP(AB2840,[1]AHLSOG!$O:$Q,2,FALSE)","v":"Grand Rapids"},{"$f":"VLOOKUP(AB2840,[1]AHLSOG!$O:$Q,3,FALSE)","v":"Charlotte"},1,"2nd","GR",0.61597222222222225,"K. Porter","M. Callahan","N. Jensen","PP","V",4,9,21,22,null,null,"H",12,13,14,15,21,null,"Hm","Grand Rapids",1013986]
["0 - 3",{"$f":"VLOOKUP(AB2845,[1]AHLSOG!$O:$Q,2,FALSE)","v":"Hamilton"},{"$f":"VLOOKUP(AB2845,[1]AHLSOG!$O:$Q,3,FALSE)","v":"Utica"},3,"3rd","HAM",0.7715277777777777,"J. de la Rose","G. Dumont","D. Carr","EN","V",3,6,16,21,24,28,"H",2,4,11,20,40,null,"Hm","Hamilton",1013987]
[36526,{"$f":"VLOOKUP(AB2851,[1]AHLSOG!$O:$Q,2,FALSE)","v":"Portland"},{"$f":"VLOOKUP(AB2851,[1]AHLSOG!$O:$Q,3,FALSE)","v":"Bridgeport"},1,"2nd","BRI",0.25347222222222221,"C. Gillies","J. Sundstrom","J. Persson",null,"V",7,17,23,27,28,null,"H",14,25,27,28,32,null,"Rd","Bridgeport",1013989]
[42095,{"$f":"VLOOKUP(AB2855,[1]AHLSOG!$O:$Q,2,FALSE)","v":"Portland"},{"$f":"VLOOKUP(AB2855,[1]AHLSOG!$O:$Q,3,FALSE)","v":"Bridgeport"},5,"3rd","BRI",0.79375000000000007,"J. Persson","C. McDonald","A. Pelech","EN","V",4,10,13,21,23,null,"H",4,12,19,27,32,49,"Rd","Bridgeport",1013989]
["0 - 2",{"$f":"VLOOKUP(AB2860,[1]AHLSOG!$O:$Q,2,FALSE)","v":"Rochester"},{"$f":"VLOOKUP(AB2860,[1]AHLSOG!$O:$Q,3,FALSE)","v":"Lake Erie"},2,"1st","RCH",0.21527777777777779,"W. Carrier","J. Samuels-Thomas","J. McCabe",null,"V",3,18,28,43,46,null,"H",5,18,28,29,49,null,"Hm","Rochester",1013991]
[42039,{"$f":"VLOOKUP(AB2864,[1]AHLSOG!$O:$Q,2,FALSE)","v":"Rochester"},{"$f":"VLOOKUP(AB2864,[1]AHLSOG!$O:$Q,3,FALSE)","v":"Lake Erie"},6,"2nd","LE",0.12708333333333333,"J. Hishon","S. Elliott","M. Noreau","PP","V",26,38,45,46,null,null,"H",5,19,29,null,null,null,"Rd","Lake Erie",1013991]
[36557,{"$f":"VLOOKUP(AB2870,[1]AHLSOG!$O:$Q,2,FALSE)","v":"W-B/Scranton"},{"$f":"VLOOKUP(AB2870,[1]AHLSOG!$O:$Q,3,FALSE)","v":"Norfolk"},2,"1st","NOR",0.57500000000000007,"M. Cantin","A. Laganiere","E. Etem",null,"V",16,22,26,28,29,null,"H",6,10,24,41,43,null,"Rd","Norfolk",1013994]
["0 - 1",{"$f":"VLOOKUP(AB2871,[1]AHLSOG!$O:$Q,2,FALSE)","v":"Worcester"},{"$f":"VLOOKUP(AB2871,[1]AHLSOG!$O:$Q,3,FALSE)","v":"Binghamton"},1,"1st","WOR",9.7222222222222224E-2,"W. Coetzee","K. Abeltshauser","D. DeMelo","PP","V",14,22,57,72,null,null,"H",2,10,19,26,50,null,"Hm","Worcester",1013995]
[42038,{"$f":"VLOOKUP(AB2875,[1]AHLSOG!$O:$Q,2,FALSE)","v":"Worcester"},{"$f":"VLOOKUP(AB2875,[1]AHLSOG!$O:$Q,3,FALSE)","v":"Binghamton"},5,"2nd","BNG",0.12986111111111112,"D. Kramer","M. McCormick","D. Dziurzynski",null,"V",6,8,17,22,37,null,"H",3,4,37,40,43,null,"Rd","Binghamton",1013995]
["0 - 1",{"$f":"VLOOKUP(AB2880,[1]AHLSOG!$O:$Q,2,FALSE)","v":"Albany"},{"$f":"VLOOKUP(AB2880,[1]AHLSOG!$O:$Q,3,FALSE)","v":"Bridgeport"},1,"1st","ALB",6.5277777777777782E-2,"D. Wohlberg","P. Thompson","K. Zajac",null,"V",2,16,17,24,28,null,"H",15,18,25,33,37,null,"Hm","Albany",1013996]
[42008,{"$f":"VLOOKUP(AB2888,[1]AHLSOG!$O:$Q,2,FALSE)","v":"Grand Rapids"},{"$f":"VLOOKUP(AB2888,[1]AHLSOG!$O:$Q,3,FALSE)","v":"Chicago"},5,"3rd","CHI",4.6527777777777779E-2,"T. Rattie","M. Paajarvi","P. Cannone",null,"V",5,8,12,23,28,null,"H",4,8,14,15,21,null,"Rd","Chicago",1013997]
[36526,{"$f":"VLOOKUP(AB2890,[1]AHLSOG!$O:$Q,2,FALSE)","v":"Hamilton"},{"$f":"VLOOKUP(AB2890,[1]AHLSOG!$O:$Q,3,FALSE)","v":"Lake Erie"},1,"3rd","LE",1.9444444444444445E-2,"J. Hishon","K. Stollery","S. Elliott",null,"V",3,28,38,45,46,null,"H",4,6,11,20,40,null,"Rd","Lake Erie",1013998]
[42006,{"$f":"VLOOKUP(AB2895,[1]AHLSOG!$O:$Q,2,FALSE)","v":"Hershey"},{"$f":"VLOOKUP(AB2895,[1]AHLSOG!$O:$Q,3,FALSE)","v":"Norfolk"},3,"2nd","HER",0.69027777777777777,"N. Schmidt","T. Kundratek","C. Wellman","PP","V",2,6,8,39,null,null,"H",2,11,21,34,38,null,"Hm","Hershey",1013999]
[42008,{"$f":"VLOOKUP(AB2901,[1]AHLSOG!$O:$Q,2,FALSE)","v":"Manchester"},{"$f":"VLOOKUP(AB2901,[1]AHLSOG!$O:$Q,3,FALSE)","v":"Binghamton"},5,"3rd","MCH",5.8333333333333327E-2,"C. Miller","K. Gravel","N. Shore","PP","V",3,22,72,null,null,null,"H",4,6,27,37,null,null,"Hm","Manchester",1014000]
["0 - 2",{"$f":"VLOOKUP(AB2905,[1]AHLSOG!$O:$Q,2,FALSE)","v":"Milwaukee"},{"$f":"VLOOKUP(AB2905,[1]AHLSOG!$O:$Q,3,FALSE)","v":"Charlotte"},2,"2nd","MIL",0.1986111111111111,"C. Sissons","A. Bitetto","I. White","PP","V",5,7,10,29,null,null,"H",2,15,18,36,46,null,"Hm","Milwaukee",1014001]
[36557,{"$f":"VLOOKUP(AB2910,[1]AHLSOG!$O:$Q,2,FALSE)","v":"Rochester"},{"$f":"VLOOKUP(AB2910,[1]AHLSOG!$O:$Q,3,FALSE)","v":"Oklahoma City"},2,"3rd","OKC",0.60555555555555551,"J. Winquist","D. Musil","J. Khaira",null,"V",6,7,10,18,37,null,"H",5,22,25,26,29,null,"Rd","Oklahoma City",1014002]
[42037,{"$f":"VLOOKUP(AB2914,[1]AHLSOG!$O:$Q,2,FALSE)","v":"San Antonio"},{"$f":"VLOOKUP(AB2914,[1]AHLSOG!$O:$Q,3,FALSE)","v":"Iowa"},4,"1st","IA",0.79305555555555562,"M. Dumba","Z. Mitchell","D. Syvret","PP","V",4,18,25,36,55,null,"H",5,8,17,19,null,null,"Rd","Iowa",1014003]
[42070,{"$f":"VLOOKUP(AB2920,[1]AHLSOG!$O:$Q,2,FALSE)","v":"San Antonio"},{"$f":"VLOOKUP(AB2920,[1]AHLSOG!$O:$Q,3,FALSE)","v":"Iowa"},10,"3rd","SA",0.68055555555555547,"S. Kampfer","M. Mancari","B. Butler","PP","V",25,27,41,null,null,null,"H",8,15,16,19,26,null,"Hm","San Antonio",1014003]
[42038,{"$f":"VLOOKUP(AB2926,[1]AHLSOG!$O:$Q,2,FALSE)","v":"Springfield"},{"$f":"VLOOKUP(AB2926,[1]AHLSOG!$O:$Q,3,FALSE)","v":"Hartford"},5,"3rd","SPR",0.77916666666666667,"A. Madaisky",null,null,null,"V",2,9,19,28,39,null,"H",5,15,21,22,37,null,"Hm","Springfield",1014004]
[42066,{"$f":"VLOOKUP(AB2927,[1]AHLSOG!$O:$Q,2,FALSE)","v":"Springfield"},{"$f":"VLOOKUP(AB2927,[1]AHLSOG!$O:$Q,3,FALSE)","v":"Hartford"},6,"3rd","HFD",0.80902777777777779,"J. Crabb","C. Allen","C. Mueller",null,"V",4,14,17,19,20,24,"H",12,13,18,26,32,null,"Rd","Hartford",1014004]
["0 - 1",{"$f":"VLOOKUP(AB2935,[1]AHLSOG!$O:$Q,2,FALSE)","v":"Syracuse"},{"$f":"VLOOKUP(AB2935,[1]AHLSOG!$O:$Q,3,FALSE)","v":"W-B/Scranton"},1,"1st","SYR",0.17777777777777778,"P. Paradis","J. Mormina","M. Corrente",null,"V",6,7,14,15,16,null,"H",3,13,37,63,71,null,"Hm","Syracuse",1014006]
[42037,{"$f":"VLOOKUP(AB2938,[1]AHLSOG!$O:$Q,2,FALSE)","v":"Syracuse"},{"$f":"VLOOKUP(AB2938,[1]AHLSOG!$O:$Q,3,FALSE)","v":"W-B/Scranton"},4,"2nd","SYR",0.1451388888888889,"J. Marchessault","V. Namestnikov","L. Witkowski",null,"V",6,19,29,41,43,null,"H",18,21,65,82,90,null,"Hm","Syracuse",1014006]
[42039,{"$f":"VLOOKUP(AB2940,[1]AHLSOG!$O:$Q,2,FALSE)","v":"Syracuse"},{"$f":"VLOOKUP(AB2940,[1]AHLSOG!$O:$Q,3,FALSE)","v":"W-B/Scranton"},6,"3rd","SYR",0.59444444444444444,"H. Ikonen","J. Vermin","M. Angelidis",null,"V",6,19,29,41,43,null,"H",3,10,13,57,92,null,"Hm","Syracuse",1014006]
[42038,{"$f":"VLOOKUP(AB2946,[1]AHLSOG!$O:$Q,2,FALSE)","v":"Texas"},{"$f":"VLOOKUP(AB2946,[1]AHLSOG!$O:$Q,3,FALSE)","v":"Toronto"},5,"3rd","TEX",0.24374999999999999,"J. Jokipakka","B. Ranford","G. Smith","PP","V",2,29,50,54,null,null,"H",3,14,19,22,39,null,"Hm","Texas",1014007]
[42006,{"$f":"VLOOKUP(AB2951,[1]AHLSOG!$O:$Q,2,FALSE)","v":"Utica"},{"$f":"VLOOKUP(AB2951,[1]AHLSOG!$O:$Q,3,FALSE)","v":"Adirondack"},3,"1st","UTI",0.45624999999999999,"D. Archibald","B. DeFazio","B. Sanguinetti",null,"V",3,9,19,25,44,null,"H",4,6,21,24,25,null,"Hm","Utica",1014008]
[42005,{"$f":"VLOOKUP(AB2955,[1]AHLSOG!$O:$Q,2,FALSE)","v":"Worcester"},{"$f":"VLOOKUP(AB2955,[1]AHLSOG!$O:$Q,3,FALSE)","v":"Providence"},2,"1st","WOR",0.25694444444444448,"D. DeMelo","W. Coetzee",null,"PP","V",5,11,37,38,null,null,"H",2,10,19,26,50,null,"Hm","Worcester",1014009]
[36526,{"$f":"VLOOKUP(AB2961,[1]AHLSOG!$O:$Q,2,FALSE)","v":"Hamilton"},{"$f":"VLOOKUP(AB2961,[1]AHLSOG!$O:$Q,3,FALSE)","v":"Oklahoma City"},1,"1st","OKC",0.1763888888888889,"J. Williams","C. Hamilton","M. Ford",null,"V",10,11,15,18,19,null,"H",4,6,15,17,40,null,"Rd","Oklahoma City",1014010]
[36526,{"$f":"VLOOKUP(AB2964,[1]AHLSOG!$O:$Q,2,FALSE)","v":"Hartford"},{"$f":"VLOOKUP(AB2964,[1]AHLSOG!$O:$Q,3,FALSE)","v":"Bridgeport"},1,"1st","BRI",0.57916666666666672,"C. Conacher","H. Zolnierczyk","G. Reinhart","PP","V",2,8,12,16,89,null,"H",4,9,19,20,null,null,"Rd","Bridgeport",1014011]
[42097,{"$f":"VLOOKUP(AB2970,[1]AHLSOG!$O:$Q,2,FALSE)","v":"Hartford"},{"$f":"VLOOKUP(AB2970,[1]AHLSOG!$O:$Q,3,FALSE)","v":"Bridgeport"},7,"OT","BRI",0.19791666666666666,"K. Mouillierat","J. Graham","C. Conacher",null,"V",2,21,89,null,null,null,"H",9,24,28,null,null,null,"Rd","Bridgeport",1014011]
[42096,{"$f":"VLOOKUP(AB2976,[1]AHLSOG!$O:$Q,2,FALSE)","v":"Hershey"},{"$f":"VLOOKUP(AB2976,[1]AHLSOG!$O:$Q,3,FALSE)","v":"Norfolk"},6,"3rd","NOR",0.81388888888888899,"D. Steckel","M. Cantin",null,"EN.SH","V",15,21,29,39,null,null,"H",11,13,21,22,23,25,"Rd","Norfolk",1014012]
[42065,{"$f":"VLOOKUP(AB2981,[1]AHLSOG!$O:$Q,2,FALSE)","v":"Providence"},{"$f":"VLOOKUP(AB2981,[1]AHLSOG!$O:$Q,3,FALSE)","v":"Portland"},5,"3rd","PRO",0.54027777777777775,"C. Stuart","S. Griffith",null,null,"V",4,8,11,18,25,null,"H",2,13,17,29,49,null,"Hm","Providence",1014013]
[36586,{"$f":"VLOOKUP(AB2986,[1]AHLSOG!$O:$Q,2,FALSE)","v":"San Antonio"},{"$f":"VLOOKUP(AB2986,[1]AHLSOG!$O:$Q,3,FALSE)","v":"Toronto"},3,"3rd","TOR",0.8208333333333333,"C. Ashton","B. Kozun","S. Percy","EN","V",8,9,10,15,18,null,"H",3,5,15,16,19,26,"Rd","Toronto",1014014]
[42005,{"$f":"VLOOKUP(AB2988,[1]AHLSOG!$O:$Q,2,FALSE)","v":"Springfield"},{"$f":"VLOOKUP(AB2988,[1]AHLSOG!$O:$Q,3,FALSE)","v":"Albany"},2,"2nd","SPR",0.50972222222222219,"A. Madaisky","K. Rychel","J. Anderson",null,"V",10,20,22,33,37,null,"H",5,8,15,19,25,null,"Hm","Springfield",1014015]
[42096,{"$f":"VLOOKUP(AB2995,[1]AHLSOG!$O:$Q,2,FALSE)","v":"St. John's"},{"$f":"VLOOKUP(AB2995,[1]AHLSOG!$O:$Q,3,FALSE)","v":"Lehigh Valley"},6,"2nd","STJ",0.60347222222222219,"N. Blanchard","K. MacKinnon","J. Brouillette",null,"V",4,19,24,28,39,null,"H",19,25,26,29,49,null,"Hm","St. John's",1014016]
[42126,{"$f":"VLOOKUP(AB2996,[1]AHLSOG!$O:$Q,2,FALSE)","v":"St. John's"},{"$f":"VLOOKUP(AB2996,[1]AHLSOG!$O:$Q,3,FALSE)","v":"Lehigh Valley"},7,"2nd","LV",0.7284722222222223,"O. Lauridsen","A. Gordon","A. Fyten",null,"V",3,7,10,11,37,null,"H",13,21,24,47,49,null,"Rd","Lehigh",1014016]
[36526,{"$f":"VLOOKUP(AB3001,[1]AHLSOG!$O:$Q,2,FALSE)","v":"Rockford"},{"$f":"VLOOKUP(AB3001,[1]AHLSOG!$O:$Q,3,FALSE)","v":"Charlotte"},1,"1st","CHA",0.60347222222222219,"B. Woods","J. Staal","K. Lowe",null,"V",4,18,20,21,22,null,"H",3,7,14,22,53,null,"Rd","Charlotte",1014018]
[42005,{"$f":"VLOOKUP(AB3006,[1]AHLSOG!$O:$Q,2,FALSE)","v":"Worcester"},{"$f":"VLOOKUP(AB3006,[1]AHLSOG!$O:$Q,3,FALSE)","v":"Manchester"},2,"1st","MCH",0.33680555555555558,"D. Van der Gulik","N. Dowd",null,null,"V",3,14,18,26,33,null,"H",3,12,14,18,21,null,"Rd","Manchester",1014019]
[42006,{"$f":"VLOOKUP(AB3011,[1]AHLSOG!$O:$Q,2,FALSE)","v":"Albany"},{"$f":"VLOOKUP(AB3011,[1]AHLSOG!$O:$Q,3,FALSE)","v":"Springfield"},3,"OT","ALB",0.13125000000000001,"D. Kelly","S. Matteau","D. Zajac",null,"V",6,19,28,null,null,null,"H",8,18,23,null,null,null,"Hm","Albany",1014020]
[42005,{"$f":"VLOOKUP(AB3018,[1]AHLSOG!$O:$Q,2,FALSE)","v":"St. John's"},{"$f":"VLOOKUP(AB3018,[1]AHLSOG!$O:$Q,3,FALSE)","v":"Portland"},2,"2nd","POR",0.67499999999999993,"B. Shinnimin","J. Hodgman","J. Szwarz",null,"V",4,10,12,24,33,null,"H",7,21,24,34,44,null,"Rd","Portland",1014022]
[42005,{"$f":"VLOOKUP(AB3021,[1]AHLSOG!$O:$Q,2,FALSE)","v":"Texas"},{"$f":"VLOOKUP(AB3021,[1]AHLSOG!$O:$Q,3,FALSE)","v":"Rochester"},2,"1st","RCH",0.42291666666666666,"T. Schaller","J. D'Amigo",null,null,"V",11,19,34,38,47,null,"H",9,16,23,26,27,null,"Rd","Rochester",1014023]
[42067,{"$f":"VLOOKUP(AB3026,[1]AHLSOG!$O:$Q,2,FALSE)","v":"Texas"},{"$f":"VLOOKUP(AB3026,[1]AHLSOG!$O:$Q,3,FALSE)","v":"Rochester"},7,"2nd","RCH",0.39513888888888887,"M. Grigorenko","J. McCabe",null,null,"V",5,25,26,29,43,null,"H",9,10,19,26,39,null,"Rd","Rochester",1014023]
["0 - 1",{"$f":"VLOOKUP(AB3031,[1]AHLSOG!$O:$Q,2,FALSE)","v":"Utica"},{"$f":"VLOOKUP(AB3031,[1]AHLSOG!$O:$Q,3,FALSE)","v":"Grand Rapids"},1,"2nd","UTI",4.4444444444444446E-2,"D. Jeffrey","B. Gaunce",null,null,"V",4,7,8,15,21,null,"H",6,10,21,24,40,null,"Hm","Utica",1014024]
[42039,{"$f":"VLOOKUP(AB3036,[1]AHLSOG!$O:$Q,2,FALSE)","v":"Utica"},{"$f":"VLOOKUP(AB3036,[1]AHLSOG!$O:$Q,3,FALSE)","v":"Grand Rapids"},6,"3rd","UTI",0.79305555555555562,"C. Bancks",null,null,"EN","V",7,8,13,15,21,29,"H",3,16,24,29,34,null,"Hm","Utica",1014024]
[42095,{"$f":"VLOOKUP(AB3041,[1]AHLSOG!$O:$Q,2,FALSE)","v":"Charlotte"},{"$f":"VLOOKUP(AB3041,[1]AHLSOG!$O:$Q,3,FALSE)","v":"Toronto"},5,"3rd","TOR",0.77569444444444446,"V. Loov","R. Rupert","C. Ashton","EN","V",2,4,18,20,50,null,"H",7,10,14,17,28,29,"Rd","Toronto",1014025]
["0 - 3",{"$f":"VLOOKUP(AB3044,[1]AHLSOG!$O:$Q,2,FALSE)","v":"Binghamton"},{"$f":"VLOOKUP(AB3044,[1]AHLSOG!$O:$Q,3,FALSE)","v":"Syracuse"},3,"1st","BNG",0.57986111111111105,"B. Robinson","R. Dzingel",null,null,"V",18,20,21,24,65,null,"H",10,14,27,43,72,null,"Hm","Binghamton",1014026]
[42008,{"$f":"VLOOKUP(AB3051,[1]AHLSOG!$O:$Q,2,FALSE)","v":"Charlotte"},{"$f":"VLOOKUP(AB3051,[1]AHLSOG!$O:$Q,3,FALSE)","v":"Toronto"},5,"3rd","CHA",0.82777777777777783,"Z. Boychuk","B. Sutter","R. Rissanen","EN","V",4,9,10,13,14,54,"H",2,11,12,14,29,null,"Hm","Charlotte",1014027]
[42064,{"$f":"VLOOKUP(AB3055,[1]AHLSOG!$O:$Q,2,FALSE)","v":"Chicago"},{"$f":"VLOOKUP(AB3055,[1]AHLSOG!$O:$Q,3,FALSE)","v":"Lake Erie"},4,"2nd","CHI",0.19166666666666665,"S. Harper","M. Paajarvi","P. Cannone",null,"V",16,27,28,37,38,null,"H",4,6,9,12,14,null,"Hm","Chicago",1014028]
[42095,{"$f":"VLOOKUP(AB3056,[1]AHLSOG!$O:$Q,2,FALSE)","v":"Chicago"},{"$f":"VLOOKUP(AB3056,[1]AHLSOG!$O:$Q,3,FALSE)","v":"Lake Erie"},5,"3rd","LE",0.77361111111111114,"R. Berra",null,null,"EN","V",3,10,17,18,46,null,"H",4,8,9,12,14,24,"Rd","Lake Erie",1014028]
["0 - 1",{"$f":"VLOOKUP(AB3061,[1]AHLSOG!$O:$Q,2,FALSE)","v":"Lehigh Valley"},{"$f":"VLOOKUP(AB3061,[1]AHLSOG!$O:$Q,3,FALSE)","v":"Albany"},1,"2nd","LV",0.27013888888888887,"N. Cousins","O. Lauridsen","A. Gordon",null,"V",2,11,14,24,null,null,"H",3,7,10,25,null,null,"Rd","Lehigh",1014030]
[42036,{"$f":"VLOOKUP(AB3068,[1]AHLSOG!$O:$Q,2,FALSE)","v":"Norfolk"},{"$f":"VLOOKUP(AB3068,[1]AHLSOG!$O:$Q,3,FALSE)","v":"Hartford"},3,"2nd","NOR",0.60069444444444442,"D. Steckel","E. Etem","B. Bell",null,"V",9,19,20,28,29,null,"H",2,8,16,25,39,null,"Hm","Norfolk",1014031]
[36526,{"$f":"VLOOKUP(AB3071,[1]AHLSOG!$O:$Q,2,FALSE)","v":"Oklahoma City"},{"$f":"VLOOKUP(AB3071,[1]AHLSOG!$O:$Q,3,FALSE)","v":"Texas"},1,"2nd","TEX",0.43541666666666662,"T. Morin","S. Glennie",null,null,"V",3,15,23,24,28,null,"H",3,6,10,11,19,null,"Rd","Texas",1014032]
[42037,{"$f":"VLOOKUP(AB3076,[1]AHLSOG!$O:$Q,2,FALSE)","v":"Providence"},{"$f":"VLOOKUP(AB3076,[1]AHLSOG!$O:$Q,3,FALSE)","v":"Bridgeport"},4,"3rd","BRI",0.29236111111111113,"K. Mouillierat","S. Mayfield","C. McDonald",null,"V",10,13,21,22,24,null,"H",6,10,13,38,44,null,"Rd","Bridgeport",1014033]
["0 - 4",{"$f":"VLOOKUP(AB3081,[1]AHLSOG!$O:$Q,2,FALSE)","v":"Rockford"},{"$f":"VLOOKUP(AB3081,[1]AHLSOG!$O:$Q,3,FALSE)","v":"Iowa"},4,"3rd","RFD",0.27847222222222223,"G. Ross","M. Carey","T. Brennan","PP","V",3,12,24,29,null,null,"H",7,12,26,27,28,null,"Hm","Rockford",1014034]
[42005,{"$f":"VLOOKUP(AB3086,[1]AHLSOG!$O:$Q,2,FALSE)","v":"Utica"},{"$f":"VLOOKUP(AB3086,[1]AHLSOG!$O:$Q,3,FALSE)","v":"Milwaukee"},2,"3rd","UTI",0.55208333333333337,"D. Jeffrey","H. Shinkaruk","B. DeFazio",null,"V",15,21,29,33,47,null,"H",2,6,9,21,24,null,"Hm","Utica",1014036]
[42037,{"$f":"VLOOKUP(AB3091,[1]AHLSOG!$O:$Q,2,FALSE)","v":"Worcester"},{"$f":"VLOOKUP(AB3091,[1]AHLSOG!$O:$Q,3,FALSE)","v":"Manchester"},4,"2nd","WOR",0.62708333333333333,"C. Tierney","R. Carpenter","J. McCarthy",null,"V",6,15,21,33,39,null,"H",3,14,17,22,50,null,"Hm","Worcester",1014037]
[42067,{"$f":"VLOOKUP(AB3094,[1]AHLSOG!$O:$Q,2,FALSE)","v":"Worcester"},{"$f":"VLOOKUP(AB3094,[1]AHLSOG!$O:$Q,3,FALSE)","v":"Manchester"},7,"3rd","WOR",0.53541666666666665,"T. Fedun","B. Lerg","J. Langlois","PP","V",6,7,21,39,null,null,"H",11,13,14,20,28,null,"Hm","Worcester",1014037]
[42066,{"$f":"VLOOKUP(AB3101,[1]AHLSOG!$O:$Q,2,FALSE)","v":"Adirondack"},{"$f":"VLOOKUP(AB3101,[1]AHLSOG!$O:$Q,3,FALSE)","v":"Milwaukee"},6,"3rd","ADK",0.79791666666666661,"M. Ferland","D. Wolf","C. Potter",null,"V",7,15,18,21,29,null,"H",3,16,19,27,44,45,"Hm","Adirondack",1014038]
[42095,{"$f":"VLOOKUP(AB3107,[1]AHLSOG!$O:$Q,2,FALSE)","v":"Bridgeport"},{"$f":"VLOOKUP(AB3107,[1]AHLSOG!$O:$Q,3,FALSE)","v":"Syracuse"},5,"2nd","SYR",0.66388888888888886,"T. Richard","D. Blujus","M. Blunden",null,"V",6,13,18,21,71,null,"H",4,10,11,14,49,null,"Rd","Syracuse",1014039]
["0 - 1",{"$f":"VLOOKUP(AB3111,[1]AHLSOG!$O:$Q,2,FALSE)","v":"Chicago"},{"$f":"VLOOKUP(AB3111,[1]AHLSOG!$O:$Q,3,FALSE)","v":"Rockford"},1,"1st","CHI",0.25972222222222224,"M. Paajarvi",null,null,null,"V",4,10,12,24,27,null,"H",5,14,27,28,37,null,"Hm","Chicago",1014040]
["0 - 2",{"$f":"VLOOKUP(AB3116,[1]AHLSOG!$O:$Q,2,FALSE)","v":"Hamilton"},{"$f":"VLOOKUP(AB3116,[1]AHLSOG!$O:$Q,3,FALSE)","v":"Grand Rapids"},2,"1st","HAM",0.59722222222222221,"D. Drewiske","M. Macenauer",null,null,"V",7,8,12,15,44,null,"H",4,5,12,18,21,null,"Hm","Hamilton",1014041]
[42037,{"$f":"VLOOKUP(AB3118,[1]AHLSOG!$O:$Q,2,FALSE)","v":"Hamilton"},{"$f":"VLOOKUP(AB3118,[1]AHLSOG!$O:$Q,3,FALSE)","v":"Grand Rapids"},4,"2nd","GR",5.8333333333333327E-2,"L. Ferraro","M. Tvrdon",null,null,"V",2,4,13,19,29,null,"H",2,6,11,17,27,null,"Rd","Grand Rapids",1014041]
[42040,{"$f":"VLOOKUP(AB3121,[1]AHLSOG!$O:$Q,2,FALSE)","v":"Hamilton"},{"$f":"VLOOKUP(AB3121,[1]AHLSOG!$O:$Q,3,FALSE)","v":"Grand Rapids"},7,"3rd","HAM",0.10694444444444444,"T. Hensick","J. Tinordi","D. Drewiske",null,"V",2,7,8,12,15,null,"H",4,5,11,17,27,null,"Hm","Hamilton",1014041]
[42038,{"$f":"VLOOKUP(AB3126,[1]AHLSOG!$O:$Q,2,FALSE)","v":"Hershey"},{"$f":"VLOOKUP(AB3126,[1]AHLSOG!$O:$Q,3,FALSE)","v":"Albany"},5,"1st","HER",0.72013888888888899,"S. Galiev","C. Conner",null,null,"V",7,8,11,14,15,null,"H",5,21,22,23,25,null,"Hm","Hershey",1014042]
["0 - 1",{"$f":"VLOOKUP(AB3131,[1]AHLSOG!$O:$Q,2,FALSE)","v":"Iowa"},{"$f":"VLOOKUP(AB3131,[1]AHLSOG!$O:$Q,3,FALSE)","v":"Lake Erie"},1,"1st","IA",0.62638888888888888,"D. Syvret","B. Brassart","Z. Mitchell",null,"V",3,14,17,43,46,null,"H",18,21,25,26,39,null,"Hm","Iowa",1014043]
["0 - 1",{"$f":"VLOOKUP(AB3136,[1]AHLSOG!$O:$Q,2,FALSE)","v":"Lehigh Valley"},{"$f":"VLOOKUP(AB3136,[1]AHLSOG!$O:$Q,3,FALSE)","v":"Binghamton"},1,"1st","LV",9.7222222222222224E-3,"N. Cousins","A. Gordon",null,null,"V",11,14,18,72,84,null,"H",4,10,25,28,45,null,"Rd","Lehigh",1014044]
["0 - 1",{"$f":"VLOOKUP(AB3142,[1]AHLSOG!$O:$Q,2,FALSE)","v":"Manchester"},{"$f":"VLOOKUP(AB3142,[1]AHLSOG!$O:$Q,3,FALSE)","v":"Providence"},1,"1st","MCH",0.73541666666666661,"J. Gratton","P. Bissonnette","R. Horvat",null,"V",5,13,19,29,49,null,"H",4,13,15,23,24,null,"Hm","Manchester",1014045]
[36526,{"$f":"VLOOKUP(AB3148,[1]AHLSOG!$O:$Q,2,FALSE)","v":"Oklahoma City"},{"$f":"VLOOKUP(AB3148,[1]AHLSOG!$O:$Q,3,FALSE)","v":"Texas"},1,"1st","TEX",0.41388888888888892,"D. Meech","G. Rallo","D. Hulak","PP","V",9,18,23,27,39,null,"H",3,10,11,28,null,null,"Rd","Texas",1014047]
[42007,{"$f":"VLOOKUP(AB3151,[1]AHLSOG!$O:$Q,2,FALSE)","v":"Oklahoma City"},{"$f":"VLOOKUP(AB3151,[1]AHLSOG!$O:$Q,3,FALSE)","v":"Texas"},4,"2nd","OKC",0.29236111111111113,"J. Williams","K. Jones","M. Ford",null,"V",9,17,26,27,39,null,"H",6,11,15,19,36,null,"Hm","Oklahoma City",1014047]
[42036,{"$f":"VLOOKUP(AB3157,[1]AHLSOG!$O:$Q,2,FALSE)","v":"San Antonio"},{"$f":"VLOOKUP(AB3157,[1]AHLSOG!$O:$Q,3,FALSE)","v":"Rochester"},3,"2nd","RCH",0.33055555555555555,"Z. Dalpe","J. McCabe","D. Bagnall",null,"V",4,19,21,26,29,null,"H",5,7,10,23,26,null,"Rd","Rochester",1014048]
[42040,{"$f":"VLOOKUP(AB3161,[1]AHLSOG!$O:$Q,2,FALSE)","v":"San Antonio"},{"$f":"VLOOKUP(AB3161,[1]AHLSOG!$O:$Q,3,FALSE)","v":"Rochester"},7,"3rd","SA",0.13194444444444445,"R. Martindale","J. Racine","L. Shaw",null,"V",16,26,33,43,52,null,"H",6,8,9,17,22,null,"Hm","San Antonio",1014048]
[42037,{"$f":"VLOOKUP(AB3166,[1]AHLSOG!$O:$Q,2,FALSE)","v":"St. John's"},{"$f":"VLOOKUP(AB3166,[1]AHLSOG!$O:$Q,3,FALSE)","v":"Portland"},4,"3rd","POR",0.82847222222222217,"J. Szwarz","B. Shinnimin","E. Oberg",null,"V",4,10,12,23,24,49,"H",7,13,19,25,49,null,"Rd","Portland",1014049]
["0 - 1",{"$f":"VLOOKUP(AB3168,[1]AHLSOG!$O:$Q,2,FALSE)","v":"Worcester"},{"$f":"VLOOKUP(AB3168,[1]AHLSOG!$O:$Q,3,FALSE)","v":"W-B/Scranton"},1,"1st","WOR",0.50763888888888886,"D. Tarasov",null,null,null,"V",3,9,21,24,26,null,"H",2,10,19,26,50,null,"Hm","Worcester",1014050]
[42005,{"$f":"VLOOKUP(AB3176,[1]AHLSOG!$O:$Q,2,FALSE)","v":"Hershey"},{"$f":"VLOOKUP(AB3176,[1]AHLSOG!$O:$Q,3,FALSE)","v":"Lehigh Valley"},2,"1st","LV",0.31180555555555556,"A. Gordon",null,null,null,"V",4,10,28,38,45,null,"H",5,7,10,11,38,null,"Rd","Lehigh",1014052]
[42006,{"$f":"VLOOKUP(AB3177,[1]AHLSOG!$O:$Q,2,FALSE)","v":"Hershey"},{"$f":"VLOOKUP(AB3177,[1]AHLSOG!$O:$Q,3,FALSE)","v":"Lehigh Valley"},3,"1st","HER",0.64652777777777781,"D. Byers","K. Newbury","C. Schilling",null,"V",4,10,25,28,45,null,"H",5,7,10,11,38,null,"Hm","Hershey",1014052]
[42007,{"$f":"VLOOKUP(AB3185,[1]AHLSOG!$O:$Q,2,FALSE)","v":"Iowa"},{"$f":"VLOOKUP(AB3185,[1]AHLSOG!$O:$Q,3,FALSE)","v":"Lake Erie"},4,"2nd","IA",0.17152777777777775,"J. Blum","D. Syvret","B. Brassart","PP","V",3,26,28,37,null,null,"H",7,19,21,25,27,null,"Hm","Iowa",1014053]
[42038,{"$f":"VLOOKUP(AB3186,[1]AHLSOG!$O:$Q,2,FALSE)","v":"Iowa"},{"$f":"VLOOKUP(AB3186,[1]AHLSOG!$O:$Q,3,FALSE)","v":"Lake Erie"},5,"2nd","LE",0.5180555555555556,"C. Smith","B. Street","D. Siemens",null,"V",10,16,26,28,37,null,"H",7,21,25,36,39,null,"Rd","Lake Erie",1014053]
[42064,{"$f":"VLOOKUP(AB3192,[1]AHLSOG!$O:$Q,2,FALSE)","v":"Manchester"},{"$f":"VLOOKUP(AB3192,[1]AHLSOG!$O:$Q,3,FALSE)","v":"Worcester"},4,"2nd","MCH",0.4770833333333333,"A. Crescenzi",null,null,"SH","V",2,10,19,26,50,null,"H",6,7,16,21,null,null,"Hm","Manchester",1014054]
[42036,{"$f":"VLOOKUP(AB3198,[1]AHLSOG!$O:$Q,2,FALSE)","v":"Oklahoma City"},{"$f":"VLOOKUP(AB3198,[1]AHLSOG!$O:$Q,3,FALSE)","v":"Rochester"},3,"1st","RCH",0.43263888888888885,"T. Schaller","J. Larsson","C. Ruhwedel","PP","V",11,26,33,46,52,null,"H",6,10,11,18,null,null,"Rd","Rochester",1014055]
[42067,{"$f":"VLOOKUP(AB3202,[1]AHLSOG!$O:$Q,2,FALSE)","v":"Oklahoma City"},{"$f":"VLOOKUP(AB3202,[1]AHLSOG!$O:$Q,3,FALSE)","v":"Rochester"},7,"2nd","OKC",0.83263888888888893,"C. Hamilton","B. Hunt","M. Ford","PP","V",3,4,11,19,null,null,"H",10,11,17,19,29,null,"Hm","Oklahoma City",1014055]
[42131,{"$f":"VLOOKUP(AB3207,[1]AHLSOG!$O:$Q,2,FALSE)","v":"Oklahoma City"},{"$f":"VLOOKUP(AB3207,[1]AHLSOG!$O:$Q,3,FALSE)","v":"Rochester"},12,"3rd","OKC",0.54583333333333328,"B. Yakimov","S. Pinizzotto","M. Marincin","PP","V",3,21,28,52,null,null,"H",13,15,25,28,39,null,"Hm","Oklahoma City",1014055]
[42005,{"$f":"VLOOKUP(AB3211,[1]AHLSOG!$O:$Q,2,FALSE)","v":"Providence"},{"$f":"VLOOKUP(AB3211,[1]AHLSOG!$O:$Q,3,FALSE)","v":"W-B/Scranton"},2,"1st","PRO",0.8125,"R. Flick","A. Cherniwchan",null,null,"V",4,8,17,19,23,null,"H",2,5,10,15,39,null,"Hm","Providence",1014056]
[42098,{"$f":"VLOOKUP(AB3217,[1]AHLSOG!$O:$Q,2,FALSE)","v":"Providence"},{"$f":"VLOOKUP(AB3217,[1]AHLSOG!$O:$Q,3,FALSE)","v":"W-B/Scranton"},8,"2nd","PRO",0.61527777777777781,"M. Lindblad","S. Eminger","C. Casto",null,"V",4,8,14,16,26,null,"H",6,9,18,19,44,null,"Hm","Providence",1014056]
[42064,{"$f":"VLOOKUP(AB3222,[1]AHLSOG!$O:$Q,2,FALSE)","v":"Springfield"},{"$f":"VLOOKUP(AB3222,[1]AHLSOG!$O:$Q,3,FALSE)","v":"Binghamton"},4,"2nd","SPR",0.55277777777777781,"F. St. Denis",null,null,null,"V",6,8,11,18,37,null,"H",11,13,22,26,32,null,"Hm","Springfield",1014057]
[42096,{"$f":"VLOOKUP(AB3224,[1]AHLSOG!$O:$Q,2,FALSE)","v":"Springfield"},{"$f":"VLOOKUP(AB3224,[1]AHLSOG!$O:$Q,3,FALSE)","v":"Binghamton"},6,"3rd","SPR",0.18402777777777779,"L. Sedlak","T. Vogelhuber","M. Hoeffel",null,"V",3,8,9,22,43,null,"H",11,13,22,26,28,null,"Hm","Springfield",1014057]
[42095,{"$f":"VLOOKUP(AB3232,[1]AHLSOG!$O:$Q,2,FALSE)","v":"Rockford"},{"$f":"VLOOKUP(AB3232,[1]AHLSOG!$O:$Q,3,FALSE)","v":"Chicago"},5,"3rd","CHI",0.76180555555555562,"C. Fraser",null,null,"EN","V",4,6,17,24,27,null,"H",10,11,18,26,29,53,"Rd","Chicago",1014058]
[42006,{"$f":"VLOOKUP(AB3235,[1]AHLSOG!$O:$Q,2,FALSE)","v":"San Antonio"},{"$f":"VLOOKUP(AB3235,[1]AHLSOG!$O:$Q,3,FALSE)","v":"Texas"},3,"2nd","SA",0.34583333333333338,"C. Brickley","B. Parlett","M. Mancari",null,"V",7,14,15,21,22,null,"H",3,7,20,23,26,null,"Hm","San Antonio",1014059]
[42008,{"$f":"VLOOKUP(AB3237,[1]AHLSOG!$O:$Q,2,FALSE)","v":"San Antonio"},{"$f":"VLOOKUP(AB3237,[1]AHLSOG!$O:$Q,3,FALSE)","v":"Texas"},5,"3rd","SA",7.1527777777777787E-2,"C. Knight","S. Kampfer",null,null,"V",7,15,19,21,22,null,"H",7,8,20,23,26,null,"Hm","San Antonio",1014059]
[42006,{"$f":"VLOOKUP(AB3242,[1]AHLSOG!$O:$Q,2,FALSE)","v":"Albany"},{"$f":"VLOOKUP(AB3242,[1]AHLSOG!$O:$Q,3,FALSE)","v":"Bridgeport"},3,"1st","BRI",0.69513888888888886,"J. Persson","S. Collberg",null,"PP","V",2,8,16,23,49,null,"H",2,11,25,37,null,null,"Rd","Bridgeport",1014060]
["0 - 1",{"$f":"VLOOKUP(AB3248,[1]AHLSOG!$O:$Q,2,FALSE)","v":"Grand Rapids"},{"$f":"VLOOKUP(AB3248,[1]AHLSOG!$O:$Q,3,FALSE)","v":"Chicago"},1,"1st","GR",0.50972222222222219,"K. Porter","M. Zengerle",null,null,"V",4,6,8,10,15,null,"H",7,9,12,13,44,null,"Hm","Grand Rapids",1014061]
[42065,{"$f":"VLOOKUP(AB3252,[1]AHLSOG!$O:$Q,2,FALSE)","v":"Grand Rapids"},{"$f":"VLOOKUP(AB3252,[1]AHLSOG!$O:$Q,3,FALSE)","v":"Chicago"},5,"2nd","GR",0.35902777777777778,"J. Hoggan","L. Aubry","S. Czarnowczan",null,"V",4,6,18,20,24,null,"H",2,3,9,10,22,null,"Hm","Grand Rapids",1014061]
[42064,{"$f":"VLOOKUP(AB3257,[1]AHLSOG!$O:$Q,2,FALSE)","v":"Lehigh Valley"},{"$f":"VLOOKUP(AB3257,[1]AHLSOG!$O:$Q,3,FALSE)","v":"Hershey"},4,"1st","HER",0.61111111111111105,"J. O'Brien","D. Gazley",null,"SH","V",5,7,10,14,null,null,"H",4,16,24,39,45,null,"Rd","Hershey",1014063]
[42186,{"$f":"VLOOKUP(AB3261,[1]AHLSOG!$O:$Q,2,FALSE)","v":"Lehigh Valley"},{"$f":"VLOOKUP(AB3261,[1]AHLSOG!$O:$Q,3,FALSE)","v":"Hershey"},8,"3rd","HER",0.41875000000000001,"T. Kennedy","C. Conner","S. Galiev",null,"V",4,13,23,32,null,null,"H",4,19,24,27,null,null,"Rd","Hershey",1014063]
[36526,{"$f":"VLOOKUP(AB3267,[1]AHLSOG!$O:$Q,2,FALSE)","v":"Norfolk"},{"$f":"VLOOKUP(AB3267,[1]AHLSOG!$O:$Q,3,FALSE)","v":"Charlotte"},1,"1st","CHA",0.51041666666666663,"T. Carrick","C. LaRose","D. Biega",null,"V",5,7,9,10,59,null,"H",2,8,16,25,39,null,"Rd","Charlotte",1014065]
["0 - 1",{"$f":"VLOOKUP(AB3272,[1]AHLSOG!$O:$Q,2,FALSE)","v":"Portland"},{"$f":"VLOOKUP(AB3272,[1]AHLSOG!$O:$Q,3,FALSE)","v":"Worcester"},1,"1st","POR",0.49861111111111112,"H. Samuelsson","J. Martinook","A. Bolduc",null,"V",11,13,14,20,28,null,"H",4,17,19,27,49,null,"Hm","Portland",1014066]
["0 - 2",{"$f":"VLOOKUP(AB3278,[1]AHLSOG!$O:$Q,2,FALSE)","v":"W-B/Scranton"},{"$f":"VLOOKUP(AB3278,[1]AHLSOG!$O:$Q,3,FALSE)","v":"St. John's"},2,"1st","WBS",0.24374999999999999,"B. Farnham","T. Kuhnhackl",null,null,"V",4,21,24,34,49,null,"H",3,14,16,24,41,null,"Hm","W-B/Scranton",1014067]
[42009,{"$f":"VLOOKUP(AB3282,[1]AHLSOG!$O:$Q,2,FALSE)","v":"W-B/Scranton"},{"$f":"VLOOKUP(AB3282,[1]AHLSOG!$O:$Q,3,FALSE)","v":"St. John's"},6,"3rd","WBS",0.78263888888888899,"S. Wilson",null,null,"EN","V",4,9,16,24,34,49,"H",7,19,23,26,41,null,"Hm","W-B/Scranton",1014067]
[36526,{"$f":"VLOOKUP(AB3287,[1]AHLSOG!$O:$Q,2,FALSE)","v":"Lake Erie"},{"$f":"VLOOKUP(AB3287,[1]AHLSOG!$O:$Q,3,FALSE)","v":"San Antonio"},1,"1st","SA",0.12847222222222224,"G. Zanon","C. Brickley","M. Mancari",null,"V",3,5,20,23,26,null,"H",3,24,42,46,81,null,"Rd","San Antonio",1014070]
[42038,{"$f":"VLOOKUP(AB3291,[1]AHLSOG!$O:$Q,2,FALSE)","v":"Lake Erie"},{"$f":"VLOOKUP(AB3291,[1]AHLSOG!$O:$Q,3,FALSE)","v":"San Antonio"},5,"3rd","LE",0.10694444444444444,"M. Sgarbossa","S. Elliott","K. Stollery",null,"V",6,7,20,23,26,null,"H",3,24,43,46,81,null,"Hm","Lake Erie",1014070]
[42036,{"$f":"VLOOKUP(AB3297,[1]AHLSOG!$O:$Q,2,FALSE)","v":"Binghamton"},{"$f":"VLOOKUP(AB3297,[1]AHLSOG!$O:$Q,3,FALSE)","v":"St. John's"},3,"3rd","STJ",5.0694444444444452E-2,"J. Brouillette","B. Riley",null,null,"V",4,16,25,26,49,null,"H",3,5,11,15,18,null,"Rd","St. John's",1014071]
[42064,{"$f":"VLOOKUP(AB3298,[1]AHLSOG!$O:$Q,2,FALSE)","v":"Binghamton"},{"$f":"VLOOKUP(AB3298,[1]AHLSOG!$O:$Q,3,FALSE)","v":"St. John's"},4,"3rd","STJ",0.11458333333333333,"C. Balisy","J. Albert","C. Klingberg",null,"V",13,16,27,47,48,null,"H",3,9,22,57,72,null,"Rd","St. John's",1014071]
["0 - 1",{"$f":"VLOOKUP(AB3302,[1]AHLSOG!$O:$Q,2,FALSE)","v":"Charlotte"},{"$f":"VLOOKUP(AB3302,[1]AHLSOG!$O:$Q,3,FALSE)","v":"Oklahoma City"},1,"2nd","CHA",0.18541666666666667,"T. Carrick","J. Shugg","Z. Boychuk",null,"V",3,7,18,21,27,null,"H",2,5,11,12,14,null,"Hm","Charlotte",1014072]
["0 - 1",{"$f":"VLOOKUP(AB3307,[1]AHLSOG!$O:$Q,2,FALSE)","v":"Grand Rapids"},{"$f":"VLOOKUP(AB3307,[1]AHLSOG!$O:$Q,3,FALSE)","v":"Utica"},1,"1st","GR",0.45,"M. Zengerle","A. Marchenko","A. Mantha",null,"V",10,14,29,37,41,null,"H",2,3,8,9,22,null,"Hm","Grand Rapids",1014073]
["0 - 3",{"$f":"VLOOKUP(AB3315,[1]AHLSOG!$O:$Q,2,FALSE)","v":"Hamilton"},{"$f":"VLOOKUP(AB3315,[1]AHLSOG!$O:$Q,3,FALSE)","v":"Toronto"},3,"3rd","HAM",0.75763888888888886,"G. Dumont","C. Thomas",null,"EN","V",4,10,14,16,20,39,"H",2,4,19,20,40,null,"Hm","Hamilton",1014074]
[42005,{"$f":"VLOOKUP(AB3317,[1]AHLSOG!$O:$Q,2,FALSE)","v":"Hartford"},{"$f":"VLOOKUP(AB3317,[1]AHLSOG!$O:$Q,3,FALSE)","v":"Springfield"},2,"2nd","HFD",4.9999999999999996E-2,"O. Lindberg","J. Crabb","D. Jackson",null,"V",12,17,18,26,32,null,"H",14,17,20,24,28,null,"Hm","Hartford",1014075]
[42067,{"$f":"VLOOKUP(AB3322,[1]AHLSOG!$O:$Q,2,FALSE)","v":"Hartford"},{"$f":"VLOOKUP(AB3322,[1]AHLSOG!$O:$Q,3,FALSE)","v":"Springfield"},7,"3rd","HFD",0.59444444444444444,"D. McIlrath","J. Vaive",null,null,"V",5,8,10,19,20,null,"H",4,8,9,19,23,null,"Hm","Hartford",1014075]
[42066,{"$f":"VLOOKUP(AB3328,[1]AHLSOG!$O:$Q,2,FALSE)","v":"Milwaukee"},{"$f":"VLOOKUP(AB3328,[1]AHLSOG!$O:$Q,3,FALSE)","v":"Iowa"},6,"3rd","IA",0.15,"M. Dumba","J. Blum","S. Veilleux","PP","V",7,17,19,27,55,null,"H",15,25,29,47,null,null,"Rd","Iowa",1014076]
[42006,{"$f":"VLOOKUP(AB3332,[1]AHLSOG!$O:$Q,2,FALSE)","v":"Norfolk"},{"$f":"VLOOKUP(AB3332,[1]AHLSOG!$O:$Q,3,FALSE)","v":"W-B/Scranton"},3,"2nd","NOR",0.74444444444444446,"A. O'Brien","N. Kerdiles","K. Gagne","PP","V",6,8,29,43,null,null,"H",5,8,20,21,25,null,"Hm","Norfolk",1014077]
[42006,{"$f":"VLOOKUP(AB3338,[1]AHLSOG!$O:$Q,2,FALSE)","v":"Portland"},{"$f":"VLOOKUP(AB3338,[1]AHLSOG!$O:$Q,3,FALSE)","v":"Bridgeport"},3,"1st","POR",0.56597222222222221,"L. Lessio","T. Gaudet",null,null,"V",10,14,22,23,24,null,"H",7,8,12,32,38,null,"Hm","Portland",1014078]
[42039,{"$f":"VLOOKUP(AB3341,[1]AHLSOG!$O:$Q,2,FALSE)","v":"Portland"},{"$f":"VLOOKUP(AB3341,[1]AHLSOG!$O:$Q,3,FALSE)","v":"Bridgeport"},6,"3rd","POR",0.64027777777777783,"E. Selleck","T. Gaudet","G. Miller",null,"V",13,22,23,24,27,null,"H",7,8,23,25,32,null,"Hm","Portland",1014078]
[42006,{"$f":"VLOOKUP(AB3347,[1]AHLSOG!$O:$Q,2,FALSE)","v":"Rochester"},{"$f":"VLOOKUP(AB3347,[1]AHLSOG!$O:$Q,3,FALSE)","v":"Adirondack"},3,"1st","RCH",0.43124999999999997,"Z. Dalpe","J. Larsson","W. Carrier",null,"V",7,9,13,14,19,null,"H",4,5,21,26,28,null,"Hm","Rochester",1014080]
[42036,{"$f":"VLOOKUP(AB3352,[1]AHLSOG!$O:$Q,2,FALSE)","v":"Syracuse"},{"$f":"VLOOKUP(AB3352,[1]AHLSOG!$O:$Q,3,FALSE)","v":"Lehigh Valley"},3,"1st","LV",0.72499999999999998,"P. Straka","K. Goumas","A. Comrie",null,"V",5,17,19,24,27,null,"H",3,18,21,65,90,null,"Rd","Lehigh",1014081]
["0 - 2",{"$f":"VLOOKUP(AB3357,[1]AHLSOG!$O:$Q,2,FALSE)","v":"Texas"},{"$f":"VLOOKUP(AB3357,[1]AHLSOG!$O:$Q,3,FALSE)","v":"Chicago"},2,"2nd","TEX",0.68333333333333324,"M. Fortunus","G. Smith","M. Mangene",null,"V",7,8,10,17,55,null,"H",6,14,18,26,28,null,"Hm","Texas",1014082]
[42006,{"$f":"VLOOKUP(AB3358,[1]AHLSOG!$O:$Q,2,FALSE)","v":"Texas"},{"$f":"VLOOKUP(AB3358,[1]AHLSOG!$O:$Q,3,FALSE)","v":"Chicago"},3,"2nd","CHI",0.78541666666666676,"P. Lindbohm","P. Cannone","S. Harper","PP","V",4,8,9,12,37,null,"H",6,18,27,39,null,null,"Rd","Chicago",1014082]
[42065,{"$f":"VLOOKUP(AB3365,[1]AHLSOG!$O:$Q,2,FALSE)","v":"Worcester"},{"$f":"VLOOKUP(AB3365,[1]AHLSOG!$O:$Q,3,FALSE)","v":"Albany"},5,"3rd","WOR",0.30486111111111108,"E. Trupp","B. Lerg",null,null,"V",7,8,10,14,18,null,"H",4,11,13,20,28,null,"Hm","Worcester",1014083]
["0 - 2",{"$f":"VLOOKUP(AB3367,[1]AHLSOG!$O:$Q,2,FALSE)","v":"Adirondack"},{"$f":"VLOOKUP(AB3367,[1]AHLSOG!$O:$Q,3,FALSE)","v":"Rochester"},2,"2nd","ADK",0.81319444444444444,"D. Wolf","M. Reinhart","B. Van Brabant",null,"V",3,22,26,34,38,null,"H",5,7,25,44,45,null,"Hm","Adirondack",1014084]
[42036,{"$f":"VLOOKUP(AB3373,[1]AHLSOG!$O:$Q,2,FALSE)","v":"Albany"},{"$f":"VLOOKUP(AB3373,[1]AHLSOG!$O:$Q,3,FALSE)","v":"Worcester"},3,"OT","WOR",0.16944444444444443,"D. DeMelo","T. Hertl",null,null,"V",2,26,48,null,null,null,"H",14,15,37,null,null,null,"Rd","Worcester",1014085]
[42065,{"$f":"VLOOKUP(AB3378,[1]AHLSOG!$O:$Q,2,FALSE)","v":"Bridgeport"},{"$f":"VLOOKUP(AB3378,[1]AHLSOG!$O:$Q,3,FALSE)","v":"Portland"},5,"OT","POR",9.2361111111111116E-2,"J. Hodgman","D. Reese",null,null,"V",2,8,12,19,null,null,"H",12,23,24,27,null,null,"Rd","Portland",1014086]
[42037,{"$f":"VLOOKUP(AB3382,[1]AHLSOG!$O:$Q,2,FALSE)","v":"Grand Rapids"},{"$f":"VLOOKUP(AB3382,[1]AHLSOG!$O:$Q,3,FALSE)","v":"Iowa"},4,"2nd","GR",0.15069444444444444,"L. Ferraro","M. Tvrdon","N. Jensen",null,"V",2,3,7,10,51,null,"H",4,13,14,19,29,null,"Hm","Grand Rapids",1014087]
[42006,{"$f":"VLOOKUP(AB3388,[1]AHLSOG!$O:$Q,2,FALSE)","v":"Hershey"},{"$f":"VLOOKUP(AB3388,[1]AHLSOG!$O:$Q,3,FALSE)","v":"Binghamton"},3,"2nd","HER",0.64027777777777783,"J. O'Brien","C. Wellman","P. Cornet","PP","V",3,6,16,17,null,null,"H",5,14,18,21,34,null,"Hm","Hershey",1014088]
["0 - 1",{"$f":"VLOOKUP(AB3391,[1]AHLSOG!$O:$Q,2,FALSE)","v":"Lake Erie"},{"$f":"VLOOKUP(AB3391,[1]AHLSOG!$O:$Q,3,FALSE)","v":"San Antonio"},1,"1st","LE",0.5,"D. Everberg","M. Lauridsen","A. Agozzino",null,"V",8,9,17,22,44,null,"H",11,18,38,45,47,null,"Hm","Lake Erie",1014089]
[42006,{"$f":"VLOOKUP(AB3398,[1]AHLSOG!$O:$Q,2,FALSE)","v":"Lehigh Valley"},{"$f":"VLOOKUP(AB3398,[1]AHLSOG!$O:$Q,3,FALSE)","v":"St. John's"},3,"3rd","LV",0.1423611111111111,"K. Goumas","B. Alderson","P. Straka",null,"V",16,25,26,27,47,null,"H",3,7,17,19,24,null,"Rd","Lehigh",1014090]
["0 - 1",{"$f":"VLOOKUP(AB3403,[1]AHLSOG!$O:$Q,2,FALSE)","v":"Norfolk"},{"$f":"VLOOKUP(AB3403,[1]AHLSOG!$O:$Q,3,FALSE)","v":"W-B/Scranton"},1,"1st","NOR",0.28125,"E. Etem","W. Karlsson",null,null,"V",3,16,24,26,41,null,"H",6,9,16,19,22,null,"Hm","Norfolk",1014091]
["0 - 1",{"$f":"VLOOKUP(AB3408,[1]AHLSOG!$O:$Q,2,FALSE)","v":"Rockford"},{"$f":"VLOOKUP(AB3408,[1]AHLSOG!$O:$Q,3,FALSE)","v":"Utica"},1,"1st","RFD",0.73888888888888893,"K. Dahlbeck","R. Hartman","P. Danault","PP","V",4,6,8,16,null,null,"H",10,15,18,22,24,null,"Hm","Rockford",1014092]
[42036,{"$f":"VLOOKUP(AB3413,[1]AHLSOG!$O:$Q,2,FALSE)","v":"Springfield"},{"$f":"VLOOKUP(AB3413,[1]AHLSOG!$O:$Q,3,FALSE)","v":"Providence"},3,"3rd","PRO",0.18472222222222223,"C. Stuart","S. Griffith","A. Khokhlachev",null,"V",7,13,17,44,49,null,"H",14,15,16,26,32,null,"Rd","Providence",1014093]
[42005,{"$f":"VLOOKUP(AB3415,[1]AHLSOG!$O:$Q,2,FALSE)","v":"Syracuse"},{"$f":"VLOOKUP(AB3415,[1]AHLSOG!$O:$Q,3,FALSE)","v":"Hartford"},2,"1st","HFD",0.22013888888888888,"C. Allen","R. Malone","C. Mueller","PP","V",2,4,6,19,29,null,"H",3,13,37,90,null,null,"Rd","Hartford",1014094]
[42038,{"$f":"VLOOKUP(AB3418,[1]AHLSOG!$O:$Q,2,FALSE)","v":"Syracuse"},{"$f":"VLOOKUP(AB3418,[1]AHLSOG!$O:$Q,3,FALSE)","v":"Hartford"},5,"3rd","SYR",0.40833333333333338,"M. Angelidis","M. Blunden","J. Mormina","PP","V",8,9,19,28,null,null,"H",3,10,18,21,37,null,"Hm","Syracuse",1014094]
[42065,{"$f":"VLOOKUP(AB3423,[1]AHLSOG!$O:$Q,2,FALSE)","v":"Texas"},{"$f":"VLOOKUP(AB3423,[1]AHLSOG!$O:$Q,3,FALSE)","v":"Chicago"},5,"2nd","CHI",0.46111111111111108,"P. McRae",null,null,"PP","V",10,15,17,28,42,null,"H",3,24,27,39,null,null,"Rd","Chicago",1014095]
[36526,{"$f":"VLOOKUP(AB3428,[1]AHLSOG!$O:$Q,2,FALSE)","v":"Toronto"},{"$f":"VLOOKUP(AB3428,[1]AHLSOG!$O:$Q,3,FALSE)","v":"Hamilton"},1,"1st","HAM",8.9583333333333334E-2,"D. Bowman","S. Gill","M. Bennett",null,"V",7,9,15,19,29,null,"H",8,14,20,29,50,null,"Rd","Hamilton",1014096]
[42066,{"$f":"VLOOKUP(AB3433,[1]AHLSOG!$O:$Q,2,FALSE)","v":"Toronto"},{"$f":"VLOOKUP(AB3433,[1]AHLSOG!$O:$Q,3,FALSE)","v":"Hamilton"},6,"3rd","HAM",0.4055555555555555,"G. Dumont",null,null,null,"V",4,10,20,26,40,null,"H",8,18,19,22,50,null,"Rd","Hamilton",1014096]
[36617,{"$f":"VLOOKUP(AB3438,[1]AHLSOG!$O:$Q,2,FALSE)","v":"Iowa"},{"$f":"VLOOKUP(AB3438,[1]AHLSOG!$O:$Q,3,FALSE)","v":"Grand Rapids"},4,"2nd","GR",6.5972222222222224E-2,"T. Pulkkinen","A. Miele","M. Callahan","PP","V",4,6,10,15,21,null,"H",3,7,18,44,null,null,"Rd","Grand Rapids",1014097]
[42095,{"$f":"VLOOKUP(AB3445,[1]AHLSOG!$O:$Q,2,FALSE)","v":"Lehigh Valley"},{"$f":"VLOOKUP(AB3445,[1]AHLSOG!$O:$Q,3,FALSE)","v":"Albany"},5,"3rd","ALB",0.76111111111111107,"B. Burlon","T. Sestito",null,"EN","V",7,12,14,15,33,null,"H",4,10,25,28,38,45,"Rd","Albany",1014098]
[42006,{"$f":"VLOOKUP(AB3448,[1]AHLSOG!$O:$Q,2,FALSE)","v":"Texas"},{"$f":"VLOOKUP(AB3448,[1]AHLSOG!$O:$Q,3,FALSE)","v":"San Antonio"},3,"2nd","SA",0.77916666666666667,"J. Blacker","R. Grimaldi","V. Trocheck","PP","V",9,14,23,25,26,null,"H",3,23,24,39,null,null,"Rd","San Antonio",1014099]
[42036,{"$f":"VLOOKUP(AB3453,[1]AHLSOG!$O:$Q,2,FALSE)","v":"Albany"},{"$f":"VLOOKUP(AB3453,[1]AHLSOG!$O:$Q,3,FALSE)","v":"St. John's"},3,"1st","STJ",0.59652777777777777,"C. Balisy","K. MacKinnon","W. O'Neill","PP","V",8,13,19,27,48,null,"H",19,23,33,37,null,null,"Rd","St. John's",1014100]
[42036,{"$f":"VLOOKUP(AB3458,[1]AHLSOG!$O:$Q,2,FALSE)","v":"Binghamton"},{"$f":"VLOOKUP(AB3458,[1]AHLSOG!$O:$Q,3,FALSE)","v":"Norfolk"},3,"2nd","BNG",0.22500000000000001,"D. Kramer","D. Dziurzynski","A. Johnson",null,"V",6,16,20,22,24,null,"H",5,17,22,37,72,null,"Hm","Binghamton",1014101]
[42127,{"$f":"VLOOKUP(AB3463,[1]AHLSOG!$O:$Q,2,FALSE)","v":"Binghamton"},{"$f":"VLOOKUP(AB3463,[1]AHLSOG!$O:$Q,3,FALSE)","v":"Norfolk"},8,"3rd","NOR",0.80208333333333337,"E. Etem","C. Wagner","M. Fistric",null,"V",3,7,16,21,39,null,"H",11,20,24,57,72,null,"Rd","Norfolk",1014101]
[42038,{"$f":"VLOOKUP(AB3468,[1]AHLSOG!$O:$Q,2,FALSE)","v":"Hartford"},{"$f":"VLOOKUP(AB3468,[1]AHLSOG!$O:$Q,3,FALSE)","v":"Bridgeport"},5,"1st","BRI",0.44444444444444442,"C. Stretch","J. Persson","G. Reinhart","PP","V",2,8,12,22,23,null,"H",2,4,9,19,null,null,"Rd","Bridgeport",1014102]
[42068,{"$f":"VLOOKUP(AB3471,[1]AHLSOG!$O:$Q,2,FALSE)","v":"Hartford"},{"$f":"VLOOKUP(AB3471,[1]AHLSOG!$O:$Q,3,FALSE)","v":"Bridgeport"},8,"2nd","HFD",0.21249999999999999,"M. Kostka","C. Bourque",null,"PP","V",4,10,17,28,null,null,"H",17,23,24,28,39,null,"Hm","Hartford",1014102]
["0 - 1",{"$f":"VLOOKUP(AB3478,[1]AHLSOG!$O:$Q,2,FALSE)","v":"Iowa"},{"$f":"VLOOKUP(AB3478,[1]AHLSOG!$O:$Q,3,FALSE)","v":"Hamilton"},1,"3rd","IA",0.34930555555555554,"G. Gelinas","M. Hagel","B. Richard","PP","V",2,6,12,15,null,null,"H",2,3,11,29,36,null,"Hm","Iowa",1014103]
[36557,{"$f":"VLOOKUP(AB3482,[1]AHLSOG!$O:$Q,2,FALSE)","v":"Lehigh Valley"},{"$f":"VLOOKUP(AB3482,[1]AHLSOG!$O:$Q,3,FALSE)","v":"Hershey"},2,"1st","HER",0.42430555555555555,"C. Conner","C. Carrick","T. Kennedy",null,"V",13,23,24,25,34,null,"H",4,11,16,28,37,null,"Rd","Hershey",1014104]
[42036,{"$f":"VLOOKUP(AB3483,[1]AHLSOG!$O:$Q,2,FALSE)","v":"Lehigh Valley"},{"$f":"VLOOKUP(AB3483,[1]AHLSOG!$O:$Q,3,FALSE)","v":"Hershey"},3,"1st","LV",0.50138888888888888,"T. Leier","N. Cousins","J. Akeson",null,"V",10,11,25,34,38,null,"H",3,23,25,28,38,null,"Rd","Lehigh",1014104]
["0 - 1",{"$f":"VLOOKUP(AB3488,[1]AHLSOG!$O:$Q,2,FALSE)","v":"Manchester"},{"$f":"VLOOKUP(AB3488,[1]AHLSOG!$O:$Q,3,FALSE)","v":"Portland"},1,"1st","MCH",0.18333333333333335,"D. Van der Gulik","J. Auger","J. Weal",null,"V",7,8,10,12,23,null,"H",3,4,14,19,39,null,"Hm","Manchester",1014105]
[36526,{"$f":"VLOOKUP(AB3495,[1]AHLSOG!$O:$Q,2,FALSE)","v":"Oklahoma City"},{"$f":"VLOOKUP(AB3495,[1]AHLSOG!$O:$Q,3,FALSE)","v":"Lake Erie"},1,"1st","LE",0.30208333333333331,"J. Hishon","T. Vincour","A. Agozzino",null,"V",3,11,18,38,81,null,"H",25,27,28,39,40,null,"Rd","Lake Erie",1014107]
[42064,{"$f":"VLOOKUP(AB3498,[1]AHLSOG!$O:$Q,2,FALSE)","v":"Oklahoma City"},{"$f":"VLOOKUP(AB3498,[1]AHLSOG!$O:$Q,3,FALSE)","v":"Lake Erie"},4,"2nd","OKC",0.57638888888888895,"G. Hanson","M. Ford",null,null,"V",11,17,24,43,47,null,"H",3,11,27,29,34,null,"Hm","Oklahoma City",1014107]
[42005,{"$f":"VLOOKUP(AB3503,[1]AHLSOG!$O:$Q,2,FALSE)","v":"Providence"},{"$f":"VLOOKUP(AB3503,[1]AHLSOG!$O:$Q,3,FALSE)","v":"Worcester"},2,"1st","PRO",0.22708333333333333,"Z. Trotman","J. Knight","B. Sexton",null,"V",4,7,20,22,43,null,"H",3,11,22,34,37,null,"Hm","Providence",1014108]
[42040,{"$f":"VLOOKUP(AB3508,[1]AHLSOG!$O:$Q,2,FALSE)","v":"Providence"},{"$f":"VLOOKUP(AB3508,[1]AHLSOG!$O:$Q,3,FALSE)","v":"Worcester"},7,"3rd","PRO",0.19166666666666665,"S. Griffith","R. Spooner","B. Youds","PP","V",2,3,12,18,null,null,"H",2,7,13,17,24,null,"Hm","Providence",1014108]
[42006,{"$f":"VLOOKUP(AB3513,[1]AHLSOG!$O:$Q,2,FALSE)","v":"Rockford"},{"$f":"VLOOKUP(AB3513,[1]AHLSOG!$O:$Q,3,FALSE)","v":"Chicago"},3,"3rd","RFD",0.45,"V. Svedberg","P. Danault","G. Ross",null,"V",5,7,10,17,23,null,"H",3,8,18,26,28,null,"Hm","Rockford",1014109]
[42007,{"$f":"VLOOKUP(AB3519,[1]AHLSOG!$O:$Q,2,FALSE)","v":"San Antonio"},{"$f":"VLOOKUP(AB3519,[1]AHLSOG!$O:$Q,3,FALSE)","v":"Charlotte"},4,"1st","SA",0.7319444444444444,"B. Butler","V. Trocheck","G. Zanon",null,"V",4,9,11,24,59,null,"H",5,14,16,19,25,null,"Hm","San Antonio",1014110]
[42039,{"$f":"VLOOKUP(AB3521,[1]AHLSOG!$O:$Q,2,FALSE)","v":"San Antonio"},{"$f":"VLOOKUP(AB3521,[1]AHLSOG!$O:$Q,3,FALSE)","v":"Charlotte"},6,"3rd","SA",0.55277777777777781,"B. Butler","R. Grimaldi",null,null,"V",4,7,10,29,59,null,"H",8,9,16,19,44,null,"Hm","San Antonio",1014110]
["0 - 1",{"$f":"VLOOKUP(AB3528,[1]AHLSOG!$O:$Q,2,FALSE)","v":"Syracuse"},{"$f":"VLOOKUP(AB3528,[1]AHLSOG!$O:$Q,3,FALSE)","v":"Rochester"},1,"1st","SYR",4.7916666666666663E-2,"J. Marchessault","V. Namestnikov","M. Blunden",null,"V",5,11,16,19,29,null,"H",6,18,21,65,90,null,"Hm","Syracuse",1014112]
[42038,{"$f":"VLOOKUP(AB3532,[1]AHLSOG!$O:$Q,2,FALSE)","v":"Syracuse"},{"$f":"VLOOKUP(AB3532,[1]AHLSOG!$O:$Q,3,FALSE)","v":"Rochester"},5,"1st","SYR",0.8027777777777777,"J. Cote","M. Angelidis",null,null,"V",5,25,28,29,33,null,"H",4,10,24,57,92,null,"Hm","Syracuse",1014112]
[36526,{"$f":"VLOOKUP(AB3538,[1]AHLSOG!$O:$Q,2,FALSE)","v":"Utica"},{"$f":"VLOOKUP(AB3538,[1]AHLSOG!$O:$Q,3,FALSE)","v":"Toronto"},1,"1st","TOR",7.7083333333333337E-2,"W. Nylander","M. Frattin","E. Knodel",null,"V",2,4,9,39,62,null,"H",3,8,9,17,37,null,"Rd","Toronto",1014113]
["0 - 1",{"$f":"VLOOKUP(AB3543,[1]AHLSOG!$O:$Q,2,FALSE)","v":"Adirondack"},{"$f":"VLOOKUP(AB3543,[1]AHLSOG!$O:$Q,3,FALSE)","v":"Rochester"},1,"1st","ADK",0.18541666666666667,"T. Elson","M. Reinhart","S. Acolatse",null,"V",4,16,19,24,38,null,"H",3,6,13,21,25,null,"Hm","Adirondack",1014114]
[42006,{"$f":"VLOOKUP(AB3545,[1]AHLSOG!$O:$Q,2,FALSE)","v":"Adirondack"},{"$f":"VLOOKUP(AB3545,[1]AHLSOG!$O:$Q,3,FALSE)","v":"Rochester"},3,"1st","ADK",0.82986111111111116,"S. Acolatse","M. Granlund","D. Shore","PP","V",3,4,11,null,null,null,"H",4,19,23,26,44,null,"Hm","Adirondack",1014114]
[36526,{"$f":"VLOOKUP(AB3548,[1]AHLSOG!$O:$Q,2,FALSE)","v":"Albany"},{"$f":"VLOOKUP(AB3548,[1]AHLSOG!$O:$Q,3,FALSE)","v":"St. John's"},1,"1st","STJ",0.62569444444444444,"J. Albert","J. Brouillette","W. O'Neill","PP","V",16,24,27,34,49,null,"H",7,8,10,37,null,null,"Rd","St. John's",1014115]
[42005,{"$f":"VLOOKUP(AB3554,[1]AHLSOG!$O:$Q,2,FALSE)","v":"Bridgeport"},{"$f":"VLOOKUP(AB3554,[1]AHLSOG!$O:$Q,3,FALSE)","v":"Portland"},2,"1st","POR",0.64374999999999993,"A. Bolduc","J. Hanley","H. Samuelsson",null,"V",8,17,19,23,49,null,"H",2,8,16,21,89,null,"Rd","Portland",1014117]
[42096,{"$f":"VLOOKUP(AB3558,[1]AHLSOG!$O:$Q,2,FALSE)","v":"Bridgeport"},{"$f":"VLOOKUP(AB3558,[1]AHLSOG!$O:$Q,3,FALSE)","v":"Portland"},6,"3rd","BRI",9.8611111111111108E-2,"J. Persson","A. Quine","C. Stretch",null,"V",2,7,12,28,32,null,"H",4,10,12,22,23,null,"Hm","Bridgeport",1014117]
["0 - 1",{"$f":"VLOOKUP(AB3563,[1]AHLSOG!$O:$Q,2,FALSE)","v":"Chicago"},{"$f":"VLOOKUP(AB3563,[1]AHLSOG!$O:$Q,3,FALSE)","v":"Rockford"},1,"1st","CHI",0.15694444444444444,"M. Paajarvi","P. McRae","A. Burish",null,"V",10,11,15,22,53,null,"H",5,7,10,14,25,null,"Hm","Chicago",1014118]
[36557,{"$f":"VLOOKUP(AB3569,[1]AHLSOG!$O:$Q,2,FALSE)","v":"Grand Rapids"},{"$f":"VLOOKUP(AB3569,[1]AHLSOG!$O:$Q,3,FALSE)","v":"Milwaukee"},2,"2nd","MIL",9.1666666666666674E-2,"P. Åberg","A. Watson","A. Bitetto",null,"V",2,15,21,46,51,null,"H",7,9,10,13,44,null,"Rd","Milwaukee",1014119]
[42007,{"$f":"VLOOKUP(AB3575,[1]AHLSOG!$O:$Q,2,FALSE)","v":"Hartford"},{"$f":"VLOOKUP(AB3575,[1]AHLSOG!$O:$Q,3,FALSE)","v":"Springfield"},4,"3rd","HFD",0.81111111111111101,"J. Crabb","O. Lindberg","C. Bourque","EN","V",5,12,15,17,19,21,"H",2,4,14,17,24,null,"Hm","Hartford",1014120]
[42036,{"$f":"VLOOKUP(AB3578,[1]AHLSOG!$O:$Q,2,FALSE)","v":"Hershey"},{"$f":"VLOOKUP(AB3578,[1]AHLSOG!$O:$Q,3,FALSE)","v":"Syracuse"},3,"2nd","HER",0.7104166666666667,"K. Newbury","D. Byers","D. Gazley",null,"V",4,12,20,33,65,null,"H",10,11,25,34,38,null,"Hm","Hershey",1014121]
[42038,{"$f":"VLOOKUP(AB3584,[1]AHLSOG!$O:$Q,2,FALSE)","v":"Iowa"},{"$f":"VLOOKUP(AB3584,[1]AHLSOG!$O:$Q,3,FALSE)","v":"Hamilton"},5,"3rd","IA",2.7083333333333334E-2,"T. Graovac","J. Schroeder",null,"SH","V",2,10,15,17,27,null,"H",4,10,41,44,null,null,"Hm","Iowa",1014122]
["0 - 1",{"$f":"VLOOKUP(AB3588,[1]AHLSOG!$O:$Q,2,FALSE)","v":"Oklahoma City"},{"$f":"VLOOKUP(AB3588,[1]AHLSOG!$O:$Q,3,FALSE)","v":"Lake Erie"},1,"1st","OKC",0.2986111111111111,"M. Moroz","J. Khaira","M. Marincin",null,"V",3,11,14,17,42,null,"H",7,18,21,27,28,null,"Hm","Oklahoma City",1014123]
["0 - 4",{"$f":"VLOOKUP(AB3594,[1]AHLSOG!$O:$Q,2,FALSE)","v":"Texas"},{"$f":"VLOOKUP(AB3594,[1]AHLSOG!$O:$Q,3,FALSE)","v":"Charlotte"},4,"3rd","TEX",0.37361111111111112,"B. Troock","G. Smith","J. Root",null,"V",2,9,12,14,28,null,"H",9,11,14,18,28,null,"Hm","Texas",1014124]
["0 - 1",{"$f":"VLOOKUP(AB3595,[1]AHLSOG!$O:$Q,2,FALSE)","v":"Toronto"},{"$f":"VLOOKUP(AB3595,[1]AHLSOG!$O:$Q,3,FALSE)","v":"Utica"},1,"1st","TOR",0.52708333333333335,"T. Bodie","C. Brown","B. Mikkelson",null,"V",2,8,9,27,40,null,"H",4,7,19,22,29,null,"Hm","Toronto",1014125]
[42037,{"$f":"VLOOKUP(AB3603,[1]AHLSOG!$O:$Q,2,FALSE)","v":"W-B/Scranton"},{"$f":"VLOOKUP(AB3603,[1]AHLSOG!$O:$Q,3,FALSE)","v":"Lehigh Valley"},4,"1st","LV",0.65763888888888888,"A. Comrie","K. Goumas","R. Hagg","PP","V",4,17,19,23,27,null,"H",4,8,24,26,null,null,"Rd","Lehigh",1014126]
[42065,{"$f":"VLOOKUP(AB3604,[1]AHLSOG!$O:$Q,2,FALSE)","v":"W-B/Scranton"},{"$f":"VLOOKUP(AB3604,[1]AHLSOG!$O:$Q,3,FALSE)","v":"Lehigh Valley"},5,"2nd","LV",0.21527777777777779,"J. Pettersson","N. Cousins",null,null,"V",8,10,25,27,null,null,"H",8,25,29,41,null,null,"Rd","Lehigh",1014126]
[42038,{"$f":"VLOOKUP(AB3612,[1]AHLSOG!$O:$Q,2,FALSE)","v":"Worcester"},{"$f":"VLOOKUP(AB3612,[1]AHLSOG!$O:$Q,3,FALSE)","v":"Providence"},5,"2nd","WOR",0.42430555555555555,"R. Carpenter","E. Hayes","K. Bigos",null,"V",6,7,18,19,34,null,"H",3,7,14,18,22,null,"Hm","Worcester",1014127]
["0 - 2",{"$f":"VLOOKUP(AB3614,[1]AHLSOG!$O:$Q,2,FALSE)","v":"Hershey"},{"$f":"VLOOKUP(AB3614,[1]AHLSOG!$O:$Q,3,FALSE)","v":"Norfolk"},2,"3rd","HER",0.79027777777777775,"K. Newbury","C. Wellman","D. Byers","EN","V",3,8,14,16,21,23,"H",5,7,11,21,38,null,"Hm","Hershey",1014128]
[42065,{"$f":"VLOOKUP(AB3619,[1]AHLSOG!$O:$Q,2,FALSE)","v":"Chicago"},{"$f":"VLOOKUP(AB3619,[1]AHLSOG!$O:$Q,3,FALSE)","v":"Rochester"},5,"3rd","CHI",0.74375000000000002,"J. Welsh","A. Burish","D. Shields",null,"V",5,11,28,43,52,null,"H",5,7,10,15,17,27,"Hm","Chicago",1014129]
[42005,{"$f":"VLOOKUP(AB3625,[1]AHLSOG!$O:$Q,2,FALSE)","v":"Texas"},{"$f":"VLOOKUP(AB3625,[1]AHLSOG!$O:$Q,3,FALSE)","v":"San Antonio"},2,"1st","SA",0.21805555555555556,"C. Brickley","J. Racine","B. Parlett",null,"V",6,7,9,23,null,null,"H",9,10,18,39,null,null,"Rd","San Antonio",1014131]
["0 - 2",{"$f":"VLOOKUP(AB3629,[1]AHLSOG!$O:$Q,2,FALSE)","v":"W-B/Scranton"},{"$f":"VLOOKUP(AB3629,[1]AHLSOG!$O:$Q,3,FALSE)","v":"Springfield"},2,"3rd","WBS",0.17152777777777775,"B. Rust","N. D'Agostino","S. Wilson",null,"V",6,8,12,16,24,null,"H",4,12,21,24,25,null,"Hm","W-B/Scranton",1014132]
[36586,{"$f":"VLOOKUP(AB3634,[1]AHLSOG!$O:$Q,2,FALSE)","v":"Adirondack"},{"$f":"VLOOKUP(AB3634,[1]AHLSOG!$O:$Q,3,FALSE)","v":"Iowa"},3,"2nd","IA",0.64930555555555558,"B. Sutter","M. Keranen","B. Bulmer",null,"V",17,27,36,41,44,null,"H",7,13,16,28,32,null,"Rd","Iowa",1014133]
[42036,{"$f":"VLOOKUP(AB3638,[1]AHLSOG!$O:$Q,2,FALSE)","v":"Lehigh Valley"},{"$f":"VLOOKUP(AB3638,[1]AHLSOG!$O:$Q,3,FALSE)","v":"Worcester"},3,"2nd","WOR",0.59375,"E. Hayes","R. Carpenter","J. McCarthy",null,"V",4,7,17,20,22,null,"H",5,17,19,24,27,null,"Rd","Worcester",1014134]
["0 - 2",{"$f":"VLOOKUP(AB3644,[1]AHLSOG!$O:$Q,2,FALSE)","v":"Manchester"},{"$f":"VLOOKUP(AB3644,[1]AHLSOG!$O:$Q,3,FALSE)","v":"Albany"},2,"1st","MCH",0.66249999999999998,"A. Crescenzi","S. Backman","A. Bodnarchuk","PP","V",2,16,25,37,null,null,"H",5,7,16,21,27,null,"Hm","Manchester",1014135]
[36557,{"$f":"VLOOKUP(AB3649,[1]AHLSOG!$O:$Q,2,FALSE)","v":"Syracuse"},{"$f":"VLOOKUP(AB3649,[1]AHLSOG!$O:$Q,3,FALSE)","v":"Hartford"},2,"2nd","HFD",0.45069444444444445,"M. Hrivik","C. Allen","D. Kristo","PP","V",2,4,15,19,29,null,"H",3,10,57,65,null,null,"Rd","Hartford",1014136]
[42037,{"$f":"VLOOKUP(AB3651,[1]AHLSOG!$O:$Q,2,FALSE)","v":"Syracuse"},{"$f":"VLOOKUP(AB3651,[1]AHLSOG!$O:$Q,3,FALSE)","v":"Hartford"},4,"3rd","SYR",0.61041666666666672,"D. Smith","C. Kunyk","S. Koekkoek","PP","V",8,9,19,28,null,null,"H",3,20,33,65,92,null,"Hm","Syracuse",1014136]
[42036,{"$f":"VLOOKUP(AB3659,[1]AHLSOG!$O:$Q,2,FALSE)","v":"San Antonio"},{"$f":"VLOOKUP(AB3659,[1]AHLSOG!$O:$Q,3,FALSE)","v":"Texas"},3,"2nd","TEX",0.66875000000000007,"J. Honka","B. Ranford","T. Morin",null,"V",7,16,19,22,23,null,"H",5,15,23,25,26,null,"Rd","Texas",1014138]
[42096,{"$f":"VLOOKUP(AB3662,[1]AHLSOG!$O:$Q,2,FALSE)","v":"San Antonio"},{"$f":"VLOOKUP(AB3662,[1]AHLSOG!$O:$Q,3,FALSE)","v":"Texas"},6,"3rd","TEX",0.55625000000000002,"J. Oleksiak","M. Stransky","S. Glennie",null,"V",6,14,15,18,28,null,"H",5,14,16,19,44,null,"Rd","Texas",1014138]
["0 - 1",{"$f":"VLOOKUP(AB3664,[1]AHLSOG!$O:$Q,2,FALSE)","v":"Adirondack"},{"$f":"VLOOKUP(AB3664,[1]AHLSOG!$O:$Q,3,FALSE)","v":"Utica"},1,"1st","ADK",4.8611111111111112E-2,"M. Granlund",null,null,null,"V",3,11,16,21,28,null,"H",3,5,9,19,26,null,"Hm","Adirondack",1014139]
[42096,{"$f":"VLOOKUP(AB3669,[1]AHLSOG!$O:$Q,2,FALSE)","v":"Adirondack"},{"$f":"VLOOKUP(AB3669,[1]AHLSOG!$O:$Q,3,FALSE)","v":"Utica"},6,"3rd","UTI",0.7729166666666667,"A. Friesen",null,null,"EN.SH","V",3,8,24,29,null,null,"H",4,9,19,26,27,28,"Rd","Utica",1014139]
[36526,{"$f":"VLOOKUP(AB3675,[1]AHLSOG!$O:$Q,2,FALSE)","v":"Charlotte"},{"$f":"VLOOKUP(AB3675,[1]AHLSOG!$O:$Q,3,FALSE)","v":"Chicago"},1,"1st","CHI",0.13680555555555554,"S. Harper","T. Broadhurst","P. Cannone",null,"V",4,9,12,28,37,null,"H",2,9,18,22,24,null,"Rd","Chicago",1014141]
[42095,{"$f":"VLOOKUP(AB3679,[1]AHLSOG!$O:$Q,2,FALSE)","v":"Charlotte"},{"$f":"VLOOKUP(AB3679,[1]AHLSOG!$O:$Q,3,FALSE)","v":"Chicago"},5,"3rd","CHA",0.6381944444444444,"B. Sutter","A. Aleardi","K. Lowe",null,"V",5,7,10,17,23,null,"H",4,7,12,17,20,null,"Hm","Charlotte",1014141]
[42038,{"$f":"VLOOKUP(AB3684,[1]AHLSOG!$O:$Q,2,FALSE)","v":"Grand Rapids"},{"$f":"VLOOKUP(AB3684,[1]AHLSOG!$O:$Q,3,FALSE)","v":"Rochester"},5,"2nd","GR",0.7416666666666667,"N. Paetsch","A. Miele","T. Pulkkinen",null,"V",5,22,28,29,33,null,"H",4,6,14,15,21,null,"Hm","Grand Rapids",1014142]
[42099,{"$f":"VLOOKUP(AB3688,[1]AHLSOG!$O:$Q,2,FALSE)","v":"Grand Rapids"},{"$f":"VLOOKUP(AB3688,[1]AHLSOG!$O:$Q,3,FALSE)","v":"Rochester"},9,"OT","GR",8.5416666666666655E-2,"N. Paetsch","M. Callahan",null,null,"V",3,19,34,43,null,null,"H",4,12,14,15,null,null,"Hm","Grand Rapids",1014142]
[42066,{"$f":"VLOOKUP(AB3694,[1]AHLSOG!$O:$Q,2,FALSE)","v":"Hamilton"},{"$f":"VLOOKUP(AB3694,[1]AHLSOG!$O:$Q,3,FALSE)","v":"Iowa"},6,"3rd","HAM",0.26319444444444445,"D. Carr","C. Hudon","G. Pateryn",null,"V",7,15,19,27,44,null,"H",2,5,10,11,25,null,"Hm","Hamilton",1014143]
[42036,{"$f":"VLOOKUP(AB3699,[1]AHLSOG!$O:$Q,2,FALSE)","v":"Lake Erie"},{"$f":"VLOOKUP(AB3699,[1]AHLSOG!$O:$Q,3,FALSE)","v":"Toronto"},3,"2nd","TOR",0.49513888888888885,"M. Frattin","S. Abbott","V. Loov",null,"V",8,13,16,39,50,null,"H",10,11,24,29,37,null,"Rd","Toronto",1014144]
[42005,{"$f":"VLOOKUP(AB3705,[1]AHLSOG!$O:$Q,2,FALSE)","v":"Milwaukee"},{"$f":"VLOOKUP(AB3705,[1]AHLSOG!$O:$Q,3,FALSE)","v":"Rockford"},2,"2nd","MIL",0.17777777777777778,"K. Fiala","M. Van Guilder","J. Diaby",null,"V",9,15,18,22,28,null,"H",2,3,12,25,29,null,"Hm","Milwaukee",1014145]
["0 - 1",{"$f":"VLOOKUP(AB3709,[1]AHLSOG!$O:$Q,2,FALSE)","v":"Norfolk"},{"$f":"VLOOKUP(AB3709,[1]AHLSOG!$O:$Q,3,FALSE)","v":"Worcester"},1,"1st","NOR",0.52847222222222223,"C. Sarault","J. Manson","D. Heatley",null,"V",2,7,10,17,22,null,"H",3,17,20,23,51,null,"Hm","Norfolk",1014146]
["0 - 1",{"$f":"VLOOKUP(AB3712,[1]AHLSOG!$O:$Q,2,FALSE)","v":"Providence"},{"$f":"VLOOKUP(AB3712,[1]AHLSOG!$O:$Q,3,FALSE)","v":"Manchester"},1,"1st","PRO",0.37222222222222223,"R. Spooner","J. Florek",null,null,"V",3,18,19,22,33,null,"H",7,18,19,24,44,null,"Hm","Providence",1014147]
[42005,{"$f":"VLOOKUP(AB3719,[1]AHLSOG!$O:$Q,2,FALSE)","v":"Springfield"},{"$f":"VLOOKUP(AB3719,[1]AHLSOG!$O:$Q,3,FALSE)","v":"Albany"},2,"2nd","ALB",3.1944444444444449E-2,"M. Sislo","B. Burlon",null,null,"V",7,14,19,23,24,null,"H",10,14,17,20,26,null,"Rd","Albany",1014148]
[36557,{"$f":"VLOOKUP(AB3724,[1]AHLSOG!$O:$Q,2,FALSE)","v":"St. John's"},{"$f":"VLOOKUP(AB3724,[1]AHLSOG!$O:$Q,3,FALSE)","v":"Portland"},2,"1st","POR",0.56041666666666667,"G. Carey","E. Selleck","J. Hache",null,"V",11,16,25,28,33,null,"H",4,21,24,49,50,null,"Rd","Portland",1014149]
[36586,{"$f":"VLOOKUP(AB3725,[1]AHLSOG!$O:$Q,2,FALSE)","v":"St. John's"},{"$f":"VLOOKUP(AB3725,[1]AHLSOG!$O:$Q,3,FALSE)","v":"Portland"},3,"1st","POR",0.69930555555555562,"F. Wathier","E. Selleck","T. Gaudet",null,"V",2,11,25,28,32,null,"H",7,19,21,27,34,null,"Rd","Portland",1014149]
[42156,{"$f":"VLOOKUP(AB3729,[1]AHLSOG!$O:$Q,2,FALSE)","v":"St. John's"},{"$f":"VLOOKUP(AB3729,[1]AHLSOG!$O:$Q,3,FALSE)","v":"Portland"},7,"2nd","POR",0.83263888888888893,"J. Martinook","D. Reese","P. Samuelsson",null,"V",2,7,8,17,19,null,"H",7,16,25,26,27,null,"Rd","Portland",1014149]
[42036,{"$f":"VLOOKUP(AB3734,[1]AHLSOG!$O:$Q,2,FALSE)","v":"Syracuse"},{"$f":"VLOOKUP(AB3734,[1]AHLSOG!$O:$Q,3,FALSE)","v":"Bridgeport"},3,"OT","BRI",0.15,"K. Mouillierat","C. Conacher",null,null,"V",2,5,21,89,null,null,"H",10,13,37,65,null,null,"Rd","Bridgeport",1014150]
[42006,{"$f":"VLOOKUP(AB3742,[1]AHLSOG!$O:$Q,2,FALSE)","v":"Binghamton"},{"$f":"VLOOKUP(AB3742,[1]AHLSOG!$O:$Q,3,FALSE)","v":"Lehigh Valley"},3,"2nd","BNG",0.7583333333333333,"C. Schneider","S. Prince",null,null,"V",4,5,24,25,45,null,"H",5,11,15,18,72,null,"Hm","Binghamton",1014152]
[42008,{"$f":"VLOOKUP(AB3744,[1]AHLSOG!$O:$Q,2,FALSE)","v":"Binghamton"},{"$f":"VLOOKUP(AB3744,[1]AHLSOG!$O:$Q,3,FALSE)","v":"Lehigh Valley"},5,"3rd","BNG",0.77916666666666667,"B. Robinson","F. Claesson",null,"EN.SH","V",4,10,23,28,38,45,"H",3,10,15,20,null,null,"Hm","Binghamton",1014152]
[36526,{"$f":"VLOOKUP(AB3750,[1]AHLSOG!$O:$Q,2,FALSE)","v":"Charlotte"},{"$f":"VLOOKUP(AB3750,[1]AHLSOG!$O:$Q,3,FALSE)","v":"Chicago"},1,"1st","CHI",0.375,"S. Harper","P. Cannone","P. Lindbohm","PP","V",4,9,12,23,37,null,"H",2,9,22,24,null,null,"Rd","Chicago",1014154]
["0 - 1",{"$f":"VLOOKUP(AB3755,[1]AHLSOG!$O:$Q,2,FALSE)","v":"Grand Rapids"},{"$f":"VLOOKUP(AB3755,[1]AHLSOG!$O:$Q,3,FALSE)","v":"Rochester"},1,"2nd","GR",5.7638888888888885E-2,"A. Mantha","T. Nosek","L. Ferraro",null,"V",3,19,21,46,52,null,"H",2,7,8,19,29,null,"Hm","Grand Rapids",1014155]
[42038,{"$f":"VLOOKUP(AB3759,[1]AHLSOG!$O:$Q,2,FALSE)","v":"Grand Rapids"},{"$f":"VLOOKUP(AB3759,[1]AHLSOG!$O:$Q,3,FALSE)","v":"Rochester"},5,"2nd","RCH",0.65069444444444446,"W. Carrier","T. Schaller","J. Armia",null,"V",11,28,33,47,52,null,"H",12,14,18,19,29,null,"Rd","Rochester",1014155]
[42064,{"$f":"VLOOKUP(AB3765,[1]AHLSOG!$O:$Q,2,FALSE)","v":"Hershey"},{"$f":"VLOOKUP(AB3765,[1]AHLSOG!$O:$Q,3,FALSE)","v":"W-B/Scranton"},4,"2nd","WBS",0.7583333333333333,"T. Kuhnhackl","R. McNeill","A. Ebbett",null,"V",3,14,19,25,41,null,"H",19,20,32,34,36,null,"Rd","W-B/Scranton",1014156]
[42067,{"$f":"VLOOKUP(AB3768,[1]AHLSOG!$O:$Q,2,FALSE)","v":"Hershey"},{"$f":"VLOOKUP(AB3768,[1]AHLSOG!$O:$Q,3,FALSE)","v":"W-B/Scranton"},7,"OT","HER",0.14166666666666666,"M. Moore","J. O'Brien","S. Oleksy",null,"V",4,12,19,41,null,null,"H",6,7,10,14,null,null,"Hm","Hershey",1014156]
[42006,{"$f":"VLOOKUP(AB3775,[1]AHLSOG!$O:$Q,2,FALSE)","v":"Manchester"},{"$f":"VLOOKUP(AB3775,[1]AHLSOG!$O:$Q,3,FALSE)","v":"Providence"},3,"2nd","MCH",0.74097222222222225,"B. O'Neill","J. Weal","C. Miller","PP","V",3,18,37,null,null,null,"H",6,18,19,22,27,null,"Hm","Manchester",1014158]
[36586,{"$f":"VLOOKUP(AB3779,[1]AHLSOG!$O:$Q,2,FALSE)","v":"Norfolk"},{"$f":"VLOOKUP(AB3779,[1]AHLSOG!$O:$Q,3,FALSE)","v":"Worcester"},3,"2nd","WOR",0.6972222222222223,"T. Oleksuk","D. DeMelo","F. Hamilton","PP","V",2,3,12,18,21,null,"H",2,7,8,12,null,null,"Rd","Worcester",1014159]
[42064,{"$f":"VLOOKUP(AB3784,[1]AHLSOG!$O:$Q,2,FALSE)","v":"Rockford"},{"$f":"VLOOKUP(AB3784,[1]AHLSOG!$O:$Q,3,FALSE)","v":"Milwaukee"},4,"1st","MIL",0.70972222222222225,"V. Stalberg","V. Arvidsson","J. Diaby",null,"V",3,7,18,25,33,null,"H",9,18,24,26,29,null,"Rd","Milwaukee",1014160]
[42065,{"$f":"VLOOKUP(AB3785,[1]AHLSOG!$O:$Q,2,FALSE)","v":"Rockford"},{"$f":"VLOOKUP(AB3785,[1]AHLSOG!$O:$Q,3,FALSE)","v":"Milwaukee"},5,"2nd","RFD",0.36458333333333331,"P. Danault",null,null,"SH","V",18,23,25,28,33,null,"H",4,10,18,28,null,null,"Hm","Rockford",1014160]
[42190,{"$f":"VLOOKUP(AB3792,[1]AHLSOG!$O:$Q,2,FALSE)","v":"Rockford"},{"$f":"VLOOKUP(AB3792,[1]AHLSOG!$O:$Q,3,FALSE)","v":"Milwaukee"},12,"3rd","MIL",0.82638888888888884,"I. White","F. Girard",null,"EN","V",2,15,16,17,24,null,"H",9,12,18,24,28,29,"Rd","Milwaukee",1014160]
[36557,{"$f":"VLOOKUP(AB3794,[1]AHLSOG!$O:$Q,2,FALSE)","v":"San Antonio"},{"$f":"VLOOKUP(AB3794,[1]AHLSOG!$O:$Q,3,FALSE)","v":"Oklahoma City"},2,"2nd","OKC",0.19583333333333333,"C. Hamilton","M. Ford",null,"SH","V",10,11,15,40,null,null,"H",9,20,23,25,26,null,"Rd","Oklahoma City",1014161]
[42068,{"$f":"VLOOKUP(AB3800,[1]AHLSOG!$O:$Q,2,FALSE)","v":"San Antonio"},{"$f":"VLOOKUP(AB3800,[1]AHLSOG!$O:$Q,3,FALSE)","v":"Oklahoma City"},8,"3rd","SA",0.41041666666666665,"B. Butler","C. Knight","B. Olson",null,"V",6,10,13,15,19,null,"H",7,15,16,20,44,null,"Hm","San Antonio",1014161]
["0 - 2",{"$f":"VLOOKUP(AB3805,[1]AHLSOG!$O:$Q,2,FALSE)","v":"Toronto"},{"$f":"VLOOKUP(AB3805,[1]AHLSOG!$O:$Q,3,FALSE)","v":"Iowa"},2,"2nd","TOR",0.76388888888888884,"M. Frattin","S. Abbott","B. Froese",null,"V",3,7,36,44,51,null,"H",2,13,39,45,54,null,"Hm","Toronto",1014164]
[36526,{"$f":"VLOOKUP(AB3810,[1]AHLSOG!$O:$Q,2,FALSE)","v":"Bridgeport"},{"$f":"VLOOKUP(AB3810,[1]AHLSOG!$O:$Q,3,FALSE)","v":"W-B/Scranton"},1,"1st","WBS",4.8611111111111112E-2,"J. Megna","C. Rowney","R. McNeill",null,"V",3,14,17,19,41,null,"H",8,11,21,27,89,null,"Rd","W-B/Scranton",1014165]
[42005,{"$f":"VLOOKUP(AB3815,[1]AHLSOG!$O:$Q,2,FALSE)","v":"Hershey"},{"$f":"VLOOKUP(AB3815,[1]AHLSOG!$O:$Q,3,FALSE)","v":"Lehigh Valley"},2,"1st","HER",0.79791666666666661,"D. Byers","J. O'Brien","M. Cajkovsky","SH","V",10,23,24,25,38,null,"H",4,7,14,38,null,null,"Hm","Hershey",1014166]
[42065,{"$f":"VLOOKUP(AB3818,[1]AHLSOG!$O:$Q,2,FALSE)","v":"Hershey"},{"$f":"VLOOKUP(AB3818,[1]AHLSOG!$O:$Q,3,FALSE)","v":"Lehigh Valley"},5,"2nd","LV",0.46388888888888885,"N. Cousins","B. Alderson","P. Straka",null,"V",5,7,19,24,25,null,"H",7,10,20,36,37,null,"Rd","Lehigh",1014166]
[42006,{"$f":"VLOOKUP(AB3825,[1]AHLSOG!$O:$Q,2,FALSE)","v":"Milwaukee"},{"$f":"VLOOKUP(AB3825,[1]AHLSOG!$O:$Q,3,FALSE)","v":"Rochester"},3,"1st","MIL",0.71319444444444446,"T. Grant","K. Fiala","A. Bitetto","PP","V",11,29,46,47,null,null,"H",2,12,15,21,51,null,"Hm","Milwaukee",1014167]
[42098,{"$f":"VLOOKUP(AB3830,[1]AHLSOG!$O:$Q,2,FALSE)","v":"Milwaukee"},{"$f":"VLOOKUP(AB3830,[1]AHLSOG!$O:$Q,3,FALSE)","v":"Rochester"},8,"3rd","RCH",0.4201388888888889,"Z. Dalpe","J. D'Amigo",null,null,"V",3,19,21,34,38,null,"H",2,15,18,25,33,null,"Rd","Rochester",1014167]
[42005,{"$f":"VLOOKUP(AB3835,[1]AHLSOG!$O:$Q,2,FALSE)","v":"Providence"},{"$f":"VLOOKUP(AB3835,[1]AHLSOG!$O:$Q,3,FALSE)","v":"Springfield"},2,"1st","SPR",0.29791666666666666,"A. Cracknell","M. Cornell","K. Rychel",null,"V",6,8,15,21,25,null,"H",3,10,18,39,44,null,"Rd","Springfield",1014168]
[36526,{"$f":"VLOOKUP(AB3840,[1]AHLSOG!$O:$Q,2,FALSE)","v":"Texas"},{"$f":"VLOOKUP(AB3840,[1]AHLSOG!$O:$Q,3,FALSE)","v":"Oklahoma City"},1,"1st","OKC",0.78055555555555556,"A. Miller","R. Hamilton","M. Gernat",null,"V",7,12,15,17,40,null,"H",7,14,15,22,28,null,"Rd","Oklahoma City",1014169]
[42036,{"$f":"VLOOKUP(AB3842,[1]AHLSOG!$O:$Q,2,FALSE)","v":"Texas"},{"$f":"VLOOKUP(AB3842,[1]AHLSOG!$O:$Q,3,FALSE)","v":"Oklahoma City"},3,"2nd","OKC",0.3347222222222222,"B. Hunt","J. Williams","R. Hamilton","PP","V",12,17,19,29,37,null,"H",9,10,24,39,null,null,"Rd","Oklahoma City",1014169]
[36526,{"$f":"VLOOKUP(AB3845,[1]AHLSOG!$O:$Q,2,FALSE)","v":"Utica"},{"$f":"VLOOKUP(AB3845,[1]AHLSOG!$O:$Q,3,FALSE)","v":"Binghamton"},1,"1st","BNG",5.4166666666666669E-2,"S. Prince","C. Wideman","N. Tuzzolino",null,"V",5,6,9,18,57,null,"H",3,4,24,25,41,null,"Rd","Binghamton",1014170]
[42066,{"$f":"VLOOKUP(AB3850,[1]AHLSOG!$O:$Q,2,FALSE)","v":"Utica"},{"$f":"VLOOKUP(AB3850,[1]AHLSOG!$O:$Q,3,FALSE)","v":"Binghamton"},6,"2nd","UTI",0.74861111111111101,"B. Sanguinetti","C. O'Reilly","A. Grenier",null,"V",8,9,10,20,57,null,"H",6,16,21,28,40,null,"Hm","Utica",1014170]
[42101,{"$f":"VLOOKUP(AB3855,[1]AHLSOG!$O:$Q,2,FALSE)","v":"Utica"},{"$f":"VLOOKUP(AB3855,[1]AHLSOG!$O:$Q,3,FALSE)","v":"Binghamton"},11,"3rd","UTI",0.5625,"W. Acton","A. Grenier","K. Lafranchise",null,"V",6,7,16,18,22,null,"H",6,25,28,40,41,null,"Hm","Utica",1014170]
["0 - 5",{"$f":"VLOOKUP(AB3860,[1]AHLSOG!$O:$Q,2,FALSE)","v":"Adirondack"},{"$f":"VLOOKUP(AB3860,[1]AHLSOG!$O:$Q,3,FALSE)","v":"Syracuse"},5,"2nd","ADK",0.48749999999999999,"S. Baertschi","M. Granlund","G. Hathaway",null,"V",10,24,57,65,92,null,"H",5,9,14,26,27,null,"Hm","Adirondack",1014171]
["0 - 10",{"$f":"VLOOKUP(AB3865,[1]AHLSOG!$O:$Q,2,FALSE)","v":"Adirondack"},{"$f":"VLOOKUP(AB3865,[1]AHLSOG!$O:$Q,3,FALSE)","v":"Syracuse"},10,"3rd","ADK",0.76666666666666661,"T. Elson","B. McGrattan","D. Stevenson",null,"V",9,13,20,65,90,null,"H",6,13,19,22,38,null,"Hm","Adirondack",1014171]
["0 - 1",{"$f":"VLOOKUP(AB3872,[1]AHLSOG!$O:$Q,2,FALSE)","v":"St. John's"},{"$f":"VLOOKUP(AB3872,[1]AHLSOG!$O:$Q,3,FALSE)","v":"Hartford"},1,"1st","STJ",0.28333333333333333,"B. Riley","K. MacKinnon","B. MacLean",null,"V",9,14,20,23,28,null,"H",4,17,19,25,49,null,"Hm","St. John's",1014174]
["0 - 1",{"$f":"VLOOKUP(AB3875,[1]AHLSOG!$O:$Q,2,FALSE)","v":"Texas"},{"$f":"VLOOKUP(AB3875,[1]AHLSOG!$O:$Q,3,FALSE)","v":"San Antonio"},1,"1st","TEX",0.7284722222222223,"C. Gaunce","D. Hulak","J. Oleksiak",null,"V",18,20,22,25,33,null,"H",6,14,24,27,39,null,"Hm","Texas",1014175]
[42009,{"$f":"VLOOKUP(AB3880,[1]AHLSOG!$O:$Q,2,FALSE)","v":"Texas"},{"$f":"VLOOKUP(AB3880,[1]AHLSOG!$O:$Q,3,FALSE)","v":"San Antonio"},6,"3rd","SA",0.51874999999999993,"S. O'Brien","C. Knight","B. Butler","PP","V",9,16,19,20,44,null,"H",8,9,17,22,null,null,"Rd","San Antonio",1014175]
[42037,{"$f":"VLOOKUP(AB3885,[1]AHLSOG!$O:$Q,2,FALSE)","v":"Chicago"},{"$f":"VLOOKUP(AB3885,[1]AHLSOG!$O:$Q,3,FALSE)","v":"Milwaukee"},4,"2nd","CHI",0.73611111111111116,"J. Welsh","R. Bordson","B. Regner","SH","V",12,15,29,46,51,null,"H",4,15,27,28,null,null,"Hm","Chicago",1014176]
[42064,{"$f":"VLOOKUP(AB3890,[1]AHLSOG!$O:$Q,2,FALSE)","v":"St. John's"},{"$f":"VLOOKUP(AB3890,[1]AHLSOG!$O:$Q,3,FALSE)","v":"Hartford"},4,"2nd","HFD",0.5083333333333333,"C. Bourque","C. Mueller","M. Kostka","PP","V",17,19,23,28,39,null,"H",4,16,19,49,null,null,"Rd","Hartford",1014177]
[42096,{"$f":"VLOOKUP(AB3892,[1]AHLSOG!$O:$Q,2,FALSE)","v":"St. John's"},{"$f":"VLOOKUP(AB3892,[1]AHLSOG!$O:$Q,3,FALSE)","v":"Hartford"},6,"3rd","HFD",0.44305555555555554,"J. Vaive","O. Lindberg","C. Bourque",null,"V",2,17,23,24,28,null,"H",8,9,27,48,50,null,"Rd","Hartford",1014177]
["0 - 3",{"$f":"VLOOKUP(AB3900,[1]AHLSOG!$O:$Q,2,FALSE)","v":"W-B/Scranton"},{"$f":"VLOOKUP(AB3900,[1]AHLSOG!$O:$Q,3,FALSE)","v":"Binghamton"},3,"2nd","WBS",0.14722222222222223,"C. Sheary","T. Kostopoulos","S. Wilson","PP","V",3,10,19,20,null,null,"H",8,10,23,29,43,null,"Hm","W-B/Scranton",1014179]
[42036,{"$f":"VLOOKUP(AB3905,[1]AHLSOG!$O:$Q,2,FALSE)","v":"Lake Erie"},{"$f":"VLOOKUP(AB3905,[1]AHLSOG!$O:$Q,3,FALSE)","v":"Charlotte"},3,"2nd","CHA",0.19375000000000001,"C. LaRose","J. Shugg","K. Lowe","PP","V",2,4,7,14,59,null,"H",10,24,27,47,null,null,"Rd","Charlotte",1014180]
[42005,{"$f":"VLOOKUP(AB3909,[1]AHLSOG!$O:$Q,2,FALSE)","v":"Grand Rapids"},{"$f":"VLOOKUP(AB3909,[1]AHLSOG!$O:$Q,3,FALSE)","v":"San Antonio"},2,"2nd","SA",0.17222222222222225,"B. Olson","M. Mancari","G. Zanon",null,"V",5,7,15,19,26,null,"H",4,6,10,16,21,null,"Rd","San Antonio",1014183]
[42036,{"$f":"VLOOKUP(AB3910,[1]AHLSOG!$O:$Q,2,FALSE)","v":"Grand Rapids"},{"$f":"VLOOKUP(AB3910,[1]AHLSOG!$O:$Q,3,FALSE)","v":"San Antonio"},3,"2nd","SA",0.3888888888888889,"B. Butler","J. Racine",null,"SH","V",6,7,15,16,null,null,"H",7,12,13,16,19,null,"Rd","San Antonio",1014183]
[42098,{"$f":"VLOOKUP(AB3915,[1]AHLSOG!$O:$Q,2,FALSE)","v":"Grand Rapids"},{"$f":"VLOOKUP(AB3915,[1]AHLSOG!$O:$Q,3,FALSE)","v":"San Antonio"},8,"3rd","GR",0.75624999999999998,"M. Zengerle","N. Paetsch","A. Miele","PP","V",5,14,19,44,null,null,"H",4,6,9,10,21,29,"Hm","Grand Rapids",1014183]
[42096,{"$f":"VLOOKUP(AB3922,[1]AHLSOG!$O:$Q,2,FALSE)","v":"Hamilton"},{"$f":"VLOOKUP(AB3922,[1]AHLSOG!$O:$Q,3,FALSE)","v":"Toronto"},6,"3rd","HAM",0.7944444444444444,"D. Carr","D. Dietz","E. Tangradi",null,"V",4,14,15,22,26,null,"H",4,7,11,12,21,25,"Hm","Hamilton",1014184]
[36586,{"$f":"VLOOKUP(AB3925,[1]AHLSOG!$O:$Q,2,FALSE)","v":"Iowa"},{"$f":"VLOOKUP(AB3925,[1]AHLSOG!$O:$Q,3,FALSE)","v":"Texas"},3,"2nd","TEX",0.53611111111111109,"G. Rallo","G. Smith","C. Gaunce",null,"V",6,14,24,27,39,null,"H",5,9,16,25,36,null,"Rd","Texas",1014185]
[42065,{"$f":"VLOOKUP(AB3931,[1]AHLSOG!$O:$Q,2,FALSE)","v":"Lehigh Valley"},{"$f":"VLOOKUP(AB3931,[1]AHLSOG!$O:$Q,3,FALSE)","v":"Binghamton"},5,"3rd","LV",0.29722222222222222,"B. Manning","N. Cousins","J. Akeson","PP","V",3,20,57,72,null,null,"H",10,25,28,38,45,null,"Rd","Lehigh",1014186]
[42007,{"$f":"VLOOKUP(AB3935,[1]AHLSOG!$O:$Q,2,FALSE)","v":"Manchester"},{"$f":"VLOOKUP(AB3935,[1]AHLSOG!$O:$Q,3,FALSE)","v":"Springfield"},4,"2nd","SPR",0.35555555555555557,"D. Monardo","L. Adam","A. Cracknell",null,"V",19,21,26,28,40,null,"H",7,13,18,23,25,null,"Rd","Springfield",1014187]
[42036,{"$f":"VLOOKUP(AB3940,[1]AHLSOG!$O:$Q,2,FALSE)","v":"Milwaukee"},{"$f":"VLOOKUP(AB3940,[1]AHLSOG!$O:$Q,3,FALSE)","v":"Rockford"},3,"3rd","RFD",0.17152777777777775,"J. Nordstrom","T. Teravainen","V. Pokka","PP","V",7,21,23,28,29,null,"H",3,15,18,36,null,null,"Rd","Rockford",1014188]
[42037,{"$f":"VLOOKUP(AB3946,[1]AHLSOG!$O:$Q,2,FALSE)","v":"Providence"},{"$f":"VLOOKUP(AB3946,[1]AHLSOG!$O:$Q,3,FALSE)","v":"Bridgeport"},4,"2nd","BRI",0.20972222222222223,"C. Langkow",null,null,"SH","V",8,11,16,27,null,null,"H",5,10,17,24,49,null,"Rd","Bridgeport",1014190]
[42039,{"$f":"VLOOKUP(AB3948,[1]AHLSOG!$O:$Q,2,FALSE)","v":"Providence"},{"$f":"VLOOKUP(AB3948,[1]AHLSOG!$O:$Q,3,FALSE)","v":"Bridgeport"},6,"3rd","PRO",0.25625000000000003,"S. Griffith","R. Spooner","C. Stuart",null,"V",8,12,17,27,28,null,"H",6,17,24,44,49,null,"Hm","Providence",1014190]
[42064,{"$f":"VLOOKUP(AB3955,[1]AHLSOG!$O:$Q,2,FALSE)","v":"Rochester"},{"$f":"VLOOKUP(AB3955,[1]AHLSOG!$O:$Q,3,FALSE)","v":"Adirondack"},4,"1st","ADK",0.45763888888888887,"T. Elson",null,null,null,"V",2,7,13,16,22,null,"H",5,18,22,29,46,null,"Rd","Adirondack",1014191]
[42098,{"$f":"VLOOKUP(AB3959,[1]AHLSOG!$O:$Q,2,FALSE)","v":"Rochester"},{"$f":"VLOOKUP(AB3959,[1]AHLSOG!$O:$Q,3,FALSE)","v":"Adirondack"},8,"2nd","RCH",0.65972222222222221,"W. Carrier","T. Schaller","B. Austin",null,"V",5,7,9,26,27,null,"H",11,15,16,28,52,null,"Hm","Rochester",1014191]
["0 - 3",{"$f":"VLOOKUP(AB3965,[1]AHLSOG!$O:$Q,2,FALSE)","v":"W-B/Scranton"},{"$f":"VLOOKUP(AB3965,[1]AHLSOG!$O:$Q,3,FALSE)","v":"Portland"},3,"3rd","WBS",0.22708333333333333,"A. Ebbett","B. Rust","B. Dumoulin",null,"V",2,5,19,26,32,null,"H",4,8,12,25,43,null,"Hm","W-B/Scranton",1014192]
["0 - 1",{"$f":"VLOOKUP(AB3966,[1]AHLSOG!$O:$Q,2,FALSE)","v":"Grand Rapids"},{"$f":"VLOOKUP(AB3966,[1]AHLSOG!$O:$Q,3,FALSE)","v":"San Antonio"},1,"1st","GR",0.5805555555555556,"J. Hoggan","M. Zengerle","N. Paetsch","PP","V",5,6,17,19,null,null,"H",4,6,9,10,21,null,"Hm","Grand Rapids",1014193]
[36526,{"$f":"VLOOKUP(AB3972,[1]AHLSOG!$O:$Q,2,FALSE)","v":"Hartford"},{"$f":"VLOOKUP(AB3972,[1]AHLSOG!$O:$Q,3,FALSE)","v":"Albany"},1,"1st","ALB",0.3298611111111111,"M. Sislo","P. Thompson",null,"PP","V",9,12,15,19,24,null,"H",4,18,24,44,null,null,"Rd","Albany",1014194]
[42037,{"$f":"VLOOKUP(AB3975,[1]AHLSOG!$O:$Q,2,FALSE)","v":"Hartford"},{"$f":"VLOOKUP(AB3975,[1]AHLSOG!$O:$Q,3,FALSE)","v":"Albany"},4,"2nd","HFD",0.5708333333333333,"D. Kristo","C. Nehring","J. Vaive",null,"V",8,11,18,26,29,null,"H",2,16,20,23,29,null,"Hm","Hartford",1014194]
[42006,{"$f":"VLOOKUP(AB3981,[1]AHLSOG!$O:$Q,2,FALSE)","v":"Hershey"},{"$f":"VLOOKUP(AB3981,[1]AHLSOG!$O:$Q,3,FALSE)","v":"Portland"},3,"2nd","HER",0.1076388888888889,"D. Gazley","M. Moore",null,null,"V",7,19,27,32,33,null,"H",6,10,11,24,25,null,"Hm","Hershey",1014195]
[42040,{"$f":"VLOOKUP(AB3985,[1]AHLSOG!$O:$Q,2,FALSE)","v":"Hershey"},{"$f":"VLOOKUP(AB3985,[1]AHLSOG!$O:$Q,3,FALSE)","v":"Portland"},7,"3rd","POR",0.20833333333333334,"C. Trivino","H. Samuelsson","G. Miller",null,"V",2,5,7,18,19,null,"H",4,13,22,23,34,null,"Rd","Portland",1014195]
[42006,{"$f":"VLOOKUP(AB3990,[1]AHLSOG!$O:$Q,2,FALSE)","v":"Manchester"},{"$f":"VLOOKUP(AB3990,[1]AHLSOG!$O:$Q,3,FALSE)","v":"Bridgeport"},3,"2nd","MCH",0.44722222222222219,"M. Mersch","J. Weal","M. Richards","PP","V",4,10,11,null,null,null,"H",6,18,19,22,27,null,"Hm","Manchester",1014197]
[42005,{"$f":"VLOOKUP(AB3996,[1]AHLSOG!$O:$Q,2,FALSE)","v":"Norfolk"},{"$f":"VLOOKUP(AB3996,[1]AHLSOG!$O:$Q,3,FALSE)","v":"Syracuse"},2,"2nd","NOR",0.32430555555555557,"W. Karlsson","S. Noesen","J. Manson","PP","V",3,12,19,44,null,null,"H",3,11,20,22,23,null,"Hm","Norfolk",1014198]
["0 - 2",{"$f":"VLOOKUP(AB4002,[1]AHLSOG!$O:$Q,2,FALSE)","v":"Rockford"},{"$f":"VLOOKUP(AB4002,[1]AHLSOG!$O:$Q,3,FALSE)","v":"Oklahoma City"},2,"2nd","RFD",0.7895833333333333,"B. Mashinter","V. Pokka",null,null,"V",17,18,37,39,40,null,"H",7,11,22,29,53,null,"Hm","Rockford",1014200]
[42005,{"$f":"VLOOKUP(AB4006,[1]AHLSOG!$O:$Q,2,FALSE)","v":"Springfield"},{"$f":"VLOOKUP(AB4006,[1]AHLSOG!$O:$Q,3,FALSE)","v":"Providence"},2,"2nd","SPR",0.38541666666666669,"T. Larkin","K. Rychel",null,null,"V",2,11,34,44,49,null,"H",15,16,20,37,40,null,"Hm","Springfield",1014201]
[42064,{"$f":"VLOOKUP(AB4011,[1]AHLSOG!$O:$Q,2,FALSE)","v":"St. John's"},{"$f":"VLOOKUP(AB4011,[1]AHLSOG!$O:$Q,3,FALSE)","v":"Worcester"},4,"3rd","STJ",0.35972222222222222,"A. Brassard","C. Balisy","W. O'Neill",null,"V",20,25,27,33,39,null,"H",7,9,13,27,50,null,"Hm","St. John's",1014202]
[42037,{"$f":"VLOOKUP(AB4015,[1]AHLSOG!$O:$Q,2,FALSE)","v":"W-B/Scranton"},{"$f":"VLOOKUP(AB4015,[1]AHLSOG!$O:$Q,3,FALSE)","v":"Lehigh Valley"},4,"2nd","WBS",3.9583333333333331E-2,"C. Sheary","T. Chorney","J. Zatkoff",null,"V",2,16,27,36,38,null,"H",4,8,17,26,43,null,"Hm","W-B/Scranton",1014203]
[36557,{"$f":"VLOOKUP(AB4021,[1]AHLSOG!$O:$Q,2,FALSE)","v":"Albany"},{"$f":"VLOOKUP(AB4021,[1]AHLSOG!$O:$Q,3,FALSE)","v":"Hartford"},2,"1st","HFD",0.36388888888888887,"C. Allen","R. Haggerty","C. Mueller",null,"V",4,8,9,19,39,null,"H",2,9,11,19,24,null,"Rd","Hartford",1014204]
[42036,{"$f":"VLOOKUP(AB4022,[1]AHLSOG!$O:$Q,2,FALSE)","v":"Albany"},{"$f":"VLOOKUP(AB4022,[1]AHLSOG!$O:$Q,3,FALSE)","v":"Hartford"},3,"1st","ALB",0.47361111111111115,"M. Sislo","K. Zajac","J. Whitney",null,"V",2,16,18,29,44,null,"H",2,9,11,19,29,null,"Hm","Albany",1014204]
[42097,{"$f":"VLOOKUP(AB4026,[1]AHLSOG!$O:$Q,2,FALSE)","v":"Albany"},{"$f":"VLOOKUP(AB4026,[1]AHLSOG!$O:$Q,3,FALSE)","v":"Hartford"},7,"3rd","HFD",0.67569444444444438,"C. Mueller","R. Bourque","C. Allen",null,"V",2,8,9,19,39,null,"H",9,11,19,29,33,null,"Rd","Hartford",1014204]
[42038,{"$f":"VLOOKUP(AB4031,[1]AHLSOG!$O:$Q,2,FALSE)","v":"Binghamton"},{"$f":"VLOOKUP(AB4031,[1]AHLSOG!$O:$Q,3,FALSE)","v":"Toronto"},5,"3rd","TOR",0.61458333333333337,"R. Rupert","C. Brown",null,"PP","V",14,16,20,29,50,null,"H",3,15,19,20,null,null,"Rd","Toronto",1014205]
[42125,{"$f":"VLOOKUP(AB4039,[1]AHLSOG!$O:$Q,2,FALSE)","v":"Bridgeport"},{"$f":"VLOOKUP(AB4039,[1]AHLSOG!$O:$Q,3,FALSE)","v":"Hershey"},6,"3rd","HER",0.71111111111111114,"C. Wellman","P. Cornet","J. Broda",null,"V",5,18,19,21,32,null,"H",2,5,22,44,89,null,"Rd","Hershey",1014206]
[42005,{"$f":"VLOOKUP(AB4041,[1]AHLSOG!$O:$Q,2,FALSE)","v":"Chicago"},{"$f":"VLOOKUP(AB4041,[1]AHLSOG!$O:$Q,3,FALSE)","v":"Grand Rapids"},2,"1st","GR",0.70208333333333339,"T. Pulkkinen",null,null,null,"V",6,14,18,21,55,null,"H",3,6,9,17,37,null,"Rd","Grand Rapids",1014207]
["0 - 1",{"$f":"VLOOKUP(AB4046,[1]AHLSOG!$O:$Q,2,FALSE)","v":"Iowa"},{"$f":"VLOOKUP(AB4046,[1]AHLSOG!$O:$Q,3,FALSE)","v":"Oklahoma City"},1,"1st","IA",0.25208333333333333,"K. Gabriel","J. Blum",null,null,"V",7,18,21,27,40,null,"H",7,8,21,39,44,null,"Hm","Iowa",1014208]
[42097,{"$f":"VLOOKUP(AB4052,[1]AHLSOG!$O:$Q,2,FALSE)","v":"Iowa"},{"$f":"VLOOKUP(AB4052,[1]AHLSOG!$O:$Q,3,FALSE)","v":"Oklahoma City"},7,"3rd","OKC",0.2298611111111111,"C. Hamilton",null,null,null,"V",6,10,13,15,19,null,"H",5,8,21,25,29,null,"Rd","Oklahoma City",1014208]
["0 - 3",{"$f":"VLOOKUP(AB4056,[1]AHLSOG!$O:$Q,2,FALSE)","v":"Milwaukee"},{"$f":"VLOOKUP(AB4056,[1]AHLSOG!$O:$Q,3,FALSE)","v":"Lake Erie"},3,"2nd","MIL",8.6805555555555566E-2,"C. Sissons","K. Fiala","V. Arvidsson",null,"V",14,18,27,29,51,null,"H",3,12,18,19,33,null,"Hm","Milwaukee",1014209]
["0 - 1",{"$f":"VLOOKUP(AB4061,[1]AHLSOG!$O:$Q,2,FALSE)","v":"Providence"},{"$f":"VLOOKUP(AB4061,[1]AHLSOG!$O:$Q,3,FALSE)","v":"Manchester"},1,"1st","PRO",0.71875,"S. Eminger","B. Youds","E. Werek","PP","V",5,16,21,33,null,null,"H",2,18,19,20,44,null,"Hm","Providence",1014210]
[42005,{"$f":"VLOOKUP(AB4065,[1]AHLSOG!$O:$Q,2,FALSE)","v":"Rockford"},{"$f":"VLOOKUP(AB4065,[1]AHLSOG!$O:$Q,3,FALSE)","v":"San Antonio"},2,"2nd","SA",0.27916666666666667,"C. Brickley","M. Mancari","G. Zanon",null,"V",5,7,9,23,26,null,"H",4,10,11,12,23,null,"Rd","San Antonio",1014211]
[42065,{"$f":"VLOOKUP(AB4071,[1]AHLSOG!$O:$Q,2,FALSE)","v":"Springfield"},{"$f":"VLOOKUP(AB4071,[1]AHLSOG!$O:$Q,3,FALSE)","v":"Lehigh Valley"},5,"2nd","SPR",0.4916666666666667,"T. Tynan","M. Dano","M. Little","PP","V",7,21,28,38,null,null,"H",10,12,17,18,28,null,"Hm","Springfield",1014212]
[36526,{"$f":"VLOOKUP(AB4076,[1]AHLSOG!$O:$Q,2,FALSE)","v":"St. John's"},{"$f":"VLOOKUP(AB4076,[1]AHLSOG!$O:$Q,3,FALSE)","v":"Worcester"},1,"1st","WOR",0.66249999999999998,"R. Schwartz","T. Parkes","T. Fedun",null,"V",3,14,21,27,39,null,"H",8,9,26,44,50,null,"Rd","Worcester",1014213]
[42096,{"$f":"VLOOKUP(AB4081,[1]AHLSOG!$O:$Q,2,FALSE)","v":"St. John's"},{"$f":"VLOOKUP(AB4081,[1]AHLSOG!$O:$Q,3,FALSE)","v":"Worcester"},6,"3rd","STJ",0.34027777777777773,"P. Cormier","E. O'Dell","K. Ellerby",null,"V",6,10,27,33,39,null,"H",4,14,28,33,49,null,"Hm","St. John's",1014213]
["0 - 2",{"$f":"VLOOKUP(AB4086,[1]AHLSOG!$O:$Q,2,FALSE)","v":"Charlotte"},{"$f":"VLOOKUP(AB4086,[1]AHLSOG!$O:$Q,3,FALSE)","v":"Norfolk"},2,"1st","CHA",0.55138888888888882,"A. Aleardi","T. Carrick","B. Schmitz","PP","V",19,23,24,39,null,null,"H",5,10,14,17,36,null,"Hm","Charlotte",1014214]
[42038,{"$f":"VLOOKUP(AB4089,[1]AHLSOG!$O:$Q,2,FALSE)","v":"Charlotte"},{"$f":"VLOOKUP(AB4089,[1]AHLSOG!$O:$Q,3,FALSE)","v":"Norfolk"},5,"2nd","NOR",0.83263888888888893,"W. Karlsson","A. O'Brien","D. Steckel",null,"V",14,21,22,25,39,null,"H",5,9,10,22,24,null,"Rd","Norfolk",1014214]
["0 - 1",{"$f":"VLOOKUP(AB4091,[1]AHLSOG!$O:$Q,2,FALSE)","v":"Hamilton"},{"$f":"VLOOKUP(AB4091,[1]AHLSOG!$O:$Q,3,FALSE)","v":"Utica"},1,"1st","HAM",6.0416666666666667E-2,"D. Carr","B. Allen","S. Andrighetto",null,"V",2,4,21,28,41,null,"H",6,7,10,11,27,null,"Hm","Hamilton",1014215]
[42039,{"$f":"VLOOKUP(AB4096,[1]AHLSOG!$O:$Q,2,FALSE)","v":"Hamilton"},{"$f":"VLOOKUP(AB4096,[1]AHLSOG!$O:$Q,3,FALSE)","v":"Utica"},6,"2nd","HAM",0.2590277777777778,"B. Shea","C. Hudon","S. Andrighetto",null,"V",2,8,9,17,37,null,"H",9,10,11,16,27,null,"Hm","Hamilton",1014215]
[42131,{"$f":"VLOOKUP(AB4102,[1]AHLSOG!$O:$Q,2,FALSE)","v":"Hamilton"},{"$f":"VLOOKUP(AB4102,[1]AHLSOG!$O:$Q,3,FALSE)","v":"Utica"},12,"3rd","HAM",0.8305555555555556,"G. Dumont","J. Dowell",null,"EN.SH","V",6,8,16,17,21,28,"H",4,5,18,40,null,null,"Hm","Hamilton",1014215]
[42037,{"$f":"VLOOKUP(AB4106,[1]AHLSOG!$O:$Q,2,FALSE)","v":"Toronto"},{"$f":"VLOOKUP(AB4106,[1]AHLSOG!$O:$Q,3,FALSE)","v":"Binghamton"},4,"2nd","TOR",2.4999999999999998E-2,"J. Leivo","G. McKegg","E. Knodel",null,"V",6,7,19,43,57,null,"H",4,9,13,14,45,null,"Hm","Toronto",1014216]
[42099,{"$f":"VLOOKUP(AB4111,[1]AHLSOG!$O:$Q,2,FALSE)","v":"Toronto"},{"$f":"VLOOKUP(AB4111,[1]AHLSOG!$O:$Q,3,FALSE)","v":"Binghamton"},9,"3rd","TOR",0.41180555555555554,"S. Carrick","M. Frattin","B. Mikkelson",null,"V",6,7,19,43,57,null,"H",4,16,39,45,54,null,"Hm","Toronto",1014216]
[42064,{"$f":"VLOOKUP(AB4115,[1]AHLSOG!$O:$Q,2,FALSE)","v":"Milwaukee"},{"$f":"VLOOKUP(AB4115,[1]AHLSOG!$O:$Q,3,FALSE)","v":"Lake Erie"},4,"3rd","LE",0.21875,"K. Ryan",null,null,"SH","V",3,11,17,18,null,null,"H",15,22,36,46,51,null,"Rd","Lake Erie",1014217]
[42038,{"$f":"VLOOKUP(AB4121,[1]AHLSOG!$O:$Q,2,FALSE)","v":"Portland"},{"$f":"VLOOKUP(AB4121,[1]AHLSOG!$O:$Q,3,FALSE)","v":"Hartford"},5,"3rd","POR",0.68055555555555547,"T. Gaudet","P. Lane","B. Shinnimin",null,"V",4,8,16,18,29,null,"H",8,22,23,24,32,null,"Hm","Portland",1014218]
["0 - 1",{"$f":"VLOOKUP(AB4127,[1]AHLSOG!$O:$Q,2,FALSE)","v":"Grand Rapids"},{"$f":"VLOOKUP(AB4127,[1]AHLSOG!$O:$Q,3,FALSE)","v":"Milwaukee"},1,"1st","GR",0.16180555555555556,"M. Frk","M. Zengerle","A. Miele",null,"V",18,19,25,33,81,null,"H",4,9,16,21,27,null,"Hm","Grand Rapids",1014220]
[42066,{"$f":"VLOOKUP(AB4132,[1]AHLSOG!$O:$Q,2,FALSE)","v":"Grand Rapids"},{"$f":"VLOOKUP(AB4132,[1]AHLSOG!$O:$Q,3,FALSE)","v":"Milwaukee"},6,"3rd","GR",0.83263888888888893,"A. Miele","K. Porter","L. Ferraro","PP","V",18,19,23,51,null,null,"H",4,5,12,13,21,29,"Hm","Grand Rapids",1014220]
[42006,{"$f":"VLOOKUP(AB4136,[1]AHLSOG!$O:$Q,2,FALSE)","v":"Hamilton"},{"$f":"VLOOKUP(AB4136,[1]AHLSOG!$O:$Q,3,FALSE)","v":"Rochester"},3,"2nd","RCH",0.62361111111111112,"B. Irwin","P. Varone","J. McCabe",null,"V",5,11,22,29,46,null,"H",4,6,16,18,40,null,"Rd","Rochester",1014221]
["0 - 1",{"$f":"VLOOKUP(AB4139,[1]AHLSOG!$O:$Q,2,FALSE)","v":"Lehigh Valley"},{"$f":"VLOOKUP(AB4139,[1]AHLSOG!$O:$Q,3,FALSE)","v":"Binghamton"},1,"1st","LV",6.1805555555555558E-2,"Z. Stortini","N. Cousins","J. Akeson",null,"V",8,9,11,15,72,null,"H",2,25,28,38,45,null,"Rd","Lehigh",1014222]
[36526,{"$f":"VLOOKUP(AB4146,[1]AHLSOG!$O:$Q,2,FALSE)","v":"Rockford"},{"$f":"VLOOKUP(AB4146,[1]AHLSOG!$O:$Q,3,FALSE)","v":"San Antonio"},1,"1st","SA",7.2222222222222229E-2,"M. Weegar","V. Trocheck","B. Olson","PP","V",2,14,15,16,19,null,"H",4,10,11,22,null,null,"Rd","San Antonio",1014223]
[42005,{"$f":"VLOOKUP(AB4151,[1]AHLSOG!$O:$Q,2,FALSE)","v":"Utica"},{"$f":"VLOOKUP(AB4151,[1]AHLSOG!$O:$Q,3,FALSE)","v":"Texas"},2,"1st","TEX",0.56666666666666665,"J. Root","S. Glennie","T. Morin",null,"V",15,21,22,25,26,null,"H",2,10,11,14,34,null,"Rd","Texas",1014224]
[42006,{"$f":"VLOOKUP(AB4152,[1]AHLSOG!$O:$Q,2,FALSE)","v":"Utica"},{"$f":"VLOOKUP(AB4152,[1]AHLSOG!$O:$Q,3,FALSE)","v":"Texas"},3,"1st","UTI",0.79027777777777775,"D. Jeffrey","A. Friesen","B. Sanguinetti","PP","V",8,9,22,39,null,null,"H",6,8,16,21,28,null,"Hm","Utica",1014224]
[42040,{"$f":"VLOOKUP(AB4156,[1]AHLSOG!$O:$Q,2,FALSE)","v":"Utica"},{"$f":"VLOOKUP(AB4156,[1]AHLSOG!$O:$Q,3,FALSE)","v":"Texas"},7,"3rd","TEX",0.79652777777777783,"D. Meech","J. Dowling","J. Oleksiak",null,"V",6,9,10,14,15,null,"H",6,16,17,40,null,null,"Rd","Texas",1014224]
[42039,{"$f":"VLOOKUP(AB4162,[1]AHLSOG!$O:$Q,2,FALSE)","v":"Charlotte"},{"$f":"VLOOKUP(AB4162,[1]AHLSOG!$O:$Q,3,FALSE)","v":"Iowa"},6,"3rd","CHA",0.77708333333333324,"B. Woods","A. Aleardi","K. Lowe",null,"V",4,12,18,26,44,null,"H",4,5,7,17,21,null,"Hm","Charlotte",1014225]
[42067,{"$f":"VLOOKUP(AB4169,[1]AHLSOG!$O:$Q,2,FALSE)","v":"Binghamton"},{"$f":"VLOOKUP(AB4169,[1]AHLSOG!$O:$Q,3,FALSE)","v":"Hershey"},7,"3rd","HER",0.68402777777777779,"P. Cornet","C. Wellman","J. O'Brien",null,"V",4,14,18,21,34,null,"H",3,16,17,20,37,null,"Rd","Hershey",1014226]
[36526,{"$f":"VLOOKUP(AB4171,[1]AHLSOG!$O:$Q,2,FALSE)","v":"Grand Rapids"},{"$f":"VLOOKUP(AB4171,[1]AHLSOG!$O:$Q,3,FALSE)","v":"Hamilton"},1,"1st","HAM",0.24097222222222223,"D. Bowman","D. Drewiske","N. Sorkin","PP","V",3,4,15,17,21,null,"H",4,9,12,16,null,null,"Rd","Hamilton",1014227]
[42005,{"$f":"VLOOKUP(AB4177,[1]AHLSOG!$O:$Q,2,FALSE)","v":"Lake Erie"},{"$f":"VLOOKUP(AB4177,[1]AHLSOG!$O:$Q,3,FALSE)","v":"Rockford"},2,"3rd","LE",4.9999999999999996E-2,"M. Schumacher","J. Hishon",null,null,"V",4,10,12,21,23,null,"H",4,24,27,38,47,null,"Hm","Lake Erie",1014228]
[36557,{"$f":"VLOOKUP(AB4182,[1]AHLSOG!$O:$Q,2,FALSE)","v":"Lehigh Valley"},{"$f":"VLOOKUP(AB4182,[1]AHLSOG!$O:$Q,3,FALSE)","v":"Providence"},2,"2nd","PRO",0.48333333333333334,"C. Stuart","Z. Trotman","D. Warsofsky","PP","V",5,17,24,37,49,null,"H",7,11,28,38,null,null,"Rd","Providence",1014229]
[36526,{"$f":"VLOOKUP(AB4187,[1]AHLSOG!$O:$Q,2,FALSE)","v":"Manchester"},{"$f":"VLOOKUP(AB4187,[1]AHLSOG!$O:$Q,3,FALSE)","v":"St. John's"},1,"1st","STJ",0.1875,"A. Brassard","J. Brouillette","K. Ellerby","PP","V",4,14,16,49,50,null,"H",5,7,14,26,null,null,"Rd","St. John's",1014230]
[42066,{"$f":"VLOOKUP(AB4192,[1]AHLSOG!$O:$Q,2,FALSE)","v":"Manchester"},{"$f":"VLOOKUP(AB4192,[1]AHLSOG!$O:$Q,3,FALSE)","v":"St. John's"},6,"3rd","MCH",0.67083333333333339,"B. O'Neill","D. Van der Gulik","M. Richards",null,"V",7,13,16,44,50,null,"H",5,7,14,18,22,null,"Hm","Manchester",1014230]
[42005,{"$f":"VLOOKUP(AB4195,[1]AHLSOG!$O:$Q,2,FALSE)","v":"Oklahoma City"},{"$f":"VLOOKUP(AB4195,[1]AHLSOG!$O:$Q,3,FALSE)","v":"Adirondack"},2,"1st","ADK",0.36319444444444443,"S. Acolatse","D. Wolf","M. Cundari","PP","V",4,5,9,19,45,null,"H",6,18,20,36,null,null,"Rd","Adirondack",1014231]
[42005,{"$f":"VLOOKUP(AB4202,[1]AHLSOG!$O:$Q,2,FALSE)","v":"Rochester"},{"$f":"VLOOKUP(AB4202,[1]AHLSOG!$O:$Q,3,FALSE)","v":"Texas"},2,"1st","RCH",0.4069444444444445,"Z. Dalpe","C. Ruhwedel","J. Leduc",null,"V",9,10,12,14,15,null,"H",5,19,21,34,46,null,"Hm","Rochester",1014232]
[42096,{"$f":"VLOOKUP(AB4206,[1]AHLSOG!$O:$Q,2,FALSE)","v":"Rochester"},{"$f":"VLOOKUP(AB4206,[1]AHLSOG!$O:$Q,3,FALSE)","v":"Texas"},6,"2nd","TEX",0.79305555555555562,"J. Dowling","D. Meech","T. Morin","PP","V",9,10,23,27,39,null,"H",5,11,19,52,null,null,"Rd","Texas",1014232]
[42037,{"$f":"VLOOKUP(AB4211,[1]AHLSOG!$O:$Q,2,FALSE)","v":"Springfield"},{"$f":"VLOOKUP(AB4211,[1]AHLSOG!$O:$Q,3,FALSE)","v":"Hartford"},4,"3rd","HFD",0.19652777777777777,"O. Lindberg","D. Jackson","M. Kostka",null,"V",17,20,23,24,28,null,"H",5,14,15,16,20,null,"Rd","Hartford",1014233]
[42065,{"$f":"VLOOKUP(AB4212,[1]AHLSOG!$O:$Q,2,FALSE)","v":"Springfield"},{"$f":"VLOOKUP(AB4212,[1]AHLSOG!$O:$Q,3,FALSE)","v":"Hartford"},5,"OT","HFD",2.2916666666666669E-2,"O. Lindberg","M. Bodie","C. Bourque",null,"V",2,17,24,28,null,null,"H",17,18,26,32,null,null,"Rd","Hartford",1014233]
["0 - 3",{"$f":"VLOOKUP(AB4219,[1]AHLSOG!$O:$Q,2,FALSE)","v":"Utica"},{"$f":"VLOOKUP(AB4219,[1]AHLSOG!$O:$Q,3,FALSE)","v":"Toronto"},3,"3rd","UTI",3.2638888888888891E-2,"D. Jeffrey","A. Grenier","A. Friesen","PP","V",20,26,29,50,null,null,"H",5,8,16,21,28,null,"Hm","Utica",1014235]
[42039,{"$f":"VLOOKUP(AB4222,[1]AHLSOG!$O:$Q,2,FALSE)","v":"Utica"},{"$f":"VLOOKUP(AB4222,[1]AHLSOG!$O:$Q,3,FALSE)","v":"Toronto"},6,"3rd","UTI",0.47986111111111113,"A. Grenier","C. O'Reilly","J. Blain","PP","V",10,16,22,45,null,null,"H",5,8,16,21,28,null,"Hm","Utica",1014235]
[42007,{"$f":"VLOOKUP(AB4227,[1]AHLSOG!$O:$Q,2,FALSE)","v":"Worcester"},{"$f":"VLOOKUP(AB4227,[1]AHLSOG!$O:$Q,3,FALSE)","v":"Norfolk"},4,"2nd","WOR",0.67013888888888884,"W. Coetzee","E. Trupp","B. Lerg","PP","V",2,7,19,39,null,null,"H",2,10,11,13,26,null,"Hm","Worcester",1014236]
[42005,{"$f":"VLOOKUP(AB4232,[1]AHLSOG!$O:$Q,2,FALSE)","v":"Chicago"},{"$f":"VLOOKUP(AB4232,[1]AHLSOG!$O:$Q,3,FALSE)","v":"San Antonio"},2,"1st","CHI",0.36041666666666666,"J. Welsh","M. Paajarvi",null,null,"V",5,7,10,17,28,null,"H",3,6,15,21,23,null,"Hm","Chicago",1014237]
["0 - 2",{"$f":"VLOOKUP(AB4237,[1]AHLSOG!$O:$Q,2,FALSE)","v":"Grand Rapids"},{"$f":"VLOOKUP(AB4237,[1]AHLSOG!$O:$Q,3,FALSE)","v":"Hamilton"},2,"3rd","GR",0.45624999999999999,"N. Jensen","B. Lashoff",null,null,"V",3,4,17,18,40,null,"H",10,14,18,23,29,null,"Hm","Grand Rapids",1014238]
[42038,{"$f":"VLOOKUP(AB4242,[1]AHLSOG!$O:$Q,2,FALSE)","v":"Hershey"},{"$f":"VLOOKUP(AB4242,[1]AHLSOG!$O:$Q,3,FALSE)","v":"Bridgeport"},5,"2nd","BRI",0.37986111111111115,"A. Quine","A. Ness","C. Conacher",null,"V",6,17,22,27,89,null,"H",6,10,11,14,32,null,"Rd","Bridgeport",1014239]
[36526,{"$f":"VLOOKUP(AB4245,[1]AHLSOG!$O:$Q,2,FALSE)","v":"Lake Erie"},{"$f":"VLOOKUP(AB4245,[1]AHLSOG!$O:$Q,3,FALSE)","v":"Rockford"},1,"1st","RFD",0.12430555555555556,"T. Brennan","J. Nordstrom","D. Rasmussen","PP","V",7,21,23,28,29,null,"H",17,18,27,47,null,null,"Rd","Rockford",1014240]
[42036,{"$f":"VLOOKUP(AB4252,[1]AHLSOG!$O:$Q,2,FALSE)","v":"Lehigh Valley"},{"$f":"VLOOKUP(AB4252,[1]AHLSOG!$O:$Q,3,FALSE)","v":"Hartford"},3,"2nd","HFD",0.19166666666666665,"T. Brown","C. Nehring","D. Kristo",null,"V",2,16,18,29,44,null,"H",4,24,25,27,38,null,"Rd","Hartford",1014241]
[42097,{"$f":"VLOOKUP(AB4256,[1]AHLSOG!$O:$Q,2,FALSE)","v":"Lehigh Valley"},{"$f":"VLOOKUP(AB4256,[1]AHLSOG!$O:$Q,3,FALSE)","v":"Hartford"},7,"3rd","HFD",1.8055555555555557E-2,"C. Bourque",null,null,null,"V",2,8,14,17,24,null,"H",2,24,25,28,38,null,"Rd","Hartford",1014241]
[42037,{"$f":"VLOOKUP(AB4262,[1]AHLSOG!$O:$Q,2,FALSE)","v":"Manchester"},{"$f":"VLOOKUP(AB4262,[1]AHLSOG!$O:$Q,3,FALSE)","v":"St. John's"},4,"3rd","MCH",0.4236111111111111,"C. Miller","B. O'Neill","A. Bodnarchuk","PP","V",4,26,28,49,null,null,"H",6,7,16,18,22,null,"Hm","Manchester",1014242]
[42064,{"$f":"VLOOKUP(AB4267,[1]AHLSOG!$O:$Q,2,FALSE)","v":"Milwaukee"},{"$f":"VLOOKUP(AB4267,[1]AHLSOG!$O:$Q,3,FALSE)","v":"Iowa"},4,"3rd","IA",0.26527777777777778,"R. Fedotenko","G. Wolfe","B. Sutter",null,"V",7,16,26,27,44,null,"H",3,16,19,22,24,null,"Rd","Iowa",1014243]
[42096,{"$f":"VLOOKUP(AB4269,[1]AHLSOG!$O:$Q,2,FALSE)","v":"Milwaukee"},{"$f":"VLOOKUP(AB4269,[1]AHLSOG!$O:$Q,3,FALSE)","v":"Iowa"},6,"3rd","IA",0.80486111111111114,"R. Fedotenko","T. Graovac",null,"EN","V",4,7,12,26,29,null,"H",12,18,23,25,33,51,"Rd","Iowa",1014243]
[42036,{"$f":"VLOOKUP(AB4272,[1]AHLSOG!$O:$Q,2,FALSE)","v":"Oklahoma City"},{"$f":"VLOOKUP(AB4272,[1]AHLSOG!$O:$Q,3,FALSE)","v":"Adirondack"},3,"2nd","ADK",0.15694444444444444,"M. Reinhart","M. Cundari",null,null,"V",5,9,14,25,45,null,"H",3,20,29,36,38,null,"Rd","Adirondack",1014244]
[42037,{"$f":"VLOOKUP(AB4277,[1]AHLSOG!$O:$Q,2,FALSE)","v":"Springfield"},{"$f":"VLOOKUP(AB4277,[1]AHLSOG!$O:$Q,3,FALSE)","v":"Portland"},4,"2nd","POR",0.7597222222222223,"J. Szwarz","J. Hodgman","B. Shinnimin",null,"V",2,10,12,24,28,null,"H",9,14,21,26,32,null,"Rd","Portland",1014245]
[42007,{"$f":"VLOOKUP(AB4282,[1]AHLSOG!$O:$Q,2,FALSE)","v":"Syracuse"},{"$f":"VLOOKUP(AB4282,[1]AHLSOG!$O:$Q,3,FALSE)","v":"Binghamton"},4,"2nd","SYR",6.3888888888888884E-2,"J. Vermin","V. Namestnikov","J. Marchessault",null,"V",3,16,17,20,37,null,"H",18,24,65,90,92,null,"Hm","Syracuse",1014246]
[36526,{"$f":"VLOOKUP(AB4287,[1]AHLSOG!$O:$Q,2,FALSE)","v":"Toronto"},{"$f":"VLOOKUP(AB4287,[1]AHLSOG!$O:$Q,3,FALSE)","v":"Texas"},1,"1st","TEX",0.4993055555555555,"K. Henderson","J. Oleksiak","M. Stransky",null,"V",6,8,17,24,28,null,"H",2,14,26,41,54,null,"Rd","Texas",1014247]
[42005,{"$f":"VLOOKUP(AB4292,[1]AHLSOG!$O:$Q,2,FALSE)","v":"Utica"},{"$f":"VLOOKUP(AB4292,[1]AHLSOG!$O:$Q,3,FALSE)","v":"Albany"},2,"2nd","ALB",0.72152777777777777,"B. Thomson","B. Burlon","C. McKelvie",null,"V",7,10,19,24,26,null,"H",5,9,14,21,40,null,"Rd","Albany",1014248]
[42037,{"$f":"VLOOKUP(AB4299,[1]AHLSOG!$O:$Q,2,FALSE)","v":"Worcester"},{"$f":"VLOOKUP(AB4299,[1]AHLSOG!$O:$Q,3,FALSE)","v":"Norfolk"},4,"3rd","NOR",0.36736111111111108,"S. Noesen","W. Karlsson","M. Friberg",null,"V",7,11,14,22,25,null,"H",5,12,20,21,22,null,"Rd","Norfolk",1014250]
[42067,{"$f":"VLOOKUP(AB4302,[1]AHLSOG!$O:$Q,2,FALSE)","v":"Worcester"},{"$f":"VLOOKUP(AB4302,[1]AHLSOG!$O:$Q,3,FALSE)","v":"Norfolk"},7,"3rd","NOR",0.73958333333333337,"M. Fistric","M. Friberg","W. Karlsson",null,"V",7,9,11,14,22,null,"H",5,12,18,20,21,null,"Rd","Norfolk",1014250]
[42065,{"$f":"VLOOKUP(AB4307,[1]AHLSOG!$O:$Q,2,FALSE)","v":"Bridgeport"},{"$f":"VLOOKUP(AB4307,[1]AHLSOG!$O:$Q,3,FALSE)","v":"Norfolk"},5,"3rd","NOR",0.80208333333333337,"M. Friberg","A. O'Brien","W. Karlsson","PP","V",11,14,17,22,25,null,"H",3,5,17,28,null,null,"Rd","Norfolk",1014251]
[42095,{"$f":"VLOOKUP(AB4312,[1]AHLSOG!$O:$Q,2,FALSE)","v":"Chicago"},{"$f":"VLOOKUP(AB4312,[1]AHLSOG!$O:$Q,3,FALSE)","v":"San Antonio"},5,"3rd","SA",0.52500000000000002,"M. Mancari","C. Brickley","B. Parlett","PP","V",5,7,20,23,26,null,"H",6,8,18,55,null,null,"Rd","San Antonio",1014252]
[42036,{"$f":"VLOOKUP(AB4317,[1]AHLSOG!$O:$Q,2,FALSE)","v":"Hartford"},{"$f":"VLOOKUP(AB4317,[1]AHLSOG!$O:$Q,3,FALSE)","v":"W-B/Scranton"},3,"2nd","WBS",0.28819444444444448,"P. Letourneau-Leblond","M. Marcantuoni","A. Payerl",null,"V",3,6,16,28,34,null,"H",4,21,23,44,74,null,"Rd","W-B/Scranton",1014253]
[42095,{"$f":"VLOOKUP(AB4319,[1]AHLSOG!$O:$Q,2,FALSE)","v":"Hartford"},{"$f":"VLOOKUP(AB4319,[1]AHLSOG!$O:$Q,3,FALSE)","v":"W-B/Scranton"},5,"3rd","WBS",0.70208333333333339,"C. Rowney","T. Kuhnhackl","J. Megna","PP","V",4,6,14,17,19,null,"H",4,17,24,44,null,null,"Rd","W-B/Scranton",1014253]
[42098,{"$f":"VLOOKUP(AB4327,[1]AHLSOG!$O:$Q,2,FALSE)","v":"Hershey"},{"$f":"VLOOKUP(AB4327,[1]AHLSOG!$O:$Q,3,FALSE)","v":"Providence"},8,"3rd","PRO",0.3125,"R. Flick","J. Florek","B. Youds",null,"V",2,10,18,39,44,null,"H",7,14,18,21,25,null,"Rd","Providence",1014254]
[36526,{"$f":"VLOOKUP(AB4332,[1]AHLSOG!$O:$Q,2,FALSE)","v":"Portland"},{"$f":"VLOOKUP(AB4332,[1]AHLSOG!$O:$Q,3,FALSE)","v":"St. John's"},1,"1st","STJ",2.7083333333333334E-2,"J. Lipon","J. Brouillette","K. Ellerby",null,"V",4,14,24,34,49,null,"H",8,10,12,23,24,null,"Rd","St. John's",1014256]
[42095,{"$f":"VLOOKUP(AB4336,[1]AHLSOG!$O:$Q,2,FALSE)","v":"Portland"},{"$f":"VLOOKUP(AB4336,[1]AHLSOG!$O:$Q,3,FALSE)","v":"St. John's"},5,"3rd","POR",8.1250000000000003E-2,"B. Shinnimin","H. Samuelsson","E. Oberg",null,"V",14,25,26,29,49,null,"H",2,8,19,24,49,null,"Hm","Portland",1014256]
[42096,{"$f":"VLOOKUP(AB4337,[1]AHLSOG!$O:$Q,2,FALSE)","v":"Portland"},{"$f":"VLOOKUP(AB4337,[1]AHLSOG!$O:$Q,3,FALSE)","v":"St. John's"},6,"3rd","POR",0.43194444444444446,"J. Szwarz","J. Hodgman","P. Samuelsson","PP","V",26,28,29,44,null,null,"H",8,10,12,23,24,null,"Hm","Portland",1014256]
[42095,{"$f":"VLOOKUP(AB4343,[1]AHLSOG!$O:$Q,2,FALSE)","v":"Rochester"},{"$f":"VLOOKUP(AB4343,[1]AHLSOG!$O:$Q,3,FALSE)","v":"Syracuse"},5,"2nd","SYR",0.75763888888888886,"V. Namestnikov","J. Marchessault",null,null,"V",13,18,65,90,92,null,"H",5,11,19,46,48,null,"Rd","Syracuse",1014257]
[42007,{"$f":"VLOOKUP(AB4349,[1]AHLSOG!$O:$Q,2,FALSE)","v":"Springfield"},{"$f":"VLOOKUP(AB4349,[1]AHLSOG!$O:$Q,3,FALSE)","v":"Albany"},4,"3rd","ALB",0.62152777777777779,"S. Helgeson","S. Matteau","R. Boucher","PP","V",2,12,14,18,29,null,"H",14,21,26,32,null,null,"Rd","Albany",1014258]
[36526,{"$f":"VLOOKUP(AB4352,[1]AHLSOG!$O:$Q,2,FALSE)","v":"Toronto"},{"$f":"VLOOKUP(AB4352,[1]AHLSOG!$O:$Q,3,FALSE)","v":"Charlotte"},1,"1st","CHA",0.21249999999999999,"A. Aleardi","B. Holmstrom","P. Di Giuseppe",null,"V",5,9,10,17,28,null,"H",10,20,29,56,62,null,"Rd","Charlotte",1014259]
[42067,{"$f":"VLOOKUP(AB4358,[1]AHLSOG!$O:$Q,2,FALSE)","v":"Toronto"},{"$f":"VLOOKUP(AB4358,[1]AHLSOG!$O:$Q,3,FALSE)","v":"Charlotte"},7,"3rd","TOR",0.35416666666666669,"A. MacWilliam","W. Nylander","C. Brown",null,"V",4,10,17,28,36,null,"H",2,20,26,29,62,null,"Hm","Toronto",1014259]
[36557,{"$f":"VLOOKUP(AB4362,[1]AHLSOG!$O:$Q,2,FALSE)","v":"Iowa"},{"$f":"VLOOKUP(AB4362,[1]AHLSOG!$O:$Q,3,FALSE)","v":"Grand Rapids"},2,"1st","GR",0.19236111111111112,"C. Bruton","J. Hoggan","B. Lashoff",null,"V",10,14,18,22,55,null,"H",6,12,15,21,41,null,"Rd","Grand Rapids",1014260]
[42156,{"$f":"VLOOKUP(AB4367,[1]AHLSOG!$O:$Q,2,FALSE)","v":"Iowa"},{"$f":"VLOOKUP(AB4367,[1]AHLSOG!$O:$Q,3,FALSE)","v":"Grand Rapids"},7,"2nd","GR",0.50555555555555554,"L. Ferraro","R. Sproul","K. Porter",null,"V",2,7,12,19,29,null,"H",4,14,18,25,29,null,"Rd","Grand Rapids",1014260]
[42095,{"$f":"VLOOKUP(AB4373,[1]AHLSOG!$O:$Q,2,FALSE)","v":"Lake Erie"},{"$f":"VLOOKUP(AB4373,[1]AHLSOG!$O:$Q,3,FALSE)","v":"Rochester"},5,"3rd","RCH",0.12569444444444444,"E. Rankin","W. Carrier","P. Varone",null,"V",11,15,16,28,48,null,"H",3,11,14,39,51,null,"Rd","Rochester",1014261]
[36526,{"$f":"VLOOKUP(AB4375,[1]AHLSOG!$O:$Q,2,FALSE)","v":"Oklahoma City"},{"$f":"VLOOKUP(AB4375,[1]AHLSOG!$O:$Q,3,FALSE)","v":"Texas"},1,"1st","TEX",6.8749999999999992E-2,"E. Faille","S. Valentine","J. Honka",null,"V",7,8,17,22,28,null,"H",2,10,11,19,40,null,"Rd","Texas",1014262]
[42007,{"$f":"VLOOKUP(AB4383,[1]AHLSOG!$O:$Q,2,FALSE)","v":"Utica"},{"$f":"VLOOKUP(AB4383,[1]AHLSOG!$O:$Q,3,FALSE)","v":"Hamilton"},4,"2nd","UTI",0.65555555555555556,"W. Acton","B. DeFazio","D. Archibald",null,"V",4,10,11,16,27,null,"H",24,25,29,37,41,null,"Hm","Utica",1014263]
[42040,{"$f":"VLOOKUP(AB4386,[1]AHLSOG!$O:$Q,2,FALSE)","v":"Utica"},{"$f":"VLOOKUP(AB4386,[1]AHLSOG!$O:$Q,3,FALSE)","v":"Hamilton"},7,"3rd","UTI",0.75763888888888886,"B. DeFazio","A. Pedan",null,"EN","V",4,10,11,15,17,25,"H",24,25,29,37,41,null,"Hm","Utica",1014263]
[42005,{"$f":"VLOOKUP(AB4392,[1]AHLSOG!$O:$Q,2,FALSE)","v":"Rochester"},{"$f":"VLOOKUP(AB4392,[1]AHLSOG!$O:$Q,3,FALSE)","v":"Syracuse"},2,"1st","RCH",0.58472222222222225,"J. Leduc","B. Austin","J. D'Amigo","PP","V",18,19,44,65,null,null,"H",19,21,34,43,52,null,"Hm","Rochester",1014265]
[42006,{"$f":"VLOOKUP(AB4393,[1]AHLSOG!$O:$Q,2,FALSE)","v":"Rochester"},{"$f":"VLOOKUP(AB4393,[1]AHLSOG!$O:$Q,3,FALSE)","v":"Syracuse"},3,"2nd","RCH",0.75416666666666676,"B. Irwin","T. Schaller","B. Austin",null,"V",3,6,18,90,92,null,"H",11,16,19,46,52,null,"Hm","Rochester",1014265]
["0 - 2",{"$f":"VLOOKUP(AB4399,[1]AHLSOG!$O:$Q,2,FALSE)","v":"Toronto"},{"$f":"VLOOKUP(AB4399,[1]AHLSOG!$O:$Q,3,FALSE)","v":"Charlotte"},2,"1st","TOR",0.24861111111111112,"R. Rupert","K. Marshall","C. Brown",null,"V",4,11,14,20,null,null,"H",2,20,26,29,null,null,"Hm","Toronto",1014266]
[42008,{"$f":"VLOOKUP(AB4402,[1]AHLSOG!$O:$Q,2,FALSE)","v":"Toronto"},{"$f":"VLOOKUP(AB4402,[1]AHLSOG!$O:$Q,3,FALSE)","v":"Charlotte"},5,"3rd","TOR",0.79791666666666661,"C. Brown","T. Biggs",null,"EN","V",7,9,10,14,17,20,"H",19,22,26,29,50,null,"Hm","Toronto",1014266]
[42125,{"$f":"VLOOKUP(AB4408,[1]AHLSOG!$O:$Q,2,FALSE)","v":"Binghamton"},{"$f":"VLOOKUP(AB4408,[1]AHLSOG!$O:$Q,3,FALSE)","v":"Hershey"},6,"3rd","HER",0.40069444444444446,"D. Gazley","C. Brown","K. Newbury",null,"V",6,10,11,24,34,null,"H",6,8,19,43,57,null,"Rd","Hershey",1014267]
["0 - 4",{"$f":"VLOOKUP(AB4412,[1]AHLSOG!$O:$Q,2,FALSE)","v":"Hamilton"},{"$f":"VLOOKUP(AB4412,[1]AHLSOG!$O:$Q,3,FALSE)","v":"Charlotte"},4,"1st","HAM",0.77708333333333324,"D. Carr","S. Andrighetto","C. Hudon",null,"V",4,12,14,28,36,null,"H",5,7,10,11,27,null,"Hm","Hamilton",1014268]
[42036,{"$f":"VLOOKUP(AB4418,[1]AHLSOG!$O:$Q,2,FALSE)","v":"Manchester"},{"$f":"VLOOKUP(AB4418,[1]AHLSOG!$O:$Q,3,FALSE)","v":"Hartford"},3,"2nd","HFD",5.9027777777777783E-2,"T. Brown","D. Kristo","C. Nehring",null,"V",2,16,18,28,29,null,"H",5,7,10,16,18,null,"Rd","Hartford",1014270]
[36557,{"$f":"VLOOKUP(AB4423,[1]AHLSOG!$O:$Q,2,FALSE)","v":"Milwaukee"},{"$f":"VLOOKUP(AB4423,[1]AHLSOG!$O:$Q,3,FALSE)","v":"Grand Rapids"},2,"3rd","GR",0.19027777777777777,"T. Nosek",null,null,"SH","V",4,14,19,23,null,null,"H",2,18,23,25,33,null,"Rd","Grand Rapids",1014271]
[36526,{"$f":"VLOOKUP(AB4429,[1]AHLSOG!$O:$Q,2,FALSE)","v":"Oklahoma City"},{"$f":"VLOOKUP(AB4429,[1]AHLSOG!$O:$Q,3,FALSE)","v":"San Antonio"},1,"1st","SA",6.1805555555555558E-2,"M. Mancari","C. Knight","M. Weegar",null,"V",2,6,20,23,26,null,"H",2,11,18,20,36,null,"Rd","San Antonio",1014273]
[42065,{"$f":"VLOOKUP(AB4433,[1]AHLSOG!$O:$Q,2,FALSE)","v":"Oklahoma City"},{"$f":"VLOOKUP(AB4433,[1]AHLSOG!$O:$Q,3,FALSE)","v":"San Antonio"},5,"3rd","OKC",0.21944444444444444,"B. Yakimov","A. Miller","B. Hunt","PP","V",5,6,16,24,null,null,"H",11,17,19,29,39,null,"Hm","Oklahoma City",1014273]
["0 - 2",{"$f":"VLOOKUP(AB4436,[1]AHLSOG!$O:$Q,2,FALSE)","v":"Rochester"},{"$f":"VLOOKUP(AB4436,[1]AHLSOG!$O:$Q,3,FALSE)","v":"Toronto"},2,"1st","RCH",0.77222222222222225,"B. Irwin","C. Ruhwedel","J. McCabe","PP","V",4,19,22,50,null,null,"H",5,11,25,29,46,null,"Hm","Rochester",1014274]
[42005,{"$f":"VLOOKUP(AB4443,[1]AHLSOG!$O:$Q,2,FALSE)","v":"Springfield"},{"$f":"VLOOKUP(AB4443,[1]AHLSOG!$O:$Q,3,FALSE)","v":"Bridgeport"},2,"1st","SPR",0.29652777777777778,"T. Tynan","W. Weber","R. Craig",null,"V",3,5,7,11,23,null,"H",3,4,12,18,40,null,"Hm","Springfield",1014275]
[42067,{"$f":"VLOOKUP(AB4448,[1]AHLSOG!$O:$Q,2,FALSE)","v":"Springfield"},{"$f":"VLOOKUP(AB4448,[1]AHLSOG!$O:$Q,3,FALSE)","v":"Bridgeport"},7,"3rd","SPR",0.63750000000000007,"M. Chaput","K. Rychel","D. Tyrell",null,"V",3,4,17,22,89,null,"H",3,7,14,15,16,null,"Hm","Springfield",1014275]
[42068,{"$f":"VLOOKUP(AB4449,[1]AHLSOG!$O:$Q,2,FALSE)","v":"Springfield"},{"$f":"VLOOKUP(AB4449,[1]AHLSOG!$O:$Q,3,FALSE)","v":"Bridgeport"},8,"3rd","SPR",0.79027777777777775,"D. Tyrell","F. St. Denis","L. Adam","EN","V",6,16,22,27,49,89,"H",14,16,19,26,32,null,"Hm","Springfield",1014275]
[42037,{"$f":"VLOOKUP(AB4453,[1]AHLSOG!$O:$Q,2,FALSE)","v":"Syracuse"},{"$f":"VLOOKUP(AB4453,[1]AHLSOG!$O:$Q,3,FALSE)","v":"Albany"},4,"1st","SYR",0.70624999999999993,"C. Kunyk","C. Ashton","Y. Gourde","PP","V",8,17,25,33,null,null,"H",3,9,20,37,90,null,"Hm","Syracuse",1014276]
[42099,{"$f":"VLOOKUP(AB4458,[1]AHLSOG!$O:$Q,2,FALSE)","v":"Syracuse"},{"$f":"VLOOKUP(AB4458,[1]AHLSOG!$O:$Q,3,FALSE)","v":"Albany"},9,"2nd","SYR",0.43958333333333338,"C. Kunyk","D. Broll","C. Dodero",null,"V",8,10,12,18,29,null,"H",3,12,15,20,44,null,"Hm","Syracuse",1014276]
[42037,{"$f":"VLOOKUP(AB4466,[1]AHLSOG!$O:$Q,2,FALSE)","v":"Texas"},{"$f":"VLOOKUP(AB4466,[1]AHLSOG!$O:$Q,3,FALSE)","v":"Rockford"},4,"2nd","TEX",0.67569444444444438,"S. Glennie","E. Faille","P. Nemeth",null,"V",2,18,20,28,29,null,"H",12,15,17,24,28,null,"Hm","Texas",1014277]
[42066,{"$f":"VLOOKUP(AB4468,[1]AHLSOG!$O:$Q,2,FALSE)","v":"Texas"},{"$f":"VLOOKUP(AB4468,[1]AHLSOG!$O:$Q,3,FALSE)","v":"Rockford"},6,"3rd","TEX",0.70833333333333337,"J. Oleksiak","T. Morin","G. Rallo",null,"V",3,20,27,28,29,null,"H",6,23,24,27,39,null,"Hm","Texas",1014277]
[36617,{"$f":"VLOOKUP(AB4473,[1]AHLSOG!$O:$Q,2,FALSE)","v":"Utica"},{"$f":"VLOOKUP(AB4473,[1]AHLSOG!$O:$Q,3,FALSE)","v":"Adirondack"},4,"3rd","ADK",0.21666666666666667,"D. Shore","D. Stevenson","S. Baertschi","PP","V",6,13,14,23,27,null,"H",5,16,21,37,null,null,"Rd","Adirondack",1014278]
[42066,{"$f":"VLOOKUP(AB4479,[1]AHLSOG!$O:$Q,2,FALSE)","v":"Worcester"},{"$f":"VLOOKUP(AB4479,[1]AHLSOG!$O:$Q,3,FALSE)","v":"St. John's"},6,"2nd","STJ",0.55347222222222225,"S. Kosmachuk","J. Lipon","J. Albert",null,"V",8,16,24,27,34,null,"H",3,7,14,17,22,null,"Rd","St. John's",1014279]
[36526,{"$f":"VLOOKUP(AB4483,[1]AHLSOG!$O:$Q,2,FALSE)","v":"Adirondack"},{"$f":"VLOOKUP(AB4483,[1]AHLSOG!$O:$Q,3,FALSE)","v":"Toronto"},1,"1st","TOR",0.35069444444444442,"M. Frattin","V. Loov","B. Mikkelson","PP","V",4,9,36,39,50,null,"H",4,14,23,27,null,null,"Rd","Toronto",1014280]
[42096,{"$f":"VLOOKUP(AB4488,[1]AHLSOG!$O:$Q,2,FALSE)","v":"Adirondack"},{"$f":"VLOOKUP(AB4488,[1]AHLSOG!$O:$Q,3,FALSE)","v":"Toronto"},6,"3rd","TOR",0.17916666666666667,"A. MacWilliam","C. Brown",null,null,"V",2,3,20,29,null,null,"H",22,25,38,45,null,null,"Rd","Toronto",1014280]
[36586,{"$f":"VLOOKUP(AB4492,[1]AHLSOG!$O:$Q,2,FALSE)","v":"Chicago"},{"$f":"VLOOKUP(AB4492,[1]AHLSOG!$O:$Q,3,FALSE)","v":"Grand Rapids"},3,"2nd","GR",0.77569444444444446,"A. Miele","M. Zengerle","M. Tvrdon","PP","V",4,9,10,13,21,null,"H",5,17,24,28,null,null,"Rd","Grand Rapids",1014281]
[42037,{"$f":"VLOOKUP(AB4498,[1]AHLSOG!$O:$Q,2,FALSE)","v":"Hamilton"},{"$f":"VLOOKUP(AB4498,[1]AHLSOG!$O:$Q,3,FALSE)","v":"Charlotte"},4,"2nd","CHA",9.7916666666666666E-2,"A. Aleardi","P. Di Giuseppe","B. Holmstrom",null,"V",8,10,17,20,28,null,"H",6,15,16,17,19,null,"Rd","Charlotte",1014282]
[42005,{"$f":"VLOOKUP(AB4503,[1]AHLSOG!$O:$Q,2,FALSE)","v":"Hartford"},{"$f":"VLOOKUP(AB4503,[1]AHLSOG!$O:$Q,3,FALSE)","v":"W-B/Scranton"},2,"2nd","HFD",0.25,"C. Mueller","C. Bourque","M. Bodie","PP","V",3,6,14,17,null,null,"H",2,17,19,23,24,null,"Hm","Hartford",1014283]
[36557,{"$f":"VLOOKUP(AB4508,[1]AHLSOG!$O:$Q,2,FALSE)","v":"Hershey"},{"$f":"VLOOKUP(AB4508,[1]AHLSOG!$O:$Q,3,FALSE)","v":"Albany"},2,"2nd","ALB",3.1944444444444449E-2,"S. Matteau","D. Kelly",null,null,"V",8,12,15,18,29,null,"H",6,10,11,24,32,null,"Rd","Albany",1014284]
[36526,{"$f":"VLOOKUP(AB4513,[1]AHLSOG!$O:$Q,2,FALSE)","v":"Lake Erie"},{"$f":"VLOOKUP(AB4513,[1]AHLSOG!$O:$Q,3,FALSE)","v":"Iowa"},1,"2nd","IA",3.888888888888889E-2,"C. Bowman",null,null,"PP","V",4,7,14,18,36,null,"H",10,18,27,47,null,null,"Rd","Iowa",1014285]
[42037,{"$f":"VLOOKUP(AB4516,[1]AHLSOG!$O:$Q,2,FALSE)","v":"Lake Erie"},{"$f":"VLOOKUP(AB4516,[1]AHLSOG!$O:$Q,3,FALSE)","v":"Iowa"},4,"3rd","LE",0.13541666666666666,"S. Elliott","A. Agozzino","B. Street",null,"V",7,9,21,26,44,null,"H",10,11,17,18,46,null,"Hm","Lake Erie",1014285]
["0 - 1",{"$f":"VLOOKUP(AB4518,[1]AHLSOG!$O:$Q,2,FALSE)","v":"Lehigh Valley"},{"$f":"VLOOKUP(AB4518,[1]AHLSOG!$O:$Q,3,FALSE)","v":"Binghamton"},1,"1st","LV",0.40833333333333338,"K. Goumas","Z. Stortini","B. Manning",null,"V",10,14,21,27,72,null,"H",4,17,28,36,45,null,"Rd","Lehigh",1014286]
[36526,{"$f":"VLOOKUP(AB4523,[1]AHLSOG!$O:$Q,2,FALSE)","v":"Norfolk"},{"$f":"VLOOKUP(AB4523,[1]AHLSOG!$O:$Q,3,FALSE)","v":"Providence"},1,"1st","PRO",0.10277777777777779,"C. Kane","D. Warsofsky","B. Sexton",null,"V",5,6,11,34,38,null,"H",9,10,12,19,23,null,"Rd","Providence",1014287]
[42097,{"$f":"VLOOKUP(AB4529,[1]AHLSOG!$O:$Q,2,FALSE)","v":"Norfolk"},{"$f":"VLOOKUP(AB4529,[1]AHLSOG!$O:$Q,3,FALSE)","v":"Providence"},7,"3rd","PRO",0.81597222222222221,"C. Stuart","A. Khokhlachev","C. Casto",null,"V",5,6,13,17,49,null,"H",9,11,14,22,23,null,"Rd","Providence",1014287]
["0 - 4",{"$f":"VLOOKUP(AB4533,[1]AHLSOG!$O:$Q,2,FALSE)","v":"Oklahoma City"},{"$f":"VLOOKUP(AB4533,[1]AHLSOG!$O:$Q,3,FALSE)","v":"San Antonio"},4,"3rd","OKC",0.4909722222222222,"A. Miller","B. Yakimov","C. Stretch",null,"V",2,6,10,20,26,null,"H",2,14,17,39,40,null,"Hm","Oklahoma City",1014288]
[42066,{"$f":"VLOOKUP(AB4539,[1]AHLSOG!$O:$Q,2,FALSE)","v":"Portland"},{"$f":"VLOOKUP(AB4539,[1]AHLSOG!$O:$Q,3,FALSE)","v":"Manchester"},6,"3rd","POR",0.52152777777777781,"B. Shinnimin","J. Szwarz","J. Hodgman",null,"V",5,7,13,21,25,null,"H",3,8,10,12,24,null,"Hm","Portland",1014289]
["0 - 2",{"$f":"VLOOKUP(AB4542,[1]AHLSOG!$O:$Q,2,FALSE)","v":"Springfield"},{"$f":"VLOOKUP(AB4542,[1]AHLSOG!$O:$Q,3,FALSE)","v":"Bridgeport"},2,"1st","SPR",0.65833333333333333,"S. Collins","L. Adam","M. Hoeffel",null,"V",4,7,17,28,89,null,"H",3,11,17,19,37,null,"Hm","Springfield",1014290]
[42008,{"$f":"VLOOKUP(AB4548,[1]AHLSOG!$O:$Q,2,FALSE)","v":"Syracuse"},{"$f":"VLOOKUP(AB4548,[1]AHLSOG!$O:$Q,3,FALSE)","v":"Utica"},5,"3rd","SYR",0.74236111111111114,"J. Marchessault","S. Koekkoek","V. Namestnikov","EN","V",6,9,16,24,28,37,"H",12,18,24,65,90,null,"Hm","Syracuse",1014291]
[42066,{"$f":"VLOOKUP(AB4554,[1]AHLSOG!$O:$Q,2,FALSE)","v":"Texas"},{"$f":"VLOOKUP(AB4554,[1]AHLSOG!$O:$Q,3,FALSE)","v":"Rockford"},6,"3rd","RFD",0.36805555555555558,"G. Ross","R. Hartman","M. McNeill","PP","V",24,26,28,29,53,null,"H",6,12,23,null,null,null,"Rd","Rockford",1014292]
[36557,{"$f":"VLOOKUP(AB4559,[1]AHLSOG!$O:$Q,2,FALSE)","v":"Worcester"},{"$f":"VLOOKUP(AB4559,[1]AHLSOG!$O:$Q,3,FALSE)","v":"St. John's"},2,"1st","STJ",0.61041666666666672,"C. Balisy","S. Kosmachuk","B. Kichton","PP","V",8,13,24,27,28,null,"H",2,3,22,27,null,null,"Rd","St. John's",1014293]
[42007,{"$f":"VLOOKUP(AB4563,[1]AHLSOG!$O:$Q,2,FALSE)","v":"Albany"},{"$f":"VLOOKUP(AB4563,[1]AHLSOG!$O:$Q,3,FALSE)","v":"Binghamton"},4,"2nd","ALB",0.83124999999999993,"T. Sestito","M. Sislo","B. Burlon","PP","V",7,10,14,57,null,null,"H",2,12,14,18,19,null,"Hm","Albany",1014294]
[42067,{"$f":"VLOOKUP(AB4566,[1]AHLSOG!$O:$Q,2,FALSE)","v":"Albany"},{"$f":"VLOOKUP(AB4566,[1]AHLSOG!$O:$Q,3,FALSE)","v":"Binghamton"},7,"OT","ALB",2.2916666666666669E-2,"M. Sislo","J. Whitney","R. Hrabarenka","PP","V",3,14,57,null,null,null,"H",9,12,19,29,null,null,"Hm","Albany",1014294]
[36708,{"$f":"VLOOKUP(AB4573,[1]AHLSOG!$O:$Q,2,FALSE)","v":"Bridgeport"},{"$f":"VLOOKUP(AB4573,[1]AHLSOG!$O:$Q,3,FALSE)","v":"W-B/Scranton"},7,"3rd","WBS",0.5805555555555556,"J. Archibald","C. Sheary","N. D'Agostino","PP","V",15,17,21,41,43,null,"H",4,16,27,null,null,null,"Rd","W-B/Scranton",1014295]
["0 - 1",{"$f":"VLOOKUP(AB4574,[1]AHLSOG!$O:$Q,2,FALSE)","v":"Chicago"},{"$f":"VLOOKUP(AB4574,[1]AHLSOG!$O:$Q,3,FALSE)","v":"Milwaukee"},1,"1st","CHI",0.21041666666666667,"A. Burish","T. Rattie","P. McRae",null,"V",12,23,25,29,37,null,"H",7,8,10,17,42,null,"Hm","Chicago",1014296]
["0 - 1",{"$f":"VLOOKUP(AB4579,[1]AHLSOG!$O:$Q,2,FALSE)","v":"Hershey"},{"$f":"VLOOKUP(AB4579,[1]AHLSOG!$O:$Q,3,FALSE)","v":"Lehigh Valley"},1,"2nd","HER",0.35000000000000003,"D. Gazley","M. Moore","K. Newbury",null,"V",4,8,21,24,null,null,"H",6,10,11,32,null,null,"Hm","Hershey",1014297]
["0 - 1",{"$f":"VLOOKUP(AB4583,[1]AHLSOG!$O:$Q,2,FALSE)","v":"Portland"},{"$f":"VLOOKUP(AB4583,[1]AHLSOG!$O:$Q,3,FALSE)","v":"Springfield"},1,"2nd","POR",0.33402777777777781,"J. Hodgman","B. Shinnimin","J. Szwarz",null,"V",3,7,12,18,40,null,"H",8,10,12,23,24,null,"Hm","Portland",1014299]
[42037,{"$f":"VLOOKUP(AB4589,[1]AHLSOG!$O:$Q,2,FALSE)","v":"Utica"},{"$f":"VLOOKUP(AB4589,[1]AHLSOG!$O:$Q,3,FALSE)","v":"Hamilton"},4,"3rd","UTI",4.0972222222222222E-2,"C. O'Reilly","A. Grenier","N. Jensen",null,"V",6,7,18,19,40,null,"H",6,16,17,28,40,null,"Hm","Utica",1014300]
[42005,{"$f":"VLOOKUP(AB4596,[1]AHLSOG!$O:$Q,2,FALSE)","v":"Charlotte"},{"$f":"VLOOKUP(AB4596,[1]AHLSOG!$O:$Q,3,FALSE)","v":"San Antonio"},2,"2nd","SA",0.22569444444444445,"R. Grimaldi","Q. Howden",null,null,"V",6,9,15,17,24,null,"H",14,20,21,26,36,null,"Rd","San Antonio",1014301]
[36526,{"$f":"VLOOKUP(AB4599,[1]AHLSOG!$O:$Q,2,FALSE)","v":"Grand Rapids"},{"$f":"VLOOKUP(AB4599,[1]AHLSOG!$O:$Q,3,FALSE)","v":"Oklahoma City"},1,"1st","OKC",7.8472222222222221E-2,"M. Gernat","A. Miller","D. Musil",null,"V",7,17,24,36,40,null,"H",7,8,13,16,23,null,"Rd","Oklahoma City",1014302]
[42009,{"$f":"VLOOKUP(AB4604,[1]AHLSOG!$O:$Q,2,FALSE)","v":"Grand Rapids"},{"$f":"VLOOKUP(AB4604,[1]AHLSOG!$O:$Q,3,FALSE)","v":"Oklahoma City"},6,"3rd","GR",5.5555555555555552E-2,"T. Pulkkinen","M. Zengerle","X. Ouellet",null,"V",17,18,21,23,40,null,"H",2,6,7,10,21,null,"Hm","Grand Rapids",1014302]
[42006,{"$f":"VLOOKUP(AB4609,[1]AHLSOG!$O:$Q,2,FALSE)","v":"Hamilton"},{"$f":"VLOOKUP(AB4609,[1]AHLSOG!$O:$Q,3,FALSE)","v":"Adirondack"},3,"2nd","HAM",0.12291666666666667,"D. Bowman","E. Tangradi","T. Hensick","PP","V",5,9,25,38,null,null,"H",4,5,15,17,25,null,"Hm","Hamilton",1014303]
[42098,{"$f":"VLOOKUP(AB4614,[1]AHLSOG!$O:$Q,2,FALSE)","v":"Hamilton"},{"$f":"VLOOKUP(AB4614,[1]AHLSOG!$O:$Q,3,FALSE)","v":"Adirondack"},8,"3rd","HAM",0.72013888888888899,"D. Carr","C. Hudon","S. Andrighetto",null,"V",4,6,10,26,48,null,"H",4,5,10,11,27,null,"Hm","Hamilton",1014303]
[36526,{"$f":"VLOOKUP(AB4616,[1]AHLSOG!$O:$Q,2,FALSE)","v":"Lake Erie"},{"$f":"VLOOKUP(AB4616,[1]AHLSOG!$O:$Q,3,FALSE)","v":"Milwaukee"},1,"2nd","MIL",3.8194444444444441E-2,"C. Sissons","J. Alm",null,null,"V",15,18,25,51,55,null,"H",10,11,18,47,81,null,"Rd","Milwaukee",1014304]
[42095,{"$f":"VLOOKUP(AB4623,[1]AHLSOG!$O:$Q,2,FALSE)","v":"Norfolk"},{"$f":"VLOOKUP(AB4623,[1]AHLSOG!$O:$Q,3,FALSE)","v":"Binghamton"},5,"3rd","BNG",0.76111111111111107,"D. Hobbs","S. Prince","G. Thompson","EN","V",12,14,16,18,72,null,"H",5,7,11,14,18,20,"Rd","Binghamton",1014305]
[42005,{"$f":"VLOOKUP(AB4629,[1]AHLSOG!$O:$Q,2,FALSE)","v":"Charlotte"},{"$f":"VLOOKUP(AB4629,[1]AHLSOG!$O:$Q,3,FALSE)","v":"San Antonio"},2,"1st","CHA",0.26597222222222222,"T. Carrick","J. Shugg","B. Holmstrom","PP","V",5,6,16,20,null,null,"H",5,7,10,14,17,null,"Hm","Charlotte",1014307]
[42096,{"$f":"VLOOKUP(AB4633,[1]AHLSOG!$O:$Q,2,FALSE)","v":"Charlotte"},{"$f":"VLOOKUP(AB4633,[1]AHLSOG!$O:$Q,3,FALSE)","v":"San Antonio"},6,"3rd","SA",0.35000000000000003,"R. Grimaldi","Q. Howden",null,null,"V",9,15,17,24,25,null,"H",5,9,11,12,24,null,"Rd","San Antonio",1014307]
[42126,{"$f":"VLOOKUP(AB4634,[1]AHLSOG!$O:$Q,2,FALSE)","v":"Charlotte"},{"$f":"VLOOKUP(AB4634,[1]AHLSOG!$O:$Q,3,FALSE)","v":"San Antonio"},7,"3rd","SA",0.82638888888888884,"B. Butler","Q. Howden","M. Corrente","EN","V",7,16,17,24,28,null,"H",7,8,10,11,14,36,"Rd","San Antonio",1014307]
[36526,{"$f":"VLOOKUP(AB4639,[1]AHLSOG!$O:$Q,2,FALSE)","v":"Lake Erie"},{"$f":"VLOOKUP(AB4639,[1]AHLSOG!$O:$Q,3,FALSE)","v":"Chicago"},1,"1st","CHI",0.4236111111111111,"A. Burish","B. Bell","B. Regner","PP","V",10,14,15,17,28,null,"H",4,14,16,27,null,null,"Rd","Chicago",1014309]
["0 - 1",{"$f":"VLOOKUP(AB4646,[1]AHLSOG!$O:$Q,2,FALSE)","v":"Lehigh Valley"},{"$f":"VLOOKUP(AB4646,[1]AHLSOG!$O:$Q,3,FALSE)","v":"Bridgeport"},1,"2nd","LV",9.5833333333333326E-2,"B. Hextall","J. Rosehill","S. Delisle",null,"V",3,24,44,45,63,null,"H",5,7,11,16,37,null,"Rd","Lehigh",1014310]
["0 - 1",{"$f":"VLOOKUP(AB4649,[1]AHLSOG!$O:$Q,2,FALSE)","v":"Manchester"},{"$f":"VLOOKUP(AB4649,[1]AHLSOG!$O:$Q,3,FALSE)","v":"W-B/Scranton"},1,"1st","MCH",0.28055555555555556,"J. Weal",null,null,null,"V",4,8,25,29,43,null,"H",3,4,10,19,22,null,"Hm","Manchester",1014311]
[42039,{"$f":"VLOOKUP(AB4654,[1]AHLSOG!$O:$Q,2,FALSE)","v":"Manchester"},{"$f":"VLOOKUP(AB4654,[1]AHLSOG!$O:$Q,3,FALSE)","v":"W-B/Scranton"},6,"2nd","WBS",0.77708333333333324,"T. Chorney","T. Kuhnhackl","C. Rowney","PP","V",4,6,14,17,19,null,"H",4,7,16,18,null,null,"Rd","W-B/Scranton",1014311]
[42005,{"$f":"VLOOKUP(AB4659,[1]AHLSOG!$O:$Q,2,FALSE)","v":"Milwaukee"},{"$f":"VLOOKUP(AB4659,[1]AHLSOG!$O:$Q,3,FALSE)","v":"Grand Rapids"},2,"2nd","GR",0.77777777777777779,"K. Porter","T. Nosek",null,null,"V",2,7,12,19,29,null,"H",12,15,16,46,55,null,"Rd","Grand Rapids",1014312]
[36557,{"$f":"VLOOKUP(AB4664,[1]AHLSOG!$O:$Q,2,FALSE)","v":"Norfolk"},{"$f":"VLOOKUP(AB4664,[1]AHLSOG!$O:$Q,3,FALSE)","v":"Binghamton"},2,"1st","BNG",0.57708333333333328,"C. Wideman","G. Lepine","R. Dzingel",null,"V",6,7,19,43,57,null,"H",5,6,17,26,27,null,"Rd","Binghamton",1014313]
["0 - 2",{"$f":"VLOOKUP(AB4669,[1]AHLSOG!$O:$Q,2,FALSE)","v":"Providence"},{"$f":"VLOOKUP(AB4669,[1]AHLSOG!$O:$Q,3,FALSE)","v":"Hershey"},2,"2nd","PRO",0.26180555555555557,"S. Griffith",null,null,"PP","V",2,5,19,36,null,null,"H",7,13,17,44,49,null,"Hm","Providence",1014314]
["0 - 2",{"$f":"VLOOKUP(AB4672,[1]AHLSOG!$O:$Q,2,FALSE)","v":"Rockford"},{"$f":"VLOOKUP(AB4672,[1]AHLSOG!$O:$Q,3,FALSE)","v":"Oklahoma City"},2,"1st","RFD",0.48055555555555557,"S. Johns",null,null,null,"V",10,11,19,24,29,null,"H",2,4,14,16,27,null,"Hm","Rockford",1014315]
[42006,{"$f":"VLOOKUP(AB4679,[1]AHLSOG!$O:$Q,2,FALSE)","v":"St. John's"},{"$f":"VLOOKUP(AB4679,[1]AHLSOG!$O:$Q,3,FALSE)","v":"Albany"},3,"OT","STJ",7.0833333333333331E-2,"J. Albert","S. Kosmachuk",null,null,"V",7,12,15,33,null,null,"H",8,16,24,27,null,null,"Hm","St. John's",1014316]
[42064,{"$f":"VLOOKUP(AB4683,[1]AHLSOG!$O:$Q,2,FALSE)","v":"Syracuse"},{"$f":"VLOOKUP(AB4683,[1]AHLSOG!$O:$Q,3,FALSE)","v":"Portland"},4,"1st","POR",0.74652777777777779,"B. Shinnimin","J. Szwarz","J. Hodgman",null,"V",5,10,12,23,24,null,"H",8,19,65,82,92,null,"Rd","Portland",1014317]
[42036,{"$f":"VLOOKUP(AB4689,[1]AHLSOG!$O:$Q,2,FALSE)","v":"Texas"},{"$f":"VLOOKUP(AB4689,[1]AHLSOG!$O:$Q,3,FALSE)","v":"Iowa"},3,"OT","IA",1.1111111111111112E-2,"T. Graovac","J. Blum",null,null,"V",4,7,14,18,null,null,"H",9,18,23,39,null,null,"Rd","Iowa",1014318]
[42008,{"$f":"VLOOKUP(AB4694,[1]AHLSOG!$O:$Q,2,FALSE)","v":"Toronto"},{"$f":"VLOOKUP(AB4694,[1]AHLSOG!$O:$Q,3,FALSE)","v":"Adirondack"},5,"3rd","TOR",0.23680555555555557,"C. Brown","P. Granberg",null,null,"V",4,5,9,25,45,null,"H",8,10,20,29,62,null,"Hm","Toronto",1014319]
[42040,{"$f":"VLOOKUP(AB4696,[1]AHLSOG!$O:$Q,2,FALSE)","v":"Toronto"},{"$f":"VLOOKUP(AB4696,[1]AHLSOG!$O:$Q,3,FALSE)","v":"Adirondack"},7,"3rd","TOR",0.79027777777777775,"B. Froese","S. Carrick",null,"EN","V",5,7,9,13,25,46,"H",2,3,16,41,54,null,"Hm","Toronto",1014319]
[36557,{"$f":"VLOOKUP(AB4699,[1]AHLSOG!$O:$Q,2,FALSE)","v":"Worcester"},{"$f":"VLOOKUP(AB4699,[1]AHLSOG!$O:$Q,3,FALSE)","v":"Hartford"},2,"1st","HFD",0.69097222222222221,"M. Hrivik","M. Bodie","R. Bourque",null,"V",2,5,9,15,39,null,"H",3,14,18,21,26,null,"Rd","Hartford",1014320]
[42040,{"$f":"VLOOKUP(AB4704,[1]AHLSOG!$O:$Q,2,FALSE)","v":"Worcester"},{"$f":"VLOOKUP(AB4704,[1]AHLSOG!$O:$Q,3,FALSE)","v":"Hartford"},7,"2nd","WOR",0.70347222222222217,"M. Haley","W. Coetzee",null,null,"V",4,9,15,28,39,null,"H",5,18,20,21,26,null,"Hm","Worcester",1014320]
[42065,{"$f":"VLOOKUP(AB4709,[1]AHLSOG!$O:$Q,2,FALSE)","v":"Hamilton"},{"$f":"VLOOKUP(AB4709,[1]AHLSOG!$O:$Q,3,FALSE)","v":"Utica"},5,"3rd","UTI",0.30833333333333335,"A. Friesen","A. Pedan","J. Eriksson",null,"V",8,24,29,37,47,null,"H",2,6,18,21,23,null,"Rd","Utica",1014321]
[42065,{"$f":"VLOOKUP(AB4714,[1]AHLSOG!$O:$Q,2,FALSE)","v":"Hartford"},{"$f":"VLOOKUP(AB4714,[1]AHLSOG!$O:$Q,3,FALSE)","v":"Hershey"},5,"1st","HER",0.63402777777777775,"C. Wellman","N. Schmidt","P. Cornet",null,"V",2,6,11,18,21,null,"H",2,15,17,23,44,null,"Rd","Hershey",1014322]
[42005,{"$f":"VLOOKUP(AB4719,[1]AHLSOG!$O:$Q,2,FALSE)","v":"Lehigh Valley"},{"$f":"VLOOKUP(AB4719,[1]AHLSOG!$O:$Q,3,FALSE)","v":"Portland"},2,"1st","LV",0.50555555555555554,"A. Gordon","K. Goumas","A. Fyten",null,"V",5,17,19,28,49,null,"H",7,8,10,11,17,null,"Rd","Lehigh",1014323]
[42128,{"$f":"VLOOKUP(AB4726,[1]AHLSOG!$O:$Q,2,FALSE)","v":"Lehigh Valley"},{"$f":"VLOOKUP(AB4726,[1]AHLSOG!$O:$Q,3,FALSE)","v":"Portland"},9,"3rd","LV",0.82638888888888884,"S. Laughton","K. Goumas","T. Leier",null,"V",8,17,23,25,32,null,"H",2,8,17,21,23,38,"Rd","Lehigh",1014323]
[36586,{"$f":"VLOOKUP(AB4729,[1]AHLSOG!$O:$Q,2,FALSE)","v":"Manchester"},{"$f":"VLOOKUP(AB4729,[1]AHLSOG!$O:$Q,3,FALSE)","v":"W-B/Scranton"},3,"3rd","WBS",0.375,"T. Kuhnhackl",null,null,"SH","V",4,6,14,17,null,null,"H",6,10,18,19,22,null,"Rd","W-B/Scranton",1014324]
[36526,{"$f":"VLOOKUP(AB4735,[1]AHLSOG!$O:$Q,2,FALSE)","v":"Rockford"},{"$f":"VLOOKUP(AB4735,[1]AHLSOG!$O:$Q,3,FALSE)","v":"Grand Rapids"},1,"2nd","GR",0.28819444444444448,"J. Hoggan","N. Paetsch",null,null,"V",4,10,16,17,22,null,"H",4,9,11,16,28,null,"Rd","Grand Rapids",1014326]
[42065,{"$f":"VLOOKUP(AB4739,[1]AHLSOG!$O:$Q,2,FALSE)","v":"Rockford"},{"$f":"VLOOKUP(AB4739,[1]AHLSOG!$O:$Q,3,FALSE)","v":"Grand Rapids"},5,"OT","GR",6.0416666666666667E-2,"A. Miele","N. Jensen","M. Zengerle",null,"V",9,14,18,21,null,null,"H",13,15,26,29,null,null,"Rd","Grand Rapids",1014326]
[42008,{"$f":"VLOOKUP(AB4744,[1]AHLSOG!$O:$Q,2,FALSE)","v":"San Antonio"},{"$f":"VLOOKUP(AB4744,[1]AHLSOG!$O:$Q,3,FALSE)","v":"Iowa"},5,"3rd","SA",0.78194444444444444,"J. McFarland","C. Knight",null,"EN","V",4,9,14,19,25,36,"H",5,7,18,20,24,null,"Hm","San Antonio",1014327]
[36557,{"$f":"VLOOKUP(AB4746,[1]AHLSOG!$O:$Q,2,FALSE)","v":"St. John's"},{"$f":"VLOOKUP(AB4746,[1]AHLSOG!$O:$Q,3,FALSE)","v":"Albany"},2,"2nd","ALB",0.53263888888888888,"R. Boucher",null,null,null,"V",7,14,18,21,33,null,"H",4,16,25,34,49,null,"Rd","Albany",1014328]
[42036,{"$f":"VLOOKUP(AB4754,[1]AHLSOG!$O:$Q,2,FALSE)","v":"Worcester"},{"$f":"VLOOKUP(AB4754,[1]AHLSOG!$O:$Q,3,FALSE)","v":"Bridgeport"},3,"2nd","WOR",0.28402777777777777,"M. Haley","W. Coetzee","T. Oleksuk","PP","V",4,16,20,27,null,null,"H",2,10,18,21,26,null,"Hm","Worcester",1014330]
[42064,{"$f":"VLOOKUP(AB4755,[1]AHLSOG!$O:$Q,2,FALSE)","v":"Worcester"},{"$f":"VLOOKUP(AB4755,[1]AHLSOG!$O:$Q,3,FALSE)","v":"Bridgeport"},4,"2nd","BRI",0.77569444444444446,"D. Jeffrey","J. Persson","S. Collberg",null,"V",3,20,23,24,49,null,"H",3,10,13,21,26,null,"Rd","Bridgeport",1014330]
[42008,{"$f":"VLOOKUP(AB4763,[1]AHLSOG!$O:$Q,2,FALSE)","v":"Binghamton"},{"$f":"VLOOKUP(AB4763,[1]AHLSOG!$O:$Q,3,FALSE)","v":"Syracuse"},5,"3rd","BNG",0.63611111111111118,"D. Grant","P. Mullen","R. Dzingel","PP","V",3,20,24,null,null,null,"H",14,15,43,57,null,null,"Hm","Binghamton",1014331]
[42039,{"$f":"VLOOKUP(AB4764,[1]AHLSOG!$O:$Q,2,FALSE)","v":"Binghamton"},{"$f":"VLOOKUP(AB4764,[1]AHLSOG!$O:$Q,3,FALSE)","v":"Syracuse"},6,"3rd","SYR",0.75347222222222221,"T. Richard","J. Vermin",null,"PP","V",4,6,18,33,71,92,"H",7,14,15,57,null,null,"Rd","Syracuse",1014331]
[42039,{"$f":"VLOOKUP(AB4770,[1]AHLSOG!$O:$Q,2,FALSE)","v":"Charlotte"},{"$f":"VLOOKUP(AB4770,[1]AHLSOG!$O:$Q,3,FALSE)","v":"Norfolk"},6,"3rd","CHA",0.6333333333333333,"A. Aleardi","P. Di Giuseppe","T. Carrick",null,"V",11,14,18,23,25,null,"H",5,8,17,24,28,null,"Hm","Charlotte",1014332]
[42125,{"$f":"VLOOKUP(AB4776,[1]AHLSOG!$O:$Q,2,FALSE)","v":"Hershey"},{"$f":"VLOOKUP(AB4776,[1]AHLSOG!$O:$Q,3,FALSE)","v":"Portland"},6,"3rd","POR",0.69097222222222221,"J. Martinook","A. Bolduc",null,null,"V",5,17,19,20,49,null,"H",2,10,11,24,34,null,"Rd","Portland",1014333]
[42006,{"$f":"VLOOKUP(AB4779,[1]AHLSOG!$O:$Q,2,FALSE)","v":"Manchester"},{"$f":"VLOOKUP(AB4779,[1]AHLSOG!$O:$Q,3,FALSE)","v":"Hartford"},3,"2nd","MCH",8.5416666666666655E-2,"S. Backman","M. Mersch","A. Bodnarchuk",null,"V",2,8,23,24,48,null,"H",5,7,16,18,27,null,"Hm","Manchester",1014335]
[36526,{"$f":"VLOOKUP(AB4785,[1]AHLSOG!$O:$Q,2,FALSE)","v":"Milwaukee"},{"$f":"VLOOKUP(AB4785,[1]AHLSOG!$O:$Q,3,FALSE)","v":"Oklahoma City"},1,"1st","OKC",0.15694444444444444,"J. Williams","D. Simpson","M. Ford",null,"V",6,10,11,18,19,null,"H",2,7,21,29,51,null,"Rd","Oklahoma City",1014336]
[42095,{"$f":"VLOOKUP(AB4789,[1]AHLSOG!$O:$Q,2,FALSE)","v":"Milwaukee"},{"$f":"VLOOKUP(AB4789,[1]AHLSOG!$O:$Q,3,FALSE)","v":"Oklahoma City"},5,"3rd","OKC",0.11944444444444445,"J. Winquist","K. Jones",null,null,"V",3,20,29,36,37,null,"H",22,23,46,47,89,null,"Rd","Oklahoma City",1014336]
[42038,{"$f":"VLOOKUP(AB4795,[1]AHLSOG!$O:$Q,2,FALSE)","v":"Providence"},{"$f":"VLOOKUP(AB4795,[1]AHLSOG!$O:$Q,3,FALSE)","v":"Worcester"},5,"3rd","WOR",0.47361111111111115,"D. DeBlois","K. Stollery","C. Crane",null,"V",8,10,27,33,37,null,"H",7,13,17,44,49,null,"Rd","Worcester",1014337]
[42095,{"$f":"VLOOKUP(AB4800,[1]AHLSOG!$O:$Q,2,FALSE)","v":"Springfield"},{"$f":"VLOOKUP(AB4800,[1]AHLSOG!$O:$Q,3,FALSE)","v":"W-B/Scranton"},5,"3rd","SPR",0.78402777777777777,"D. Tyrell","S. Collins",null,null,"V",8,23,25,29,43,null,"H",4,14,17,18,26,null,"Hm","Springfield",1014338]
[36526,{"$f":"VLOOKUP(AB4804,[1]AHLSOG!$O:$Q,2,FALSE)","v":"Adirondack"},{"$f":"VLOOKUP(AB4804,[1]AHLSOG!$O:$Q,3,FALSE)","v":"Hamilton"},1,"2nd","HAM",0.15694444444444444,"C. Hudon","S. Andrighetto","N. Sorkin",null,"V",4,5,10,21,27,null,"H",10,13,14,26,38,null,"Rd","Hamilton",1014340]
[42064,{"$f":"VLOOKUP(AB4810,[1]AHLSOG!$O:$Q,2,FALSE)","v":"Charlotte"},{"$f":"VLOOKUP(AB4810,[1]AHLSOG!$O:$Q,3,FALSE)","v":"Grand Rapids"},4,"3rd","GR",0.13541666666666666,"N. Jensen","A. Miele","M. Zengerle",null,"V",9,13,14,18,21,null,"H",11,12,18,32,36,null,"Rd","Grand Rapids",1014341]
[42005,{"$f":"VLOOKUP(AB4813,[1]AHLSOG!$O:$Q,2,FALSE)","v":"Oklahoma City"},{"$f":"VLOOKUP(AB4813,[1]AHLSOG!$O:$Q,3,FALSE)","v":"Milwaukee"},2,"2nd","OKC",0.16805555555555554,"M. Ford","J. Williams","D. Simpson",null,"V",3,7,18,22,46,null,"H",6,10,11,17,18,19,"Hm","Oklahoma City",1014342]
[36557,{"$f":"VLOOKUP(AB4819,[1]AHLSOG!$O:$Q,2,FALSE)","v":"Bridgeport"},{"$f":"VLOOKUP(AB4819,[1]AHLSOG!$O:$Q,3,FALSE)","v":"Worcester"},2,"2nd","WOR",0.29791666666666666,"J. McCarthy","M. Haley","T. Fedun",null,"V",4,14,17,18,39,null,"H",4,7,10,17,28,null,"Rd","Worcester",1014343]
[36586,{"$f":"VLOOKUP(AB4820,[1]AHLSOG!$O:$Q,2,FALSE)","v":"Bridgeport"},{"$f":"VLOOKUP(AB4820,[1]AHLSOG!$O:$Q,3,FALSE)","v":"Worcester"},3,"3rd","WOR",0.32361111111111113,"D. Tarasov","J. McCarthy","K. Stollery","PP","V",7,17,19,20,37,null,"H",8,16,21,27,null,null,"Rd","Worcester",1014343]
[42006,{"$f":"VLOOKUP(AB4826,[1]AHLSOG!$O:$Q,2,FALSE)","v":"Chicago"},{"$f":"VLOOKUP(AB4826,[1]AHLSOG!$O:$Q,3,FALSE)","v":"Utica"},3,"OT","CHI",0.17361111111111113,"S. Harper","B. Bell","A. Cracknell",null,"V",2,3,41,47,null,null,"H",5,9,14,22,null,null,"Hm","Chicago",1014344]
[42037,{"$f":"VLOOKUP(AB4830,[1]AHLSOG!$O:$Q,2,FALSE)","v":"San Antonio"},{"$f":"VLOOKUP(AB4830,[1]AHLSOG!$O:$Q,3,FALSE)","v":"Milwaukee"},4,"3rd","MIL",0.49027777777777781,"A. Watson","V. Arvidsson",null,null,"V",22,23,33,47,51,null,"H",6,15,20,25,26,null,"Rd","Milwaukee",1014345]
[42064,{"$f":"VLOOKUP(AB4835,[1]AHLSOG!$O:$Q,2,FALSE)","v":"St. John's"},{"$f":"VLOOKUP(AB4835,[1]AHLSOG!$O:$Q,3,FALSE)","v":"Manchester"},4,"2nd","MCH",0.31805555555555554,"S. Backman","J. Weal","C. Miller",null,"V",4,6,16,19,null,null,"H",4,16,33,49,null,null,"Rd","Manchester",1014346]
[42006,{"$f":"VLOOKUP(AB4839,[1]AHLSOG!$O:$Q,2,FALSE)","v":"Texas"},{"$f":"VLOOKUP(AB4839,[1]AHLSOG!$O:$Q,3,FALSE)","v":"Lake Erie"},3,"2nd","LE",2.0833333333333332E-2,"B. Youds","S. Aittokallio",null,"PP","V",4,10,18,29,46,null,"H",22,23,24,27,null,null,"Rd","Lake Erie",1014347]
[42099,{"$f":"VLOOKUP(AB4845,[1]AHLSOG!$O:$Q,2,FALSE)","v":"Texas"},{"$f":"VLOOKUP(AB4845,[1]AHLSOG!$O:$Q,3,FALSE)","v":"Lake Erie"},9,"3rd","LE",0.65763888888888888,"R. Petryk",null,null,null,"V",4,10,18,24,29,46,"H",18,22,23,28,39,null,"Rd","Lake Erie",1014347]
[42037,{"$f":"VLOOKUP(AB4850,[1]AHLSOG!$O:$Q,2,FALSE)","v":"Toronto"},{"$f":"VLOOKUP(AB4850,[1]AHLSOG!$O:$Q,3,FALSE)","v":"Lehigh Valley"},4,"2nd","TOR",0.74861111111111101,"M. Frattin","W. Nylander","C. Brown","PP","V",2,7,17,37,null,null,"H",4,29,39,41,62,null,"Hm","Toronto",1014348]
[42036,{"$f":"VLOOKUP(AB4856,[1]AHLSOG!$O:$Q,2,FALSE)","v":"W-B/Scranton"},{"$f":"VLOOKUP(AB4856,[1]AHLSOG!$O:$Q,3,FALSE)","v":"Hershey"},3,"2nd","HER",0.50416666666666665,"D. Gazley","K. Newbury","C. Carrick",null,"V",7,10,11,24,25,null,"H",20,21,25,29,43,null,"Rd","Hershey",1014349]
[42067,{"$f":"VLOOKUP(AB4860,[1]AHLSOG!$O:$Q,2,FALSE)","v":"W-B/Scranton"},{"$f":"VLOOKUP(AB4860,[1]AHLSOG!$O:$Q,3,FALSE)","v":"Hershey"},7,"3rd","WBS",0.69236111111111109,"T. Kostopoulos","C. Sheary","B. Goers",null,"V",6,13,21,23,32,null,"H",6,25,29,41,43,null,"Hm","W-B/Scranton",1014349]
[42005,{"$f":"VLOOKUP(AB4863,[1]AHLSOG!$O:$Q,2,FALSE)","v":"Charlotte"},{"$f":"VLOOKUP(AB4863,[1]AHLSOG!$O:$Q,3,FALSE)","v":"Grand Rapids"},2,"3rd","CHA",0.4680555555555555,"J. Shugg","D. Robertson","M. Cornell",null,"V",12,14,16,19,29,null,"H",5,7,8,14,21,null,"Hm","Charlotte",1014350]
[36557,{"$f":"VLOOKUP(AB4870,[1]AHLSOG!$O:$Q,2,FALSE)","v":"Binghamton"},{"$f":"VLOOKUP(AB4870,[1]AHLSOG!$O:$Q,3,FALSE)","v":"Hershey"},2,"1st","HER",0.28611111111111115,"C. Wellman","T. Kennedy","T. Kundratek",null,"V",4,13,18,21,34,null,"H",4,6,12,16,43,null,"Rd","Hershey",1014352]
["0 - 1",{"$f":"VLOOKUP(AB4875,[1]AHLSOG!$O:$Q,2,FALSE)","v":"Providence"},{"$f":"VLOOKUP(AB4875,[1]AHLSOG!$O:$Q,3,FALSE)","v":"Lehigh Valley"},1,"1st","PRO",0.71250000000000002,"C. Stuart","S. Eminger","A. Khokhlachev","PP","V",7,8,38,45,null,null,"H",7,13,17,44,49,null,"Hm","Providence",1014354]
[42005,{"$f":"VLOOKUP(AB4876,[1]AHLSOG!$O:$Q,2,FALSE)","v":"Providence"},{"$f":"VLOOKUP(AB4876,[1]AHLSOG!$O:$Q,3,FALSE)","v":"Lehigh Valley"},2,"1st","LV",0.83194444444444438,"A. Comrie","J. Akeson","A. Gordon","PP","V",10,25,27,38,45,null,"H",8,11,44,null,null,null,"Rd","Lehigh",1014354]
[42037,{"$f":"VLOOKUP(AB4880,[1]AHLSOG!$O:$Q,2,FALSE)","v":"Rochester"},{"$f":"VLOOKUP(AB4880,[1]AHLSOG!$O:$Q,3,FALSE)","v":"Hamilton"},4,"3rd","RCH",0.39652777777777781,"M. Grigorenko","A. McPherson",null,null,"V",4,5,27,28,null,null,"H",24,25,34,47,null,null,"Hm","Rochester",1014355]
[36586,{"$f":"VLOOKUP(AB4885,[1]AHLSOG!$O:$Q,2,FALSE)","v":"San Antonio"},{"$f":"VLOOKUP(AB4885,[1]AHLSOG!$O:$Q,3,FALSE)","v":"Lake Erie"},3,"3rd","LE",0.58333333333333337,"K. Ryan","T. Cheek",null,null,"V",16,17,24,39,46,null,"H",12,16,24,25,44,null,"Rd","Lake Erie",1014356]
[42037,{"$f":"VLOOKUP(AB4893,[1]AHLSOG!$O:$Q,2,FALSE)","v":"St. John's"},{"$f":"VLOOKUP(AB4893,[1]AHLSOG!$O:$Q,3,FALSE)","v":"Manchester"},4,"2nd","MCH",0.6333333333333333,"V. LoVerde","B. O'Neill","A. Bodnarchuk","PP","V",5,7,19,22,27,null,"H",26,28,29,44,null,null,"Rd","Manchester",1014358]
[42066,{"$f":"VLOOKUP(AB4895,[1]AHLSOG!$O:$Q,2,FALSE)","v":"St. John's"},{"$f":"VLOOKUP(AB4895,[1]AHLSOG!$O:$Q,3,FALSE)","v":"Manchester"},6,"3rd","MCH",0.11458333333333333,"J. Weal","M. Mersch","V. LoVerde","PP","V",5,7,19,22,27,null,"H",26,28,29,44,null,null,"Rd","Manchester",1014358]
["0 - 2",{"$f":"VLOOKUP(AB4900,[1]AHLSOG!$O:$Q,2,FALSE)","v":"Syracuse"},{"$f":"VLOOKUP(AB4900,[1]AHLSOG!$O:$Q,3,FALSE)","v":"Adirondack"},2,"1st","SYR",0.23541666666666669,"R. Martindale","J. Marchessault",null,null,"V",5,7,9,15,45,null,"H",3,4,8,18,20,null,"Hm","Syracuse",1014359]
[42098,{"$f":"VLOOKUP(AB4906,[1]AHLSOG!$O:$Q,2,FALSE)","v":"Syracuse"},{"$f":"VLOOKUP(AB4906,[1]AHLSOG!$O:$Q,3,FALSE)","v":"Adirondack"},8,"3rd","SYR",0.11944444444444445,"R. Martindale","S. Koekkoek","D. Broll",null,"V",5,7,9,25,26,null,"H",8,14,15,65,82,null,"Hm","Syracuse",1014359]
["0 - 1",{"$f":"VLOOKUP(AB4910,[1]AHLSOG!$O:$Q,2,FALSE)","v":"Adirondack"},{"$f":"VLOOKUP(AB4910,[1]AHLSOG!$O:$Q,3,FALSE)","v":"Toronto"},1,"1st","ADK",0.15833333333333333,"D. Setoguchi",null,null,null,"V",8,16,41,50,null,null,"H",5,7,10,26,null,null,"Hm","Adirondack",1014360]
[42039,{"$f":"VLOOKUP(AB4915,[1]AHLSOG!$O:$Q,2,FALSE)","v":"Adirondack"},{"$f":"VLOOKUP(AB4915,[1]AHLSOG!$O:$Q,3,FALSE)","v":"Toronto"},6,"2nd","TOR",0.59791666666666665,"J. Leivo","B. Mikkelson",null,null,"V",4,9,14,50,62,null,"H",2,5,9,25,45,null,"Rd","Toronto",1014360]
[36526,{"$f":"VLOOKUP(AB4919,[1]AHLSOG!$O:$Q,2,FALSE)","v":"Albany"},{"$f":"VLOOKUP(AB4919,[1]AHLSOG!$O:$Q,3,FALSE)","v":"Syracuse"},1,"2nd","SYR",0.66319444444444442,"J. Marchessault","R. Martindale","J. Vermin","PP","V",4,6,8,18,92,null,"H",2,10,23,33,null,null,"Rd","Syracuse",1014361]
[42037,{"$f":"VLOOKUP(AB4925,[1]AHLSOG!$O:$Q,2,FALSE)","v":"Binghamton"},{"$f":"VLOOKUP(AB4925,[1]AHLSOG!$O:$Q,3,FALSE)","v":"Hartford"},4,"1st","HFD",0.71458333333333324,"R. Haggerty","C. Allen","M. Kostka","PP","V",4,23,28,29,39,null,"H",6,10,14,19,null,null,"Rd","Hartford",1014362]
["0 - 2",{"$f":"VLOOKUP(AB4930,[1]AHLSOG!$O:$Q,2,FALSE)","v":"Bridgeport"},{"$f":"VLOOKUP(AB4930,[1]AHLSOG!$O:$Q,3,FALSE)","v":"Lehigh Valley"},2,"1st","BRI",0.56388888888888888,"A. Quine","H. Zolnierczyk","C. McMillan",null,"V",2,7,10,17,38,null,"H",3,8,16,22,45,null,"Hm","Bridgeport",1014363]
[36526,{"$f":"VLOOKUP(AB4935,[1]AHLSOG!$O:$Q,2,FALSE)","v":"Chicago"},{"$f":"VLOOKUP(AB4935,[1]AHLSOG!$O:$Q,3,FALSE)","v":"Utica"},1,"1st","UTI",0.37361111111111112,"H. Shinkaruk","A. Grenier","P. Andersson",null,"V",6,9,16,28,40,null,"H",5,9,22,28,37,null,"Rd","Utica",1014364]
[42005,{"$f":"VLOOKUP(AB4940,[1]AHLSOG!$O:$Q,2,FALSE)","v":"Grand Rapids"},{"$f":"VLOOKUP(AB4940,[1]AHLSOG!$O:$Q,3,FALSE)","v":"Rockford"},2,"2nd","GR",0.7368055555555556,"R. Sproul","M. Tvrdon","A. Miele","PP","V",15,18,28,null,null,null,"H",7,8,9,13,21,null,"Hm","Grand Rapids",1014365]
["0 - 1",{"$f":"VLOOKUP(AB4943,[1]AHLSOG!$O:$Q,2,FALSE)","v":"Oklahoma City"},{"$f":"VLOOKUP(AB4943,[1]AHLSOG!$O:$Q,3,FALSE)","v":"Charlotte"},1,"1st","OKC",0.66319444444444442,"B. Hunt","M. Ford","A. Miller","PP","V",5,18,24,32,null,null,"H",11,17,19,29,39,null,"Hm","Oklahoma City",1014366]
[42036,{"$f":"VLOOKUP(AB4945,[1]AHLSOG!$O:$Q,2,FALSE)","v":"Oklahoma City"},{"$f":"VLOOKUP(AB4945,[1]AHLSOG!$O:$Q,3,FALSE)","v":"Charlotte"},3,"3rd","CHA",0.83194444444444438,"Z. Boychuk","T. Carrick","B. Sutter","PP","V",5,11,12,14,28,null,"H",3,11,15,21,null,null,"Rd","Charlotte",1014366]
["0 - 4",{"$f":"VLOOKUP(AB4951,[1]AHLSOG!$O:$Q,2,FALSE)","v":"San Antonio"},{"$f":"VLOOKUP(AB4951,[1]AHLSOG!$O:$Q,3,FALSE)","v":"Lake Erie"},4,"2nd","SA",0.62916666666666665,"G. Wilson","B. Olson",null,null,"V",2,17,24,29,51,null,"H",12,19,25,26,44,null,"Hm","San Antonio",1014368]
[36557,{"$f":"VLOOKUP(AB4956,[1]AHLSOG!$O:$Q,2,FALSE)","v":"Springfield"},{"$f":"VLOOKUP(AB4956,[1]AHLSOG!$O:$Q,3,FALSE)","v":"Providence"},2,"3rd","PRO",0.25208333333333333,"T. Randell",null,null,null,"V",7,11,18,34,44,null,"H",3,9,19,21,37,null,"Rd","Providence",1014369]
[36526,{"$f":"VLOOKUP(AB4960,[1]AHLSOG!$O:$Q,2,FALSE)","v":"St. John's"},{"$f":"VLOOKUP(AB4960,[1]AHLSOG!$O:$Q,3,FALSE)","v":"Manchester"},1,"1st","MCH",0.27916666666666667,"D. Forbort","J. Weal","B. O'Neill",null,"V",3,4,19,22,39,null,"H",7,15,16,34,49,null,"Rd","Manchester",1014370]
["0 - 2",{"$f":"VLOOKUP(AB4966,[1]AHLSOG!$O:$Q,2,FALSE)","v":"Texas"},{"$f":"VLOOKUP(AB4966,[1]AHLSOG!$O:$Q,3,FALSE)","v":"Milwaukee"},2,"1st","TEX",0.26180555555555557,"T. Morin","G. Rallo","S. Valentine",null,"V",2,3,12,18,21,null,"H",2,22,23,27,39,null,"Hm","Texas",1014371]
[42008,{"$f":"VLOOKUP(AB4969,[1]AHLSOG!$O:$Q,2,FALSE)","v":"Texas"},{"$f":"VLOOKUP(AB4969,[1]AHLSOG!$O:$Q,3,FALSE)","v":"Milwaukee"},5,"2nd","TEX",0.48402777777777778,"D. Hulak","G. Rallo","M. Fortunus","PP","V",7,22,23,51,null,null,"H",9,18,23,27,39,null,"Hm","Texas",1014371]
[42007,{"$f":"VLOOKUP(AB4975,[1]AHLSOG!$O:$Q,2,FALSE)","v":"W-B/Scranton"},{"$f":"VLOOKUP(AB4975,[1]AHLSOG!$O:$Q,3,FALSE)","v":"Hershey"},4,"2nd","WBS",0.60138888888888886,"D. Uher","C. Rowney","T. Kuhnhackl",null,"V",4,10,11,24,34,null,"H",4,8,14,17,26,null,"Hm","W-B/Scranton",1014372]
[42065,{"$f":"VLOOKUP(AB4980,[1]AHLSOG!$O:$Q,2,FALSE)","v":"Adirondack"},{"$f":"VLOOKUP(AB4980,[1]AHLSOG!$O:$Q,3,FALSE)","v":"Binghamton"},5,"2nd","BNG",0.30416666666666664,"A. Guptill","B. Robinson","R. Dzingel",null,"V",3,7,10,27,43,null,"H",6,15,20,38,46,null,"Rd","Binghamton",1014373]
[42159,{"$f":"VLOOKUP(AB4985,[1]AHLSOG!$O:$Q,2,FALSE)","v":"Adirondack"},{"$f":"VLOOKUP(AB4985,[1]AHLSOG!$O:$Q,3,FALSE)","v":"Binghamton"},10,"3rd","ADK",2.4999999999999998E-2,"D. Wolf","M. Reinhart","G. Hathaway",null,"V",11,14,15,18,72,null,"H",5,7,9,25,45,null,"Hm","Adirondack",1014373]
[36526,{"$f":"VLOOKUP(AB4991,[1]AHLSOG!$O:$Q,2,FALSE)","v":"Bridgeport"},{"$f":"VLOOKUP(AB4991,[1]AHLSOG!$O:$Q,3,FALSE)","v":"Syracuse"},1,"1st","SYR",0.39652777777777781,"Y. Gourde","S. Koekkoek","C. Kunyk","PP","V",8,14,20,37,65,null,"H",4,10,20,28,null,null,"Rd","Syracuse",1014375]
[36526,{"$f":"VLOOKUP(AB4993,[1]AHLSOG!$O:$Q,2,FALSE)","v":"Chicago"},{"$f":"VLOOKUP(AB4993,[1]AHLSOG!$O:$Q,3,FALSE)","v":"Rockford"},1,"2nd","RFD",0.47430555555555554,"B. Mashinter","V. Pokka","P. Danault",null,"V",18,26,28,29,53,null,"H",2,5,15,20,23,null,"Rd","Rockford",1014376]
[36526,{"$f":"VLOOKUP(AB5000,[1]AHLSOG!$O:$Q,2,FALSE)","v":"Hamilton"},{"$f":"VLOOKUP(AB5000,[1]AHLSOG!$O:$Q,3,FALSE)","v":"Toronto"},1,"1st","TOR",0.72291666666666676,"R. Rupert","C. Brown",null,null,"V",8,10,14,20,29,null,"H",5,10,11,16,27,null,"Rd","Toronto",1014377]
[36557,{"$f":"VLOOKUP(AB5001,[1]AHLSOG!$O:$Q,2,FALSE)","v":"Hamilton"},{"$f":"VLOOKUP(AB5001,[1]AHLSOG!$O:$Q,3,FALSE)","v":"Toronto"},2,"3rd","TOR",0.80138888888888893,"S. Carrick",null,null,"EN","V",8,10,16,41,54,null,"H",10,12,15,25,27,36,"Rd","Toronto",1014377]
[42065,{"$f":"VLOOKUP(AB5006,[1]AHLSOG!$O:$Q,2,FALSE)","v":"Iowa"},{"$f":"VLOOKUP(AB5006,[1]AHLSOG!$O:$Q,3,FALSE)","v":"Utica"},5,"3rd","IA",0.33402777777777781,"C. Bowman","J. Blum","M. Keranen","PP","V",6,16,24,29,null,null,"H",7,14,17,27,36,null,"Hm","Iowa",1014378]
["0 - 4",{"$f":"VLOOKUP(AB5011,[1]AHLSOG!$O:$Q,2,FALSE)","v":"Oklahoma City"},{"$f":"VLOOKUP(AB5011,[1]AHLSOG!$O:$Q,3,FALSE)","v":"Charlotte"},4,"2nd","OKC",0.2722222222222222,"B. Davidson",null,null,null,"V",10,17,20,32,36,null,"H",3,20,36,37,40,null,"Hm","Oklahoma City",1014379]
["0 - 2",{"$f":"VLOOKUP(AB5016,[1]AHLSOG!$O:$Q,2,FALSE)","v":"Providence"},{"$f":"VLOOKUP(AB5016,[1]AHLSOG!$O:$Q,3,FALSE)","v":"Norfolk"},2,"1st","PRO",0.2673611111111111,"S. Griffith","J. Florek","J. Smith","PP","V",7,14,21,24,null,null,"H",3,13,17,18,37,null,"Hm","Providence",1014380]
[42007,{"$f":"VLOOKUP(AB5023,[1]AHLSOG!$O:$Q,2,FALSE)","v":"Texas"},{"$f":"VLOOKUP(AB5023,[1]AHLSOG!$O:$Q,3,FALSE)","v":"Milwaukee"},4,"2nd","TEX",0.1875,"S. Valentine","B. Troock",null,null,"V",23,29,36,47,51,null,"H",2,11,22,25,34,null,"Hm","Texas",1014381]
[42010,{"$f":"VLOOKUP(AB5026,[1]AHLSOG!$O:$Q,2,FALSE)","v":"Texas"},{"$f":"VLOOKUP(AB5026,[1]AHLSOG!$O:$Q,3,FALSE)","v":"Milwaukee"},7,"3rd","TEX",1.1805555555555555E-2,"D. Hulak",null,null,null,"V",7,18,33,46,55,null,"H",23,24,26,27,39,null,"Hm","Texas",1014381]
[36617,{"$f":"VLOOKUP(AB5031,[1]AHLSOG!$O:$Q,2,FALSE)","v":"W-B/Scranton"},{"$f":"VLOOKUP(AB5031,[1]AHLSOG!$O:$Q,3,FALSE)","v":"Hartford"},4,"2nd","HFD",0.7104166666666667,"C. Bourque","R. Bourque",null,null,"V",8,9,15,17,28,null,"H",6,14,17,24,41,null,"Rd","Hartford",1014382]
[36557,{"$f":"VLOOKUP(AB5036,[1]AHLSOG!$O:$Q,2,FALSE)","v":"Oklahoma City"},{"$f":"VLOOKUP(AB5036,[1]AHLSOG!$O:$Q,3,FALSE)","v":"Milwaukee"},2,"2nd","MIL",0.69513888888888886,"M. Van Guilder",null,null,"SH","V",7,23,29,51,null,null,"H",11,17,19,29,39,null,"Rd","Milwaukee",1014383]
["0 - 1",{"$f":"VLOOKUP(AB5041,[1]AHLSOG!$O:$Q,2,FALSE)","v":"San Antonio"},{"$f":"VLOOKUP(AB5041,[1]AHLSOG!$O:$Q,3,FALSE)","v":"Charlotte"},1,"1st","SA",5.4166666666666669E-2,"A. Yogan",null,null,null,"V",7,8,14,20,21,null,"H",5,7,10,16,36,null,"Hm","San Antonio",1014384]
[42006,{"$f":"VLOOKUP(AB5043,[1]AHLSOG!$O:$Q,2,FALSE)","v":"San Antonio"},{"$f":"VLOOKUP(AB5043,[1]AHLSOG!$O:$Q,3,FALSE)","v":"Charlotte"},3,"1st","CHA",0.73819444444444438,"B. Woods","T. Carrick","B. McGinn","PP","V",5,7,10,14,21,null,"H",5,6,12,16,null,null,"Rd","Charlotte",1014384]
[42071,{"$f":"VLOOKUP(AB5051,[1]AHLSOG!$O:$Q,2,FALSE)","v":"San Antonio"},{"$f":"VLOOKUP(AB5051,[1]AHLSOG!$O:$Q,3,FALSE)","v":"Charlotte"},11,"3rd","SA",0.6069444444444444,"M. Corrente","A. Yogan","J. Racine","PP","V",5,7,9,10,null,null,"H",6,10,17,24,36,null,"Hm","San Antonio",1014384]
[42037,{"$f":"VLOOKUP(AB5056,[1]AHLSOG!$O:$Q,2,FALSE)","v":"Texas"},{"$f":"VLOOKUP(AB5056,[1]AHLSOG!$O:$Q,3,FALSE)","v":"Lake Erie"},4,"2nd","LE",0.7895833333333333,"S. Elliott","B. Street","A. Agozzino","PP","V",4,10,18,29,46,null,"H",6,23,24,27,null,null,"Rd","Lake Erie",1014385]
[42037,{"$f":"VLOOKUP(AB5060,[1]AHLSOG!$O:$Q,2,FALSE)","v":"Rockford"},{"$f":"VLOOKUP(AB5060,[1]AHLSOG!$O:$Q,3,FALSE)","v":"Adirondack"},4,"3rd","RFD",0.23333333333333331,"S. Abbott","P. Regin","K. Gotovets",null,"V",5,15,28,34,38,null,"H",9,11,13,29,53,null,"Hm","Rockford",1014387]
[42038,{"$f":"VLOOKUP(AB5061,[1]AHLSOG!$O:$Q,2,FALSE)","v":"Rockford"},{"$f":"VLOOKUP(AB5061,[1]AHLSOG!$O:$Q,3,FALSE)","v":"Adirondack"},5,"3rd","RFD",0.4284722222222222,"S. Abbott","P. Regin",null,null,"V",7,14,15,16,34,null,"H",2,6,11,13,24,null,"Hm","Rockford",1014387]
[42064,{"$f":"VLOOKUP(AB5066,[1]AHLSOG!$O:$Q,2,FALSE)","v":"Worcester"},{"$f":"VLOOKUP(AB5066,[1]AHLSOG!$O:$Q,3,FALSE)","v":"Hershey"},4,"3rd","HER",0.78749999999999998,"J. O'Brien","D. Gazley","C. Schilling","EN","V",5,10,11,14,32,null,"H",17,18,20,21,26,37,"Rd","Hershey",1014388]
[42036,{"$f":"VLOOKUP(AB5073,[1]AHLSOG!$O:$Q,2,FALSE)","v":"Binghamton"},{"$f":"VLOOKUP(AB5073,[1]AHLSOG!$O:$Q,3,FALSE)","v":"Norfolk"},3,"1st","BNG",0.80694444444444446,"S. Prince","C. Schneider","C. Camper","PP","V",3,14,18,24,null,null,"H",6,11,15,18,72,null,"Hm","Binghamton",1014390]
[42066,{"$f":"VLOOKUP(AB5076,[1]AHLSOG!$O:$Q,2,FALSE)","v":"Binghamton"},{"$f":"VLOOKUP(AB5076,[1]AHLSOG!$O:$Q,3,FALSE)","v":"Norfolk"},6,"2nd","BNG",0.8041666666666667,"C. Schneider","S. Prince","F. Claesson",null,"V",5,7,10,12,24,null,"H",3,11,15,18,72,null,"Hm","Binghamton",1014390]
[42007,{"$f":"VLOOKUP(AB5081,[1]AHLSOG!$O:$Q,2,FALSE)","v":"Grand Rapids"},{"$f":"VLOOKUP(AB5081,[1]AHLSOG!$O:$Q,3,FALSE)","v":"Milwaukee"},4,"3rd","GR",0.7993055555555556,"K. Porter",null,null,"EN","V",12,18,23,29,46,51,"H",3,4,9,12,21,null,"Hm","Grand Rapids",1014391]
[42038,{"$f":"VLOOKUP(AB5086,[1]AHLSOG!$O:$Q,2,FALSE)","v":"Hartford"},{"$f":"VLOOKUP(AB5086,[1]AHLSOG!$O:$Q,3,FALSE)","v":"Lehigh Valley"},5,"3rd","LV",0.34652777777777777,"B. Jones","T. Leier","B. Hextall",null,"V",4,7,16,22,23,null,"H",2,4,14,16,21,null,"Rd","Lehigh",1014392]
[42065,{"$f":"VLOOKUP(AB5091,[1]AHLSOG!$O:$Q,2,FALSE)","v":"Oklahoma City"},{"$f":"VLOOKUP(AB5091,[1]AHLSOG!$O:$Q,3,FALSE)","v":"San Antonio"},5,"2nd","SA",3.8194444444444441E-2,"Q. Howden","B. Olson",null,"SH","V",5,6,12,24,null,null,"H",11,19,29,37,40,null,"Rd","San Antonio",1014393]
[42036,{"$f":"VLOOKUP(AB5096,[1]AHLSOG!$O:$Q,2,FALSE)","v":"Portland"},{"$f":"VLOOKUP(AB5096,[1]AHLSOG!$O:$Q,3,FALSE)","v":"Hershey"},3,"2nd","HER",0.34166666666666662,"K. Newbury","M. Moore","C. Brown",null,"V",6,10,11,24,32,null,"H",2,10,24,28,38,null,"Rd","Hershey",1014394]
["0 - 1",{"$f":"VLOOKUP(AB5099,[1]AHLSOG!$O:$Q,2,FALSE)","v":"Providence"},{"$f":"VLOOKUP(AB5099,[1]AHLSOG!$O:$Q,3,FALSE)","v":"Manchester"},1,"1st","PRO",0.43958333333333338,"A. Cherniwchan","R. Flick","C. Kane",null,"V",4,5,13,19,22,null,"H",6,10,38,39,44,null,"Hm","Providence",1014395]
[36526,{"$f":"VLOOKUP(AB5106,[1]AHLSOG!$O:$Q,2,FALSE)","v":"Springfield"},{"$f":"VLOOKUP(AB5106,[1]AHLSOG!$O:$Q,3,FALSE)","v":"Bridgeport"},1,"1st","BRI",0.24652777777777779,"C. McMillan","D. Jeffrey","J. Persson",null,"V",4,10,20,23,45,null,"H",7,9,16,19,20,null,"Rd","Bridgeport",1014396]
["0 - 1",{"$f":"VLOOKUP(AB5110,[1]AHLSOG!$O:$Q,2,FALSE)","v":"Syracuse"},{"$f":"VLOOKUP(AB5110,[1]AHLSOG!$O:$Q,3,FALSE)","v":"W-B/Scranton"},1,"2nd","SYR",0.34513888888888888,"Y. Gourde","J. Dotchin","J. Courtnall",null,"V",4,8,19,29,43,null,"H",3,4,12,14,37,null,"Hm","Syracuse",1014397]
[36526,{"$f":"VLOOKUP(AB5116,[1]AHLSOG!$O:$Q,2,FALSE)","v":"Utica"},{"$f":"VLOOKUP(AB5116,[1]AHLSOG!$O:$Q,3,FALSE)","v":"Rochester"},1,"1st","RCH",0.75416666666666676,"E. Rankin","B. Austin","Mi. Pelech",null,"V",15,47,52,55,null,null,"H",6,40,41,47,null,null,"Rd","Rochester",1014399]
[42039,{"$f":"VLOOKUP(AB5121,[1]AHLSOG!$O:$Q,2,FALSE)","v":"Utica"},{"$f":"VLOOKUP(AB5121,[1]AHLSOG!$O:$Q,3,FALSE)","v":"Rochester"},6,"3rd","UTI",0.48541666666666666,"A. Grenier","B. Sanguinetti","C. O'Reilly","PP","V",10,11,47,52,null,null,"H",6,16,28,47,89,null,"Hm","Utica",1014399]
["0 - 2",{"$f":"VLOOKUP(AB5123,[1]AHLSOG!$O:$Q,2,FALSE)","v":"Worcester"},{"$f":"VLOOKUP(AB5123,[1]AHLSOG!$O:$Q,3,FALSE)","v":"St. John's"},2,"1st","WOR",0.3444444444444445,"B. Lerg","E. Trupp","M. Tennyson",null,"V",8,13,25,26,44,null,"H",3,11,13,20,39,null,"Hm","Worcester",1014400]
["0 - 1",{"$f":"VLOOKUP(AB5126,[1]AHLSOG!$O:$Q,2,FALSE)","v":"Albany"},{"$f":"VLOOKUP(AB5126,[1]AHLSOG!$O:$Q,3,FALSE)","v":"Norfolk"},1,"1st","ALB",0.10902777777777778,"B. Burlon","R. Hrabarenka","R. Pelley",null,"V",20,23,24,28,39,null,"H",7,10,19,24,29,null,"Hm","Albany",1014401]
[42066,{"$f":"VLOOKUP(AB5131,[1]AHLSOG!$O:$Q,2,FALSE)","v":"Albany"},{"$f":"VLOOKUP(AB5131,[1]AHLSOG!$O:$Q,3,FALSE)","v":"Norfolk"},6,"2nd","NOR",0.81458333333333333,"J. Kurtz","M. Bailey",null,null,"V",10,12,23,38,39,null,"H",7,9,15,17,29,null,"Rd","Norfolk",1014401]
[42064,{"$f":"VLOOKUP(AB5136,[1]AHLSOG!$O:$Q,2,FALSE)","v":"Bridgeport"},{"$f":"VLOOKUP(AB5136,[1]AHLSOG!$O:$Q,3,FALSE)","v":"Providence"},4,"3rd","PRO",0.60416666666666663,"E. Werek","L. Arnesson","P. Carey",null,"V",2,16,20,28,37,null,"H",6,21,22,26,27,null,"Rd","Providence",1014402]
[42064,{"$f":"VLOOKUP(AB5141,[1]AHLSOG!$O:$Q,2,FALSE)","v":"Iowa"},{"$f":"VLOOKUP(AB5141,[1]AHLSOG!$O:$Q,3,FALSE)","v":"Charlotte"},4,"3rd","CHA",0.18541666666666667,"J. Shugg","T. Carrick","B. Sutter","PP","V",5,11,12,14,28,null,"H",12,14,21,36,null,null,"Rd","Charlotte",1014403]
[42065,{"$f":"VLOOKUP(AB5147,[1]AHLSOG!$O:$Q,2,FALSE)","v":"Lake Erie"},{"$f":"VLOOKUP(AB5147,[1]AHLSOG!$O:$Q,3,FALSE)","v":"Grand Rapids"},5,"2nd","GR",5.9722222222222225E-2,"T. Nosek",null,null,"SH","V",3,4,19,29,null,null,"H",4,10,18,29,46,null,"Rd","Grand Rapids",1014404]
[36526,{"$f":"VLOOKUP(AB5153,[1]AHLSOG!$O:$Q,2,FALSE)","v":"Milwaukee"},{"$f":"VLOOKUP(AB5153,[1]AHLSOG!$O:$Q,3,FALSE)","v":"Texas"},1,"1st","TEX",0.43541666666666662,"G. Rallo","T. Morin","D. Meech","PP","V",9,18,23,27,39,null,"H",17,18,29,null,null,null,"Rd","Texas",1014406]
[42064,{"$f":"VLOOKUP(AB5156,[1]AHLSOG!$O:$Q,2,FALSE)","v":"Milwaukee"},{"$f":"VLOOKUP(AB5156,[1]AHLSOG!$O:$Q,3,FALSE)","v":"Texas"},4,"2nd","TEX",0.12430555555555556,"M. Fortunus",null,null,null,"V",9,11,18,21,22,null,"H",2,4,22,24,46,null,"Rd","Texas",1014406]
[36526,{"$f":"VLOOKUP(AB5160,[1]AHLSOG!$O:$Q,2,FALSE)","v":"Oklahoma City"},{"$f":"VLOOKUP(AB5160,[1]AHLSOG!$O:$Q,3,FALSE)","v":"Chicago"},1,"3rd","CHI",0.19444444444444445,"B. Ferriero","Y. Veilleux","S. Wannstrom",null,"V",5,6,18,21,38,null,"H",11,14,15,19,24,null,"Rd","Chicago",1014407]
[42037,{"$f":"VLOOKUP(AB5166,[1]AHLSOG!$O:$Q,2,FALSE)","v":"Portland"},{"$f":"VLOOKUP(AB5166,[1]AHLSOG!$O:$Q,3,FALSE)","v":"Hershey"},4,"3rd","POR",0.46875,"B. Shinnimin","J. Szwarz","L. Lessio",null,"V",6,17,20,32,36,null,"H",5,10,20,24,38,null,"Hm","Portland",1014408]
["0 - 3",{"$f":"VLOOKUP(AB5172,[1]AHLSOG!$O:$Q,2,FALSE)","v":"Rockford"},{"$f":"VLOOKUP(AB5172,[1]AHLSOG!$O:$Q,3,FALSE)","v":"Adirondack"},3,"2nd","RFD",0.77500000000000002,"M. Carey","P. Regin","R. Hartman","PP","V",5,7,13,28,null,null,"H",4,11,13,24,27,null,"Hm","Rockford",1014409]
["0 - 4",{"$f":"VLOOKUP(AB5173,[1]AHLSOG!$O:$Q,2,FALSE)","v":"Rockford"},{"$f":"VLOOKUP(AB5173,[1]AHLSOG!$O:$Q,3,FALSE)","v":"Adirondack"},4,"3rd","RFD",0.78749999999999998,"S. Johns",null,null,"EN.SH","V",4,9,14,25,28,45,"H",4,15,18,19,null,null,"Hm","Rockford",1014409]
[42005,{"$f":"VLOOKUP(AB5181,[1]AHLSOG!$O:$Q,2,FALSE)","v":"Springfield"},{"$f":"VLOOKUP(AB5181,[1]AHLSOG!$O:$Q,3,FALSE)","v":"Hartford"},2,"2nd","SPR",0.53888888888888886,"R. Craig","H. Labrie","T. Tynan",null,"V",4,9,24,44,48,null,"H",3,6,12,18,40,null,"Hm","Springfield",1014411]
["0 - 1",{"$f":"VLOOKUP(AB5182,[1]AHLSOG!$O:$Q,2,FALSE)","v":"Syracuse"},{"$f":"VLOOKUP(AB5182,[1]AHLSOG!$O:$Q,3,FALSE)","v":"Utica"},1,"2nd","SYR",0.23680555555555557,"T. Richard","J. Dotchin","D. Blujus","PP","V",6,16,24,40,null,null,"H",4,6,18,71,92,null,"Hm","Syracuse",1014412]
[42006,{"$f":"VLOOKUP(AB5190,[1]AHLSOG!$O:$Q,2,FALSE)","v":"Toronto"},{"$f":"VLOOKUP(AB5190,[1]AHLSOG!$O:$Q,3,FALSE)","v":"Rochester"},3,"3rd","TOR",0.3125,"M. Frattin","B. Mikkelson",null,"PP","V",5,10,34,92,null,null,"H",4,14,20,29,39,null,"Hm","Toronto",1014413]
[42007,{"$f":"VLOOKUP(AB5191,[1]AHLSOG!$O:$Q,2,FALSE)","v":"Toronto"},{"$f":"VLOOKUP(AB5191,[1]AHLSOG!$O:$Q,3,FALSE)","v":"Rochester"},4,"3rd","TOR",0.78125,"G. McKegg",null,null,"EN","V",5,10,11,15,28,34,"H",4,9,25,39,54,null,"Hm","Toronto",1014413]
[42038,{"$f":"VLOOKUP(AB5197,[1]AHLSOG!$O:$Q,2,FALSE)","v":"W-B/Scranton"},{"$f":"VLOOKUP(AB5197,[1]AHLSOG!$O:$Q,3,FALSE)","v":"Binghamton"},5,"2nd","WBS",0.8222222222222223,"S. Wilson","T. Kostopoulos","T. Chorney",null,"V",6,11,15,18,72,null,"H",4,8,19,23,29,null,"Hm","W-B/Scranton",1014414]
["0 - 4",{"$f":"VLOOKUP(AB5203,[1]AHLSOG!$O:$Q,2,FALSE)","v":"Worcester"},{"$f":"VLOOKUP(AB5203,[1]AHLSOG!$O:$Q,3,FALSE)","v":"Lehigh Valley"},4,"2nd","WOR",0.12291666666666667,"R. Carpenter","J. Bonneau","D. Ciampini",null,"V",2,22,24,28,38,null,"H",5,20,22,25,43,null,"Hm","Worcester",1014415]
[36526,{"$f":"VLOOKUP(AB5207,[1]AHLSOG!$O:$Q,2,FALSE)","v":"Albany"},{"$f":"VLOOKUP(AB5207,[1]AHLSOG!$O:$Q,3,FALSE)","v":"Hartford"},1,"1st","HFD",0.79861111111111116,"J. Crabb","C. Allen",null,null,"V",4,14,15,18,55,null,"H",7,9,15,28,33,null,"Rd","Hartford",1014416]
[42039,{"$f":"VLOOKUP(AB5212,[1]AHLSOG!$O:$Q,2,FALSE)","v":"Albany"},{"$f":"VLOOKUP(AB5212,[1]AHLSOG!$O:$Q,3,FALSE)","v":"Hartford"},6,"3rd","ALB",0.31041666666666667,"R. Hrabarenka","B. Burlon","T. Sestito","PP","V",2,14,15,55,null,null,"H",7,9,12,15,29,null,"Hm","Albany",1014416]
["0 - 2",{"$f":"VLOOKUP(AB5216,[1]AHLSOG!$O:$Q,2,FALSE)","v":"Bridgeport"},{"$f":"VLOOKUP(AB5216,[1]AHLSOG!$O:$Q,3,FALSE)","v":"Binghamton"},2,"1st","BRI",0.19305555555555554,"A. Quine","M. Halmo","K. Czuczman",null,"V",16,17,18,20,72,null,"H",8,20,22,24,26,null,"Hm","Bridgeport",1014417]
[42011,{"$f":"VLOOKUP(AB5222,[1]AHLSOG!$O:$Q,2,FALSE)","v":"Bridgeport"},{"$f":"VLOOKUP(AB5222,[1]AHLSOG!$O:$Q,3,FALSE)","v":"Binghamton"},8,"3rd","BRI",0.69027777777777777,"J. Sundstrom","M. Halmo",null,null,"V",2,15,18,43,72,null,"H",4,10,17,26,28,null,"Hm","Bridgeport",1014417]
[42095,{"$f":"VLOOKUP(AB5227,[1]AHLSOG!$O:$Q,2,FALSE)","v":"Grand Rapids"},{"$f":"VLOOKUP(AB5227,[1]AHLSOG!$O:$Q,3,FALSE)","v":"Adirondack"},5,"3rd","ADK",0.75347222222222221,"B. Hanowski","M. Cundari","B. Arnold","EN","V",13,14,28,38,46,null,"H",8,9,12,14,21,29,"Rd","Adirondack",1014418]
[42064,{"$f":"VLOOKUP(AB5231,[1]AHLSOG!$O:$Q,2,FALSE)","v":"Iowa"},{"$f":"VLOOKUP(AB5231,[1]AHLSOG!$O:$Q,3,FALSE)","v":"Charlotte"},4,"2nd","CHA",0.57847222222222217,"J. Shugg","B. Woods","B. McGinn",null,"V",7,8,14,20,21,null,"H",6,9,11,20,41,null,"Rd","Charlotte",1014419]
["0 - 1",{"$f":"VLOOKUP(AB5237,[1]AHLSOG!$O:$Q,2,FALSE)","v":"Manchester"},{"$f":"VLOOKUP(AB5237,[1]AHLSOG!$O:$Q,3,FALSE)","v":"Portland"},1,"2nd","MCH",0.7104166666666667,"S. Backman","C. Miller",null,null,"V",2,7,11,22,23,null,"H",6,16,26,27,55,null,"Hm","Manchester",1014421]
[42007,{"$f":"VLOOKUP(AB5240,[1]AHLSOG!$O:$Q,2,FALSE)","v":"Manchester"},{"$f":"VLOOKUP(AB5240,[1]AHLSOG!$O:$Q,3,FALSE)","v":"Portland"},4,"3rd","MCH",0.79166666666666663,"J. Auger","B. O'Neill",null,null,"V",2,10,20,24,38,null,"H",5,19,22,39,55,null,"Hm","Manchester",1014421]
[42005,{"$f":"VLOOKUP(AB5242,[1]AHLSOG!$O:$Q,2,FALSE)","v":"Oklahoma City"},{"$f":"VLOOKUP(AB5242,[1]AHLSOG!$O:$Q,3,FALSE)","v":"Chicago"},2,"1st","CHI",0.67291666666666661,"T. Rattie",null,null,null,"V",5,6,8,15,17,null,"H",3,8,11,19,29,null,"Rd","Chicago",1014422]
["0 - 2",{"$f":"VLOOKUP(AB5247,[1]AHLSOG!$O:$Q,2,FALSE)","v":"Providence"},{"$f":"VLOOKUP(AB5247,[1]AHLSOG!$O:$Q,3,FALSE)","v":"St. John's"},2,"2nd","PRO",0.70763888888888893,"C. Stuart","T. Cross","A. Khokhlachev",null,"V",21,34,47,49,50,null,"H",3,13,17,29,49,null,"Hm","Providence",1014423]
[42036,{"$f":"VLOOKUP(AB5253,[1]AHLSOG!$O:$Q,2,FALSE)","v":"Rochester"},{"$f":"VLOOKUP(AB5253,[1]AHLSOG!$O:$Q,3,FALSE)","v":"Utica"},3,"2nd","RCH",0.42638888888888887,"Mi. Pelech","A. McPherson","C. Leonard",null,"V",10,17,26,34,40,null,"H",18,24,27,47,55,null,"Hm","Rochester",1014424]
[36557,{"$f":"VLOOKUP(AB5257,[1]AHLSOG!$O:$Q,2,FALSE)","v":"Rockford"},{"$f":"VLOOKUP(AB5257,[1]AHLSOG!$O:$Q,3,FALSE)","v":"Texas"},2,"1st","TEX",0.34097222222222223,"G. Rallo","J. Oleksiak",null,null,"V",6,18,22,23,27,null,"H",5,11,13,15,53,null,"Rd","Texas",1014425]
[42067,{"$f":"VLOOKUP(AB5262,[1]AHLSOG!$O:$Q,2,FALSE)","v":"Rockford"},{"$f":"VLOOKUP(AB5262,[1]AHLSOG!$O:$Q,3,FALSE)","v":"Texas"},7,"3rd","TEX",0.14722222222222223,"B. Troock","D. Shore","D. Meech",null,"V",7,9,11,19,34,null,"H",9,12,22,25,29,null,"Rd","Texas",1014425]
[42037,{"$f":"VLOOKUP(AB5266,[1]AHLSOG!$O:$Q,2,FALSE)","v":"San Antonio"},{"$f":"VLOOKUP(AB5266,[1]AHLSOG!$O:$Q,3,FALSE)","v":"Hamilton"},4,"2nd","SA",0.31666666666666665,"D. Heatley","C. Brickley","R. Grimaldi","PP","V",3,6,18,40,null,null,"H",9,15,23,25,44,null,"Hm","San Antonio",1014426]
[42095,{"$f":"VLOOKUP(AB5272,[1]AHLSOG!$O:$Q,2,FALSE)","v":"Springfield"},{"$f":"VLOOKUP(AB5272,[1]AHLSOG!$O:$Q,3,FALSE)","v":"Syracuse"},5,"3rd","SYR",0.5854166666666667,"M. Angelidis","J. Mormina",null,null,"V",3,9,10,37,82,null,"H",3,9,21,26,40,null,"Rd","Syracuse",1014427]
[42065,{"$f":"VLOOKUP(AB5277,[1]AHLSOG!$O:$Q,2,FALSE)","v":"Iowa"},{"$f":"VLOOKUP(AB5277,[1]AHLSOG!$O:$Q,3,FALSE)","v":"Texas"},5,"2nd","TEX",0.81944444444444453,"M. Fortunus","D. Hulak","G. Rallo","PP","V",18,23,24,27,39,null,"H",7,19,27,41,null,null,"Rd","Texas",1014428]
[36526,{"$f":"VLOOKUP(AB5283,[1]AHLSOG!$O:$Q,2,FALSE)","v":"Lehigh Valley"},{"$f":"VLOOKUP(AB5283,[1]AHLSOG!$O:$Q,3,FALSE)","v":"Syracuse"},1,"1st","SYR",0.49027777777777781,"J. Mormina","C. Kunyk",null,"SH","V",3,14,20,82,null,null,"H",2,4,22,23,24,null,"Rd","Syracuse",1014430]
[36647,{"$f":"VLOOKUP(AB5287,[1]AHLSOG!$O:$Q,2,FALSE)","v":"Lehigh Valley"},{"$f":"VLOOKUP(AB5287,[1]AHLSOG!$O:$Q,3,FALSE)","v":"Syracuse"},5,"3rd","SYR",0.19930555555555554,"J. Courtnall","J. Vermin",null,null,"V",4,12,14,44,92,null,"H",4,21,27,38,45,null,"Rd","Syracuse",1014430]
["0 - 1",{"$f":"VLOOKUP(AB5290,[1]AHLSOG!$O:$Q,2,FALSE)","v":"Milwaukee"},{"$f":"VLOOKUP(AB5290,[1]AHLSOG!$O:$Q,3,FALSE)","v":"San Antonio"},1,"1st","MIL",6.1111111111111116E-2,"A. Watson","J. Pendenza","P. Åberg",null,"V",9,15,23,25,34,null,"H",7,22,46,51,55,null,"Hm","Milwaukee",1014431]
[42005,{"$f":"VLOOKUP(AB5297,[1]AHLSOG!$O:$Q,2,FALSE)","v":"Norfolk"},{"$f":"VLOOKUP(AB5297,[1]AHLSOG!$O:$Q,3,FALSE)","v":"Charlotte"},2,"2nd","NOR",5.8333333333333327E-2,"C. Sarault","M. Sgarbossa",null,null,"V",5,7,14,21,36,null,"H",7,14,17,18,38,null,"Hm","Norfolk",1014432]
["0 - 2",{"$f":"VLOOKUP(AB5302,[1]AHLSOG!$O:$Q,2,FALSE)","v":"Portland"},{"$f":"VLOOKUP(AB5302,[1]AHLSOG!$O:$Q,3,FALSE)","v":"St. John's"},2,"1st","POR",0.35416666666666669,"J. Hodgman","J. Martinook","D. Reese",null,"V",7,25,26,27,28,null,"H",2,12,17,19,28,null,"Hm","Portland",1014433]
["0 - 3",{"$f":"VLOOKUP(AB5303,[1]AHLSOG!$O:$Q,2,FALSE)","v":"Portland"},{"$f":"VLOOKUP(AB5303,[1]AHLSOG!$O:$Q,3,FALSE)","v":"St. John's"},3,"1st","POR",0.44930555555555557,"L. Lessio","P. McNeill","B. Shinnimin","PP","V",19,27,34,49,null,null,"H",8,20,24,38,49,null,"Hm","Portland",1014433]
["0 - 1",{"$f":"VLOOKUP(AB5307,[1]AHLSOG!$O:$Q,2,FALSE)","v":"Rockford"},{"$f":"VLOOKUP(AB5307,[1]AHLSOG!$O:$Q,3,FALSE)","v":"Lake Erie"},1,"1st","RFD",0.44097222222222227,"K. Cumiskey","S. Abbott","K. Seabrook",null,"V",14,16,17,27,39,null,"H",5,11,13,15,53,null,"Hm","Rockford",1014434]
[36526,{"$f":"VLOOKUP(AB5312,[1]AHLSOG!$O:$Q,2,FALSE)","v":"Toronto"},{"$f":"VLOOKUP(AB5312,[1]AHLSOG!$O:$Q,3,FALSE)","v":"Oklahoma City"},1,"1st","OKC",0.29583333333333334,"D. Ling",null,null,null,"V",12,15,19,24,41,null,"H",9,10,11,14,25,null,"Rd","Oklahoma City",1014435]
[36617,{"$f":"VLOOKUP(AB5320,[1]AHLSOG!$O:$Q,2,FALSE)","v":"Adirondack"},{"$f":"VLOOKUP(AB5320,[1]AHLSOG!$O:$Q,3,FALSE)","v":"Rockford"},4,"3rd","RFD",0.12152777777777778,"A. Broadhurst","S. Johns",null,null,"V",4,6,16,24,25,null,"H",6,9,15,34,38,null,"Rd","Rockford",1014436]
[36557,{"$f":"VLOOKUP(AB5322,[1]AHLSOG!$O:$Q,2,FALSE)","v":"Binghamton"},{"$f":"VLOOKUP(AB5322,[1]AHLSOG!$O:$Q,3,FALSE)","v":"W-B/Scranton"},2,"1st","WBS",0.73125000000000007,"J. Megna","A. Ebbett",null,"SH","V",4,6,19,25,null,null,"H",11,15,18,20,72,null,"Rd","W-B/Scranton",1014437]
[42036,{"$f":"VLOOKUP(AB5327,[1]AHLSOG!$O:$Q,2,FALSE)","v":"Charlotte"},{"$f":"VLOOKUP(AB5327,[1]AHLSOG!$O:$Q,3,FALSE)","v":"Lake Erie"},3,"3rd","LE",0.18611111111111112,"S. Elliott","A. Agozzino","B. Street","PP","V",4,10,18,29,46,null,"H",4,5,24,59,null,null,"Rd","Lake Erie",1014438]
["0 - 4",{"$f":"VLOOKUP(AB5333,[1]AHLSOG!$O:$Q,2,FALSE)","v":"Hartford"},{"$f":"VLOOKUP(AB5333,[1]AHLSOG!$O:$Q,3,FALSE)","v":"Providence"},4,"2nd","HFD",0.22708333333333333,"J. Crabb",null,null,"SH","V",3,13,17,19,49,null,"H",8,14,24,55,null,null,"Hm","Hartford",1014439]
[42006,{"$f":"VLOOKUP(AB5337,[1]AHLSOG!$O:$Q,2,FALSE)","v":"Hershey"},{"$f":"VLOOKUP(AB5337,[1]AHLSOG!$O:$Q,3,FALSE)","v":"Manchester"},3,"2nd","HER",0.49513888888888885,"J. O'Brien","D. Orlov","C. Wellman","PP","V",5,26,27,55,null,null,"H",2,14,21,24,28,null,"Hm","Hershey",1014440]
[42066,{"$f":"VLOOKUP(AB5340,[1]AHLSOG!$O:$Q,2,FALSE)","v":"Hershey"},{"$f":"VLOOKUP(AB5340,[1]AHLSOG!$O:$Q,3,FALSE)","v":"Manchester"},6,"2nd","MCH",0.82291666666666663,"Z. O'Brien","N. Dowd","J. Schultz",null,"V",6,10,16,26,55,null,"H",2,6,10,11,20,null,"Rd","Manchester",1014440]
[42064,{"$f":"VLOOKUP(AB5347,[1]AHLSOG!$O:$Q,2,FALSE)","v":"Milwaukee"},{"$f":"VLOOKUP(AB5347,[1]AHLSOG!$O:$Q,3,FALSE)","v":"Chicago"},4,"2nd","CHI",1.8749999999999999E-2,"A. Cracknell","C. Parayko","T. Rattie",null,"V",8,14,15,25,36,null,"H",4,15,18,21,55,null,"Rd","Chicago",1014442]
[42128,{"$f":"VLOOKUP(AB5352,[1]AHLSOG!$O:$Q,2,FALSE)","v":"Milwaukee"},{"$f":"VLOOKUP(AB5352,[1]AHLSOG!$O:$Q,3,FALSE)","v":"Chicago"},9,"3rd","MIL",0.30486111111111108,"M. Liambas","Z. Budish","F. Gaudreau",null,"V",4,6,8,12,15,null,"H",3,7,17,24,89,null,"Hm","Milwaukee",1014442]
[42005,{"$f":"VLOOKUP(AB5357,[1]AHLSOG!$O:$Q,2,FALSE)","v":"Norfolk"},{"$f":"VLOOKUP(AB5357,[1]AHLSOG!$O:$Q,3,FALSE)","v":"Albany"},2,"1st","NOR",0.58680555555555558,"D. Steckel","M. Friberg","S. Noesen",null,"V",2,10,25,26,33,null,"H",5,11,14,38,39,null,"Hm","Norfolk",1014443]
[42097,{"$f":"VLOOKUP(AB5362,[1]AHLSOG!$O:$Q,2,FALSE)","v":"Norfolk"},{"$f":"VLOOKUP(AB5362,[1]AHLSOG!$O:$Q,3,FALSE)","v":"Albany"},7,"OT","ALB",0.27708333333333335,"J. Whitney","R. Pelley",null,null,"V",8,9,10,37,null,null,"H",11,14,18,38,null,null,"Rd","Albany",1014443]
["0 - 1",{"$f":"VLOOKUP(AB5363,[1]AHLSOG!$O:$Q,2,FALSE)","v":"Portland"},{"$f":"VLOOKUP(AB5363,[1]AHLSOG!$O:$Q,3,FALSE)","v":"St. John's"},1,"1st","POR",7.9166666666666663E-2,"L. Lessio","H. Samuelsson","P. McNeill","PP","V",7,19,33,49,null,null,"H",8,17,19,20,38,null,"Hm","Portland",1014444]
[42098,{"$f":"VLOOKUP(AB5370,[1]AHLSOG!$O:$Q,2,FALSE)","v":"Portland"},{"$f":"VLOOKUP(AB5370,[1]AHLSOG!$O:$Q,3,FALSE)","v":"St. John's"},8,"3rd","STJ",0.59305555555555556,"J. Jaffray","K. MacKinnon",null,null,"V",8,15,19,27,33,null,"H",8,22,23,24,32,null,"Rd","St. John's",1014444]
[42100,{"$f":"VLOOKUP(AB5372,[1]AHLSOG!$O:$Q,2,FALSE)","v":"Portland"},{"$f":"VLOOKUP(AB5372,[1]AHLSOG!$O:$Q,3,FALSE)","v":"St. John's"},10,"3rd","POR",0.80694444444444446,"P. Lane","P. Samuelsson",null,"EN.PP","V",8,13,24,34,49,null,"H",8,20,22,24,49,null,"Hm","Portland",1014444]
["0 - 1",{"$f":"VLOOKUP(AB5378,[1]AHLSOG!$O:$Q,2,FALSE)","v":"Springfield"},{"$f":"VLOOKUP(AB5378,[1]AHLSOG!$O:$Q,3,FALSE)","v":"Worcester"},1,"1st","SPR",0.19652777777777777,"L. Adam","S. Milano","D. Tyrell",null,"V",5,7,17,20,22,null,"H",3,4,14,19,29,null,"Hm","Springfield",1014446]
[42096,{"$f":"VLOOKUP(AB5383,[1]AHLSOG!$O:$Q,2,FALSE)","v":"Springfield"},{"$f":"VLOOKUP(AB5383,[1]AHLSOG!$O:$Q,3,FALSE)","v":"Worcester"},6,"2nd","WOR",0.72499999999999998,"E. Trupp","T. Fedun","M. Taormina","PP","V",11,13,14,17,20,null,"H",12,17,26,32,null,null,"Rd","Worcester",1014446]
["0 - 1",{"$f":"VLOOKUP(AB5387,[1]AHLSOG!$O:$Q,2,FALSE)","v":"Syracuse"},{"$f":"VLOOKUP(AB5387,[1]AHLSOG!$O:$Q,3,FALSE)","v":"Bridgeport"},1,"1st","SYR",0.11180555555555556,"M. Angelidis","C. Ashton","Y. Gourde","PP","V",8,17,27,63,null,null,"H",9,10,20,37,65,null,"Hm","Syracuse",1014447]
[42067,{"$f":"VLOOKUP(AB5393,[1]AHLSOG!$O:$Q,2,FALSE)","v":"Syracuse"},{"$f":"VLOOKUP(AB5393,[1]AHLSOG!$O:$Q,3,FALSE)","v":"Bridgeport"},7,"3rd","BRI",0.72638888888888886,"C. McMillan","J. Sundstrom","A. Ness",null,"V",7,17,27,28,45,null,"H",4,8,18,20,65,null,"Rd","Bridgeport",1014447]
["0 - 1",{"$f":"VLOOKUP(AB5396,[1]AHLSOG!$O:$Q,2,FALSE)","v":"Utica"},{"$f":"VLOOKUP(AB5396,[1]AHLSOG!$O:$Q,3,FALSE)","v":"Oklahoma City"},1,"1st","UTI",0.48125000000000001,"C. O'Reilly","H. Shinkaruk","A. Grenier",null,"V",14,15,21,29,36,null,"H",9,16,26,28,44,null,"Hm","Utica",1014449]
["0 - 2",{"$f":"VLOOKUP(AB5403,[1]AHLSOG!$O:$Q,2,FALSE)","v":"Adirondack"},{"$f":"VLOOKUP(AB5403,[1]AHLSOG!$O:$Q,3,FALSE)","v":"Oklahoma City"},2,"1st","ADK",0.34583333333333338,"B. Hanowski","K. Agostino","K. Morrison","PP","V",6,10,12,18,null,null,"H",4,8,9,15,28,null,"Hm","Adirondack",1014450]
["0 - 6",{"$f":"VLOOKUP(AB5407,[1]AHLSOG!$O:$Q,2,FALSE)","v":"Adirondack"},{"$f":"VLOOKUP(AB5407,[1]AHLSOG!$O:$Q,3,FALSE)","v":"Oklahoma City"},6,"2nd","ADK",0.52083333333333337,"K. Morrison",null,null,null,"V",6,21,24,27,36,null,"H",6,8,9,16,28,null,"Hm","Adirondack",1014450]
[36526,{"$f":"VLOOKUP(AB5412,[1]AHLSOG!$O:$Q,2,FALSE)","v":"Binghamton"},{"$f":"VLOOKUP(AB5412,[1]AHLSOG!$O:$Q,3,FALSE)","v":"Bridgeport"},1,"1st","BRI",0.65138888888888891,"M. Halmo",null,null,null,"V",3,8,20,22,26,null,"H",3,7,12,19,37,null,"Rd","Bridgeport",1014451]
[42005,{"$f":"VLOOKUP(AB5418,[1]AHLSOG!$O:$Q,2,FALSE)","v":"Chicago"},{"$f":"VLOOKUP(AB5418,[1]AHLSOG!$O:$Q,3,FALSE)","v":"Milwaukee"},2,"1st","CHI",0.68263888888888891,"T. Rattie","B. Bell","J. Welsh",null,"V",2,4,19,29,46,null,"H",8,14,15,25,36,null,"Hm","Chicago",1014452]
[42037,{"$f":"VLOOKUP(AB5420,[1]AHLSOG!$O:$Q,2,FALSE)","v":"Chicago"},{"$f":"VLOOKUP(AB5420,[1]AHLSOG!$O:$Q,3,FALSE)","v":"Milwaukee"},4,"3rd","MIL",0.7104166666666667,"Z. Budish",null,null,null,"V",7,17,22,24,55,null,"H",4,6,18,21,38,null,"Rd","Milwaukee",1014452]
["0 - 2",{"$f":"VLOOKUP(AB5423,[1]AHLSOG!$O:$Q,2,FALSE)","v":"Hershey"},{"$f":"VLOOKUP(AB5423,[1]AHLSOG!$O:$Q,3,FALSE)","v":"Manchester"},2,"1st","HER",0.36874999999999997,"D. Gazley","C. Carrick","M. Moore",null,"V",5,7,10,14,25,null,"H",6,10,11,24,25,null,"Hm","Hershey",1014453]
[42040,{"$f":"VLOOKUP(AB5428,[1]AHLSOG!$O:$Q,2,FALSE)","v":"Hershey"},{"$f":"VLOOKUP(AB5428,[1]AHLSOG!$O:$Q,3,FALSE)","v":"Manchester"},7,"3rd","MCH",8.2638888888888887E-2,"C. Miller","N. Dowd","S. Backman","PP","V",6,7,10,16,26,null,"H",6,7,17,36,null,null,"Rd","Manchester",1014453]
[36617,{"$f":"VLOOKUP(AB5433,[1]AHLSOG!$O:$Q,2,FALSE)","v":"Iowa"},{"$f":"VLOOKUP(AB5433,[1]AHLSOG!$O:$Q,3,FALSE)","v":"San Antonio"},4,"3rd","SA",0.55763888888888891,"W. Megan","J. Blacker",null,"SH","V",18,25,28,34,null,null,"H",12,17,19,20,27,null,"Rd","San Antonio",1014454]
[42007,{"$f":"VLOOKUP(AB5438,[1]AHLSOG!$O:$Q,2,FALSE)","v":"Lehigh Valley"},{"$f":"VLOOKUP(AB5438,[1]AHLSOG!$O:$Q,3,FALSE)","v":"W-B/Scranton"},4,"3rd","WBS",0.38680555555555557,"A. Ebbett","T. Kostopoulos","S. Wilson",null,"V",4,8,23,25,29,null,"H",5,9,16,24,27,null,"Rd","W-B/Scranton",1014455]
[42064,{"$f":"VLOOKUP(AB5443,[1]AHLSOG!$O:$Q,2,FALSE)","v":"Norfolk"},{"$f":"VLOOKUP(AB5443,[1]AHLSOG!$O:$Q,3,FALSE)","v":"Albany"},4,"3rd","ALB",0.72916666666666663,"P. Thompson","M. Lorito","M. Keenan",null,"V",12,15,28,29,37,null,"H",3,9,17,28,38,null,"Rd","Albany",1014456]
[42126,{"$f":"VLOOKUP(AB5450,[1]AHLSOG!$O:$Q,2,FALSE)","v":"Portland"},{"$f":"VLOOKUP(AB5450,[1]AHLSOG!$O:$Q,3,FALSE)","v":"Providence"},7,"3rd","PRO",0.74930555555555556,"R. Flick","C. Breen",null,"EN","V",3,8,10,13,49,null,"H",2,3,11,12,24,38,"Rd","Providence",1014457]
[42006,{"$f":"VLOOKUP(AB5453,[1]AHLSOG!$O:$Q,2,FALSE)","v":"Springfield"},{"$f":"VLOOKUP(AB5453,[1]AHLSOG!$O:$Q,3,FALSE)","v":"Hartford"},3,"2nd","HFD",0.25972222222222224,"C. Bourque","M. Bodie","O. Lindberg","PP","V",2,17,19,23,24,null,"H",3,4,11,12,null,null,"Rd","Hartford",1014458]
[36526,{"$f":"VLOOKUP(AB5458,[1]AHLSOG!$O:$Q,2,FALSE)","v":"Texas"},{"$f":"VLOOKUP(AB5458,[1]AHLSOG!$O:$Q,3,FALSE)","v":"Grand Rapids"},1,"1st","GR",0.22777777777777777,"L. Aubry","A. Marchenko","K. Porter",null,"V",3,4,12,22,27,null,"H",9,11,34,36,37,null,"Rd","Grand Rapids",1014460]
[42096,{"$f":"VLOOKUP(AB5463,[1]AHLSOG!$O:$Q,2,FALSE)","v":"Texas"},{"$f":"VLOOKUP(AB5463,[1]AHLSOG!$O:$Q,3,FALSE)","v":"Grand Rapids"},6,"3rd","GR",0.36527777777777781,"J. Hoggan","M. Frk","L. Aubry",null,"V",10,14,18,22,27,null,"H",7,11,24,34,39,null,"Rd","Grand Rapids",1014460]
["0 - 1",{"$f":"VLOOKUP(AB5468,[1]AHLSOG!$O:$Q,2,FALSE)","v":"Utica"},{"$f":"VLOOKUP(AB5468,[1]AHLSOG!$O:$Q,3,FALSE)","v":"Rockford"},1,"1st","UTI",0.73125000000000007,"D. Archibald","B. DeFazio","A. Clendening",null,"V",6,15,18,26,28,null,"H",14,24,25,26,44,null,"Hm","Utica",1014462]
["0 - 3",{"$f":"VLOOKUP(AB5470,[1]AHLSOG!$O:$Q,2,FALSE)","v":"Utica"},{"$f":"VLOOKUP(AB5470,[1]AHLSOG!$O:$Q,3,FALSE)","v":"Rockford"},3,"2nd","UTI",0.17152777777777775,"C. Conacher","S. Baertschi","C. O'Reilly","PP","V",4,9,13,28,null,null,"H",6,16,28,47,89,null,"Hm","Utica",1014462]
[42038,{"$f":"VLOOKUP(AB5478,[1]AHLSOG!$O:$Q,2,FALSE)","v":"Worcester"},{"$f":"VLOOKUP(AB5478,[1]AHLSOG!$O:$Q,3,FALSE)","v":"St. John's"},5,"OT","WOR",0.10972222222222222,"M. Taormina","J. McCarthy","R. Carpenter",null,"V",13,27,33,49,null,null,"H",14,17,20,22,null,null,"Hm","Worcester",1014463]
[42065,{"$f":"VLOOKUP(AB5483,[1]AHLSOG!$O:$Q,2,FALSE)","v":"Bridgeport"},{"$f":"VLOOKUP(AB5483,[1]AHLSOG!$O:$Q,3,FALSE)","v":"Hershey"},5,"3rd","BRI",0.15694444444444444,"R. Pulock","A. Quine","D. Jeffrey","PP","V",5,17,32,36,null,null,"H",6,20,22,26,27,null,"Hm","Bridgeport",1014464]
[36557,{"$f":"VLOOKUP(AB5487,[1]AHLSOG!$O:$Q,2,FALSE)","v":"Charlotte"},{"$f":"VLOOKUP(AB5487,[1]AHLSOG!$O:$Q,3,FALSE)","v":"Lake Erie"},2,"1st","LE",0.34375,"S. Elliott","A. Agozzino","B. Youds","PP","V",10,18,29,46,81,null,"H",4,5,7,10,null,null,"Rd","Lake Erie",1014465]
[36586,{"$f":"VLOOKUP(AB5488,[1]AHLSOG!$O:$Q,2,FALSE)","v":"Charlotte"},{"$f":"VLOOKUP(AB5488,[1]AHLSOG!$O:$Q,3,FALSE)","v":"Lake Erie"},3,"1st","LE",0.81874999999999998,"K. Ryan",null,null,"SH","V",2,17,42,46,null,null,"H",5,11,12,14,28,null,"Rd","Lake Erie",1014465]
["0 - 2",{"$f":"VLOOKUP(AB5493,[1]AHLSOG!$O:$Q,2,FALSE)","v":"Chicago"},{"$f":"VLOOKUP(AB5493,[1]AHLSOG!$O:$Q,3,FALSE)","v":"Iowa"},2,"2nd","CHI",0.18333333333333335,"C. Parayko","T. Rattie","B. Bell","PP","V",4,5,12,18,null,null,"H",8,14,15,25,36,null,"Hm","Chicago",1014466]
[42064,{"$f":"VLOOKUP(AB5500,[1]AHLSOG!$O:$Q,2,FALSE)","v":"Lehigh Valley"},{"$f":"VLOOKUP(AB5500,[1]AHLSOG!$O:$Q,3,FALSE)","v":"Manchester"},4,"3rd","MCH",0.81319444444444444,"M. Mersch","S. Backman","J. Schultz","EN","V",7,16,19,27,55,null,"H",10,21,22,24,27,38,"Rd","Manchester",1014467]
[42036,{"$f":"VLOOKUP(AB5503,[1]AHLSOG!$O:$Q,2,FALSE)","v":"Rochester"},{"$f":"VLOOKUP(AB5503,[1]AHLSOG!$O:$Q,3,FALSE)","v":"Toronto"},3,"2nd","TOR",0.33680555555555558,"C. Brown","J. Leivo","T. Brennan","PP","V",3,9,14,29,54,null,"H",23,43,47,52,null,null,"Rd","Toronto",1014468]
["0 - 1",{"$f":"VLOOKUP(AB5508,[1]AHLSOG!$O:$Q,2,FALSE)","v":"Worcester"},{"$f":"VLOOKUP(AB5508,[1]AHLSOG!$O:$Q,3,FALSE)","v":"Springfield"},1,"1st","WOR",0.26041666666666669,"E. Trupp","B. Lerg","D. Ciampini",null,"V",6,9,13,37,38,null,"H",4,11,13,25,37,null,"Hm","Worcester",1014469]
["0 - 1",{"$f":"VLOOKUP(AB5513,[1]AHLSOG!$O:$Q,2,FALSE)","v":"Lake Erie"},{"$f":"VLOOKUP(AB5513,[1]AHLSOG!$O:$Q,3,FALSE)","v":"Milwaukee"},1,"1st","LE",0.15694444444444444,"A. Agozzino","B. Gervais","B. Youds",null,"V",17,22,23,24,47,null,"H",14,17,18,27,29,null,"Hm","Lake Erie",1014470]
[42036,{"$f":"VLOOKUP(AB5518,[1]AHLSOG!$O:$Q,2,FALSE)","v":"Albany"},{"$f":"VLOOKUP(AB5518,[1]AHLSOG!$O:$Q,3,FALSE)","v":"Manchester"},3,"3rd","MCH",0.15833333333333333,"M. Mersch",null,null,"SH","V",7,10,27,33,null,null,"H",7,12,21,23,29,null,"Rd","Manchester",1014471]
["0 - 3",{"$f":"VLOOKUP(AB5524,[1]AHLSOG!$O:$Q,2,FALSE)","v":"Grand Rapids"},{"$f":"VLOOKUP(AB5524,[1]AHLSOG!$O:$Q,3,FALSE)","v":"Rockford"},3,"2nd","GR",4.9305555555555554E-2,"A. Miele","K. Porter","A. Marchenko",null,"V",5,11,13,15,53,null,"H",3,4,8,12,21,null,"Hm","Grand Rapids",1014473]
[42010,{"$f":"VLOOKUP(AB5528,[1]AHLSOG!$O:$Q,2,FALSE)","v":"Grand Rapids"},{"$f":"VLOOKUP(AB5528,[1]AHLSOG!$O:$Q,3,FALSE)","v":"Rockford"},7,"3rd","GR",0.37777777777777777,"A. Marchenko","L. Aubry","L. Ferraro","PP","V",4,8,12,27,null,null,"H",3,4,13,22,29,null,"Hm","Grand Rapids",1014473]
["0 - 1",{"$f":"VLOOKUP(AB5533,[1]AHLSOG!$O:$Q,2,FALSE)","v":"Lake Erie"},{"$f":"VLOOKUP(AB5533,[1]AHLSOG!$O:$Q,3,FALSE)","v":"Milwaukee"},1,"1st","LE",0.82708333333333339,"T. Cheek","M. Schumacher","T. Vincour",null,"V",15,23,46,51,55,null,"H",16,24,39,46,81,null,"Hm","Lake Erie",1014475]
[42065,{"$f":"VLOOKUP(AB5537,[1]AHLSOG!$O:$Q,2,FALSE)","v":"Lake Erie"},{"$f":"VLOOKUP(AB5537,[1]AHLSOG!$O:$Q,3,FALSE)","v":"Milwaukee"},5,"OT","MIL",3.3333333333333333E-2,"K. Fiala","C. Sissons","M. Van Guilder",null,"V",7,12,18,29,null,null,"H",10,18,29,46,null,null,"Rd","Milwaukee",1014475]
[36526,{"$f":"VLOOKUP(AB5543,[1]AHLSOG!$O:$Q,2,FALSE)","v":"Syracuse"},{"$f":"VLOOKUP(AB5543,[1]AHLSOG!$O:$Q,3,FALSE)","v":"Binghamton"},1,"1st","BNG",0.17013888888888887,"S. Prince","C. Camper",null,null,"V",11,15,18,20,72,null,"H",6,12,15,24,33,null,"Rd","Binghamton",1014477]
[36526,{"$f":"VLOOKUP(AB5548,[1]AHLSOG!$O:$Q,2,FALSE)","v":"Texas"},{"$f":"VLOOKUP(AB5548,[1]AHLSOG!$O:$Q,3,FALSE)","v":"Adirondack"},1,"1st","ADK",0.37291666666666662,"B. Arnold","E. Poirier","K. Agostino",null,"V",4,14,15,21,46,null,"H",14,15,19,24,36,null,"Rd","Adirondack",1014478]
[42036,{"$f":"VLOOKUP(AB5550,[1]AHLSOG!$O:$Q,2,FALSE)","v":"Texas"},{"$f":"VLOOKUP(AB5550,[1]AHLSOG!$O:$Q,3,FALSE)","v":"Adirondack"},3,"1st","ADK",0.75347222222222221,"M. Reinhart",null,null,"SH","V",5,7,9,25,null,null,"H",10,18,23,27,37,null,"Rd","Adirondack",1014478]
[42039,{"$f":"VLOOKUP(AB5553,[1]AHLSOG!$O:$Q,2,FALSE)","v":"Texas"},{"$f":"VLOOKUP(AB5553,[1]AHLSOG!$O:$Q,3,FALSE)","v":"Adirondack"},6,"2nd","TEX",0.64166666666666672,"J. Dowling","V. Nichushkin","J. Honka","PP","V",5,7,28,46,null,null,"H",7,10,20,24,37,null,"Hm","Texas",1014478]
["0 - 1",{"$f":"VLOOKUP(AB5559,[1]AHLSOG!$O:$Q,2,FALSE)","v":"Toronto"},{"$f":"VLOOKUP(AB5559,[1]AHLSOG!$O:$Q,3,FALSE)","v":"Chicago"},1,"1st","TOR",0.19444444444444445,"V. Loov","P. Granberg","B. Froese",null,"V",10,14,18,21,36,null,"H",8,11,39,50,54,null,"Hm","Toronto",1014479]
["0 - 2",{"$f":"VLOOKUP(AB5563,[1]AHLSOG!$O:$Q,2,FALSE)","v":"Utica"},{"$f":"VLOOKUP(AB5563,[1]AHLSOG!$O:$Q,3,FALSE)","v":"Rochester"},2,"2nd","UTI",9.0972222222222218E-2,"B. Hutton","A. Biega",null,null,"V",8,10,42,47,52,null,"H",3,9,16,20,25,null,"Hm","Utica",1014480]
[36526,{"$f":"VLOOKUP(AB5568,[1]AHLSOG!$O:$Q,2,FALSE)","v":"W-B/Scranton"},{"$f":"VLOOKUP(AB5568,[1]AHLSOG!$O:$Q,3,FALSE)","v":"Hartford"},1,"1st","HFD",0.16666666666666666,"O. Lindberg","J. Crabb","J. Vaive",null,"V",8,14,23,24,55,null,"H",7,14,17,21,26,null,"Rd","Hartford",1014481]
[42067,{"$f":"VLOOKUP(AB5574,[1]AHLSOG!$O:$Q,2,FALSE)","v":"W-B/Scranton"},{"$f":"VLOOKUP(AB5574,[1]AHLSOG!$O:$Q,3,FALSE)","v":"Hartford"},7,"3rd","HFD",0.81597222222222221,"M. Bodie","C. Bourque","C. Mueller",null,"V",2,17,19,24,28,29,"H",6,8,23,25,29,null,"Rd","Hartford",1014481]
[36526,{"$f":"VLOOKUP(AB5580,[1]AHLSOG!$O:$Q,2,FALSE)","v":"Hamilton"},{"$f":"VLOOKUP(AB5580,[1]AHLSOG!$O:$Q,3,FALSE)","v":"Chicago"},1,"1st","CHI",0.43194444444444446,"M. Paajarvi","J. Hakanpaa","P. Cannone",null,"V",6,9,12,23,36,null,"H",7,9,10,17,25,null,"Rd","Chicago",1014483]
[42095,{"$f":"VLOOKUP(AB5584,[1]AHLSOG!$O:$Q,2,FALSE)","v":"Hamilton"},{"$f":"VLOOKUP(AB5584,[1]AHLSOG!$O:$Q,3,FALSE)","v":"Chicago"},5,"3rd","CHI",0.45277777777777778,"P. Cannone","M. Paajarvi","P. Lindbohm","PP","V",4,9,12,21,23,null,"H",6,18,39,40,null,null,"Rd","Chicago",1014483]
[42005,{"$f":"VLOOKUP(AB5587,[1]AHLSOG!$O:$Q,2,FALSE)","v":"San Antonio"},{"$f":"VLOOKUP(AB5587,[1]AHLSOG!$O:$Q,3,FALSE)","v":"Adirondack"},2,"1st","ADK",0.22152777777777777,"D. Wolf","M. Reinhart","J. Ramage","PP","V",2,7,21,25,45,null,"H",6,7,22,24,null,null,"Rd","Adirondack",1014484]
[42068,{"$f":"VLOOKUP(AB5593,[1]AHLSOG!$O:$Q,2,FALSE)","v":"San Antonio"},{"$f":"VLOOKUP(AB5593,[1]AHLSOG!$O:$Q,3,FALSE)","v":"Adirondack"},8,"3rd","ADK",0.58611111111111114,"M. Tousignant","K. Agostino","M. Cundari","SH","V",5,14,15,16,null,null,"H",7,9,12,23,24,null,"Rd","Adirondack",1014484]
["0 - 1",{"$f":"VLOOKUP(AB5599,[1]AHLSOG!$O:$Q,2,FALSE)","v":"Hershey"},{"$f":"VLOOKUP(AB5599,[1]AHLSOG!$O:$Q,3,FALSE)","v":"Worcester"},1,"1st","HER",0.69305555555555554,"C. Brown","T. Kundratek","C. Stephenson",null,"V",4,7,10,27,43,null,"H",4,17,18,21,24,34,"Hm","Hershey",1013710]
["0 - 1",{"$f":"VLOOKUP(AB5600,[1]AHLSOG!$O:$Q,2,FALSE)","v":"W-B/Scranton"},{"$f":"VLOOKUP(AB5600,[1]AHLSOG!$O:$Q,3,FALSE)","v":"St. John's"},1,"3rd","WBS",0.16597222222222222,"J. Dea","T. Kostopoulos","D. Pouliot","PP","V",13,26,29,34,null,null,"H",8,9,29,43,51,null,"Hm","W-B/Scranton",1013760]
["0 - 1",{"$f":"VLOOKUP(AB5608,[1]AHLSOG!$O:$Q,2,FALSE)","v":"Hartford"},{"$f":"VLOOKUP(AB5608,[1]AHLSOG!$O:$Q,3,FALSE)","v":"Providence"},1,"3rd","HFD",0.66736111111111107,"J. Vaive",null,null,null,"V",7,10,13,44,49,null,"H",2,14,15,23,44,null,"Hm","Hartford",1014062]
[36526,{"$f":"VLOOKUP(AB5609,[1]AHLSOG!$O:$Q,2,FALSE)","v":"Iowa"},{"$f":"VLOOKUP(AB5609,[1]AHLSOG!$O:$Q,3,FALSE)","v":"Rockford"},1,"3rd","RFD",0.55277777777777781,"M. Carey","T. Brennan","G. Ross","PP","V",7,12,26,27,28,null,"H",18,27,41,55,null,null,"Rd","Rockford",1014069]
[36557,{"$f":"VLOOKUP(AB5617,[1]AHLSOG!$O:$Q,2,FALSE)","v":"Iowa"},{"$f":"VLOOKUP(AB5617,[1]AHLSOG!$O:$Q,3,FALSE)","v":"Milwaukee"},2,"1st","MIL",0.72291666666666676,"V. Arvidsson","G. Noonan","B. Leipsic","PP","V",2,33,37,51,89,null,"H",7,12,17,25,null,null,"Rd","Milwaukee",1013505]
[36617,{"$f":"VLOOKUP(AB5619,[1]AHLSOG!$O:$Q,2,FALSE)","v":"Iowa"},{"$f":"VLOOKUP(AB5619,[1]AHLSOG!$O:$Q,3,FALSE)","v":"Milwaukee"},4,"2nd","MIL",0.23750000000000002,"V. Arvidsson","A. Bitetto","A. Watson","PP","V",2,28,33,51,89,null,"H",7,12,19,41,null,null,"Rd","Milwaukee",1013505]
["0 - 2",{"$f":"VLOOKUP(AB5624,[1]AHLSOG!$O:$Q,2,FALSE)","v":"Rochester"},{"$f":"VLOOKUP(AB5624,[1]AHLSOG!$O:$Q,3,FALSE)","v":"Iowa"},2,"1st","RCH",0.76111111111111107,"J. D'Amigo","T. Schaller",null,null,"V",3,7,18,25,29,null,"H",3,11,19,21,34,null,"Hm","Rochester",1013953]
["0 - 2",{"$f":"VLOOKUP(AB5630,[1]AHLSOG!$O:$Q,2,FALSE)","v":"Rockford"},{"$f":"VLOOKUP(AB5630,[1]AHLSOG!$O:$Q,3,FALSE)","v":"Iowa"},2,"2nd","RFD",0.12430555555555556,"D. Rasmussen",null,null,null,"V",9,21,25,39,41,null,"H",4,10,12,24,27,null,"Hm","Rockford",1014034]
[36557,{"$f":"VLOOKUP(AB5634,[1]AHLSOG!$O:$Q,2,FALSE)","v":"Iowa"},{"$f":"VLOOKUP(AB5634,[1]AHLSOG!$O:$Q,3,FALSE)","v":"Grand Rapids"},2,"1st","GR",0.17083333333333331,"A. Mantha",null,null,null,"V",7,8,19,29,44,null,"H",11,17,19,27,44,null,"Rd","Grand Rapids",1014097]
[36526,{"$f":"VLOOKUP(AB5639,[1]AHLSOG!$O:$Q,2,FALSE)","v":"Iowa"},{"$f":"VLOOKUP(AB5639,[1]AHLSOG!$O:$Q,3,FALSE)","v":"Texas"},1,"1st","TEX",0.42083333333333334,"G. Rallo","D. Hulak",null,null,"V",7,9,14,27,39,null,"H",4,5,18,25,36,null,"Rd","Texas",1014196]
["0 - 2",{"$f":"VLOOKUP(AB5642,[1]AHLSOG!$O:$Q,2,FALSE)","v":"Chicago"},{"$f":"VLOOKUP(AB5642,[1]AHLSOG!$O:$Q,3,FALSE)","v":"Lake Erie"},2,"2nd","CHI",0.40069444444444446,"T. Rattie","D. Jaskin","C. Butler","PP","V",3,18,27,45,null,null,"H",8,10,22,25,55,null,"Hm","Chicago",1013489]
["0 - 3",{"$f":"VLOOKUP(AB5643,[1]AHLSOG!$O:$Q,2,FALSE)","v":"Chicago"},{"$f":"VLOOKUP(AB5643,[1]AHLSOG!$O:$Q,3,FALSE)","v":"Lake Erie"},3,"3rd","CHI",0.48888888888888887,"R. Bordson","T. Rattie","D. Shields",null,"V",16,17,28,45,46,null,"H",4,7,8,22,27,null,"Hm","Chicago",1013489]
["0 - 4",{"$f":"VLOOKUP(AB5644,[1]AHLSOG!$O:$Q,2,FALSE)","v":"Chicago"},{"$f":"VLOOKUP(AB5644,[1]AHLSOG!$O:$Q,3,FALSE)","v":"Lake Erie"},4,"3rd","CHI",0.78402777777777777,"P. Cannone","C. Beach","Y. Veilleux",null,"V",11,26,28,43,45,null,"H",4,7,12,18,20,null,"Hm","Chicago",1013489]
[36526,{"$f":"VLOOKUP(AB5645,[1]AHLSOG!$O:$Q,2,FALSE)","v":"Lake Erie"},{"$f":"VLOOKUP(AB5645,[1]AHLSOG!$O:$Q,3,FALSE)","v":"Milwaukee"},1,"1st","MIL",0.70833333333333337,"V. Arvidsson","J. Oligny",null,null,"V",23,33,47,51,89,null,"H",17,18,27,28,41,null,"Rd","Milwaukee",1013856]
[36557,{"$f":"VLOOKUP(AB5646,[1]AHLSOG!$O:$Q,2,FALSE)","v":"Lake Erie"},{"$f":"VLOOKUP(AB5646,[1]AHLSOG!$O:$Q,3,FALSE)","v":"Milwaukee"},2,"2nd","MIL",7.4999999999999997E-2,"B. Leipsic","C. Sissons","J. Oligny",null,"V",18,23,28,36,47,null,"H",3,24,27,43,81,null,"Rd","Milwaukee",1013856]
[36586,{"$f":"VLOOKUP(AB5647,[1]AHLSOG!$O:$Q,2,FALSE)","v":"Lake Erie"},{"$f":"VLOOKUP(AB5647,[1]AHLSOG!$O:$Q,3,FALSE)","v":"Milwaukee"},3,"3rd","MIL",0.27569444444444446,"B. Leipsic","T. Aronson","P. Åberg","PP","V",18,20,23,28,46,null,"H",3,17,37,46,null,null,"Rd","Milwaukee",1013856]
[36617,{"$f":"VLOOKUP(AB5648,[1]AHLSOG!$O:$Q,2,FALSE)","v":"Lake Erie"},{"$f":"VLOOKUP(AB5648,[1]AHLSOG!$O:$Q,3,FALSE)","v":"Milwaukee"},4,"3rd","MIL",0.75763888888888886,"A. Watson","F. Gaudreau","J. Piskula","EN","V",3,7,33,51,89,null,"H",11,14,24,26,37,38,"Rd","Milwaukee",1013856]
[36526,{"$f":"VLOOKUP(AB5649,[1]AHLSOG!$O:$Q,2,FALSE)","v":"Lake Erie"},{"$f":"VLOOKUP(AB5649,[1]AHLSOG!$O:$Q,3,FALSE)","v":"Hamilton"},1,"1st","HAM",0.73472222222222217,"D. Carr","C. Hudon","D. Drewiske",null,"V",4,6,10,11,21,null,"H",10,28,29,37,41,null,"Rd","Hamilton",1014157]
[36557,{"$f":"VLOOKUP(AB5650,[1]AHLSOG!$O:$Q,2,FALSE)","v":"Lake Erie"},{"$f":"VLOOKUP(AB5650,[1]AHLSOG!$O:$Q,3,FALSE)","v":"Hamilton"},2,"3rd","HAM",9.0972222222222218E-2,"D. Carr","B. Shea","M. Bennett",null,"V",9,10,11,16,25,null,"H",14,24,27,41,51,null,"Rd","Hamilton",1014157]
[36586,{"$f":"VLOOKUP(AB5651,[1]AHLSOG!$O:$Q,2,FALSE)","v":"Lake Erie"},{"$f":"VLOOKUP(AB5651,[1]AHLSOG!$O:$Q,3,FALSE)","v":"Hamilton"},3,"3rd","HAM",0.21666666666666667,"N. Sorkin",null,null,null,"V",4,5,12,18,21,null,"H",5,14,28,47,51,null,"Rd","Hamilton",1014157]
[36617,{"$f":"VLOOKUP(AB5652,[1]AHLSOG!$O:$Q,2,FALSE)","v":"Lake Erie"},{"$f":"VLOOKUP(AB5652,[1]AHLSOG!$O:$Q,3,FALSE)","v":"Hamilton"},4,"3rd","HAM",0.4465277777777778,"C. Hudon",null,null,null,"V",9,10,11,16,25,null,"H",5,14,24,47,51,null,"Rd","Hamilton",1014157]
[36526,{"$f":"VLOOKUP(AB5653,[1]AHLSOG!$O:$Q,2,FALSE)","v":"Lake Erie"},{"$f":"VLOOKUP(AB5653,[1]AHLSOG!$O:$Q,3,FALSE)","v":"Milwaukee"},1,"2nd","MIL",3.8194444444444441E-2,"C. Sissons","J. Alm",null,null,"V",15,18,25,51,55,null,"H",10,11,18,47,81,null,"Rd","Milwaukee",1014304]
[36557,{"$f":"VLOOKUP(AB5654,[1]AHLSOG!$O:$Q,2,FALSE)","v":"Lake Erie"},{"$f":"VLOOKUP(AB5654,[1]AHLSOG!$O:$Q,3,FALSE)","v":"Milwaukee"},2,"2nd","MIL",0.36736111111111108,"F. Girard","I. White",null,null,"V",2,15,16,21,46,null,"H",10,18,27,47,81,null,"Rd","Milwaukee",1014304]
[36586,{"$f":"VLOOKUP(AB5655,[1]AHLSOG!$O:$Q,2,FALSE)","v":"Lake Erie"},{"$f":"VLOOKUP(AB5655,[1]AHLSOG!$O:$Q,3,FALSE)","v":"Milwaukee"},3,"3rd","MIL",0.74722222222222223,"J. Pendenza","P. Åberg","A. Watson","EN.PP","V",2,22,23,46,51,null,"H",10,11,12,18,46,null,"Rd","Milwaukee",1014304]
["0 - 1",{"$f":"VLOOKUP(AB5656,[1]AHLSOG!$O:$Q,2,FALSE)","v":"Hershey"},{"$f":"VLOOKUP(AB5656,[1]AHLSOG!$O:$Q,3,FALSE)","v":"Lehigh Valley"},1,"2nd","HER",0.17222222222222225,"P. Cornet","T. Kennedy","C. Schilling",null,"V",3,7,19,25,36,null,"H",5,7,13,14,18,null,"Hm","Hershey",1013553]
["0 - 2",{"$f":"VLOOKUP(AB5657,[1]AHLSOG!$O:$Q,2,FALSE)","v":"Hershey"},{"$f":"VLOOKUP(AB5657,[1]AHLSOG!$O:$Q,3,FALSE)","v":"Lehigh Valley"},2,"2nd","HER",0.48194444444444445,"C. Stephenson","D. Byers","M. Moore","SH","V",4,8,11,12,45,null,"H",4,6,17,38,null,null,"Hm","Hershey",1013553]
["0 - 3",{"$f":"VLOOKUP(AB5658,[1]AHLSOG!$O:$Q,2,FALSE)","v":"Hershey"},{"$f":"VLOOKUP(AB5658,[1]AHLSOG!$O:$Q,3,FALSE)","v":"Lehigh Valley"},3,"3rd","HER",0.81874999999999998,"D. Gazley","K. Newbury","M. Moore","EN","V",4,10,21,23,28,45,"H",4,6,10,11,19,null,"Hm","Hershey",1013553]
["0 - 1",{"$f":"VLOOKUP(AB5659,[1]AHLSOG!$O:$Q,2,FALSE)","v":"Portland"},{"$f":"VLOOKUP(AB5659,[1]AHLSOG!$O:$Q,3,FALSE)","v":"Lehigh Valley"},1,"1st","POR",0.79861111111111116,"J. Szwarz","B. Shinnimin","J. Hanley",null,"V",5,10,21,23,28,null,"H",4,10,23,24,38,null,"Hm","Portland",1013625]
["0 - 2",{"$f":"VLOOKUP(AB5660,[1]AHLSOG!$O:$Q,2,FALSE)","v":"Portland"},{"$f":"VLOOKUP(AB5660,[1]AHLSOG!$O:$Q,3,FALSE)","v":"Lehigh Valley"},2,"2nd","POR",7.2222222222222229E-2,"H. Samuelsson","A. Bolduc","A. Campbell",null,"V",4,5,8,21,24,null,"H",4,17,19,23,49,null,"Hm","Portland",1013625]
["0 - 3",{"$f":"VLOOKUP(AB5661,[1]AHLSOG!$O:$Q,2,FALSE)","v":"Portland"},{"$f":"VLOOKUP(AB5661,[1]AHLSOG!$O:$Q,3,FALSE)","v":"Lehigh Valley"},3,"2nd","POR",0.76180555555555562,"L. Lessio","B. Shinnimin","E. Oberg","PP","V",4,7,11,21,null,null,"H",4,10,24,27,38,null,"Hm","Portland",1013625]
["0 - 1",{"$f":"VLOOKUP(AB5662,[1]AHLSOG!$O:$Q,2,FALSE)","v":"Hershey"},{"$f":"VLOOKUP(AB5662,[1]AHLSOG!$O:$Q,3,FALSE)","v":"Lehigh Valley"},1,"2nd","HER",0.35000000000000003,"D. Gazley","M. Moore","K. Newbury",null,"V",4,8,21,24,null,null,"H",6,10,11,32,null,null,"Hm","Hershey",1014297]
["0 - 2",{"$f":"VLOOKUP(AB5663,[1]AHLSOG!$O:$Q,2,FALSE)","v":"Hershey"},{"$f":"VLOOKUP(AB5663,[1]AHLSOG!$O:$Q,3,FALSE)","v":"Lehigh Valley"},2,"3rd","HER",0.22152777777777777,"S. Galiev","C. Conner","S. Oleksy",null,"V",4,7,10,21,23,null,"H",2,7,13,22,23,null,"Hm","Hershey",1014297]
[36526,{"$f":"VLOOKUP(AB5664,[1]AHLSOG!$O:$Q,2,FALSE)","v":"Lehigh Valley"},{"$f":"VLOOKUP(AB5664,[1]AHLSOG!$O:$Q,3,FALSE)","v":"W-B/Scranton"},1,"2nd","WBS",0.46875,"T. Kostopoulos","M. Marcantuoni",null,null,"V",16,20,21,24,29,null,"H",7,8,10,36,45,null,"Rd","W-B/Scranton",1014420]
[36557,{"$f":"VLOOKUP(AB5665,[1]AHLSOG!$O:$Q,2,FALSE)","v":"Lehigh Valley"},{"$f":"VLOOKUP(AB5665,[1]AHLSOG!$O:$Q,3,FALSE)","v":"W-B/Scranton"},2,"2nd","WBS",0.51250000000000007,"B. Farnham","B. Dumoulin","T. Chorney",null,"V",4,8,15,16,24,null,"H",4,17,27,29,37,null,"Rd","W-B/Scranton",1014420]
[36586,{"$f":"VLOOKUP(AB5666,[1]AHLSOG!$O:$Q,2,FALSE)","v":"Lehigh Valley"},{"$f":"VLOOKUP(AB5666,[1]AHLSOG!$O:$Q,3,FALSE)","v":"W-B/Scranton"},3,"3rd","WBS",0.83263888888888893,"S. Harrington",null,null,"EN","V",4,6,19,23,29,null,"H",2,21,23,28,38,45,"Rd","W-B/Scranton",1014420]
[36526,{"$f":"VLOOKUP(AB5667,[1]AHLSOG!$O:$Q,2,FALSE)","v":"Manchester"},{"$f":"VLOOKUP(AB5667,[1]AHLSOG!$O:$Q,3,FALSE)","v":"Providence"},1,"1st","PRO",7.2916666666666671E-2,"A. Khokhlachev","D. Pastrnak","C. Breen",null,"V",2,8,13,27,32,null,"H",6,14,25,26,33,null,"Rd","Providence",1013543]
[36557,{"$f":"VLOOKUP(AB5668,[1]AHLSOG!$O:$Q,2,FALSE)","v":"Manchester"},{"$f":"VLOOKUP(AB5668,[1]AHLSOG!$O:$Q,3,FALSE)","v":"Providence"},2,"1st","PRO",0.81111111111111101,"C. Cunningham","D. Pastrnak","J. Knight",null,"V",2,3,14,22,32,null,"H",5,10,22,26,33,null,"Rd","Providence",1013543]
[36586,{"$f":"VLOOKUP(AB5669,[1]AHLSOG!$O:$Q,2,FALSE)","v":"Manchester"},{"$f":"VLOOKUP(AB5669,[1]AHLSOG!$O:$Q,3,FALSE)","v":"Providence"},3,"2nd","PRO",0.16388888888888889,"A. Khokhlachev","D. Pastrnak",null,null,"V",2,5,13,27,32,null,"H",6,16,19,22,55,null,"Rd","Providence",1013543]
[36617,{"$f":"VLOOKUP(AB5670,[1]AHLSOG!$O:$Q,2,FALSE)","v":"Manchester"},{"$f":"VLOOKUP(AB5670,[1]AHLSOG!$O:$Q,3,FALSE)","v":"Providence"},4,"2nd","PRO",0.40416666666666662,"C. Cunningham","R. Spooner","M. Lindblad",null,"V",6,8,9,14,24,null,"H",5,23,25,26,27,null,"Rd","Providence",1013543]
[36647,{"$f":"VLOOKUP(AB5671,[1]AHLSOG!$O:$Q,2,FALSE)","v":"Manchester"},{"$f":"VLOOKUP(AB5671,[1]AHLSOG!$O:$Q,3,FALSE)","v":"Providence"},5,"2nd","PRO",0.57152777777777775,"C. Cunningham","R. Spooner",null,null,"V",2,8,14,22,24,null,"H",6,27,37,39,55,null,"Rd","Providence",1013543]
[36526,{"$f":"VLOOKUP(AB5672,[1]AHLSOG!$O:$Q,2,FALSE)","v":"Manchester"},{"$f":"VLOOKUP(AB5672,[1]AHLSOG!$O:$Q,3,FALSE)","v":"Hershey"},1,"2nd","HER",0.48402777777777778,"D. Byers","K. Newbury","C. Wellman",null,"V",5,7,11,21,38,null,"H",6,10,19,39,55,null,"Rd","Hershey",1013570]
[36557,{"$f":"VLOOKUP(AB5673,[1]AHLSOG!$O:$Q,2,FALSE)","v":"Manchester"},{"$f":"VLOOKUP(AB5673,[1]AHLSOG!$O:$Q,3,FALSE)","v":"Hershey"},2,"2nd","HER",0.64861111111111114,"C. Wellman","T. Kundratek","C. Carrick","PP","V",11,13,21,25,34,null,"H",3,10,26,44,null,null,"Rd","Hershey",1013570]
[36586,{"$f":"VLOOKUP(AB5674,[1]AHLSOG!$O:$Q,2,FALSE)","v":"Manchester"},{"$f":"VLOOKUP(AB5674,[1]AHLSOG!$O:$Q,3,FALSE)","v":"Hershey"},3,"2nd","HER",0.81736111111111109,"C. Brown","T. Kennedy","C. Wellman",null,"V",5,7,13,21,24,null,"H",6,27,37,39,55,null,"Rd","Hershey",1013570]
[36617,{"$f":"VLOOKUP(AB5675,[1]AHLSOG!$O:$Q,2,FALSE)","v":"Manchester"},{"$f":"VLOOKUP(AB5675,[1]AHLSOG!$O:$Q,3,FALSE)","v":"Hershey"},4,"3rd","HER",0.83124999999999993,"S. Oleksy","M. Moore",null,"EN","V",5,6,7,13,24,null,"H",10,26,33,37,39,55,"Rd","Hershey",1013570]
[36526,{"$f":"VLOOKUP(AB5676,[1]AHLSOG!$O:$Q,2,FALSE)","v":"Manchester"},{"$f":"VLOOKUP(AB5676,[1]AHLSOG!$O:$Q,3,FALSE)","v":"Portland"},1,"3rd","POR",3.9583333333333331E-2,"J. Southorn","H. Samuelsson","J. Martinook","PP","V",3,4,12,17,19,null,"H",3,6,22,37,null,null,"Rd","Portland",1013921]
[36557,{"$f":"VLOOKUP(AB5677,[1]AHLSOG!$O:$Q,2,FALSE)","v":"Manchester"},{"$f":"VLOOKUP(AB5677,[1]AHLSOG!$O:$Q,3,FALSE)","v":"Portland"},2,"3rd","POR",0.7944444444444444,"P. Samuelsson","C. Trivino",null,"EN.PP","V",2,4,8,18,38,null,"H",3,6,10,16,26,null,"Rd","Portland",1013921]
[36586,{"$f":"VLOOKUP(AB5678,[1]AHLSOG!$O:$Q,2,FALSE)","v":"Manchester"},{"$f":"VLOOKUP(AB5678,[1]AHLSOG!$O:$Q,3,FALSE)","v":"Portland"},3,"3rd","POR",0.82013888888888886,"J. Martinook","J. Hodgman","J. Hache","EN","V",12,17,19,28,38,null,"H",3,10,16,19,22,27,"Rd","Portland",1013921]
[36526,{"$f":"VLOOKUP(AB5679,[1]AHLSOG!$O:$Q,2,FALSE)","v":"Manchester"},{"$f":"VLOOKUP(AB5679,[1]AHLSOG!$O:$Q,3,FALSE)","v":"Worcester"},1,"1st","WOR",2.4999999999999998E-2,"J. McCarthy","R. Carpenter","E. Hayes",null,"V",5,7,17,20,22,null,"H",5,7,10,19,22,null,"Rd","Worcester",1014255]
[36557,{"$f":"VLOOKUP(AB5680,[1]AHLSOG!$O:$Q,2,FALSE)","v":"Manchester"},{"$f":"VLOOKUP(AB5680,[1]AHLSOG!$O:$Q,3,FALSE)","v":"Worcester"},2,"2nd","WOR",0.12361111111111112,"T. Fedun","R. Schwartz","C. Crane",null,"V",5,14,26,27,33,null,"H",4,15,21,24,33,null,"Rd","Worcester",1014255]
[36586,{"$f":"VLOOKUP(AB5681,[1]AHLSOG!$O:$Q,2,FALSE)","v":"Manchester"},{"$f":"VLOOKUP(AB5681,[1]AHLSOG!$O:$Q,3,FALSE)","v":"Worcester"},3,"3rd","WOR",0.76180555555555562,"W. Coetzee","C. Crane","R. Schwartz","EN","V",5,20,26,27,33,null,"H",4,6,10,14,19,22,"Rd","Worcester",1014255]
[36526,{"$f":"VLOOKUP(AB5682,[1]AHLSOG!$O:$Q,2,FALSE)","v":"Manchester"},{"$f":"VLOOKUP(AB5682,[1]AHLSOG!$O:$Q,3,FALSE)","v":"W-B/Scranton"},1,"1st","WBS",0.72916666666666663,"M. Marcantuoni","D. Uher",null,null,"V",16,21,24,26,41,null,"H",6,16,19,22,55,null,"Rd","W-B/Scranton",1014324]
[36557,{"$f":"VLOOKUP(AB5683,[1]AHLSOG!$O:$Q,2,FALSE)","v":"Manchester"},{"$f":"VLOOKUP(AB5683,[1]AHLSOG!$O:$Q,3,FALSE)","v":"W-B/Scranton"},2,"2nd","WBS",0.28125,"C. Sheary","T. Kostopoulos","A. Ebbett",null,"V",4,8,25,29,43,null,"H",6,21,26,39,55,null,"Rd","W-B/Scranton",1014324]
[36586,{"$f":"VLOOKUP(AB5684,[1]AHLSOG!$O:$Q,2,FALSE)","v":"Manchester"},{"$f":"VLOOKUP(AB5684,[1]AHLSOG!$O:$Q,3,FALSE)","v":"W-B/Scranton"},3,"3rd","WBS",0.375,"T. Kuhnhackl",null,null,"SH","V",4,6,14,17,null,null,"H",6,10,18,19,22,null,"Rd","W-B/Scranton",1014324]
[36526,{"$f":"VLOOKUP(AB5685,[1]AHLSOG!$O:$Q,2,FALSE)","v":"Milwaukee"},{"$f":"VLOOKUP(AB5685,[1]AHLSOG!$O:$Q,3,FALSE)","v":"Rockford"},1,"1st","RFD",0.41041666666666665,"G. Ross","P. Danault","V. Pokka",null,"V",7,18,22,26,29,null,"H",10,28,29,37,55,null,"Rd","Rockford",1013773]
[36557,{"$f":"VLOOKUP(AB5686,[1]AHLSOG!$O:$Q,2,FALSE)","v":"Milwaukee"},{"$f":"VLOOKUP(AB5686,[1]AHLSOG!$O:$Q,3,FALSE)","v":"Rockford"},2,"2nd","RFD",0.1125,"M. Carey","T. Brennan","T. Teravainen",null,"V",3,7,21,24,27,null,"H",2,21,23,33,51,null,"Rd","Rockford",1013773]
[36586,{"$f":"VLOOKUP(AB5687,[1]AHLSOG!$O:$Q,2,FALSE)","v":"Milwaukee"},{"$f":"VLOOKUP(AB5687,[1]AHLSOG!$O:$Q,3,FALSE)","v":"Rockford"},3,"3rd","RFD",4.7222222222222221E-2,"D. LeBlanc","C. Bass",null,null,"V",3,14,15,16,21,null,"H",21,33,37,51,55,null,"Rd","Rockford",1013773]
[36617,{"$f":"VLOOKUP(AB5688,[1]AHLSOG!$O:$Q,2,FALSE)","v":"Milwaukee"},{"$f":"VLOOKUP(AB5688,[1]AHLSOG!$O:$Q,3,FALSE)","v":"Rockford"},4,"3rd","RFD",0.6743055555555556,"T. Brennan","P. Danault","A. Clendening",null,"V",2,7,18,22,26,null,"H",18,20,37,46,55,null,"Rd","Rockford",1013773]
[36526,{"$f":"VLOOKUP(AB5689,[1]AHLSOG!$O:$Q,2,FALSE)","v":"Milwaukee"},{"$f":"VLOOKUP(AB5689,[1]AHLSOG!$O:$Q,3,FALSE)","v":"Grand Rapids"},1,"1st","GR",0.41180555555555554,"M. Callahan","T. Pulkkinen",null,null,"V",4,6,15,19,44,null,"H",12,23,25,28,29,null,"Rd","Grand Rapids",1014106]
[36557,{"$f":"VLOOKUP(AB5690,[1]AHLSOG!$O:$Q,2,FALSE)","v":"Milwaukee"},{"$f":"VLOOKUP(AB5690,[1]AHLSOG!$O:$Q,3,FALSE)","v":"Grand Rapids"},2,"1st","GR",0.73055555555555562,"L. Ferraro","N. Paetsch","A. Mantha",null,"V",4,8,14,19,29,null,"H",2,18,23,25,28,null,"Rd","Grand Rapids",1014106]
[36586,{"$f":"VLOOKUP(AB5691,[1]AHLSOG!$O:$Q,2,FALSE)","v":"Milwaukee"},{"$f":"VLOOKUP(AB5691,[1]AHLSOG!$O:$Q,3,FALSE)","v":"Grand Rapids"},3,"2nd","GR",0.11180555555555556,"M. Zengerle","T. Nosek",null,null,"V",4,8,9,14,19,null,"H",3,7,21,25,51,null,"Rd","Grand Rapids",1014106]
[36526,{"$f":"VLOOKUP(AB5692,[1]AHLSOG!$O:$Q,2,FALSE)","v":"Milwaukee"},{"$f":"VLOOKUP(AB5692,[1]AHLSOG!$O:$Q,3,FALSE)","v":"Grand Rapids"},1,"1st","GR",0.68125000000000002,"M. Tvrdon","S. Czarnowczan","A. Miele",null,"V",2,7,9,13,21,null,"H",3,21,23,29,36,null,"Rd","Grand Rapids",1014271]
[36557,{"$f":"VLOOKUP(AB5693,[1]AHLSOG!$O:$Q,2,FALSE)","v":"Milwaukee"},{"$f":"VLOOKUP(AB5693,[1]AHLSOG!$O:$Q,3,FALSE)","v":"Grand Rapids"},2,"3rd","GR",0.19027777777777777,"T. Nosek",null,null,"SH","V",4,14,19,23,null,null,"H",2,18,23,25,33,null,"Rd","Grand Rapids",1014271]
[36586,{"$f":"VLOOKUP(AB5694,[1]AHLSOG!$O:$Q,2,FALSE)","v":"Milwaukee"},{"$f":"VLOOKUP(AB5694,[1]AHLSOG!$O:$Q,3,FALSE)","v":"Grand Rapids"},3,"3rd","GR",0.46388888888888885,"J. Hoggan","X. Ouellet","N. Paetsch",null,"V",4,10,16,22,55,null,"H",3,12,18,25,55,null,"Rd","Grand Rapids",1014271]
[36617,{"$f":"VLOOKUP(AB5695,[1]AHLSOG!$O:$Q,2,FALSE)","v":"Milwaukee"},{"$f":"VLOOKUP(AB5695,[1]AHLSOG!$O:$Q,3,FALSE)","v":"Grand Rapids"},4,"3rd","GR",0.78333333333333333,"L. Ferraro",null,null,"EN","V",12,14,18,19,29,null,"H",12,18,23,25,33,51,"Rd","Grand Rapids",1014271]
["0 - 1",{"$f":"VLOOKUP(AB5696,[1]AHLSOG!$O:$Q,2,FALSE)","v":"Providence"},{"$f":"VLOOKUP(AB5696,[1]AHLSOG!$O:$Q,3,FALSE)","v":"Norfolk"},1,"1st","PRO",0.39861111111111108,"J. Caron","B. Youds","T. Cross","PP","V",2,9,19,34,null,null,"H",2,3,19,20,27,null,"Hm","Providence",1013531]
["0 - 2",{"$f":"VLOOKUP(AB5697,[1]AHLSOG!$O:$Q,2,FALSE)","v":"Providence"},{"$f":"VLOOKUP(AB5697,[1]AHLSOG!$O:$Q,3,FALSE)","v":"Norfolk"},2,"2nd","PRO",0.24027777777777778,"B. Ferlin","R. Spooner","C. Cunningham",null,"V",5,6,17,19,26,null,"H",3,5,14,19,24,null,"Hm","Providence",1013531]
["0 - 3",{"$f":"VLOOKUP(AB5698,[1]AHLSOG!$O:$Q,2,FALSE)","v":"Providence"},{"$f":"VLOOKUP(AB5698,[1]AHLSOG!$O:$Q,3,FALSE)","v":"Norfolk"},3,"2nd","PRO",0.52569444444444446,"M. Lindblad","J. Florek","B. Youds","SH","V",8,9,15,20,39,null,"H",2,3,9,18,null,null,"Hm","Providence",1013531]
["0 - 4",{"$f":"VLOOKUP(AB5699,[1]AHLSOG!$O:$Q,2,FALSE)","v":"Providence"},{"$f":"VLOOKUP(AB5699,[1]AHLSOG!$O:$Q,3,FALSE)","v":"Norfolk"},4,"3rd","PRO",0.18541666666666667,"J. Caron","C. Breen","A. Khokhlachev",null,"V",2,8,15,25,39,null,"H",2,8,13,27,32,null,"Hm","Providence",1013531]
["0 - 1",{"$f":"VLOOKUP(AB5700,[1]AHLSOG!$O:$Q,2,FALSE)","v":"Hartford"},{"$f":"VLOOKUP(AB5700,[1]AHLSOG!$O:$Q,3,FALSE)","v":"Norfolk"},1,"1st","HFD",0.39027777777777778,"D. Kristo","C. Allen",null,null,"V",3,10,19,25,28,null,"H",4,15,25,29,74,null,"Hm","Hartford",1013552]
["0 - 2",{"$f":"VLOOKUP(AB5701,[1]AHLSOG!$O:$Q,2,FALSE)","v":"Hartford"},{"$f":"VLOOKUP(AB5701,[1]AHLSOG!$O:$Q,3,FALSE)","v":"Norfolk"},2,"2nd","HFD",0.14027777777777778,"R. Bourque","M. Bodie","D. McIlrath",null,"V",3,5,15,18,21,null,"H",2,8,9,10,39,null,"Hm","Hartford",1013552]
["0 - 3",{"$f":"VLOOKUP(AB5702,[1]AHLSOG!$O:$Q,2,FALSE)","v":"Hartford"},{"$f":"VLOOKUP(AB5702,[1]AHLSOG!$O:$Q,3,FALSE)","v":"Norfolk"},3,"3rd","HFD",0.45,"J. Vaive","D. Kristo","J. Fast","PP","V",3,4,8,15,null,null,"H",4,22,23,27,29,null,"Hm","Hartford",1013552]
[36526,{"$f":"VLOOKUP(AB5703,[1]AHLSOG!$O:$Q,2,FALSE)","v":"Norfolk"},{"$f":"VLOOKUP(AB5703,[1]AHLSOG!$O:$Q,3,FALSE)","v":"Hartford"},1,"2nd","HFD",0.54583333333333328,"C. Bourque","O. Lindberg","M. Kostka","PP","V",6,17,24,28,29,null,"H",2,8,29,39,null,null,"Rd","Hartford",1014046]
[36557,{"$f":"VLOOKUP(AB5704,[1]AHLSOG!$O:$Q,2,FALSE)","v":"Norfolk"},{"$f":"VLOOKUP(AB5704,[1]AHLSOG!$O:$Q,3,FALSE)","v":"Hartford"},2,"3rd","HFD",7.4305555555555555E-2,"M. Hrivik","R. Haggerty","T. Brown",null,"V",2,15,18,39,44,null,"H",6,14,22,28,29,null,"Rd","Hartford",1014046]
[36586,{"$f":"VLOOKUP(AB5705,[1]AHLSOG!$O:$Q,2,FALSE)","v":"Norfolk"},{"$f":"VLOOKUP(AB5705,[1]AHLSOG!$O:$Q,3,FALSE)","v":"Hartford"},3,"3rd","HFD",0.78194444444444444,"C. Mueller",null,null,"EN","V",9,19,20,28,29,null,"H",2,14,16,25,39,51,"Rd","Hartford",1014046]
["0 - 1",{"$f":"VLOOKUP(AB5706,[1]AHLSOG!$O:$Q,2,FALSE)","v":"Hershey"},{"$f":"VLOOKUP(AB5706,[1]AHLSOG!$O:$Q,3,FALSE)","v":"Norfolk"},1,"3rd","HER",0.4680555555555555,"C. Stephenson","C. Wellman","P. Cornet",null,"V",3,5,12,17,23,null,"H",6,17,18,21,32,null,"Hm","Hershey",1014128]
["0 - 2",{"$f":"VLOOKUP(AB5707,[1]AHLSOG!$O:$Q,2,FALSE)","v":"Hershey"},{"$f":"VLOOKUP(AB5707,[1]AHLSOG!$O:$Q,3,FALSE)","v":"Norfolk"},2,"3rd","HER",0.79027777777777775,"K. Newbury","C. Wellman","D. Byers","EN","V",3,8,14,16,21,23,"H",5,7,11,21,38,null,"Hm","Hershey",1014128]
[36526,{"$f":"VLOOKUP(AB5708,[1]AHLSOG!$O:$Q,2,FALSE)","v":"Norfolk"},{"$f":"VLOOKUP(AB5708,[1]AHLSOG!$O:$Q,3,FALSE)","v":"Worcester"},1,"1st","WOR",0.15277777777777776,"J. McCarthy","E. Hayes","R. Carpenter",null,"V",4,7,17,20,22,null,"H",3,19,21,23,39,null,"Rd","Worcester",1014159]
[36557,{"$f":"VLOOKUP(AB5709,[1]AHLSOG!$O:$Q,2,FALSE)","v":"Norfolk"},{"$f":"VLOOKUP(AB5709,[1]AHLSOG!$O:$Q,3,FALSE)","v":"Worcester"},2,"1st","WOR",0.52847222222222223,"M. Haley","E. Trupp","F. Hamilton","PP","V",2,10,12,13,18,null,"H",3,14,21,23,null,null,"Rd","Worcester",1014159]
[36586,{"$f":"VLOOKUP(AB5710,[1]AHLSOG!$O:$Q,2,FALSE)","v":"Norfolk"},{"$f":"VLOOKUP(AB5710,[1]AHLSOG!$O:$Q,3,FALSE)","v":"Worcester"},3,"2nd","WOR",0.6972222222222223,"T. Oleksuk","D. DeMelo","F. Hamilton","PP","V",2,3,12,18,21,null,"H",2,7,8,12,null,null,"Rd","Worcester",1014159]
[36617,{"$f":"VLOOKUP(AB5711,[1]AHLSOG!$O:$Q,2,FALSE)","v":"Norfolk"},{"$f":"VLOOKUP(AB5711,[1]AHLSOG!$O:$Q,3,FALSE)","v":"Worcester"},4,"3rd","WOR",0.43194444444444446,"R. Carpenter","E. Hayes","G. Young",null,"V",4,7,17,20,22,null,"H",3,14,16,21,23,null,"Rd","Worcester",1014159]
["0 - 1",{"$f":"VLOOKUP(AB5712,[1]AHLSOG!$O:$Q,2,FALSE)","v":"Portland"},{"$f":"VLOOKUP(AB5712,[1]AHLSOG!$O:$Q,3,FALSE)","v":"Norfolk"},1,"1st","POR",0.43541666666666662,"H. Samuelsson","J. Martinook","A. Bolduc",null,"V",3,11,20,21,25,null,"H",2,17,19,28,49,null,"Hm","Portland",1014367]
["0 - 2",{"$f":"VLOOKUP(AB5713,[1]AHLSOG!$O:$Q,2,FALSE)","v":"Portland"},{"$f":"VLOOKUP(AB5713,[1]AHLSOG!$O:$Q,3,FALSE)","v":"Norfolk"},2,"2nd","POR",0.46597222222222223,"B. Shinnimin","P. Samuelsson","J. Martinook",null,"V",5,12,19,21,23,null,"H",5,8,17,24,49,null,"Hm","Portland",1014367]
[36526,{"$f":"VLOOKUP(AB5714,[1]AHLSOG!$O:$Q,2,FALSE)","v":"Oklahoma City"},{"$f":"VLOOKUP(AB5714,[1]AHLSOG!$O:$Q,3,FALSE)","v":"Texas"},1,"2nd","TEX",0.43541666666666662,"T. Morin","S. Glennie",null,null,"V",3,15,23,24,28,null,"H",3,6,10,11,19,null,"Rd","Texas",1014032]
[36557,{"$f":"VLOOKUP(AB5715,[1]AHLSOG!$O:$Q,2,FALSE)","v":"Oklahoma City"},{"$f":"VLOOKUP(AB5715,[1]AHLSOG!$O:$Q,3,FALSE)","v":"Texas"},2,"2nd","TEX",0.69513888888888886,"M. Fortunus","W. Wrenn","T. Peters",null,"V",2,15,18,24,25,null,"H",3,7,25,27,29,null,"Rd","Texas",1014032]
[36526,{"$f":"VLOOKUP(AB5716,[1]AHLSOG!$O:$Q,2,FALSE)","v":"Portland"},{"$f":"VLOOKUP(AB5716,[1]AHLSOG!$O:$Q,3,FALSE)","v":"Manchester"},1,"1st","MCH",0.24652777777777779,"S. Backman","D. Van der Gulik","N. Dowd",null,"V",3,14,16,23,26,null,"H",4,22,25,27,32,null,"Rd","Manchester",1013640]
[36557,{"$f":"VLOOKUP(AB5717,[1]AHLSOG!$O:$Q,2,FALSE)","v":"Portland"},{"$f":"VLOOKUP(AB5717,[1]AHLSOG!$O:$Q,3,FALSE)","v":"Manchester"},2,"2nd","MCH",0.13263888888888889,"J. Auger","N. Ebert","N. Shore",null,"V",22,23,37,39,55,null,"H",2,11,12,26,28,null,"Rd","Manchester",1013640]
[36586,{"$f":"VLOOKUP(AB5718,[1]AHLSOG!$O:$Q,2,FALSE)","v":"Portland"},{"$f":"VLOOKUP(AB5718,[1]AHLSOG!$O:$Q,3,FALSE)","v":"Manchester"},3,"3rd","MCH",5.1388888888888894E-2,"C. Miller","B. O'Neill","J. Auger",null,"V",6,22,37,39,55,null,"H",4,17,19,27,49,null,"Rd","Manchester",1013640]
[36617,{"$f":"VLOOKUP(AB5719,[1]AHLSOG!$O:$Q,2,FALSE)","v":"Portland"},{"$f":"VLOOKUP(AB5719,[1]AHLSOG!$O:$Q,3,FALSE)","v":"Manchester"},4,"3rd","MCH",9.9999999999999992E-2,"J. Weal","D. Van der Gulik","V. LoVerde","PP","V",3,5,14,19,26,null,"H",10,11,28,33,null,null,"Rd","Manchester",1013640]
[36526,{"$f":"VLOOKUP(AB5720,[1]AHLSOG!$O:$Q,2,FALSE)","v":"Portland"},{"$f":"VLOOKUP(AB5720,[1]AHLSOG!$O:$Q,3,FALSE)","v":"Albany"},1,"1st","ALB",0.17361111111111113,"J. Whitney","P. Thompson","S. Timmins",null,"V",6,9,15,17,24,null,"H",2,4,17,19,49,null,"Rd","Albany",1013652]
[36557,{"$f":"VLOOKUP(AB5721,[1]AHLSOG!$O:$Q,2,FALSE)","v":"Portland"},{"$f":"VLOOKUP(AB5721,[1]AHLSOG!$O:$Q,3,FALSE)","v":"Albany"},2,"3rd","ALB",2.4305555555555556E-2,"R. Boucher","T. Sestito","M. Sislo",null,"V",6,12,14,19,24,null,"H",10,24,27,38,43,null,"Rd","Albany",1013652]
[36586,{"$f":"VLOOKUP(AB5722,[1]AHLSOG!$O:$Q,2,FALSE)","v":"Portland"},{"$f":"VLOOKUP(AB5722,[1]AHLSOG!$O:$Q,3,FALSE)","v":"Albany"},3,"3rd","ALB",0.47083333333333338,"T. Sestito","M. Sislo",null,null,"V",8,12,19,33,null,null,"H",2,4,12,17,null,null,"Rd","Albany",1013652]
[36617,{"$f":"VLOOKUP(AB5723,[1]AHLSOG!$O:$Q,2,FALSE)","v":"Portland"},{"$f":"VLOOKUP(AB5723,[1]AHLSOG!$O:$Q,3,FALSE)","v":"Albany"},4,"3rd","ALB",0.7909722222222223,"M. Fraser","T. Sestito",null,null,"V",6,12,14,19,24,null,"H",17,22,27,33,49,null,"Rd","Albany",1013652]
["0 - 1",{"$f":"VLOOKUP(AB5724,[1]AHLSOG!$O:$Q,2,FALSE)","v":"W-B/Scranton"},{"$f":"VLOOKUP(AB5724,[1]AHLSOG!$O:$Q,3,FALSE)","v":"Portland"},1,"2nd","WBS",0.19027777777777777,"A. Ebbett","B. Rust","D. Pouliot","PP","V",4,11,27,null,null,null,"H",8,12,23,25,51,null,"Hm","W-B/Scranton",1013690]
["0 - 2",{"$f":"VLOOKUP(AB5725,[1]AHLSOG!$O:$Q,2,FALSE)","v":"W-B/Scranton"},{"$f":"VLOOKUP(AB5725,[1]AHLSOG!$O:$Q,3,FALSE)","v":"Portland"},2,"3rd","WBS",0.80138888888888893,"T. Kuhnhackl","T. Kostopoulos","P. Samuelsson","EN","V",2,12,24,26,28,49,"H",5,6,14,25,29,null,"Hm","W-B/Scranton",1013690]
["0 - 1",{"$f":"VLOOKUP(AB5726,[1]AHLSOG!$O:$Q,2,FALSE)","v":"W-B/Scranton"},{"$f":"VLOOKUP(AB5726,[1]AHLSOG!$O:$Q,3,FALSE)","v":"Portland"},1,"2nd","WBS",0.72916666666666663,"S. Wilson","B. Dumoulin","C. Sheary","PP","V",5,8,11,22,null,null,"H",8,23,25,29,43,null,"Hm","W-B/Scranton",1014192]
["0 - 2",{"$f":"VLOOKUP(AB5727,[1]AHLSOG!$O:$Q,2,FALSE)","v":"W-B/Scranton"},{"$f":"VLOOKUP(AB5727,[1]AHLSOG!$O:$Q,3,FALSE)","v":"Portland"},2,"3rd","WBS",0.11180555555555556,"S. Wilson","C. Sheary","B. Dumoulin","PP","V",2,7,22,23,null,null,"H",8,17,23,29,43,null,"Hm","W-B/Scranton",1014192]
["0 - 3",{"$f":"VLOOKUP(AB5728,[1]AHLSOG!$O:$Q,2,FALSE)","v":"W-B/Scranton"},{"$f":"VLOOKUP(AB5728,[1]AHLSOG!$O:$Q,3,FALSE)","v":"Portland"},3,"3rd","WBS",0.22708333333333333,"A. Ebbett","B. Rust","B. Dumoulin",null,"V",2,5,19,26,32,null,"H",4,8,12,25,43,null,"Hm","W-B/Scranton",1014192]
["0 - 1",{"$f":"VLOOKUP(AB5729,[1]AHLSOG!$O:$Q,2,FALSE)","v":"Bridgeport"},{"$f":"VLOOKUP(AB5729,[1]AHLSOG!$O:$Q,3,FALSE)","v":"Providence"},1,"1st","BRI",0.21805555555555556,"H. Zolnierczyk","A. Ness","K. Mouillierat","SH","V",13,19,24,27,28,null,"H",16,21,24,27,null,null,"Hm","Bridgeport",1013762]
["0 - 2",{"$f":"VLOOKUP(AB5730,[1]AHLSOG!$O:$Q,2,FALSE)","v":"Bridgeport"},{"$f":"VLOOKUP(AB5730,[1]AHLSOG!$O:$Q,3,FALSE)","v":"Providence"},2,"3rd","BRI",0.47152777777777777,"K. Mouillierat","A. Ness","A. Quine","PP","V",2,3,9,18,null,null,"H",7,13,21,22,27,null,"Hm","Bridgeport",1013762]
["0 - 3",{"$f":"VLOOKUP(AB5731,[1]AHLSOG!$O:$Q,2,FALSE)","v":"Bridgeport"},{"$f":"VLOOKUP(AB5731,[1]AHLSOG!$O:$Q,3,FALSE)","v":"Providence"},3,"3rd","BRI",0.7583333333333333,"M. Halmo","C. Langkow",null,"EN","V",13,15,19,27,28,44,"H",7,10,11,17,26,null,"Hm","Bridgeport",1013762]
["0 - 1",{"$f":"VLOOKUP(AB5732,[1]AHLSOG!$O:$Q,2,FALSE)","v":"Bridgeport"},{"$f":"VLOOKUP(AB5732,[1]AHLSOG!$O:$Q,3,FALSE)","v":"Providence"},1,"3rd","BRI",5.8333333333333327E-2,"A. Quine","H. Zolnierczyk",null,null,"V",2,7,19,24,49,null,"H",8,10,16,22,89,null,"Hm","Bridgeport",1013897]
["0 - 2",{"$f":"VLOOKUP(AB5733,[1]AHLSOG!$O:$Q,2,FALSE)","v":"Bridgeport"},{"$f":"VLOOKUP(AB5733,[1]AHLSOG!$O:$Q,3,FALSE)","v":"Providence"},2,"3rd","BRI",0.15138888888888888,"S. Collberg","C. McDonald",null,null,"V",5,8,9,11,18,null,"H",8,10,13,21,49,null,"Hm","Bridgeport",1013897]
["0 - 1",{"$f":"VLOOKUP(AB5734,[1]AHLSOG!$O:$Q,2,FALSE)","v":"W-B/Scranton"},{"$f":"VLOOKUP(AB5734,[1]AHLSOG!$O:$Q,3,FALSE)","v":"Providence"},1,"2nd","WBS",0.5625,"S. Wilson","T. Kostopoulos","C. Sheary","PP","V",5,23,44,49,null,null,"H",4,17,23,29,43,null,"Hm","W-B/Scranton",1014249]
["0 - 2",{"$f":"VLOOKUP(AB5735,[1]AHLSOG!$O:$Q,2,FALSE)","v":"W-B/Scranton"},{"$f":"VLOOKUP(AB5735,[1]AHLSOG!$O:$Q,3,FALSE)","v":"Providence"},2,"3rd","WBS",0.81180555555555556,"C. Sheary","A. Ebbett",null,"EN","V",5,13,17,18,37,49,"H",4,6,25,29,43,null,"Hm","W-B/Scranton",1014249]
["0 - 1",{"$f":"VLOOKUP(AB5736,[1]AHLSOG!$O:$Q,2,FALSE)","v":"Hartford"},{"$f":"VLOOKUP(AB5736,[1]AHLSOG!$O:$Q,3,FALSE)","v":"Providence"},1,"1st","HFD",0.2902777777777778,"T. Brown","K. Curran","M. Hrivik",null,"V",3,10,11,34,44,null,"H",2,11,15,18,29,null,"Hm","Hartford",1014439]
["0 - 2",{"$f":"VLOOKUP(AB5737,[1]AHLSOG!$O:$Q,2,FALSE)","v":"Hartford"},{"$f":"VLOOKUP(AB5737,[1]AHLSOG!$O:$Q,3,FALSE)","v":"Providence"},2,"1st","HFD",0.69652777777777775,"R. Haggerty","T. Brown","C. Nehring",null,"V",2,3,13,17,49,null,"H",8,16,18,39,55,null,"Hm","Hartford",1014439]
["0 - 3",{"$f":"VLOOKUP(AB5738,[1]AHLSOG!$O:$Q,2,FALSE)","v":"Hartford"},{"$f":"VLOOKUP(AB5738,[1]AHLSOG!$O:$Q,3,FALSE)","v":"Providence"},3,"2nd","HFD",1.8055555555555557E-2,"J. Vaive","C. Klingberg","O. Lindberg",null,"V",7,18,19,39,44,null,"H",4,23,24,28,48,null,"Hm","Hartford",1014439]
["0 - 4",{"$f":"VLOOKUP(AB5739,[1]AHLSOG!$O:$Q,2,FALSE)","v":"Hartford"},{"$f":"VLOOKUP(AB5739,[1]AHLSOG!$O:$Q,3,FALSE)","v":"Providence"},4,"2nd","HFD",0.22708333333333333,"J. Crabb",null,null,"SH","V",3,13,17,19,49,null,"H",8,14,24,55,null,null,"Hm","Hartford",1014439]
["0 - 5",{"$f":"VLOOKUP(AB5740,[1]AHLSOG!$O:$Q,2,FALSE)","v":"Hartford"},{"$f":"VLOOKUP(AB5740,[1]AHLSOG!$O:$Q,3,FALSE)","v":"Providence"},5,"3rd","HFD",0.20416666666666669,"R. Bourque","C. Allen",null,null,"V",7,13,19,44,49,null,"H",4,9,11,19,39,null,"Hm","Hartford",1014439]
["0 - 1",{"$f":"VLOOKUP(AB5741,[1]AHLSOG!$O:$Q,2,FALSE)","v":"Syracuse"},{"$f":"VLOOKUP(AB5741,[1]AHLSOG!$O:$Q,3,FALSE)","v":"Rochester"},1,"1st","SYR",0.71388888888888891,"J. Samson","V. Namestnikov","C. Kunyk",null,"V",5,19,22,29,43,null,"H",3,11,20,82,90,null,"Hm","Syracuse",1013796]
["0 - 2",{"$f":"VLOOKUP(AB5742,[1]AHLSOG!$O:$Q,2,FALSE)","v":"Syracuse"},{"$f":"VLOOKUP(AB5742,[1]AHLSOG!$O:$Q,3,FALSE)","v":"Rochester"},2,"3rd","SYR",0.82430555555555562,"V. Namestnikov","L. Witkowski",null,"EN","V",19,21,25,29,46,52,"H",18,82,89,90,92,null,"Hm","Syracuse",1013796]
["0 - 1",{"$f":"VLOOKUP(AB5743,[1]AHLSOG!$O:$Q,2,FALSE)","v":"Toronto"},{"$f":"VLOOKUP(AB5743,[1]AHLSOG!$O:$Q,3,FALSE)","v":"Rochester"},1,"1st","TOR",0.34375,"B. Mikkelson","C. Brown",null,null,"V",3,25,26,29,46,null,"H",4,16,29,39,50,null,"Hm","Toronto",1013809]
["0 - 2",{"$f":"VLOOKUP(AB5744,[1]AHLSOG!$O:$Q,2,FALSE)","v":"Toronto"},{"$f":"VLOOKUP(AB5744,[1]AHLSOG!$O:$Q,3,FALSE)","v":"Rochester"},2,"2nd","TOR",0.65833333333333333,"J. Leivo","S. Abbott","C. Brown","PP","V",3,11,21,47,null,null,"H",10,13,14,16,29,null,"Hm","Toronto",1013809]
["0 - 3",{"$f":"VLOOKUP(AB5745,[1]AHLSOG!$O:$Q,2,FALSE)","v":"Toronto"},{"$f":"VLOOKUP(AB5745,[1]AHLSOG!$O:$Q,3,FALSE)","v":"Rochester"},3,"3rd","TOR",0.76458333333333339,"M. Frattin","S. Carrick",null,"EN","V",5,19,22,37,46,52,"H",4,16,29,39,50,null,"Hm","Toronto",1013809]
["0 - 1",{"$f":"VLOOKUP(AB5746,[1]AHLSOG!$O:$Q,2,FALSE)","v":"Adirondack"},{"$f":"VLOOKUP(AB5746,[1]AHLSOG!$O:$Q,3,FALSE)","v":"Rochester"},1,"1st","ADK",0.40763888888888888,"S. Baertschi","S. Acolatse",null,null,"V",18,24,28,47,52,null,"H",4,6,21,27,46,null,"Hm","Adirondack",1013957]
["0 - 2",{"$f":"VLOOKUP(AB5747,[1]AHLSOG!$O:$Q,2,FALSE)","v":"Adirondack"},{"$f":"VLOOKUP(AB5747,[1]AHLSOG!$O:$Q,3,FALSE)","v":"Rochester"},2,"2nd","ADK",0.43333333333333335,"C. Knight","K. Agostino","G. Hathaway",null,"V",16,18,21,22,52,null,"H",3,9,11,14,15,null,"Hm","Adirondack",1013957]
["0 - 3",{"$f":"VLOOKUP(AB5748,[1]AHLSOG!$O:$Q,2,FALSE)","v":"Adirondack"},{"$f":"VLOOKUP(AB5748,[1]AHLSOG!$O:$Q,3,FALSE)","v":"Rochester"},3,"3rd","ADK",0.72986111111111107,"K. Agostino","G. Hathaway","R. Culkin","EN","V",5,11,18,19,21,34,"H",3,9,14,15,34,null,"Hm","Adirondack",1013957]
["0 - 4",{"$f":"VLOOKUP(AB5749,[1]AHLSOG!$O:$Q,2,FALSE)","v":"Adirondack"},{"$f":"VLOOKUP(AB5749,[1]AHLSOG!$O:$Q,3,FALSE)","v":"Rochester"},4,"3rd","ADK",0.79861111111111116,"S. Baertschi","E. Poirier","B. Arnold",null,"V",16,24,28,37,38,null,"H",3,14,21,27,46,null,"Hm","Adirondack",1013957]
[36526,{"$f":"VLOOKUP(AB5750,[1]AHLSOG!$O:$Q,2,FALSE)","v":"Rochester"},{"$f":"VLOOKUP(AB5750,[1]AHLSOG!$O:$Q,3,FALSE)","v":"Oklahoma City"},1,"2nd","OKC",0.49791666666666662,"D. Musil","R. Hamilton","J. Khaira",null,"V",6,7,11,12,18,null,"H",5,22,25,29,46,null,"Rd","Oklahoma City",1014002]
[36557,{"$f":"VLOOKUP(AB5751,[1]AHLSOG!$O:$Q,2,FALSE)","v":"Rochester"},{"$f":"VLOOKUP(AB5751,[1]AHLSOG!$O:$Q,3,FALSE)","v":"Oklahoma City"},2,"3rd","OKC",0.60555555555555551,"J. Winquist","D. Musil","J. Khaira",null,"V",6,7,10,18,37,null,"H",5,22,25,26,29,null,"Rd","Oklahoma City",1014002]
[36526,{"$f":"VLOOKUP(AB5752,[1]AHLSOG!$O:$Q,2,FALSE)","v":"Rockford"},{"$f":"VLOOKUP(AB5752,[1]AHLSOG!$O:$Q,3,FALSE)","v":"Grand Rapids"},1,"1st","GR",0.47013888888888888,"K. Porter","T. Nosek","M. Zengerle",null,"V",3,9,12,19,44,null,"H",7,11,21,29,53,null,"Rd","Grand Rapids",1013794]
[36557,{"$f":"VLOOKUP(AB5753,[1]AHLSOG!$O:$Q,2,FALSE)","v":"Rockford"},{"$f":"VLOOKUP(AB5753,[1]AHLSOG!$O:$Q,3,FALSE)","v":"Grand Rapids"},2,"1st","GR",0.82708333333333339,"A. Athanasiou","A. Mantha","A. Miele",null,"V",3,8,21,23,44,null,"H",7,12,22,29,53,null,"Rd","Grand Rapids",1013794]
[36586,{"$f":"VLOOKUP(AB5754,[1]AHLSOG!$O:$Q,2,FALSE)","v":"Rockford"},{"$f":"VLOOKUP(AB5754,[1]AHLSOG!$O:$Q,3,FALSE)","v":"Grand Rapids"},3,"2nd","GR",0.29097222222222224,"A. Mantha","A. Miele","M. Callahan","PP","V",6,7,8,15,21,null,"H",7,16,18,null,null,null,"Rd","Grand Rapids",1013794]
[36617,{"$f":"VLOOKUP(AB5755,[1]AHLSOG!$O:$Q,2,FALSE)","v":"Rockford"},{"$f":"VLOOKUP(AB5755,[1]AHLSOG!$O:$Q,3,FALSE)","v":"Grand Rapids"},4,"3rd","GR",0.69861111111111107,"L. Ferraro",null,null,"EN","V",3,15,16,19,29,null,"H",2,7,16,21,24,53,"Rd","Grand Rapids",1013794]
[36526,{"$f":"VLOOKUP(AB5756,[1]AHLSOG!$O:$Q,2,FALSE)","v":"Rockford"},{"$f":"VLOOKUP(AB5756,[1]AHLSOG!$O:$Q,3,FALSE)","v":"San Antonio"},1,"1st","SA",7.2222222222222229E-2,"M. Weegar","V. Trocheck","B. Olson","PP","V",2,14,15,16,19,null,"H",4,10,11,22,null,null,"Rd","San Antonio",1014223]
[36557,{"$f":"VLOOKUP(AB5757,[1]AHLSOG!$O:$Q,2,FALSE)","v":"Rockford"},{"$f":"VLOOKUP(AB5757,[1]AHLSOG!$O:$Q,3,FALSE)","v":"San Antonio"},2,"1st","SA",0.42152777777777778,"B. Olson","J. McFarland",null,null,"V",4,15,18,22,33,null,"H",3,7,16,19,27,null,"Rd","San Antonio",1014223]
[36586,{"$f":"VLOOKUP(AB5758,[1]AHLSOG!$O:$Q,2,FALSE)","v":"Rockford"},{"$f":"VLOOKUP(AB5758,[1]AHLSOG!$O:$Q,3,FALSE)","v":"San Antonio"},3,"2nd","SA",0.52777777777777779,"V. Trocheck","B. Butler","M. Weegar","PP","V",2,9,14,16,null,null,"H",10,23,28,null,null,null,"Rd","San Antonio",1014223]
[36617,{"$f":"VLOOKUP(AB5759,[1]AHLSOG!$O:$Q,2,FALSE)","v":"Rockford"},{"$f":"VLOOKUP(AB5759,[1]AHLSOG!$O:$Q,3,FALSE)","v":"San Antonio"},4,"3rd","SA",0.3125,"G. Zanon","B. Parlett","R. Martindale",null,"V",5,7,10,17,28,null,"H",4,22,26,27,29,null,"Rd","San Antonio",1014223]
[36526,{"$f":"VLOOKUP(AB5760,[1]AHLSOG!$O:$Q,2,FALSE)","v":"San Antonio"},{"$f":"VLOOKUP(AB5760,[1]AHLSOG!$O:$Q,3,FALSE)","v":"Utica"},1,"1st","UTI",0.40208333333333335,"B. Gaunce","W. Hamilton","C. Bancks",null,"V",6,10,34,36,40,null,"H",3,5,9,20,32,null,"Rd","Utica",1013496]
[36557,{"$f":"VLOOKUP(AB5761,[1]AHLSOG!$O:$Q,2,FALSE)","v":"San Antonio"},{"$f":"VLOOKUP(AB5761,[1]AHLSOG!$O:$Q,3,FALSE)","v":"Utica"},2,"2nd","UTI",0.43888888888888888,"A. Biega","H. Shinkaruk","D. Jeffrey",null,"V",2,3,9,21,28,null,"H",3,5,9,20,32,null,"Rd","Utica",1013496]
[36586,{"$f":"VLOOKUP(AB5762,[1]AHLSOG!$O:$Q,2,FALSE)","v":"San Antonio"},{"$f":"VLOOKUP(AB5762,[1]AHLSOG!$O:$Q,3,FALSE)","v":"Utica"},3,"2nd","UTI",0.63263888888888886,"C. Bancks","B. Gaunce","W. Hamilton",null,"V",2,3,10,34,36,null,"H",8,11,22,23,44,null,"Rd","Utica",1013496]
[36526,{"$f":"VLOOKUP(AB5763,[1]AHLSOG!$O:$Q,2,FALSE)","v":"San Antonio"},{"$f":"VLOOKUP(AB5763,[1]AHLSOG!$O:$Q,3,FALSE)","v":"Toronto"},1,"3rd","TOR",0.45069444444444445,"B. Kozun","K. Marshall","B. Froese",null,"V",2,15,18,26,54,null,"H",8,11,18,25,27,null,"Rd","Toronto",1014014]
[36557,{"$f":"VLOOKUP(AB5764,[1]AHLSOG!$O:$Q,2,FALSE)","v":"San Antonio"},{"$f":"VLOOKUP(AB5764,[1]AHLSOG!$O:$Q,3,FALSE)","v":"Toronto"},2,"3rd","TOR",0.78888888888888886,"C. Ashton","B. Kozun","G. McKegg","EN","V",8,9,10,15,18,null,"H",8,9,15,16,19,26,"Rd","Toronto",1014014]
[36586,{"$f":"VLOOKUP(AB5765,[1]AHLSOG!$O:$Q,2,FALSE)","v":"San Antonio"},{"$f":"VLOOKUP(AB5765,[1]AHLSOG!$O:$Q,3,FALSE)","v":"Toronto"},3,"3rd","TOR",0.8208333333333333,"C. Ashton","B. Kozun","S. Percy","EN","V",8,9,10,15,18,null,"H",3,5,15,16,19,26,"Rd","Toronto",1014014]
["0 - 1",{"$f":"VLOOKUP(AB5766,[1]AHLSOG!$O:$Q,2,FALSE)","v":"Oklahoma City"},{"$f":"VLOOKUP(AB5766,[1]AHLSOG!$O:$Q,3,FALSE)","v":"San Antonio"},1,"2nd","OKC",0.25694444444444448,"C. Jones","M. Ford","J. Williams",null,"V",5,7,20,23,26,null,"H",3,11,19,20,29,null,"Hm","Oklahoma City",1014288]
["0 - 2",{"$f":"VLOOKUP(AB5767,[1]AHLSOG!$O:$Q,2,FALSE)","v":"Oklahoma City"},{"$f":"VLOOKUP(AB5767,[1]AHLSOG!$O:$Q,3,FALSE)","v":"San Antonio"},2,"2nd","OKC",0.66597222222222219,"J. Khaira","B. Hunt","C. Jones",null,"V",9,22,25,28,44,null,"H",3,7,20,29,36,null,"Hm","Oklahoma City",1014288]
["0 - 3",{"$f":"VLOOKUP(AB5768,[1]AHLSOG!$O:$Q,2,FALSE)","v":"Oklahoma City"},{"$f":"VLOOKUP(AB5768,[1]AHLSOG!$O:$Q,3,FALSE)","v":"San Antonio"},3,"2nd","OKC",0.68472222222222223,"B. Yakimov","A. Miller","D. Simpson",null,"V",10,15,16,25,44,null,"H",6,14,17,18,39,null,"Hm","Oklahoma City",1014288]
["0 - 4",{"$f":"VLOOKUP(AB5769,[1]AHLSOG!$O:$Q,2,FALSE)","v":"Oklahoma City"},{"$f":"VLOOKUP(AB5769,[1]AHLSOG!$O:$Q,3,FALSE)","v":"San Antonio"},4,"3rd","OKC",0.4909722222222222,"A. Miller","B. Yakimov","C. Stretch",null,"V",2,6,10,20,26,null,"H",2,14,17,39,40,null,"Hm","Oklahoma City",1014288]
[36526,{"$f":"VLOOKUP(AB5770,[1]AHLSOG!$O:$Q,2,FALSE)","v":"San Antonio"},{"$f":"VLOOKUP(AB5770,[1]AHLSOG!$O:$Q,3,FALSE)","v":"Lake Erie"},1,"1st","LE",0.83263888888888893,"B. Street","A. Agozzino","D. Siemens",null,"V",4,10,16,18,46,null,"H",6,17,22,23,26,null,"Rd","Lake Erie",1014356]
[36557,{"$f":"VLOOKUP(AB5771,[1]AHLSOG!$O:$Q,2,FALSE)","v":"San Antonio"},{"$f":"VLOOKUP(AB5771,[1]AHLSOG!$O:$Q,3,FALSE)","v":"Lake Erie"},2,"2nd","LE",0.63888888888888895,"B. Youds","B. Street","A. Agozzino","PP","V",4,10,18,29,46,null,"H",5,6,19,28,null,null,"Rd","Lake Erie",1014356]
[36586,{"$f":"VLOOKUP(AB5772,[1]AHLSOG!$O:$Q,2,FALSE)","v":"San Antonio"},{"$f":"VLOOKUP(AB5772,[1]AHLSOG!$O:$Q,3,FALSE)","v":"Lake Erie"},3,"3rd","LE",0.58333333333333337,"K. Ryan","T. Cheek",null,null,"V",16,17,24,39,46,null,"H",12,16,24,25,44,null,"Rd","Lake Erie",1014356]
[36617,{"$f":"VLOOKUP(AB5773,[1]AHLSOG!$O:$Q,2,FALSE)","v":"San Antonio"},{"$f":"VLOOKUP(AB5773,[1]AHLSOG!$O:$Q,3,FALSE)","v":"Lake Erie"},4,"3rd","LE",0.68402777777777779,"T. Cheek","M. Schumacher","K. Ryan","EN","V",16,17,24,39,46,null,"H",12,15,16,19,25,44,"Rd","Lake Erie",1014356]
["0 - 1",{"$f":"VLOOKUP(AB5774,[1]AHLSOG!$O:$Q,2,FALSE)","v":"W-B/Scranton"},{"$f":"VLOOKUP(AB5774,[1]AHLSOG!$O:$Q,3,FALSE)","v":"Springfield"},1,"1st","WBS",0.27430555555555552,"B. Rust","J. Dea","S. Harrington",null,"V",7,13,24,28,36,null,"H",6,8,9,12,14,null,"Hm","W-B/Scranton",1013535]
["0 - 2",{"$f":"VLOOKUP(AB5775,[1]AHLSOG!$O:$Q,2,FALSE)","v":"W-B/Scranton"},{"$f":"VLOOKUP(AB5775,[1]AHLSOG!$O:$Q,3,FALSE)","v":"Springfield"},2,"1st","WBS",0.55833333333333335,"N. Drazenovic","T. Kostopoulos",null,null,"V",7,8,15,22,24,null,"H",4,8,10,23,29,null,"Hm","W-B/Scranton",1013535]
["0 - 3",{"$f":"VLOOKUP(AB5776,[1]AHLSOG!$O:$Q,2,FALSE)","v":"W-B/Scranton"},{"$f":"VLOOKUP(AB5776,[1]AHLSOG!$O:$Q,3,FALSE)","v":"Springfield"},3,"1st","WBS",0.72222222222222221,"N. Drazenovic","S. Wilson","A. Ebbett","PP","V",4,5,12,18,null,null,"H",8,10,23,25,42,null,"Hm","W-B/Scranton",1013535]
["0 - 4",{"$f":"VLOOKUP(AB5777,[1]AHLSOG!$O:$Q,2,FALSE)","v":"W-B/Scranton"},{"$f":"VLOOKUP(AB5777,[1]AHLSOG!$O:$Q,3,FALSE)","v":"Springfield"},4,"3rd","WBS",0.5625,"B. Rust","T. Kuhnhackl",null,null,"V",7,22,24,28,40,null,"H",4,8,9,12,14,null,"Hm","W-B/Scranton",1013535]
["0 - 5",{"$f":"VLOOKUP(AB5778,[1]AHLSOG!$O:$Q,2,FALSE)","v":"W-B/Scranton"},{"$f":"VLOOKUP(AB5778,[1]AHLSOG!$O:$Q,3,FALSE)","v":"Springfield"},5,"3rd","WBS",0.65347222222222223,"J. Dea","D. Pouliot","B. Rust","PP","V",4,12,17,37,null,null,"H",5,9,12,29,51,null,"Hm","W-B/Scranton",1013535]
[36526,{"$f":"VLOOKUP(AB5779,[1]AHLSOG!$O:$Q,2,FALSE)","v":"Springfield"},{"$f":"VLOOKUP(AB5779,[1]AHLSOG!$O:$Q,3,FALSE)","v":"Syracuse"},1,"1st","SYR",0.75069444444444444,"N. Nesterov","M. Angelidis","V. Namestnikov",null,"V",6,10,18,89,90,null,"H",3,5,18,26,29,null,"Rd","Syracuse",1013817]
[36557,{"$f":"VLOOKUP(AB5780,[1]AHLSOG!$O:$Q,2,FALSE)","v":"Springfield"},{"$f":"VLOOKUP(AB5780,[1]AHLSOG!$O:$Q,3,FALSE)","v":"Syracuse"},2,"3rd","SYR",0.80069444444444438,"M. Blunden",null,null,"EN","V",10,21,57,65,82,null,"H",8,10,15,17,18,34,"Rd","Syracuse",1013817]
[36526,{"$f":"VLOOKUP(AB5781,[1]AHLSOG!$O:$Q,2,FALSE)","v":"Springfield"},{"$f":"VLOOKUP(AB5781,[1]AHLSOG!$O:$Q,3,FALSE)","v":"W-B/Scranton"},1,"1st","WBS",0.28750000000000003,"J. Megna","T. Kostopoulos","B. Rust","PP","V",4,12,19,29,51,null,"H",16,17,20,37,null,null,"Rd","W-B/Scranton",1014111]
[36557,{"$f":"VLOOKUP(AB5782,[1]AHLSOG!$O:$Q,2,FALSE)","v":"Springfield"},{"$f":"VLOOKUP(AB5782,[1]AHLSOG!$O:$Q,3,FALSE)","v":"W-B/Scranton"},2,"1st","WBS",0.55486111111111114,"T. Kostopoulos","N. Drazenovic","C. Sheary",null,"V",4,8,10,29,43,null,"H",10,15,16,26,32,null,"Rd","W-B/Scranton",1014111]
[36586,{"$f":"VLOOKUP(AB5783,[1]AHLSOG!$O:$Q,2,FALSE)","v":"Springfield"},{"$f":"VLOOKUP(AB5783,[1]AHLSOG!$O:$Q,3,FALSE)","v":"W-B/Scranton"},3,"1st","WBS",0.72222222222222221,"T. Chorney","B. Dumoulin","T. Kuhnhackl","PP","V",4,8,12,14,19,null,"H",13,22,26,32,null,null,"Rd","W-B/Scranton",1014111]
[36617,{"$f":"VLOOKUP(AB5784,[1]AHLSOG!$O:$Q,2,FALSE)","v":"Springfield"},{"$f":"VLOOKUP(AB5784,[1]AHLSOG!$O:$Q,3,FALSE)","v":"W-B/Scranton"},4,"2nd","WBS",0.37152777777777773,"C. Sheary","D. Pouliot","N. Drazenovic",null,"V",3,10,29,43,51,null,"H",8,19,21,26,32,null,"Rd","W-B/Scranton",1014111]
[36647,{"$f":"VLOOKUP(AB5785,[1]AHLSOG!$O:$Q,2,FALSE)","v":"Springfield"},{"$f":"VLOOKUP(AB5785,[1]AHLSOG!$O:$Q,3,FALSE)","v":"W-B/Scranton"},5,"2nd","WBS",0.42291666666666666,"B. Rust","C. Rowney","B. Goers",null,"V",12,17,21,23,41,null,"H",12,17,18,20,37,null,"Rd","W-B/Scranton",1014111]
["0 - 1",{"$f":"VLOOKUP(AB5786,[1]AHLSOG!$O:$Q,2,FALSE)","v":"W-B/Scranton"},{"$f":"VLOOKUP(AB5786,[1]AHLSOG!$O:$Q,3,FALSE)","v":"Springfield"},1,"1st","WBS",0.74861111111111101,"S. Wilson","N. Drazenovic","C. Sheary","PP","V",13,22,26,32,null,null,"H",8,10,23,29,43,null,"Hm","W-B/Scranton",1014132]
["0 - 2",{"$f":"VLOOKUP(AB5787,[1]AHLSOG!$O:$Q,2,FALSE)","v":"W-B/Scranton"},{"$f":"VLOOKUP(AB5787,[1]AHLSOG!$O:$Q,3,FALSE)","v":"Springfield"},2,"3rd","WBS",0.17152777777777775,"B. Rust","N. D'Agostino","S. Wilson",null,"V",6,8,12,16,24,null,"H",4,12,21,24,25,null,"Hm","W-B/Scranton",1014132]
["0 - 3",{"$f":"VLOOKUP(AB5788,[1]AHLSOG!$O:$Q,2,FALSE)","v":"W-B/Scranton"},{"$f":"VLOOKUP(AB5788,[1]AHLSOG!$O:$Q,3,FALSE)","v":"Springfield"},3,"3rd","WBS",0.70347222222222217,"A. Ebbett","B. Rust","S. Wilson","PP","V",13,22,26,null,null,null,"H",8,12,23,25,29,null,"Hm","W-B/Scranton",1014132]
["0 - 4",{"$f":"VLOOKUP(AB5789,[1]AHLSOG!$O:$Q,2,FALSE)","v":"W-B/Scranton"},{"$f":"VLOOKUP(AB5789,[1]AHLSOG!$O:$Q,3,FALSE)","v":"Springfield"},4,"3rd","WBS",0.7416666666666667,"A. Ebbett","B. Dumoulin","B. Rust","PP","V",14,16,32,null,null,null,"H",8,12,23,25,29,null,"Hm","W-B/Scranton",1014132]
[36526,{"$f":"VLOOKUP(AB5790,[1]AHLSOG!$O:$Q,2,FALSE)","v":"Springfield"},{"$f":"VLOOKUP(AB5790,[1]AHLSOG!$O:$Q,3,FALSE)","v":"Providence"},1,"3rd","PRO",0.21180555555555555,"A. Cherniwchan",null,null,null,"V",7,10,18,39,44,null,"H",4,9,19,20,21,null,"Rd","Providence",1014369]
[36557,{"$f":"VLOOKUP(AB5791,[1]AHLSOG!$O:$Q,2,FALSE)","v":"Springfield"},{"$f":"VLOOKUP(AB5791,[1]AHLSOG!$O:$Q,3,FALSE)","v":"Providence"},2,"3rd","PRO",0.25208333333333333,"T. Randell",null,null,null,"V",7,11,18,34,44,null,"H",3,9,19,21,37,null,"Rd","Providence",1014369]
[36586,{"$f":"VLOOKUP(AB5792,[1]AHLSOG!$O:$Q,2,FALSE)","v":"Springfield"},{"$f":"VLOOKUP(AB5792,[1]AHLSOG!$O:$Q,3,FALSE)","v":"Providence"},3,"3rd","PRO",0.48402777777777778,"A. Khokhlachev","Z. Phillips","T. Cross",null,"V",3,8,13,16,38,null,"H",3,4,11,13,36,null,"Rd","Providence",1014369]
[36617,{"$f":"VLOOKUP(AB5793,[1]AHLSOG!$O:$Q,2,FALSE)","v":"Springfield"},{"$f":"VLOOKUP(AB5793,[1]AHLSOG!$O:$Q,3,FALSE)","v":"Providence"},4,"3rd","PRO",0.49722222222222223,"C. Kane","T. Cross","Z. Phillips",null,"V",3,16,20,29,38,null,"H",4,14,18,19,32,null,"Rd","Providence",1014369]
[36647,{"$f":"VLOOKUP(AB5794,[1]AHLSOG!$O:$Q,2,FALSE)","v":"Springfield"},{"$f":"VLOOKUP(AB5794,[1]AHLSOG!$O:$Q,3,FALSE)","v":"Providence"},5,"3rd","PRO",0.73819444444444438,"C. Kane","S. Griffith","F. Simonelli",null,"V",3,13,17,29,38,null,"H",3,9,18,20,40,null,"Rd","Providence",1014369]
["0 - 1",{"$f":"VLOOKUP(AB5795,[1]AHLSOG!$O:$Q,2,FALSE)","v":"Toronto"},{"$f":"VLOOKUP(AB5795,[1]AHLSOG!$O:$Q,3,FALSE)","v":"St. John's"},1,"2nd","TOR",2.9861111111111113E-2,"T. Bodie","E. Knodel","D. Manderson",null,"V",7,24,28,34,44,null,"H",2,13,19,44,45,null,"Hm","Toronto",1013851]
["0 - 2",{"$f":"VLOOKUP(AB5796,[1]AHLSOG!$O:$Q,2,FALSE)","v":"Toronto"},{"$f":"VLOOKUP(AB5796,[1]AHLSOG!$O:$Q,3,FALSE)","v":"St. John's"},2,"2nd","TOR",0.50902777777777775,"T. Biggs","S. Percy",null,null,"V",8,24,28,29,34,null,"H",4,10,19,22,44,null,"Hm","Toronto",1013851]
["0 - 3",{"$f":"VLOOKUP(AB5797,[1]AHLSOG!$O:$Q,2,FALSE)","v":"Toronto"},{"$f":"VLOOKUP(AB5797,[1]AHLSOG!$O:$Q,3,FALSE)","v":"St. John's"},3,"3rd","TOR",0.28194444444444444,"B. Froese","S. Percy","C. Brown","PP","V",7,28,29,44,null,null,"H",10,13,20,29,54,null,"Hm","Toronto",1013851]
["0 - 4",{"$f":"VLOOKUP(AB5798,[1]AHLSOG!$O:$Q,2,FALSE)","v":"Toronto"},{"$f":"VLOOKUP(AB5798,[1]AHLSOG!$O:$Q,3,FALSE)","v":"St. John's"},4,"3rd","TOR",0.74861111111111101,"S. Abbott","B. Mikkelson","R. Rupert","EN.PP","V",7,13,28,29,48,null,"H",4,10,13,20,54,null,"Hm","Toronto",1013851]
["0 - 1",{"$f":"VLOOKUP(AB5799,[1]AHLSOG!$O:$Q,2,FALSE)","v":"Manchester"},{"$f":"VLOOKUP(AB5799,[1]AHLSOG!$O:$Q,3,FALSE)","v":"St. John's"},1,"2nd","MCH",0.6,"N. Shore","B. O'Neill","K. Gravel","PP","V",16,44,45,48,null,null,"H",4,6,16,22,37,null,"Hm","Manchester",1013938]
["0 - 2",{"$f":"VLOOKUP(AB5800,[1]AHLSOG!$O:$Q,2,FALSE)","v":"Manchester"},{"$f":"VLOOKUP(AB5800,[1]AHLSOG!$O:$Q,3,FALSE)","v":"St. John's"},2,"2nd","MCH",0.6791666666666667,"D. Van der Gulik","N. Dowd","K. Gravel",null,"V",13,14,23,24,29,null,"H",4,6,14,26,39,null,"Hm","Manchester",1013938]
["0 - 3",{"$f":"VLOOKUP(AB5801,[1]AHLSOG!$O:$Q,2,FALSE)","v":"Manchester"},{"$f":"VLOOKUP(AB5801,[1]AHLSOG!$O:$Q,3,FALSE)","v":"St. John's"},3,"3rd","MCH",0.42569444444444443,"N. Shore","B. O'Neill",null,"SH","V",7,15,16,34,45,null,"H",3,6,22,37,null,null,"Hm","Manchester",1013938]
["0 - 4",{"$f":"VLOOKUP(AB5802,[1]AHLSOG!$O:$Q,2,FALSE)","v":"Manchester"},{"$f":"VLOOKUP(AB5802,[1]AHLSOG!$O:$Q,3,FALSE)","v":"St. John's"},4,"3rd","MCH",0.51874999999999993,"M. Mersch","Z. O'Brien","J. Weal",null,"V",9,27,34,45,50,null,"H",7,10,19,23,27,null,"Hm","Manchester",1013938]
[36526,{"$f":"VLOOKUP(AB5803,[1]AHLSOG!$O:$Q,2,FALSE)","v":"St. John's"},{"$f":"VLOOKUP(AB5803,[1]AHLSOG!$O:$Q,3,FALSE)","v":"Portland"},1,"1st","POR",0.71666666666666667,"J. Hodgman","B. Shinnimin","J. Southorn","PP","V",3,4,10,12,24,null,"H",7,21,26,44,null,null,"Rd","Portland",1014035]
[36557,{"$f":"VLOOKUP(AB5804,[1]AHLSOG!$O:$Q,2,FALSE)","v":"St. John's"},{"$f":"VLOOKUP(AB5804,[1]AHLSOG!$O:$Q,3,FALSE)","v":"Portland"},2,"3rd","POR",0.7368055555555556,"E. Selleck",null,null,null,"V",4,11,25,27,49,null,"H",4,13,21,27,48,null,"Rd","Portland",1014035]
[36586,{"$f":"VLOOKUP(AB5805,[1]AHLSOG!$O:$Q,2,FALSE)","v":"St. John's"},{"$f":"VLOOKUP(AB5805,[1]AHLSOG!$O:$Q,3,FALSE)","v":"Portland"},3,"3rd","POR",0.78194444444444444,"A. Bolduc",null,null,"EN","V",2,17,19,27,49,null,"H",19,24,27,34,48,49,"Rd","Portland",1014035]
[36526,{"$f":"VLOOKUP(AB5806,[1]AHLSOG!$O:$Q,2,FALSE)","v":"St. John's"},{"$f":"VLOOKUP(AB5806,[1]AHLSOG!$O:$Q,3,FALSE)","v":"Albany"},1,"1st","ALB",0.72222222222222221,"S. Matteau","R. Boucher",null,null,"V",7,14,18,21,33,null,"H",7,13,15,33,44,null,"Rd","Albany",1014328]
[36557,{"$f":"VLOOKUP(AB5807,[1]AHLSOG!$O:$Q,2,FALSE)","v":"St. John's"},{"$f":"VLOOKUP(AB5807,[1]AHLSOG!$O:$Q,3,FALSE)","v":"Albany"},2,"2nd","ALB",0.53263888888888888,"R. Boucher",null,null,null,"V",7,14,18,21,33,null,"H",4,16,25,34,49,null,"Rd","Albany",1014328]
["0 - 1",{"$f":"VLOOKUP(AB5808,[1]AHLSOG!$O:$Q,2,FALSE)","v":"Portland"},{"$f":"VLOOKUP(AB5808,[1]AHLSOG!$O:$Q,3,FALSE)","v":"St. John's"},1,"1st","POR",0.21666666666666667,"H. Samuelsson","P. McNeill","L. Lessio","PP","V",2,19,34,44,null,null,"H",8,17,19,20,38,null,"Hm","Portland",1014433]
["0 - 2",{"$f":"VLOOKUP(AB5809,[1]AHLSOG!$O:$Q,2,FALSE)","v":"Portland"},{"$f":"VLOOKUP(AB5809,[1]AHLSOG!$O:$Q,3,FALSE)","v":"St. John's"},2,"1st","POR",0.35416666666666669,"J. Hodgman","J. Martinook","D. Reese",null,"V",7,25,26,27,28,null,"H",2,12,17,19,28,null,"Hm","Portland",1014433]
["0 - 3",{"$f":"VLOOKUP(AB5810,[1]AHLSOG!$O:$Q,2,FALSE)","v":"Portland"},{"$f":"VLOOKUP(AB5810,[1]AHLSOG!$O:$Q,3,FALSE)","v":"St. John's"},3,"1st","POR",0.44930555555555557,"L. Lessio","P. McNeill","B. Shinnimin","PP","V",19,27,34,49,null,null,"H",8,20,24,38,49,null,"Hm","Portland",1014433]
["0 - 4",{"$f":"VLOOKUP(AB5811,[1]AHLSOG!$O:$Q,2,FALSE)","v":"Portland"},{"$f":"VLOOKUP(AB5811,[1]AHLSOG!$O:$Q,3,FALSE)","v":"St. John's"},4,"2nd","POR",0.10555555555555556,"T. Gaudet","M. McKenna",null,"SH","V",13,19,24,27,28,null,"H",2,23,24,32,null,null,"Hm","Portland",1014433]
["0 - 5",{"$f":"VLOOKUP(AB5812,[1]AHLSOG!$O:$Q,2,FALSE)","v":"Portland"},{"$f":"VLOOKUP(AB5812,[1]AHLSOG!$O:$Q,3,FALSE)","v":"St. John's"},5,"3rd","POR",0.43124999999999997,"A. Bolduc","P. McNeill","J. Hodgman","PP","V",19,24,44,49,null,null,"H",2,12,20,24,49,null,"Hm","Portland",1014433]
["0 - 6",{"$f":"VLOOKUP(AB5813,[1]AHLSOG!$O:$Q,2,FALSE)","v":"Portland"},{"$f":"VLOOKUP(AB5813,[1]AHLSOG!$O:$Q,3,FALSE)","v":"St. John's"},6,"3rd","POR",0.77500000000000002,"D. Reese","B. Shinnimin","J. Hanley","PP","V",7,13,27,33,null,null,"H",2,23,24,32,38,null,"Hm","Portland",1014433]
[36526,{"$f":"VLOOKUP(AB5814,[1]AHLSOG!$O:$Q,2,FALSE)","v":"Syracuse"},{"$f":"VLOOKUP(AB5814,[1]AHLSOG!$O:$Q,3,FALSE)","v":"Rochester"},1,"1st","RCH",0.12361111111111112,"J. Armia","J. Leduc","A. Makarov","SH","V",5,25,33,34,null,null,"H",4,6,11,20,71,null,"Rd","Rochester",1013574]
[36557,{"$f":"VLOOKUP(AB5815,[1]AHLSOG!$O:$Q,2,FALSE)","v":"Syracuse"},{"$f":"VLOOKUP(AB5815,[1]AHLSOG!$O:$Q,3,FALSE)","v":"Rochester"},2,"1st","RCH",0.79305555555555562,"J. Leduc","M. Pysyk","M. Grigorenko","PP","V",3,25,26,33,34,null,"H",21,57,65,82,null,null,"Rd","Rochester",1013574]
[36586,{"$f":"VLOOKUP(AB5816,[1]AHLSOG!$O:$Q,2,FALSE)","v":"Syracuse"},{"$f":"VLOOKUP(AB5816,[1]AHLSOG!$O:$Q,3,FALSE)","v":"Rochester"},3,"3rd","RCH",0.32083333333333336,"P. Varone","L. Adam","J. Samuels-Thomas",null,"V",2,18,19,22,34,null,"H",4,11,20,33,89,null,"Rd","Rochester",1013574]
["0 - 1",{"$f":"VLOOKUP(AB5817,[1]AHLSOG!$O:$Q,2,FALSE)","v":"Binghamton"},{"$f":"VLOOKUP(AB5817,[1]AHLSOG!$O:$Q,3,FALSE)","v":"Syracuse"},1,"1st","BNG",0.22222222222222221,"D. Kramer","C. Wideman",null,null,"V",6,12,18,24,33,null,"H",6,8,17,22,37,null,"Hm","Binghamton",1014026]
["0 - 2",{"$f":"VLOOKUP(AB5818,[1]AHLSOG!$O:$Q,2,FALSE)","v":"Binghamton"},{"$f":"VLOOKUP(AB5818,[1]AHLSOG!$O:$Q,3,FALSE)","v":"Syracuse"},2,"1st","BNG",0.5131944444444444,"M. Puempel","C. Wideman","D. New",null,"V",6,12,13,29,33,null,"H",6,8,9,10,43,null,"Hm","Binghamton",1014026]
["0 - 3",{"$f":"VLOOKUP(AB5819,[1]AHLSOG!$O:$Q,2,FALSE)","v":"Binghamton"},{"$f":"VLOOKUP(AB5819,[1]AHLSOG!$O:$Q,3,FALSE)","v":"Syracuse"},3,"1st","BNG",0.57986111111111105,"B. Robinson","R. Dzingel",null,null,"V",18,20,21,24,65,null,"H",10,14,27,43,72,null,"Hm","Binghamton",1014026]
["0 - 4",{"$f":"VLOOKUP(AB5820,[1]AHLSOG!$O:$Q,2,FALSE)","v":"Binghamton"},{"$f":"VLOOKUP(AB5820,[1]AHLSOG!$O:$Q,3,FALSE)","v":"Syracuse"},4,"1st","BNG",0.81041666666666667,"S. Prince","C. Camper","A. Johnson","PP","V",3,10,24,57,null,null,"H",6,11,18,57,72,null,"Hm","Binghamton",1014026]
["0 - 5",{"$f":"VLOOKUP(AB5821,[1]AHLSOG!$O:$Q,2,FALSE)","v":"Binghamton"},{"$f":"VLOOKUP(AB5821,[1]AHLSOG!$O:$Q,3,FALSE)","v":"Syracuse"},5,"2nd","BNG",0.12013888888888889,"M. McCormick","R. Dzingel",null,null,"V",10,29,33,44,65,null,"H",14,17,22,43,72,null,"Hm","Binghamton",1014026]
["0 - 1",{"$f":"VLOOKUP(AB5822,[1]AHLSOG!$O:$Q,2,FALSE)","v":"Adirondack"},{"$f":"VLOOKUP(AB5822,[1]AHLSOG!$O:$Q,3,FALSE)","v":"Syracuse"},1,"1st","ADK",0.22708333333333333,"M. Reinhart","K. Agostino","B. Hanowski",null,"V",12,13,20,24,33,null,"H",6,15,25,28,38,null,"Hm","Adirondack",1014171]
["0 - 2",{"$f":"VLOOKUP(AB5823,[1]AHLSOG!$O:$Q,2,FALSE)","v":"Adirondack"},{"$f":"VLOOKUP(AB5823,[1]AHLSOG!$O:$Q,3,FALSE)","v":"Syracuse"},2,"1st","ADK",0.42430555555555555,"M. Granlund","G. Hathaway",null,"SH","V",4,9,19,90,92,null,"H",5,9,14,26,null,null,"Hm","Adirondack",1014171]
["0 - 3",{"$f":"VLOOKUP(AB5824,[1]AHLSOG!$O:$Q,2,FALSE)","v":"Adirondack"},{"$f":"VLOOKUP(AB5824,[1]AHLSOG!$O:$Q,3,FALSE)","v":"Syracuse"},3,"2nd","ADK",9.9999999999999992E-2,"M. Cundari","T. Wotherspoon","K. Agostino",null,"V",13,33,37,44,71,null,"H",5,14,15,25,28,null,"Hm","Adirondack",1014171]
["0 - 4",{"$f":"VLOOKUP(AB5825,[1]AHLSOG!$O:$Q,2,FALSE)","v":"Adirondack"},{"$f":"VLOOKUP(AB5825,[1]AHLSOG!$O:$Q,3,FALSE)","v":"Syracuse"},4,"2nd","ADK",0.33333333333333331,"D. Shore","M. Cundari","E. Poirier","PP","V",3,4,10,37,null,null,"H",14,21,23,25,26,null,"Hm","Adirondack",1014171]
["0 - 5",{"$f":"VLOOKUP(AB5826,[1]AHLSOG!$O:$Q,2,FALSE)","v":"Adirondack"},{"$f":"VLOOKUP(AB5826,[1]AHLSOG!$O:$Q,3,FALSE)","v":"Syracuse"},5,"2nd","ADK",0.48749999999999999,"S. Baertschi","M. Granlund","G. Hathaway",null,"V",10,24,57,65,92,null,"H",5,9,14,26,27,null,"Hm","Adirondack",1014171]
["0 - 6",{"$f":"VLOOKUP(AB5827,[1]AHLSOG!$O:$Q,2,FALSE)","v":"Adirondack"},{"$f":"VLOOKUP(AB5827,[1]AHLSOG!$O:$Q,3,FALSE)","v":"Syracuse"},6,"2nd","ADK",0.72152777777777777,"S. Baertschi","G. Hathaway","M. Cundari",null,"V",10,24,33,65,92,null,"H",5,9,14,26,27,null,"Hm","Adirondack",1014171]
["0 - 7",{"$f":"VLOOKUP(AB5828,[1]AHLSOG!$O:$Q,2,FALSE)","v":"Adirondack"},{"$f":"VLOOKUP(AB5828,[1]AHLSOG!$O:$Q,3,FALSE)","v":"Syracuse"},7,"3rd","ADK",0.34861111111111115,"T. Elson","B. McGrattan",null,null,"V",12,13,19,24,29,null,"H",2,7,13,19,22,null,"Hm","Adirondack",1014171]
["0 - 8",{"$f":"VLOOKUP(AB5829,[1]AHLSOG!$O:$Q,2,FALSE)","v":"Adirondack"},{"$f":"VLOOKUP(AB5829,[1]AHLSOG!$O:$Q,3,FALSE)","v":"Syracuse"},8,"3rd","ADK",0.56944444444444442,"K. Agostino","B. Hanowski",null,null,"V",9,13,20,65,90,null,"H",2,7,15,25,28,null,"Hm","Adirondack",1014171]
["0 - 9",{"$f":"VLOOKUP(AB5830,[1]AHLSOG!$O:$Q,2,FALSE)","v":"Adirondack"},{"$f":"VLOOKUP(AB5830,[1]AHLSOG!$O:$Q,3,FALSE)","v":"Syracuse"},9,"3rd","ADK",0.61319444444444449,"S. Baertschi","T. Wotherspoon",null,null,"V",3,4,10,29,33,null,"H",5,9,14,26,27,null,"Hm","Adirondack",1014171]
["0 - 10",{"$f":"VLOOKUP(AB5831,[1]AHLSOG!$O:$Q,2,FALSE)","v":"Adirondack"},{"$f":"VLOOKUP(AB5831,[1]AHLSOG!$O:$Q,3,FALSE)","v":"Syracuse"},10,"3rd","ADK",0.76666666666666661,"T. Elson","B. McGrattan","D. Stevenson",null,"V",9,13,20,65,90,null,"H",6,13,19,22,38,null,"Hm","Adirondack",1014171]
["0 - 1",{"$f":"VLOOKUP(AB5832,[1]AHLSOG!$O:$Q,2,FALSE)","v":"Norfolk"},{"$f":"VLOOKUP(AB5832,[1]AHLSOG!$O:$Q,3,FALSE)","v":"Syracuse"},1,"1st","NOR",5.0694444444444452E-2,"N. Kerdiles","C. Wagner","E. Etem","PP","V",3,4,10,57,null,null,"H",8,14,16,21,25,null,"Hm","Norfolk",1014189]
["0 - 2",{"$f":"VLOOKUP(AB5833,[1]AHLSOG!$O:$Q,2,FALSE)","v":"Norfolk"},{"$f":"VLOOKUP(AB5833,[1]AHLSOG!$O:$Q,3,FALSE)","v":"Syracuse"},2,"2nd","NOR",0.77916666666666667,"J. Manson","S. Noesen","W. Karlsson","PP","V",4,12,19,24,null,null,"H",3,7,11,22,51,null,"Hm","Norfolk",1014189]
[36526,{"$f":"VLOOKUP(AB5834,[1]AHLSOG!$O:$Q,2,FALSE)","v":"Syracuse"},{"$f":"VLOOKUP(AB5834,[1]AHLSOG!$O:$Q,3,FALSE)","v":"Rochester"},1,"3rd","RCH",0.16944444444444443,"A. McPherson","D. Catenacci","W. Carrier",null,"V",5,24,43,52,92,null,"H",3,4,9,11,37,null,"Rd","Rochester",1014459]
[36557,{"$f":"VLOOKUP(AB5835,[1]AHLSOG!$O:$Q,2,FALSE)","v":"Syracuse"},{"$f":"VLOOKUP(AB5835,[1]AHLSOG!$O:$Q,3,FALSE)","v":"Rochester"},2,"3rd","RCH",0.82777777777777783,"D. Catenacci",null,null,"EN","V",4,16,18,42,43,null,"H",4,8,10,11,18,37,"Rd","Rochester",1014459]
["0 - 1",{"$f":"VLOOKUP(AB5836,[1]AHLSOG!$O:$Q,2,FALSE)","v":"San Antonio"},{"$f":"VLOOKUP(AB5836,[1]AHLSOG!$O:$Q,3,FALSE)","v":"Texas"},1,"1st","SA",0.78819444444444453,"M. Mancari","C. Brickley","D. Shore",null,"V",10,14,15,18,24,null,"H",3,6,23,26,32,null,"Hm","San Antonio",1013723]
["0 - 2",{"$f":"VLOOKUP(AB5837,[1]AHLSOG!$O:$Q,2,FALSE)","v":"San Antonio"},{"$f":"VLOOKUP(AB5837,[1]AHLSOG!$O:$Q,3,FALSE)","v":"Texas"},2,"2nd","SA",7.5694444444444439E-2,"C. Brickley","A. Petrovic","M. Mancari","PP","V",18,24,29,39,null,null,"H",3,6,23,26,32,null,"Hm","San Antonio",1013723]
["0 - 3",{"$f":"VLOOKUP(AB5838,[1]AHLSOG!$O:$Q,2,FALSE)","v":"San Antonio"},{"$f":"VLOOKUP(AB5838,[1]AHLSOG!$O:$Q,3,FALSE)","v":"Texas"},3,"3rd","SA",0.73472222222222217,"D. Shore","A. Petrovic",null,"EN","V",10,15,18,19,23,24,"H",3,6,23,26,32,null,"Hm","San Antonio",1013723]
[36526,{"$f":"VLOOKUP(AB5839,[1]AHLSOG!$O:$Q,2,FALSE)","v":"Texas"},{"$f":"VLOOKUP(AB5839,[1]AHLSOG!$O:$Q,3,FALSE)","v":"Grand Rapids"},1,"2nd","GR",0.39999999999999997,"M. Zengerle","A. Athanasiou",null,null,"V",3,4,9,10,23,null,"H",7,9,28,34,37,null,"Rd","Grand Rapids",1014448]
[36557,{"$f":"VLOOKUP(AB5840,[1]AHLSOG!$O:$Q,2,FALSE)","v":"Texas"},{"$f":"VLOOKUP(AB5840,[1]AHLSOG!$O:$Q,3,FALSE)","v":"Grand Rapids"},2,"3rd","GR",0.18472222222222223,"L. Ferraro","M. Tvrdon",null,null,"V",7,13,16,19,29,null,"H",4,9,19,23,37,null,"Rd","Grand Rapids",1014448]
["0 - 1",{"$f":"VLOOKUP(AB5841,[1]AHLSOG!$O:$Q,2,FALSE)","v":"Utica"},{"$f":"VLOOKUP(AB5841,[1]AHLSOG!$O:$Q,3,FALSE)","v":"Toronto"},1,"2nd","UTI",0.2722222222222222,"D. Jeffrey","D. Archibald",null,null,"V",8,16,24,26,28,null,"H",6,9,21,25,40,null,"Hm","Utica",1013550]
["0 - 2",{"$f":"VLOOKUP(AB5842,[1]AHLSOG!$O:$Q,2,FALSE)","v":"Utica"},{"$f":"VLOOKUP(AB5842,[1]AHLSOG!$O:$Q,3,FALSE)","v":"Toronto"},2,"2nd","UTI",0.63194444444444442,"H. Tommernes","C. O'Reilly","D. Jeffrey","PP","V",19,23,25,26,null,null,"H",7,16,17,21,28,null,"Hm","Utica",1013550]
["0 - 3",{"$f":"VLOOKUP(AB5843,[1]AHLSOG!$O:$Q,2,FALSE)","v":"Utica"},{"$f":"VLOOKUP(AB5843,[1]AHLSOG!$O:$Q,3,FALSE)","v":"Toronto"},3,"2nd","UTI",0.68263888888888891,"C. O'Reilly","N. Jensen","B. Sanguinetti","SH","V",4,16,17,19,50,null,"H",6,16,17,40,null,null,"Hm","Utica",1013550]
["0 - 4",{"$f":"VLOOKUP(AB5844,[1]AHLSOG!$O:$Q,2,FALSE)","v":"Utica"},{"$f":"VLOOKUP(AB5844,[1]AHLSOG!$O:$Q,3,FALSE)","v":"Toronto"},4,"2nd","UTI",0.74097222222222225,"A. Grenier","A. Biega","B. Gaunce",null,"V",16,19,25,50,79,null,"H",2,3,10,28,36,null,"Hm","Utica",1013550]
["0 - 1",{"$f":"VLOOKUP(AB5845,[1]AHLSOG!$O:$Q,2,FALSE)","v":"St. John's"},{"$f":"VLOOKUP(AB5845,[1]AHLSOG!$O:$Q,3,FALSE)","v":"Toronto"},1,"2nd","STJ",0.7319444444444444,"P. Cormier",null,null,"SH","V",9,10,13,16,36,null,"H",7,18,19,28,null,null,"Hm","St. John's",1013684]
["0 - 2",{"$f":"VLOOKUP(AB5846,[1]AHLSOG!$O:$Q,2,FALSE)","v":"St. John's"},{"$f":"VLOOKUP(AB5846,[1]AHLSOG!$O:$Q,3,FALSE)","v":"Toronto"},2,"3rd","STJ",0.8041666666666667,"E. O'Dell","J. Lipon","C. Balisy","EN","V",9,10,12,13,16,29,"H",7,13,14,18,34,null,"Hm","St. John's",1013684]
["0 - 1",{"$f":"VLOOKUP(AB5847,[1]AHLSOG!$O:$Q,2,FALSE)","v":"Hamilton"},{"$f":"VLOOKUP(AB5847,[1]AHLSOG!$O:$Q,3,FALSE)","v":"Toronto"},1,"3rd","HAM",1.8749999999999999E-2,"G. Dumont","J. de la Rose",null,null,"V",8,10,16,18,39,null,"H",2,10,20,26,40,null,"Hm","Hamilton",1014074]
["0 - 2",{"$f":"VLOOKUP(AB5848,[1]AHLSOG!$O:$Q,2,FALSE)","v":"Hamilton"},{"$f":"VLOOKUP(AB5848,[1]AHLSOG!$O:$Q,3,FALSE)","v":"Toronto"},2,"3rd","HAM",0.12638888888888888,"D. Carr","T. Hensick","G. Pateryn","PP","V",2,7,19,22,null,null,"H",2,10,11,17,27,null,"Hm","Hamilton",1014074]
["0 - 3",{"$f":"VLOOKUP(AB5849,[1]AHLSOG!$O:$Q,2,FALSE)","v":"Hamilton"},{"$f":"VLOOKUP(AB5849,[1]AHLSOG!$O:$Q,3,FALSE)","v":"Toronto"},3,"3rd","HAM",0.75763888888888886,"G. Dumont","C. Thomas",null,"EN","V",4,10,14,16,20,39,"H",2,4,19,20,40,null,"Hm","Hamilton",1014074]
[36526,{"$f":"VLOOKUP(AB5850,[1]AHLSOG!$O:$Q,2,FALSE)","v":"Utica"},{"$f":"VLOOKUP(AB5850,[1]AHLSOG!$O:$Q,3,FALSE)","v":"Chicago"},1,"2nd","CHI",0.28819444444444448,"T. Rattie","P. McRae","P. Cannone",null,"V",6,8,10,12,25,null,"H",3,11,14,19,25,null,"Rd","Chicago",1013645]
[36557,{"$f":"VLOOKUP(AB5851,[1]AHLSOG!$O:$Q,2,FALSE)","v":"Utica"},{"$f":"VLOOKUP(AB5851,[1]AHLSOG!$O:$Q,3,FALSE)","v":"Chicago"},2,"2nd","CHI",0.78263888888888899,"T. Broadhurst","S. Harper","P. Lindbohm","PP","V",4,9,24,28,37,null,"H",3,14,16,26,null,null,"Rd","Chicago",1013645]
[36586,{"$f":"VLOOKUP(AB5852,[1]AHLSOG!$O:$Q,2,FALSE)","v":"Utica"},{"$f":"VLOOKUP(AB5852,[1]AHLSOG!$O:$Q,3,FALSE)","v":"Chicago"},3,"3rd","CHI",0.67708333333333337,"P. Cannone","P. McRae","B. Sopel","PP","V",8,10,12,25,55,null,"H",3,26,34,36,null,null,"Rd","Chicago",1013645]
["0 - 1",{"$f":"VLOOKUP(AB5853,[1]AHLSOG!$O:$Q,2,FALSE)","v":"Hamilton"},{"$f":"VLOOKUP(AB5853,[1]AHLSOG!$O:$Q,3,FALSE)","v":"Utica"},1,"1st","HAM",0.64513888888888882,"N. Sorkin","D. Bowman","T. Hensick",null,"V",3,16,29,41,null,null,"H",9,15,17,21,null,null,"Hm","Hamilton",1013987]
["0 - 2",{"$f":"VLOOKUP(AB5854,[1]AHLSOG!$O:$Q,2,FALSE)","v":"Hamilton"},{"$f":"VLOOKUP(AB5854,[1]AHLSOG!$O:$Q,3,FALSE)","v":"Utica"},2,"3rd","HAM",0.58333333333333337,"M. Macenauer","G. Dumont","D. Carr",null,"V",3,21,24,25,37,null,"H",4,7,11,12,38,40,"Hm","Hamilton",1013987]
["0 - 3",{"$f":"VLOOKUP(AB5855,[1]AHLSOG!$O:$Q,2,FALSE)","v":"Hamilton"},{"$f":"VLOOKUP(AB5855,[1]AHLSOG!$O:$Q,3,FALSE)","v":"Utica"},3,"3rd","HAM",0.7715277777777777,"J. de la Rose","G. Dumont","D. Carr","EN","V",3,6,16,21,24,28,"H",2,4,11,20,40,null,"Hm","Hamilton",1013987]
["0 - 1",{"$f":"VLOOKUP(AB5856,[1]AHLSOG!$O:$Q,2,FALSE)","v":"Rockford"},{"$f":"VLOOKUP(AB5856,[1]AHLSOG!$O:$Q,3,FALSE)","v":"Utica"},1,"1st","RFD",0.73888888888888893,"K. Dahlbeck","R. Hartman","P. Danault","PP","V",4,6,8,16,null,null,"H",10,15,18,22,24,null,"Hm","Rockford",1014092]
["0 - 2",{"$f":"VLOOKUP(AB5857,[1]AHLSOG!$O:$Q,2,FALSE)","v":"Rockford"},{"$f":"VLOOKUP(AB5857,[1]AHLSOG!$O:$Q,3,FALSE)","v":"Utica"},2,"2nd","RFD",0.38055555555555554,"G. Ross","A. Clendening","D. Rasmussen",null,"V",4,8,9,21,37,null,"H",2,8,12,26,28,null,"Hm","Rockford",1014092]
["0 - 3",{"$f":"VLOOKUP(AB5858,[1]AHLSOG!$O:$Q,2,FALSE)","v":"Rockford"},{"$f":"VLOOKUP(AB5858,[1]AHLSOG!$O:$Q,3,FALSE)","v":"Utica"},3,"3rd","RFD",0.16111111111111112,"P. Labrie","A. Clendening","V. Svedberg",null,"V",2,24,25,40,41,null,"H",2,8,11,22,53,null,"Hm","Rockford",1014092]
[36526,{"$f":"VLOOKUP(AB5859,[1]AHLSOG!$O:$Q,2,FALSE)","v":"Utica"},{"$f":"VLOOKUP(AB5859,[1]AHLSOG!$O:$Q,3,FALSE)","v":"Adirondack"},1,"2nd","ADK",8.0555555555555561E-2,"B. Van Brabant","K. Agostino","S. Acolatse",null,"V",4,13,14,15,48,null,"H",14,24,25,29,37,null,"Rd","Adirondack",1014278]
[36557,{"$f":"VLOOKUP(AB5860,[1]AHLSOG!$O:$Q,2,FALSE)","v":"Utica"},{"$f":"VLOOKUP(AB5860,[1]AHLSOG!$O:$Q,3,FALSE)","v":"Adirondack"},2,"2nd","ADK",0.25416666666666665,"J. Ramage","T. Elson","B. Van Brabant",null,"V",6,7,13,22,48,null,"H",5,11,14,24,25,null,"Rd","Adirondack",1014278]
[36586,{"$f":"VLOOKUP(AB5861,[1]AHLSOG!$O:$Q,2,FALSE)","v":"Utica"},{"$f":"VLOOKUP(AB5861,[1]AHLSOG!$O:$Q,3,FALSE)","v":"Adirondack"},3,"2nd","ADK",0.68263888888888891,"M. Cundari","S. Baertschi",null,"PP","V",4,14,23,27,45,null,"H",29,37,41,null,null,null,"Rd","Adirondack",1014278]
[36617,{"$f":"VLOOKUP(AB5862,[1]AHLSOG!$O:$Q,2,FALSE)","v":"Utica"},{"$f":"VLOOKUP(AB5862,[1]AHLSOG!$O:$Q,3,FALSE)","v":"Adirondack"},4,"3rd","ADK",0.21666666666666667,"D. Shore","D. Stevenson","S. Baertschi","PP","V",6,13,14,23,27,null,"H",5,16,21,37,null,null,"Rd","Adirondack",1014278]
["0 - 1",{"$f":"VLOOKUP(AB5863,[1]AHLSOG!$O:$Q,2,FALSE)","v":"Albany"},{"$f":"VLOOKUP(AB5863,[1]AHLSOG!$O:$Q,3,FALSE)","v":"W-B/Scranton"},1,"2nd","ALB",8.9583333333333334E-2,"M. Sislo","B. Burlon","R. Boucher","PP","V",3,5,24,26,null,null,"H",7,11,14,19,28,null,"Hm","Albany",1013518]
["0 - 2",{"$f":"VLOOKUP(AB5864,[1]AHLSOG!$O:$Q,2,FALSE)","v":"Albany"},{"$f":"VLOOKUP(AB5864,[1]AHLSOG!$O:$Q,3,FALSE)","v":"W-B/Scranton"},2,"2nd","ALB",0.56458333333333333,"M. Sislo","J. Whitney","S. Timmins","PP","V",3,5,12,25,null,null,"H",5,9,17,19,28,null,"Hm","Albany",1013518]
["0 - 3",{"$f":"VLOOKUP(AB5865,[1]AHLSOG!$O:$Q,2,FALSE)","v":"Albany"},{"$f":"VLOOKUP(AB5865,[1]AHLSOG!$O:$Q,3,FALSE)","v":"W-B/Scranton"},3,"3rd","ALB",0.78611111111111109,"T. Sestito",null,null,"EN","V",4,6,19,23,25,42,"H",8,10,12,28,29,null,"Hm","Albany",1013518]
["0 - 4",{"$f":"VLOOKUP(AB5866,[1]AHLSOG!$O:$Q,2,FALSE)","v":"Albany"},{"$f":"VLOOKUP(AB5866,[1]AHLSOG!$O:$Q,3,FALSE)","v":"W-B/Scranton"},4,"3rd","ALB",0.79305555555555562,"R. Boucher","D. Zajac",null,null,"V",3,10,12,29,51,null,"H",7,14,19,23,33,null,"Hm","Albany",1013518]
["0 - 1",{"$f":"VLOOKUP(AB5867,[1]AHLSOG!$O:$Q,2,FALSE)","v":"Binghamton"},{"$f":"VLOOKUP(AB5867,[1]AHLSOG!$O:$Q,3,FALSE)","v":"W-B/Scranton"},1,"1st","BNG",0.61111111111111105,"M. McCormick",null,null,null,"V",16,26,34,38,41,null,"H",3,10,17,20,37,null,"Hm","Binghamton",1013896]
["0 - 2",{"$f":"VLOOKUP(AB5868,[1]AHLSOG!$O:$Q,2,FALSE)","v":"Binghamton"},{"$f":"VLOOKUP(AB5868,[1]AHLSOG!$O:$Q,3,FALSE)","v":"W-B/Scranton"},2,"3rd","BNG",0.36388888888888887,"R. Dzingel","C. Schneider","D. Kramer",null,"V",4,9,15,41,43,null,"H",4,6,15,37,43,null,"Hm","Binghamton",1013896]
["0 - 3",{"$f":"VLOOKUP(AB5869,[1]AHLSOG!$O:$Q,2,FALSE)","v":"Binghamton"},{"$f":"VLOOKUP(AB5869,[1]AHLSOG!$O:$Q,3,FALSE)","v":"W-B/Scranton"},3,"3rd","BNG",0.51180555555555551,"R. Dzingel","G. Thompson","D. Kramer",null,"V",4,9,33,38,43,null,"H",6,14,16,37,43,null,"Hm","Binghamton",1013896]
[36526,{"$f":"VLOOKUP(AB5870,[1]AHLSOG!$O:$Q,2,FALSE)","v":"W-B/Scranton"},{"$f":"VLOOKUP(AB5870,[1]AHLSOG!$O:$Q,3,FALSE)","v":"Bridgeport"},1,"1st","BRI",0.35069444444444442,"K. Mouillierat","S. Collberg","C. McDonald",null,"V",2,13,21,24,49,null,"H",14,15,17,36,38,null,"Rd","Bridgeport",1013920]
[36557,{"$f":"VLOOKUP(AB5871,[1]AHLSOG!$O:$Q,2,FALSE)","v":"W-B/Scranton"},{"$f":"VLOOKUP(AB5871,[1]AHLSOG!$O:$Q,3,FALSE)","v":"Bridgeport"},2,"2nd","BRI",8.3333333333333329E-2,"C. McDonald","H. Zolnierczyk","G. Reinhart","PP","V",2,8,13,16,21,null,"H",13,21,29,41,null,null,"Rd","Bridgeport",1013920]
[36586,{"$f":"VLOOKUP(AB5872,[1]AHLSOG!$O:$Q,2,FALSE)","v":"W-B/Scranton"},{"$f":"VLOOKUP(AB5872,[1]AHLSOG!$O:$Q,3,FALSE)","v":"Bridgeport"},3,"2nd","BRI",0.65555555555555556,"S. Collberg","S. Mayfield","G. Reinhart",null,"V",8,10,13,21,49,null,"H",4,9,14,15,41,null,"Rd","Bridgeport",1013920]
[36617,{"$f":"VLOOKUP(AB5873,[1]AHLSOG!$O:$Q,2,FALSE)","v":"W-B/Scranton"},{"$f":"VLOOKUP(AB5873,[1]AHLSOG!$O:$Q,3,FALSE)","v":"Bridgeport"},4,"2nd","BRI",0.69027777777777777,"S. Vaughan","H. Zolnierczyk","J. Sundstrom",null,"V",6,7,16,27,28,null,"H",13,16,34,36,38,null,"Rd","Bridgeport",1013920]
[36647,{"$f":"VLOOKUP(AB5874,[1]AHLSOG!$O:$Q,2,FALSE)","v":"W-B/Scranton"},{"$f":"VLOOKUP(AB5874,[1]AHLSOG!$O:$Q,3,FALSE)","v":"Bridgeport"},5,"3rd","BRI",0.82500000000000007,"C. McDonald","C. Conacher","J. Graham",null,"V",2,11,13,24,89,null,"H",13,16,21,26,36,null,"Rd","Bridgeport",1013920]
[36526,{"$f":"VLOOKUP(AB5875,[1]AHLSOG!$O:$Q,2,FALSE)","v":"W-B/Scranton"},{"$f":"VLOOKUP(AB5875,[1]AHLSOG!$O:$Q,3,FALSE)","v":"Norfolk"},1,"1st","NOR",0.46597222222222223,"E. Etem","M. Friberg",null,"SH","V",2,14,16,25,null,null,"H",8,10,15,29,43,null,"Rd","Norfolk",1013994]
[36557,{"$f":"VLOOKUP(AB5876,[1]AHLSOG!$O:$Q,2,FALSE)","v":"W-B/Scranton"},{"$f":"VLOOKUP(AB5876,[1]AHLSOG!$O:$Q,3,FALSE)","v":"Norfolk"},2,"1st","NOR",0.57500000000000007,"M. Cantin","A. Laganiere","E. Etem",null,"V",16,22,26,28,29,null,"H",6,10,24,41,43,null,"Rd","Norfolk",1013994]
["0 - 1",{"$f":"VLOOKUP(AB5877,[1]AHLSOG!$O:$Q,2,FALSE)","v":"Worcester"},{"$f":"VLOOKUP(AB5877,[1]AHLSOG!$O:$Q,3,FALSE)","v":"W-B/Scranton"},1,"1st","WOR",0.50763888888888886,"D. Tarasov",null,null,null,"V",3,9,21,24,26,null,"H",2,10,19,26,50,null,"Hm","Worcester",1014050]
["0 - 2",{"$f":"VLOOKUP(AB5878,[1]AHLSOG!$O:$Q,2,FALSE)","v":"Worcester"},{"$f":"VLOOKUP(AB5878,[1]AHLSOG!$O:$Q,3,FALSE)","v":"W-B/Scranton"},2,"1st","WOR",0.62847222222222221,"F. Hamilton","M. Haley","T. Oleksuk",null,"V",15,17,21,23,51,null,"H",2,10,12,18,21,null,"Hm","Worcester",1014050]
["0 - 3",{"$f":"VLOOKUP(AB5879,[1]AHLSOG!$O:$Q,2,FALSE)","v":"Worcester"},{"$f":"VLOOKUP(AB5879,[1]AHLSOG!$O:$Q,3,FALSE)","v":"W-B/Scranton"},3,"1st","WOR",0.81319444444444444,"B. Lerg","J. Langlois","M. Taormina","PP","V",8,15,19,41,null,null,"H",11,13,14,20,28,null,"Hm","Worcester",1014050]
["0 - 4",{"$f":"VLOOKUP(AB5880,[1]AHLSOG!$O:$Q,2,FALSE)","v":"Worcester"},{"$f":"VLOOKUP(AB5880,[1]AHLSOG!$O:$Q,3,FALSE)","v":"W-B/Scranton"},4,"2nd","WOR",0.60972222222222217,"T. Fedun","E. Trupp","M. Taormina",null,"V",8,19,24,26,41,null,"H",11,13,14,20,28,null,"Hm","Worcester",1014050]
["0 - 1",{"$f":"VLOOKUP(AB5881,[1]AHLSOG!$O:$Q,2,FALSE)","v":"Lehigh Valley"},{"$f":"VLOOKUP(AB5881,[1]AHLSOG!$O:$Q,3,FALSE)","v":"Worcester"},1,"1st","LV",7.2222222222222229E-2,"T. Leier","B. Jones","R. Hagg",null,"V",4,10,12,18,27,null,"H",4,8,10,22,23,null,"Rd","Lehigh",1013696]
["0 - 2",{"$f":"VLOOKUP(AB5882,[1]AHLSOG!$O:$Q,2,FALSE)","v":"Lehigh Valley"},{"$f":"VLOOKUP(AB5882,[1]AHLSOG!$O:$Q,3,FALSE)","v":"Worcester"},2,"1st","LV",0.46875,"R. Hagg","B. Jones",null,"SH","V",12,14,19,20,50,null,"H",4,5,22,23,null,null,"Rd","Lehigh",1013696]
["0 - 3",{"$f":"VLOOKUP(AB5883,[1]AHLSOG!$O:$Q,2,FALSE)","v":"Lehigh Valley"},{"$f":"VLOOKUP(AB5883,[1]AHLSOG!$O:$Q,3,FALSE)","v":"Worcester"},3,"2nd","LV",6.25E-2,"B. Manning","S. Delisle","J. Rosehill",null,"V",2,13,14,21,28,null,"H",5,16,28,36,37,null,"Rd","Lehigh",1013696]
["0 - 4",{"$f":"VLOOKUP(AB5884,[1]AHLSOG!$O:$Q,2,FALSE)","v":"Lehigh Valley"},{"$f":"VLOOKUP(AB5884,[1]AHLSOG!$O:$Q,3,FALSE)","v":"Worcester"},4,"3rd","LV",4.0972222222222222E-2,"A. Gordon",null,null,null,"V",2,13,14,21,28,null,"H",5,10,22,23,28,null,"Rd","Lehigh",1013696]
["0 - 1",{"$f":"VLOOKUP(AB5885,[1]AHLSOG!$O:$Q,2,FALSE)","v":"Norfolk"},{"$f":"VLOOKUP(AB5885,[1]AHLSOG!$O:$Q,3,FALSE)","v":"Worcester"},1,"1st","NOR",0.52847222222222223,"C. Sarault","J. Manson","D. Heatley",null,"V",2,7,10,17,22,null,"H",3,17,20,23,51,null,"Hm","Norfolk",1014146]
["0 - 2",{"$f":"VLOOKUP(AB5886,[1]AHLSOG!$O:$Q,2,FALSE)","v":"Norfolk"},{"$f":"VLOOKUP(AB5886,[1]AHLSOG!$O:$Q,3,FALSE)","v":"Worcester"},2,"1st","NOR",0.78888888888888886,"A. O'Brien","L. Leblanc","D. Heatley",null,"V",2,10,16,17,26,null,"H",2,17,20,25,51,null,"Hm","Norfolk",1014146]
["0 - 3",{"$f":"VLOOKUP(AB5887,[1]AHLSOG!$O:$Q,2,FALSE)","v":"Norfolk"},{"$f":"VLOOKUP(AB5887,[1]AHLSOG!$O:$Q,3,FALSE)","v":"Worcester"},3,"3rd","NOR",0.81041666666666667,"C. Wagner",null,null,"EN","V",7,11,14,17,20,22,"H",2,7,14,21,39,null,"Hm","Norfolk",1014146]
[36526,{"$f":"VLOOKUP(AB5888,[1]AHLSOG!$O:$Q,2,FALSE)","v":"Worcester"},{"$f":"VLOOKUP(AB5888,[1]AHLSOG!$O:$Q,3,FALSE)","v":"St. John's"},1,"1st","STJ",0.58402777777777781,"J. Jaffray","K. Ellerby","J. Albert","PP","V",4,7,15,16,33,null,"H",5,17,20,21,null,null,"Rd","St. John's",1014293]
[36557,{"$f":"VLOOKUP(AB5889,[1]AHLSOG!$O:$Q,2,FALSE)","v":"Worcester"},{"$f":"VLOOKUP(AB5889,[1]AHLSOG!$O:$Q,3,FALSE)","v":"St. John's"},2,"1st","STJ",0.61041666666666672,"C. Balisy","S. Kosmachuk","B. Kichton","PP","V",8,13,24,27,28,null,"H",2,3,22,27,null,null,"Rd","St. John's",1014293]
["0 - 1",{"$f":"VLOOKUP(AB5890,[1]AHLSOG!$O:$Q,2,FALSE)","v":"Manchester"},{"$f":"VLOOKUP(AB5890,[1]AHLSOG!$O:$Q,3,FALSE)","v":"Worcester"},1,"1st","MCH",0.12708333333333333,"B. O'Neill","M. Richards","J. Weal","PP","V",4,17,20,null,null,null,"H",6,18,19,22,27,null,"Hm","Manchester",1014298]
["0 - 2",{"$f":"VLOOKUP(AB5891,[1]AHLSOG!$O:$Q,2,FALSE)","v":"Manchester"},{"$f":"VLOOKUP(AB5891,[1]AHLSOG!$O:$Q,3,FALSE)","v":"Worcester"},2,"3rd","MCH",0.28125,"J. Weal","B. O'Neill","C. Miller",null,"V",3,12,14,21,27,null,"H",4,6,10,19,22,null,"Hm","Manchester",1014298]